{"text_format":"3","workbook":"xlsx","n_sheets":14,"sheets":["OPĆI DIO","Unos prihoda i primitaka","Unos rashoda i izdataka","Unos rashoda P4","Unos prijenosa","A.1 PRIHODI I RASHODI EK","A.2 PRIHODI I RASHODI IF","A.3 RASHODI FUNK","B.1 RAČUN FINANC EK","B.2 RAČUN FINANC IF","AKT","prihodi","p4","KORISNICI DP"],"not_rendered":{"defined_names":25},"read":"whole","date_system":"1900"}

{"sheet":"OPĆI DIO","index":0,"n_rows":137,"n_cols":23,"rows_kept":137,"merged":[[0,2,0,6],[1,2,1,6],[2,2,2,6],[3,2,3,6],[4,2,4,6],[6,1,6,6],[8,1,8,6],[10,1,10,6],[20,1,20,6],[21,1,21,6],[30,1,30,6]]}
[null,"RKP-NAZIV PRORAČUNSKOG KORISNIKA","1812 Sveučilište u Zagrebu FAKULTET PROMETNIH ZNANOSTI"]
[null,"MJESTO I DATUM","Zagreb, 27.01.2026."]
[null,"OSOBA ZA KONTAKTIRANJE","Filip Januš univ.mag.oec.",{"$nulls":9},"R.\nBR.","RKPNaziv","RKP","NAZIV PRORAČUNSKOGA KORISNIKA","DODIJELI PRIPADNOST PREMA RKP-U: \nGLAVA I SVEUČILIŠTE/MZO","ADRESA \nPRORAČUNSKOGA KORISNIKA","POŠTANSKI BROJ I NAZIV\nGRADA/OPĆINE","MATIČNI BROJ","OIB","Tip","Glava"]
[null,"TELEFON ZA KONTAKT","091 25 25 100",{"$nulls":9},0,"odaberite -",{"$nulls":7},"-","-"]
[null,"E-MAIL ZA KONTAKT","fjanus@fpz.unizg.hr",{"$nulls":9},{"$f":"+M4+1","v":{"v":1,"d":"1."}},{"$f":"O5&\" \"&P5","v":"1222 MINISTARSTVO ZNANOSTI, OBRAZOVANJA I MLADIH"},1222,"MINISTARSTVO ZNANOSTI, OBRAZOVANJA I MLADIH",null,"DONJE SVETICE 38","10000 ZAGREB",{"v":3271030,"d":"03271030"},"49508397045","MZO","08005"]
[{"$nulls":12},{"v":2,"d":"2."},"1757 SVEUČILIŠTE U ZAGREBU FAKULTET ELEKTROTEHNIKE I RAČUNARSTVA",1757,"SVEUČILIŠTE U ZAGREBU FAKULTET ELEKTROTEHNIKE I RAČUNARSTVA","SVEUČILIŠTE U ZAGREBU","UNSKA 3","10000 ZAGREB",{"v":3276643,"d":"03276643"},"57029260362","Sveučilišta i veleučilišta u Republici Hrvatskoj","08006"]
[null,"FINANCIJSKI PLAN\nZA 2026. I PROJEKCIJE ZA 2027. I 2028. GODINU",{"$nulls":10},{"v":3,"d":"3."},"1781 SVEUČILIŠTE U ZAGREBU - PRIRODOSLOVNO-MATEMATIČKI FAKULTET",1781,"SVEUČILIŠTE U ZAGREBU - PRIRODOSLOVNO-MATEMATIČKI FAKULTET","SVEUČILIŠTE U ZAGREBU","HORVATOVAC 102A","10000 ZAGREB",{"v":3270149,"d":"03270149"},"28163265527","Sveučilišta i veleučilišta u Republici Hrvatskoj","08006"]
[{"$nulls":12},{"v":4,"d":"4."},"1790 SVEUČILIŠTE U ZAGREBU FAKULTET KEMIJSKOG INŽENJERSTVA I TEHNOLOGIJE",1790,"SVEUČILIŠTE U ZAGREBU FAKULTET KEMIJSKOG INŽENJERSTVA I TEHNOLOGIJE","SVEUČILIŠTE U ZAGREBU","MARULIĆEV TRG 19","10000 ZAGREB",{"v":3250270,"d":"03250270"},"71259740533","Sveučilišta i veleučilišta u Republici Hrvatskoj","08006"]
[null,"I. OPĆI DIO",{"$nulls":10},{"v":5,"d":"5."},"1804 SVEUČILIŠTE U ZAGREBU - TEKSTILNO-TEHNOLOŠKI FAKULTET",1804,"SVEUČILIŠTE U ZAGREBU - TEKSTILNO-TEHNOLOŠKI FAKULTET","SVEUČILIŠTE U ZAGREBU","PRILAZ BARUNA FILIPOVIĆA 28A","10000 ZAGREB",{"v":3207064,"d":"03207064"},"43097527965","Sveučilišta i veleučilišta u Republici Hrvatskoj","08006"]
[{"$nulls":12},{"v":6,"d":"6."},"1812 Sveučilište u Zagrebu FAKULTET PROMETNIH ZNANOSTI",1812,"Sveučilište u Zagrebu FAKULTET PROMETNIH ZNANOSTI","SVEUČILIŠTE U ZAGREBU","VUKELIĆEVA 4","10000 ZAGREB",{"v":3260771,"d":"03260771"},"25410051374","Sveučilišta i veleučilišta u Republici Hrvatskoj","08006"]
[null,"A. SAŽETAK RAČUNA PRIHODA I RASHODA",{"$nulls":10},{"v":7,"d":"7."},"1829 SVEUČILIŠTE U ZAGREBU, FAKULTET STROJARSTVA I BRODOGRADNJE",1829,"SVEUČILIŠTE U ZAGREBU, FAKULTET STROJARSTVA I BRODOGRADNJE","SVEUČILIŠTE U ZAGREBU","IVANA LUČIĆA 5","10000 ZAGREB",{"v":3276546,"d":"03276546"},"22910368449","Sveučilišta i veleučilišta u Republici Hrvatskoj","08006"]
[{"$nulls":6},"u EUR",{"$nulls":5},{"v":8,"d":"8."},"1837 SVEUČILIŠTE U ZAGREBU  GRAĐEVINSKI FAKULTET",1837,"SVEUČILIŠTE U ZAGREBU  GRAĐEVINSKI FAKULTET","SVEUČILIŠTE U ZAGREBU","FRA ANDRIJE KAČIĆA MIOŠIĆA 26","10000 ZAGREB",{"v":3227120,"d":"03227120"},"62924153420","Sveučilišta i veleučilišta u Republici Hrvatskoj","08006"]
[null,null,"IZVRŠENJE\n2024.","TEKUĆI PLAN\n2025.","PLAN \n2026.","PROJEKCIJA \n2027.","PROJEKCIJA \n2028.",{"$nulls":5},{"v":9,"d":"9."},"1845 SVEUČILIŠTE U ZAGREBU PREHRAMBENO-BIOTEHNOLOŠKI FAKULTET",1845,"SVEUČILIŠTE U ZAGREBU PREHRAMBENO-BIOTEHNOLOŠKI FAKULTET","SVEUČILIŠTE U ZAGREBU","PIEROTTIJEVA 6","10000 ZAGREB",{"v":3207102,"d":"03207102"},"47824453867","Sveučilišta i veleučilišta u Republici Hrvatskoj","08006"]
[6,"PRIHODI POSLOVANJA",{"v":14253531.44,"d":"14,253,531"},{"v":13269634,"d":"13,269,634"},{"$f":"'A.1 PRIHODI I RASHODI EK'!F11","v":{"v":14256820,"d":"14,256,820"}},{"$f":"'A.1 PRIHODI I RASHODI EK'!G11","v":{"v":14526989,"d":"14,526,989"}},{"$f":"'A.1 PRIHODI I RASHODI EK'!H11","v":{"v":14994912,"d":"14,994,912"}},{"$nulls":5},{"v":10,"d":"10."},"1853 SVEUČILIŠTE U ZAGREBU - GEODETSKI FAKULTET",1853,"SVEUČILIŠTE U ZAGREBU - GEODETSKI FAKULTET","SVEUČILIŠTE U ZAGREBU","A. KAČIĆA MIOŠIĆA 26","10000 ZAGREB",{"v":3204987,"d":"03204987"},"43594593297","Sveučilišta i veleučilišta u Republici Hrvatskoj","08006"]
[7,"PRIHODI OD NEFINANCIJSKE IMOVINE",0,0,{"$f":"'A.1 PRIHODI I RASHODI EK'!F19","v":0},{"$f":"'A.1 PRIHODI I RASHODI EK'!G19","v":0},{"$f":"'A.1 PRIHODI I RASHODI EK'!H19","v":0},{"$nulls":5},{"v":11,"d":"11."},"1861 SVEUČILIŠTE U ZAGREBU - ARHITEKTONSKI FAKULTET",1861,"SVEUČILIŠTE U ZAGREBU - ARHITEKTONSKI FAKULTET","SVEUČILIŠTE U ZAGREBU","KAČIĆEVA 26","10000 ZAGREB",{"v":3204952,"d":"03204952"},"42061107444","Sveučilišta i veleučilišta u Republici Hrvatskoj","08006"]
[null,"PRIHODI UKUPNO",{"$f":"SUM(C14:C15)","v":{"v":14253531.44,"d":"14,253,531"}},{"$f":"SUM(D14:D15)","v":{"v":13269634,"d":"13,269,634"}},{"$f":"SUM(E14:E15)","v":{"v":14256820,"d":"14,256,820"}},{"$f":"+F14+F15","v":{"v":14526989,"d":"14,526,989"}},{"$f":"+G14+G15","v":{"v":14994912,"d":"14,994,912"}},{"$nulls":5},{"v":12,"d":"12."},"1870 SVEUČILIŠTE U ZAGREBU STOMATOLOŠKI FAKULTET",1870,"SVEUČILIŠTE U ZAGREBU STOMATOLOŠKI FAKULTET","SVEUČILIŠTE U ZAGREBU","GUNDULIĆEVA 5","10000 ZAGREB",{"v":3204995,"d":"03204995"},"70221464726","Sveučilišta i veleučilišta u Republici Hrvatskoj","08006"]
[3,"RASHODI  POSLOVANJA",{"v":12919332,"d":"12,919,332"},{"v":11694734,"d":"11,694,734"},{"$f":"'A.1 PRIHODI I RASHODI EK'!F27","v":{"v":13644601.502375182,"d":"13,644,602"}},{"$f":"'A.1 PRIHODI I RASHODI EK'!G27","v":{"v":14115901.144830698,"d":"14,115,901"}},{"$f":"'A.1 PRIHODI I RASHODI EK'!H27","v":{"v":14524423.953468703,"d":"14,524,424"}},{"$nulls":5},{"v":13,"d":"13."},"1888 SVEUČILIŠTE U ZAGREBU, MEDICINSKI FAKULTET",1888,"SVEUČILIŠTE U ZAGREBU, MEDICINSKI FAKULTET","SVEUČILIŠTE U ZAGREBU","ŠALATA 3","10000 ZAGREB",{"v":3270211,"d":"03270211"},"45001686598","Sveučilišta i veleučilišta u Republici Hrvatskoj","08006"]
[4,"RASHODI ZA NEFINANCIJSKU IMOVINU",{"v":369962,"d":"369,962"},{"v":453566,"d":"453,566"},{"$f":"'A.1 PRIHODI I RASHODI EK'!F35","v":{"v":315842,"d":"315,842"}},{"$f":"'A.1 PRIHODI I RASHODI EK'!G35","v":{"v":321642,"d":"321,642"}},{"$f":"'A.1 PRIHODI I RASHODI EK'!H35","v":{"v":324728,"d":"324,728"}},{"$nulls":5},{"v":14,"d":"14."},"1896 SVEUČILIŠTE U ZAGREBU FAKULTET ŠUMARSTVA I DRVNE TEHNOLOGIJE",1896,"SVEUČILIŠTE U ZAGREBU FAKULTET ŠUMARSTVA I DRVNE TEHNOLOGIJE","SVEUČILIŠTE U ZAGREBU","SVETOŠIMUNSKA CESTA 25","10000 ZAGREB",{"v":3281485,"d":"03281485"},"07699719217","Sveučilišta i veleučilišta u Republici Hrvatskoj","08006"]
[null,"RASHODI UKUPNO",{"$f":"SUM(C17:C18)","v":{"v":13289294,"d":"13,289,294"}},{"$f":"SUM(D17:D18)","v":{"v":12148300,"d":"12,148,300"}},{"$f":"SUM(E17:E18)","v":{"v":13960443.502375182,"d":"13,960,444"}},{"$f":"+F17+F18","v":{"v":14437543.144830698,"d":"14,437,543"}},{"$f":"+G17+G18","v":{"v":14849151.953468703,"d":"14,849,152"}},{"$nulls":5},{"v":15,"d":"15."},"1907 SVEUČILIŠTE U ZAGREBU - FAKULTET POLITIČKIH ZNANOSTI",1907,"SVEUČILIŠTE U ZAGREBU - FAKULTET POLITIČKIH ZNANOSTI","SVEUČILIŠTE U ZAGREBU","LEPUŠIĆEVA 6","10000 ZAGREB",{"v":3270262,"d":"03270262"},"28011548575","Sveučilišta i veleučilišta u Republici Hrvatskoj","08006"]
[null,"RAZLIKA - VIŠAK / MANJAK",{"$f":"+C16-C19","v":{"v":964237.4399999995,"d":"964,237"}},{"$f":"+D16-D19","v":{"v":1121334,"d":"1,121,334"}},{"$f":"+E16-E19","v":{"v":296376.49762481824,"d":"296,376"}},{"$f":"+F16-F19","v":{"v":89445.85516930185,"d":"89,446"}},{"$f":"+G16-G19","v":{"v":145760.04653129727,"d":"145,760"}},{"$nulls":5},{"v":16,"d":"16."},"1915 SVEUČILIŠTE U ZAGREBU - PRAVNI FAKULTET",1915,"SVEUČILIŠTE U ZAGREBU - PRAVNI FAKULTET","SVEUČILIŠTE U ZAGREBU","TRG REPUBLIKE HRVATSKE 14","10000 ZAGREB",{"v":3225909,"d":"03225909"},"38583303160","Sveučilišta i veleučilišta u Republici Hrvatskoj","08006"]
[{"$nulls":12},{"v":17,"d":"17."},"1923  SVEUČILIŠTE U ZAGREBU AGRONOMSKI FAKULTET",1923," SVEUČILIŠTE U ZAGREBU AGRONOMSKI FAKULTET","SVEUČILIŠTE U ZAGREBU","SVETOŠIMUNSKA CESTA 25","10000 ZAGREB",{"v":3283097,"d":"03283097"},"76023745044","Sveučilišta i veleučilišta u Republici Hrvatskoj","08006"]
[null,"B. SAŽETAK RAČUNA FINANCIRANJA",{"$nulls":10},{"v":18,"d":"18."},"1931 SVEUČILIŠTE U ZAGREBU - EKONOMSKI FAKULTET",1931,"SVEUČILIŠTE U ZAGREBU - EKONOMSKI FAKULTET","SVEUČILIŠTE U ZAGREBU","TRG J. F. KENNEDEYA 6","10000 ZAGREB",{"v":3272079,"d":"03272079"},"27208467122","Sveučilišta i veleučilišta u Republici Hrvatskoj","08006"]
[{"$nulls":6},"u EUR",{"$nulls":5},{"v":19,"d":"19."},"1940 SVEUČILIŠTE U ZAGREBU,  UČITELJSKI FAKULTET",1940,"SVEUČILIŠTE U ZAGREBU,  UČITELJSKI FAKULTET","SVEUČILIŠTE U ZAGREBU","SAVSKA CESTA 77","10000 ZAGREB",{"v":1422545,"d":"01422545"},"72226488129","Sveučilišta i veleučilišta u Republici Hrvatskoj","08006"]
[null,null,"IZVRŠENJE\n2024.","TEKUĆI PLAN\n2025.","PLAN \n2026.","PROJEKCIJA \n2027.","PROJEKCIJA \n2028.",{"$nulls":5},{"v":20,"d":"20."},"1958 SVEUČILIŠTE U ZAGREBU - FILOZOFSKI FAKULTET",1958,"SVEUČILIŠTE U ZAGREBU - FILOZOFSKI FAKULTET","SVEUČILIŠTE U ZAGREBU","IVANA LUČIĆA 3","10000 ZAGREB",{"v":3254852,"d":"03254852"},"90633715804","Sveučilišta i veleučilišta u Republici Hrvatskoj","08006"]
[8,"PRIMICI OD FINANCIJSKE IMOVINE I ZADUŽIVANJA",null,null,{"$f":"'B.1 RAČUN FINANC EK'!F10","v":0},{"$f":"'B.1 RAČUN FINANC EK'!G10","v":0},{"$f":"'B.1 RAČUN FINANC EK'!H10","v":0},{"$nulls":5},{"v":21,"d":"21."},"1966 SVEUČILIŠTE U ZAGREBU - EDUKCIJSKO-REHABILITACIJSKI FAKULTET",1966,"SVEUČILIŠTE U ZAGREBU - EDUKCIJSKO-REHABILITACIJSKI FAKULTET","SVEUČILIŠTE U ZAGREBU","BORONGAJSKA CESTA 83F","10000 ZAGREB",{"v":3219780,"d":"03219780"},"34967762426","Sveučilišta i veleučilišta u Republici Hrvatskoj","08006"]
[5,"IZDACI ZA FINANCIJSKU IMOVINU I OTPLATE ZAJMOVA",null,null,{"$f":"'B.1 RAČUN FINANC EK'!F15","v":0},{"$f":"'B.1 RAČUN FINANC EK'!G15","v":0},{"$f":"'B.1 RAČUN FINANC EK'!H15","v":0},{"$nulls":5},{"v":22,"d":"22."},"1974 SVEUČILIŠTE U ZAGREBU - AKADEMIJA DRAMSKE UMJETNOSTI ",1974,"SVEUČILIŠTE U ZAGREBU - AKADEMIJA DRAMSKE UMJETNOSTI ","SVEUČILIŠTE U ZAGREBU","TRG REPUBLIKE HRVATSKE 5","10000 ZAGREB",{"v":3205029,"d":"03205029"},"52097842295","Sveučilišta i veleučilišta u Republici Hrvatskoj","08006"]
[null,"RAZLIKA PRIMITAKA I IZDATAKA",{"$f":"+C25-C26","v":0},{"$f":"+D25-D26","v":0},{"$f":"+E25-E26","v":0},{"$f":"+F25-F26","v":0},{"$f":"+G25-G26","v":0},{"$nulls":5},{"v":23,"d":"23."},"1982 SVEUČILIŠTE U ZAGREBU AKADEMIJA LIKOVNIH UMJETNOSTI",1982,"SVEUČILIŠTE U ZAGREBU AKADEMIJA LIKOVNIH UMJETNOSTI","SVEUČILIŠTE U ZAGREBU","ILICA 85","10000 ZAGREB",{"v":3207919,"d":"03207919"},"95847257607","Sveučilišta i veleučilišta u Republici Hrvatskoj","08006"]
["DONOS","PRIJENOS SREDSTAVA IZ PRETHODNE GODINE",0,{"v":964237,"d":"964,237"},{"$f":"+'Unos prijenosa'!D5","v":0},{"$f":"+'Unos prijenosa'!D13","v":{"v":296376,"d":"296,376"}},{"$f":"+'Unos prijenosa'!D21","v":{"v":385822,"d":"385,822"}},{"$nulls":5},{"v":24,"d":"24."},"1999 SVEUČILIŠTE U ZAGREBU - MUZIČKA AKADEMIJA",1999,"SVEUČILIŠTE U ZAGREBU - MUZIČKA AKADEMIJA","SVEUČILIŠTE U ZAGREBU","TRG REPUBLIKE HRVATSKE 12","10000 ZAGREB",{"v":3205002,"d":"03205002"},"18422925218","Sveučilišta i veleučilišta u Republici Hrvatskoj","08006"]
["ODNOS","PRIJENOS SREDSTAVA U SLJEDEĆE RAZDOBLJE",{"v":-964237,"d":"-964,237"},{"v":-2085571,"d":"-2,085,571"},{"$f":"+'Unos prijenosa'!D7","v":{"v":-296376,"d":"-296,376"}},{"$f":"+'Unos prijenosa'!D15","v":{"v":-385822,"d":"-385,822"}},{"$f":"+'Unos prijenosa'!D23","v":{"v":-531582,"d":"-531,582"}},{"$nulls":5},{"v":25,"d":"25."},"2006 SVEUČILIŠTE U ZAGREBU KINEZIOLOŠKI FAKULTET",2006,"SVEUČILIŠTE U ZAGREBU KINEZIOLOŠKI FAKULTET","SVEUČILIŠTE U ZAGREBU","HORVAĆANSKI ZAVOJ 15","10000 ZAGREB",{"v":3274080,"d":"03274080"},"25329931628","Sveučilišta i veleučilišta u Republici Hrvatskoj","08006"]
[null,"NETO FINANCIRANJE",{"$f":"+C27+C28+C29","v":{"v":-964237,"d":"-964,237"}},{"$f":"+D27+D28+D29","v":{"v":-1121334,"d":"-1,121,334"}},{"$f":"+E27+E28+E29","v":{"v":-296376,"d":"-296,376"}},{"$f":"+F27+F28+F29","v":{"v":-89446,"d":"-89,446"}},{"$f":"+G27+G28+G29","v":{"v":-145760,"d":"-145,760"}},{"$nulls":5},{"v":26,"d":"26."},"2014 SVEUČILIŠTE U ZAGREBU FARMACEUTSKO-BIOKEMIJSKI FAKULTET",2014,"SVEUČILIŠTE U ZAGREBU FARMACEUTSKO-BIOKEMIJSKI FAKULTET","SVEUČILIŠTE U ZAGREBU","ANTE KOVAČIĆA 1","10000 ZAGREB",{"v":3205037,"d":"03205037"},"14509285435","Sveučilišta i veleučilišta u Republici Hrvatskoj","08006"]
[{"$nulls":12},{"v":27,"d":"27."},"2022 SVEUČILIŠTE U ZAGREBU VETERINARSKI FAKULTET",2022,"SVEUČILIŠTE U ZAGREBU VETERINARSKI FAKULTET","SVEUČILIŠTE U ZAGREBU","HEINZELOVA 55","10000 ZAGREB",{"v":3225755,"d":"03225755"},"36389528408","Sveučilišta i veleučilišta u Republici Hrvatskoj","08006"]
[null,"VIŠAK / MANJAK + NETO FINANCIRANJE",{"$f":"+C20+C30","v":{"v":0.43999999947845936,"d":"0"}},{"$f":"+D20+D30","v":0},{"$f":"+E20+E30","v":{"v":0.49762481823563576,"d":"0"}},{"$f":"+F20+F30","v":{"v":-0.14483069814741611,"d":"-0"}},{"$f":"+G20+G30","v":{"v":0.04653129726648331,"d":"0"}},{"$nulls":5},{"v":28,"d":"28."},"2047 SVEUČILIŠTE U ZAGREBU RUDARSKO-GEOLOŠKO-NAFTNI FAKULTET",2047,"SVEUČILIŠTE U ZAGREBU RUDARSKO-GEOLOŠKO-NAFTNI FAKULTET","SVEUČILIŠTE U ZAGREBU","PIEROTTIJEVA 6","10000 ZAGREB",{"v":3207005,"d":"03207005"},"99534693762","Sveučilišta i veleučilišta u Republici Hrvatskoj","08006"]
[{"$nulls":12},{"v":29,"d":"29."},"2063 SVEUČILIŠTE U ZAGREBU FAKULTET ORGANIZACIJE I INFORMATIKE",2063,"SVEUČILIŠTE U ZAGREBU FAKULTET ORGANIZACIJE I INFORMATIKE","SVEUČILIŠTE U ZAGREBU","PAVLINSKA 2","42000 VARAŽDIN",{"v":3006107,"d":"03006107"},"02024882310","Sveučilišta i veleučilišta u Republici Hrvatskoj","08006"]
[{"$nulls":12},{"v":30,"d":"30."},"2071 SVEUČILIŠTE U ZAGREBU - METALURŠKI FAKULTET SISAK",2071,"SVEUČILIŠTE U ZAGREBU - METALURŠKI FAKULTET SISAK","SVEUČILIŠTE U ZAGREBU","ALEJA NARODNIH HEROJA 3","44000 SISAK",{"v":3313786,"d":"03313786"},"48006703414","Sveučilišta i veleučilišta u Republici Hrvatskoj","08006"]
[{"$nulls":12},{"v":31,"d":"31."},"2080 SVEUČILIŠTE U ZAGREBU - GRAFIČKI FAKULTET",2080,"SVEUČILIŠTE U ZAGREBU - GRAFIČKI FAKULTET","SVEUČILIŠTE U ZAGREBU","GETALDIĆEVA 2","10000 ZAGREB",{"v":3219763,"d":"03219763"},"25564990903","Sveučilišta i veleučilišta u Republici Hrvatskoj","08006"]
[{"$nulls":12},{"v":32,"d":"32."},"2102 SVEUČILIŠTE U ZAGREBU - GEOTEHNIČKI FAKULTET",2102,"SVEUČILIŠTE U ZAGREBU - GEOTEHNIČKI FAKULTET","SVEUČILIŠTE U ZAGREBU","HALLEROVA ALEJA 7","42000 VARAŽDIN",{"v":3042316,"d":"03042316"},"16146181375","Sveučilišta i veleučilišta u Republici Hrvatskoj","08006"]
[{"$nulls":12},{"v":33,"d":"33."},{"$f":"O37&\" \"&P37","v":"2135  SVEUČILIŠTE U ZAGREBU, KATOLIČKI BOGOSLOVNI FAKULTET "},2135," SVEUČILIŠTE U ZAGREBU, KATOLIČKI BOGOSLOVNI FAKULTET ","SVEUČILIŠTE U ZAGREBU","VLAŠKA 38 ","10000 ZAGREB",{"v":3703088,"d":"03703088"},48987767944,"Sveučilišta i veleučilišta u Republici Hrvatskoj","08006"]
[{"$nulls":12},{"v":34,"d":"34."},"2151 SVEUČILIŠTE U RIJECI - TEHNIČKI FAKULTET",2151,"SVEUČILIŠTE U RIJECI - TEHNIČKI FAKULTET","SVEUČILIŠTE U RIJECI","VUKOVARSKA 58","51000 RIJEKA",{"v":3334317,"d":"03334317"},"46319717480","Sveučilišta i veleučilišta u Republici Hrvatskoj","08006"]
[{"$nulls":12},{"v":35,"d":"35."},"2160 SVEUČILIŠTE U RIJECI - GRAĐEVINSKI FAKULTET",2160,"SVEUČILIŠTE U RIJECI - GRAĐEVINSKI FAKULTET","SVEUČILIŠTE U RIJECI","RADMILE MATEJČIĆ 3","51000 RIJEKA",{"v":3395855,"d":"03395855"},"92037849504","Sveučilišta i veleučilišta u Republici Hrvatskoj","08006"]
[{"$nulls":12},{"v":36,"d":"36."},"2186 SVEUČILIŠTE U RIJECI, EKONOMSKI FAKULTET",2186,"SVEUČILIŠTE U RIJECI, EKONOMSKI FAKULTET","SVEUČILIŠTE U RIJECI","IVANA FILIPOVIĆA 4","51000 RIJEKA",{"v":3328627,"d":"03328627"},"26093119930","Sveučilišta i veleučilišta u Republici Hrvatskoj","08006"]
[{"$nulls":12},{"v":37,"d":"37."},"2194 Sveučilište u Rijeci,  Fakultet za menadžment u turizmu i ugostiteljstvu",2194,"Sveučilište u Rijeci,  Fakultet za menadžment u turizmu i ugostiteljstvu","SVEUČILIŠTE U RIJECI","IKA PRIMORSKA 42","51410 OPATIJA",{"v":3091732,"d":"03091732"},"85799845149","Sveučilišta i veleučilišta u Republici Hrvatskoj","08006"]
[{"$nulls":12},{"v":38,"d":"38."},"2217 SVEUČILIŠTE U RIJECI, PRAVNI FAKULTET",2217,"SVEUČILIŠTE U RIJECI, PRAVNI FAKULTET","SVEUČILIŠTE U RIJECI","HAHLIĆ 6","51000 RIJEKA",{"v":3328562,"d":"03328562"},"43767699965","Sveučilišta i veleučilišta u Republici Hrvatskoj","08006"]
[{"$nulls":12},{"v":39,"d":"39."},"2225 SVEUČILIŠTE U RIJECI - MEDICINSKI FAKULTET",2225,"SVEUČILIŠTE U RIJECI - MEDICINSKI FAKULTET","SVEUČILIŠTE U RIJECI","BRAĆE BRANCHETTA 20","51000 RIJEKA",{"v":3328554,"d":"03328554"},"98164324541","Sveučilišta i veleučilišta u Republici Hrvatskoj","08006"]
[{"$nulls":12},{"v":40,"d":"40."},"2250 SVEUČILIŠTE JOSIPA JURJA  STROSSMAYERA U OSIJEKU, GRAĐEVINSKI I ARHITEKTONSKI FAKULTET OSIJEK",2250,"SVEUČILIŠTE JOSIPA JURJA  STROSSMAYERA U OSIJEKU, GRAĐEVINSKI I ARHITEKTONSKI FAKULTET OSIJEK","SVEUČILIŠTE J.J STROSSMAYERA U OSIJEKU","ULICA VLADIMIRA PRELOGA 3","31000 OSIJEK",{"v":3397335,"d":"03397335"},"04150850819","Sveučilišta i veleučilišta u Republici Hrvatskoj","08006"]
[{"$nulls":12},{"v":41,"d":"41."},"2268 SVEUČILIŠTE J.J. STROSSMAYERA U OSIJEKU - FAKULTET AGROBIOTEHNIČKIH ZNANOSTI OSIJEK",2268,"SVEUČILIŠTE J.J. STROSSMAYERA U OSIJEKU - FAKULTET AGROBIOTEHNIČKIH ZNANOSTI OSIJEK","SVEUČILIŠTE J.J STROSSMAYERA U OSIJEKU","VLADIMIRA PRELOGA 1","31000 OSIJEK",{"v":3058212,"d":"03058212"},"98816779821","Sveučilišta i veleučilišta u Republici Hrvatskoj","08006"]
[{"$nulls":12},{"v":42,"d":"42."},"2276 SVEUČILIŠTE J.J. STROSSMAYERA U OSIJEKU - PREHRAMBENO-TEHNOLOŠKI FAKULTET",2276,"SVEUČILIŠTE J.J. STROSSMAYERA U OSIJEKU - PREHRAMBENO-TEHNOLOŠKI FAKULTET","SVEUČILIŠTE J.J STROSSMAYERA U OSIJEKU","FRANJE KUHAČA 18","31000 OSIJEK",{"v":3058204,"d":"03058204"},"96371000697","Sveučilišta i veleučilišta u Republici Hrvatskoj","08006"]
[{"$nulls":12},{"v":43,"d":"43."},"2284 SVEUČILIŠTE J.J. STROSSMAYERA U OSIJEKU - EKONOMSKI FAKULTET",2284,"SVEUČILIŠTE J.J. STROSSMAYERA U OSIJEKU - EKONOMSKI FAKULTET","SVEUČILIŠTE J.J STROSSMAYERA U OSIJEKU","TRG LJUDEVITA GAJA 7","31000 OSIJEK",{"v":3021645,"d":"03021645"},"52778515544","Sveučilišta i veleučilišta u Republici Hrvatskoj","08006"]
[{"$nulls":12},{"v":44,"d":"44."},"2292 SVEUČILIŠTE JOSIPA JURJA STROSSMAYERA U OSIJEKU - PRAVNI FAKULTET",2292,"SVEUČILIŠTE JOSIPA JURJA STROSSMAYERA U OSIJEKU - PRAVNI FAKULTET","SVEUČILIŠTE J.J STROSSMAYERA U OSIJEKU","STJEPANA RADIĆA 13","31000 OSIJEK",{"v":3014193,"d":"03014193"},"26416570803","Sveučilišta i veleučilišta u Republici Hrvatskoj","08006"]
[{"$nulls":12},{"v":45,"d":"45."},"2313 SVEUČILIŠTE J.J. STROSSMAYERA  U OSIJEKU - FAKULTET ELEKTROTEHNIKE, RAČUNARSTVA I INFORMACIJSKIH TEHNOLOGIJA OSIJEK",2313,"SVEUČILIŠTE J.J. STROSSMAYERA  U OSIJEKU - FAKULTET ELEKTROTEHNIKE, RAČUNARSTVA I INFORMACIJSKIH TEHNOLOGIJA OSIJEK","SVEUČILIŠTE J.J STROSSMAYERA U OSIJEKU","KNEZA TRPIMIRA 2 B","31000 OSIJEK",{"v":3392589,"d":"03392589"},"95494259952","Sveučilišta i veleučilišta u Republici Hrvatskoj","08006"]
[{"$nulls":12},{"v":46,"d":"46."},"2321 SVEUČILIŠTE J.J. STROSSMAYERA U OSIJEKU - FILOZOFSKI FAKULTET",2321,"SVEUČILIŠTE J.J. STROSSMAYERA U OSIJEKU - FILOZOFSKI FAKULTET","SVEUČILIŠTE J.J STROSSMAYERA U OSIJEKU","LORENZA JAGERA 9","31000 OSIJEK",{"v":3014185,"d":"03014185"},"58868871646","Sveučilišta i veleučilišta u Republici Hrvatskoj","08006"]
[{"$nulls":12},{"v":47,"d":"47."},"2330 SVEUČILIŠTE U SPLITU, FAKULTET ELEKTROTEHNIKE, STROJARSTVA I BRODOGRADNJE",2330,"SVEUČILIŠTE U SPLITU, FAKULTET ELEKTROTEHNIKE, STROJARSTVA I BRODOGRADNJE","SVEUČILIŠTE U SPLITU","RUĐERA BOŠKOVIĆA 32","21000 SPLIT",{"v":3118339,"d":"03118339"},"00857144221","Sveučilišta i veleučilišta u Republici Hrvatskoj","08006"]
[{"$nulls":12},{"v":48,"d":"48."},"2348 SVEUČILIŠTE U SPLITU - FAKULTET GRAĐEVINARSTVA, ARHITEKTURE I GEODEZIJE",2348,"SVEUČILIŠTE U SPLITU - FAKULTET GRAĐEVINARSTVA, ARHITEKTURE I GEODEZIJE","SVEUČILIŠTE U SPLITU","MATICE HRVATSKE 15","21000 SPLIT",{"v":3149463,"d":"03149463"},"83615500218","Sveučilišta i veleučilišta u Republici Hrvatskoj","08006"]
[{"$nulls":12},{"v":49,"d":"49."},"2356 SVEUČILIŠTE U SPLITU - KEMIJSKO-TEHNOLOŠKI FAKULTET",2356,"SVEUČILIŠTE U SPLITU - KEMIJSKO-TEHNOLOŠKI FAKULTET","SVEUČILIŠTE U SPLITU","RUĐERA BOŠKOVIĆA 35","21000 SPLIT",{"v":3119068,"d":"03119068"},"99401575594","Sveučilišta i veleučilišta u Republici Hrvatskoj","08006"]
[{"$nulls":12},{"v":50,"d":"50."},"2372 SVEUČILIŠTE U SPLITU - EKONOMSKI FAKULTET",2372,"SVEUČILIŠTE U SPLITU - EKONOMSKI FAKULTET","SVEUČILIŠTE U SPLITU","CVITE FISKOVIĆA 5","21000 SPLIT",{"v":3119076,"d":"03119076"},"84477684422","Sveučilišta i veleučilišta u Republici Hrvatskoj","08006"]
[{"$nulls":12},{"v":51,"d":"51."},"2397 SVEUČILIŠTE U SPLITU -  PRAVNI FAKULTET",2397,"SVEUČILIŠTE U SPLITU -  PRAVNI FAKULTET","SVEUČILIŠTE U SPLITU","DOMOVINSKOG RATA 8","21000 SPLIT",{"v":3118347,"d":"03118347"},"03541568700","Sveučilišta i veleučilišta u Republici Hrvatskoj","08006"]
[{"$nulls":12},{"v":52,"d":"52."},"2410 SVEUČILIŠTE U SPLITU, PRIRODOSLOVNO-MATEMATIČKI FAKULTET",2410,"SVEUČILIŠTE U SPLITU, PRIRODOSLOVNO-MATEMATIČKI FAKULTET","SVEUČILIŠTE U SPLITU","RUĐERA BOŠKOVIĆA 33","21000 SPLIT",{"v":3199622,"d":"03199622"},"20858497843","Sveučilišta i veleučilišta u Republici Hrvatskoj","08006"]
[{"$nulls":12},{"v":53,"d":"53."},"2436 SVEUČILIŠTE U ZAGREBU",2436,"SVEUČILIŠTE U ZAGREBU","SVEUČILIŠTE U ZAGREBU","TRG REPUBLIKE HRVATSKE 14","10000 ZAGREB",{"v":3211592,"d":"03211592"},"36612267447","Sveučilišta i veleučilišta u Republici Hrvatskoj","08006"]
[{"$nulls":12},{"v":54,"d":"54."},"2444 SVEUČILIŠTE U RIJECI",2444,"SVEUČILIŠTE U RIJECI","SVEUČILIŠTE U RIJECI","TRG BRAĆE MAŽURANIĆA 10","51000 RIJEKA",{"v":3337413,"d":"03337413"},"64218323816","Sveučilišta i veleučilišta u Republici Hrvatskoj","08006"]
[{"$nulls":12},{"v":55,"d":"55."},"2452 SVEUČILIŠTE J.J. STROSSMAYERA U OSIJEKU",2452,"SVEUČILIŠTE J.J. STROSSMAYERA U OSIJEKU","SVEUČILIŠTE J.J STROSSMAYERA U OSIJEKU","TRG SV. TROJSTVA 3","31000 OSIJEK",{"v":3049779,"d":"03049779"},"78808975734","Sveučilišta i veleučilišta u Republici Hrvatskoj","08006"]
[{"$nulls":12},{"v":56,"d":"56."},"2469 SVEUČILIŠTE U SPLITU",2469,"SVEUČILIŠTE U SPLITU","SVEUČILIŠTE U SPLITU","POLJIČKA CESTA 35","21000 SPLIT",{"v":3129306,"d":"03129306"},"29845096215","Sveučilišta i veleučilišta u Republici Hrvatskoj","08006"]
[{"$nulls":12},{"v":57,"d":"57."},"2493 SVEUČILIŠTE U RIJECI - SVEUČILIŠNA KNJIŽNICA",2493,"SVEUČILIŠTE U RIJECI - SVEUČILIŠNA KNJIŽNICA","SVEUČILIŠTE U RIJECI"," DOLAC 1","51000 RIJEKA",{"v":3328686,"d":"03328686"},"84122581314","Sveučilišta i veleučilišta u Republici Hrvatskoj","08006"]
[{"$nulls":12},{"v":58,"d":"58."},"2508 SVEUČILIŠTE JOSIPA JURJA STROSSMAYERA U OSIJEKU GRADSKA I SVEUČILIŠNA KNJIŽNICA OSIJEK",2508,"SVEUČILIŠTE JOSIPA JURJA STROSSMAYERA U OSIJEKU GRADSKA I SVEUČILIŠNA KNJIŽNICA OSIJEK","SVEUČILIŠTE J.J STROSSMAYERA U OSIJEKU","EUROPSKA AVENIJA 24","31000 OSIJEK",{"v":3014347,"d":"03014347"},"46627536930","Sveučilišta i veleučilišta u Republici Hrvatskoj","08006"]
[{"$nulls":12},{"v":59,"d":"59."},"2524 SVEUČILIŠTE U SPLITU - SVEUČILIŠNA KNJIŽNICA",2524,"SVEUČILIŠTE U SPLITU - SVEUČILIŠNA KNJIŽNICA","SVEUČILIŠTE U SPLITU","RUĐERA BOŠKOVIĆA 31","21000 SPLIT",{"v":3118436,"d":"03118436"},"40099344720","Sveučilišta i veleučilišta u Republici Hrvatskoj","08006"]
[{"$nulls":12},{"v":60,"d":"60."},"2532 SVEUČILIŠTE U ZADRU, ZNANSTVENA KNJIŽNICA ",2532,"SVEUČILIŠTE U ZADRU, ZNANSTVENA KNJIŽNICA ","SVEUČILIŠTE U ZADRU",null,null,"03141993","94403503942","Sveučilišta i veleučilišta u Republici Hrvatskoj","08006"]
[{"$nulls":12},{"v":61,"d":"61."},{"$f":"O65&\" \"&P65","v":"2900 INSTITUT ZA OCEANOGRAFIJU I RIBARSTVO"},2900,"INSTITUT ZA OCEANOGRAFIJU I RIBARSTVO","JAVNI INSTITUTI","ŠETALIŠTE I. MEŠTROVIĆA 63","21000 SPLIT",{"v":3118355,"d":"03118355"},"86235185568","Javni instituti","08008"]
[{"$nulls":12},{"v":62,"d":"62."},"2918 EKONOMSKI INSTITUT, ZAGREB",2918,"EKONOMSKI INSTITUT, ZAGREB","JAVNI INSTITUTI","TRG JOHNA KENNEDYA 7","10000 ZAGREB",{"v":3219925,"d":"03219925"},"70925432731","Javni instituti","08008"]
[{"$nulls":12},{"v":63,"d":"63."},"2934 HRVATSKI INSTITUT ZA POVIJEST",2934,"HRVATSKI INSTITUT ZA POVIJEST","JAVNI INSTITUTI","OPATIČKA 10","10000 ZAGREB",{"v":3207153,"d":"03207153"},"23296176633","Javni instituti","08008"]
[{"$nulls":12},{"v":64,"d":"64."},"2942 INSTITUT ZA POVIJEST UMJETNOSTI",2942,"INSTITUT ZA POVIJEST UMJETNOSTI","JAVNI INSTITUTI","ULICA GRADA VUKOVARA 68","10000 ZAGREB",{"v":1339958,"d":"01339958"},"59451980348","Javni instituti","08008"]
[{"$nulls":12},{"v":65,"d":"65."},"2959 INSTITUT ZA MEDICINSKA ISTRAŽIVANJA I MEDICINU RADA",2959,"INSTITUT ZA MEDICINSKA ISTRAŽIVANJA I MEDICINU RADA","JAVNI INSTITUTI","KSAVERSKA CESTA 2","10000 ZAGREB",{"v":3270475,"d":"03270475"},"30285469659","Javni instituti","08008"]
[{"$nulls":12},{"v":66,"d":"66."},"2967 HRVATSKI ŠUMARSKI INSTITUT",2967,"HRVATSKI ŠUMARSKI INSTITUT","JAVNI INSTITUTI","CVJETNO NASELJE 41","10450 JASTREBARSKO",{"v":3115879,"d":"03115879"},"13579392023","Javni instituti","08008"]
[{"$nulls":12},{"v":67,"d":"67."},"2975 INSTITUT ZA FIZIKU",2975,"INSTITUT ZA FIZIKU","JAVNI INSTITUTI","BIJENIČKA CESTA 46","10000 ZAGREB",{"v":3270424,"d":"03270424"},"77627408491","Javni instituti","08008"]
[{"$nulls":12},{"$f":"+M71+1","v":{"v":68,"d":"68."}},"2991 POLJOPRIVREDNI INSTITUT OSIJEK",2991,"POLJOPRIVREDNI INSTITUT OSIJEK","JAVNI INSTITUTI","JUŽNO PREDGRAĐE 17","31000 OSIJEK",{"v":3058239,"d":"03058239"},"03665720049","Javni instituti","08008"]
[{"$nulls":12},{"v":69,"d":"69."},"3009 INSTITUT ZA MIGRACIJE I NARODNOSTI",3009,"INSTITUT ZA MIGRACIJE I NARODNOSTI","JAVNI INSTITUTI","TRG STJEPANA RADIĆA 3","10000 ZAGREB",{"v":3287572,"d":"03287572"},"80265403319","Javni instituti","08008"]
[{"$nulls":12},{"v":70,"d":"70."},"3025 INSTITUT ZA JADRANSKE KULTURE I MELIORACIJU KRŠA",3025,"INSTITUT ZA JADRANSKE KULTURE I MELIORACIJU KRŠA","JAVNI INSTITUTI","PUT DUILOVA 11","21000 SPLIT",{"v":3140792,"d":"03140792"},"90884993104","Javni instituti","08008"]
[{"$nulls":12},{"v":71,"d":"71."},"3041 INSTITUT RUĐER BOŠKOVIĆ",3041,"INSTITUT RUĐER BOŠKOVIĆ","JAVNI INSTITUTI","BIJENIČKA CESTA 46","10000 ZAGREB",{"v":3270289,"d":"03270289"},"69715301002","Javni instituti","08008"]
[{"$nulls":12},{"v":72,"d":"72."},"3050 INSTITUT ZA DRUŠTVENA ISTRAŽIVANJA U ZAGREBU",3050,"INSTITUT ZA DRUŠTVENA ISTRAŽIVANJA U ZAGREBU","JAVNI INSTITUTI","AMRUŠEVA 11","10000 ZAGREB",{"v":3205118,"d":"03205118"},"11986338639","Javni instituti","08008"]
[{"$nulls":12},{"v":73,"d":"73."},"3068 INSTITUT ZA TURIZAM",3068,"INSTITUT ZA TURIZAM","JAVNI INSTITUTI","VRHOVEC 5","10000 ZAGREB",{"v":3208001,"d":"03208001"},"10264179101","Javni instituti","08008"]
[{"$nulls":12},{"v":74,"d":"74."},"3076 INSTITUT ZA POLJOPRIVREDU I TURIZAM",3076,"INSTITUT ZA POLJOPRIVREDU I TURIZAM","JAVNI INSTITUTI","CARLA HUGUESA 8","52440 POREČ",{"v":3421031,"d":"03421031"},"03850982961","Javni instituti","08008"]
[{"$nulls":12},{"v":75,"d":"75."},"3084 INSTITUT ZA ETNOLOGIJU I FOLKLORISTIKU",3084,"INSTITUT ZA ETNOLOGIJU I FOLKLORISTIKU","JAVNI INSTITUTI","ŠUBIĆEVA 42","10000 ZAGREB",{"v":3724042,"d":"03724042"},"37781872772","Javni instituti","08008"]
[{"$nulls":12},{"v":76,"d":"76."},"3092 INSTITUT ZA FILOZOFIJU",3092,"INSTITUT ZA FILOZOFIJU","JAVNI INSTITUTI","UL. GRADA VUKOVARA 54","10000 ZAGREB",{"v":3772047,"d":"03772047"},"43667021597","Javni instituti","08008"]
[{"$nulls":12},{"v":77,"d":"77."},"3105 INSTITUT DRUŠTVENIH ZNANOSTI  IVO PILAR",3105,"INSTITUT DRUŠTVENIH ZNANOSTI  IVO PILAR","JAVNI INSTITUTI","MARULIĆEV TRG 19/I","10000 ZAGREB",{"v":3793028,"d":"03793028"},"32840574937","Javni instituti","08008"]
[{"$nulls":12},{"v":78,"d":"78."},"3113 INSTITUT ZA ANTROPOLOGIJU",3113,"INSTITUT ZA ANTROPOLOGIJU","JAVNI INSTITUTI","LJUDEVITA GAJA 32","10000 ZAGREB",{"v":3817121,"d":"03817121"},"93710699926","Javni instituti","08008"]
[{"$nulls":12},{"v":79,"d":"79."},"3121 INSTITUT ZA ARHEOLOGIJU",3121,"INSTITUT ZA ARHEOLOGIJU","JAVNI INSTITUTI","LJUDEVITA GAJA 32","10000 ZAGREB",{"v":3937658,"d":"03937658"},"59796264563","Javni instituti","08008"]
[{"$nulls":12},{"v":80,"d":"80."},"6154 SVEUČILIŠTE U ZAGREBU - FAKULTET FILOZOFIJE I RELIGIJSKIH ZNANOSTI",6154,"SVEUČILIŠTE U ZAGREBU - FAKULTET FILOZOFIJE I RELIGIJSKIH ZNANOSTI","SVEUČILIŠTE U ZAGREBU","JORDANOVAC 110","10000 ZAGREB",{"v":1235664,"d":"01235664"},"26975482530","Sveučilišta i veleučilišta u Republici Hrvatskoj","08006"]
[{"$nulls":12},{"v":81,"d":"81."},"6179 DRŽAVNI ZAVOD ZA INTELEKTUALNO VLASNIŠTVO",6179,"DRŽAVNI ZAVOD ZA INTELEKTUALNO VLASNIŠTVO","DZIV","ULICA GRADA VUKOVARA 78","10000 ZAGREB",{"v":3899772,"d":"03899772"},"89755384389","DZIV","08012"]
[{"$nulls":12},{"v":82,"d":"82."},"21053 VELEUČILIŠTE U KARLOVCU",21053,"VELEUČILIŠTE U KARLOVCU","VELEUČILIŠTA","TRG J. J. STROSSMAYERA 9","47000 KARLOVAC",{"v":1286030,"d":"01286030"},"62820859976","Sveučilišta i veleučilišta u Republici Hrvatskoj","08006"]
[{"$nulls":12},{"v":83,"d":"83."},"21061 INSTITUT ZA HRVATSKI JEZIK I JEZIKOSLOVLJE",21061,"INSTITUT ZA HRVATSKI JEZIK I JEZIKOSLOVLJE","JAVNI INSTITUTI","REPUBLIKE AUSTRIJE 16","10000 ZAGREB",{"v":1259571,"d":"01259571"},"12268324202","Javni instituti","08008"]
[{"$nulls":12},{"v":84,"d":"84."},"21070 STAROSLAVENSKI INSTITUT",21070,"STAROSLAVENSKI INSTITUT","JAVNI INSTITUTI","DEMETROVA 11","10000 ZAGREB",{"v":1259563,"d":"01259563"},"15291942541","Javni instituti","08008"]
[{"$nulls":12},{"v":85,"d":"85."},"21836 NACIONALNA I SVEUČILIŠNA KNJIŽNICA U ZAGREBU",21836,"NACIONALNA I SVEUČILIŠNA KNJIŽNICA U ZAGREBU","AGENCIJE","HRVATSKE BRATSKE ZAJEDNICE 4","10000 ZAGREB",{"v":3205363,"d":"03205363"},"84838770814","Agencije","08091"]
[{"$nulls":12},{"v":86,"d":"86."},"21852 HRVATSKA AKADEMSKA ISTRAŽIVAČKA MREŽA - CARNET",21852,"HRVATSKA AKADEMSKA ISTRAŽIVAČKA MREŽA - CARNET","AGENCIJE","JOSIPA MAROHNIĆA 5","10000 ZAGREB",{"v":1147820,"d":"01147820"},"58101996540","Agencije","08091"]
[{"$nulls":12},{"v":87,"d":"87."},"21869 LEKSIKOGRAFSKI ZAVOD MIROSLAV KRLEŽA",21869,"LEKSIKOGRAFSKI ZAVOD MIROSLAV KRLEŽA","AGENCIJE","FRANKOPANSKA 26","10000 ZAGREB",{"v":3211622,"d":"03211622"},"49894241709","Agencije","08091"]
[{"$nulls":12},{"v":88,"d":"88."},"22371 VELEUČILIŠTE U KRIŽEVCIMA",22371,"VELEUČILIŠTE U KRIŽEVCIMA","VELEUČILIŠTA","MILISLAVA DEMERCA 1","48260 KRIŽEVCI",{"v":1411942,"d":"01411942"},"75480885018","Sveučilišta i veleučilišta u Republici Hrvatskoj","08006"]
[{"$nulls":12},{"v":89,"d":"89."},"22427 TEHNIČKO VELEUČILIŠTE U ZAGREBU",22427,"TEHNIČKO VELEUČILIŠTE U ZAGREBU","VELEUČILIŠTA","VRBIK 8","10000 ZAGREB",{"v":1398270,"d":"01398270"},"08814003451","Sveučilišta i veleučilišta u Republici Hrvatskoj","08006"]
[{"$nulls":12},{"v":90,"d":"90."},"22435 SVEUČILIŠTE U SPLITU, FILOZOFSKI FAKULTET",22435,"SVEUČILIŠTE U SPLITU, FILOZOFSKI FAKULTET","SVEUČILIŠTE U SPLITU","POLJIČKA CESTA 35","21000 SPLIT",{"v":1413236,"d":"01413236"},"98004523293","Sveučilišta i veleučilišta u Republici Hrvatskoj","08006"]
[{"$nulls":12},{"v":91,"d":"91."},"22451 SVEUČILIŠTE U SPLITU - MEDICINSKI FAKULTET",22451,"SVEUČILIŠTE U SPLITU - MEDICINSKI FAKULTET","SVEUČILIŠTE U SPLITU","ŠOLTANSKA 2","21000 SPLIT",{"v":1315366,"d":"01315366"},"02879747067","Sveučilišta i veleučilišta u Republici Hrvatskoj","08006"]
[{"$nulls":12},{"v":92,"d":"92."},"22460 SVEUČILIŠTE U SPLITU - POMORSKI FAKULTET",22460,"SVEUČILIŠTE U SPLITU - POMORSKI FAKULTET","SVEUČILIŠTE U SPLITU","RUĐERA BOŠKOVIĆA 37","21000 SPLIT",{"v":1406043,"d":"01406043"},"24624257529","Sveučilišta i veleučilišta u Republici Hrvatskoj","08006"]
[{"$nulls":12},{"v":93,"d":"93."},{"$f":"O97&\" \"&P97","v":"22478 Sveučilište u Splitu, Umjetnička akademija "},22478,"Sveučilište u Splitu, Umjetnička akademija ","SVEUČILIŠTE U SPLITU","ZAGREBAČKA 3","21000 SPLIT",{"v":1321358,"d":"01321358"},"38960125358","Sveučilišta i veleučilišta u Republici Hrvatskoj","08006"]
[{"$nulls":12},{"v":94,"d":"94."},"22486 Sveučilište Josipa Jurja Strossmayera u Osijeku, Fakultet za odgojne i obrazovne znanosti",22486,"Sveučilište Josipa Jurja Strossmayera u Osijeku, Fakultet za odgojne i obrazovne znanosti","SVEUČILIŠTE J.J STROSSMAYERA U OSIJEKU","CARA HADRIJANA 10","31000 OSIJEK",{"v":1404881,"d":"01404881"},"28082679513","Sveučilišta i veleučilišta u Republici Hrvatskoj","08006"]
[{"$nulls":12},{"v":95,"d":"95."},"22494 VELEUČILIŠTE U RIJECI",22494,"VELEUČILIŠTE U RIJECI","VELEUČILIŠTA","TRPIMIROVA 2/V","51000 RIJEKA",{"v":1387332,"d":"01387332"},"29573709870","Sveučilišta i veleučilišta u Republici Hrvatskoj","08006"]
[{"$nulls":12},{"v":96,"d":"96."},"22525 HRVATSKI GEOLOŠKI INSTITUT",22525,"HRVATSKI GEOLOŠKI INSTITUT","JAVNI INSTITUTI","SACHSOVA 2","10000 ZAGREB",{"v":3219518,"d":"03219518"},"43733878539","Javni instituti","08008"]
[{"$nulls":12},{"v":97,"d":"97."},"22568 SVEUČILIŠTE U RIJECI, POMORSKI FAKULTET",22568,"SVEUČILIŠTE U RIJECI, POMORSKI FAKULTET","SVEUČILIŠTE U RIJECI","STUDENTSKA 2","51000 RIJEKA",{"v":1580485,"d":"01580485"},"76722145702","Sveučilišta i veleučilišta u Republici Hrvatskoj","08006"]
[{"$nulls":12},{"v":98,"d":"98."},"22621 INSTITUT ZA RAZVOJ I MEĐUNARODNE ODNOSE",22621,"INSTITUT ZA RAZVOJ I MEĐUNARODNE ODNOSE","JAVNI INSTITUTI","LJ. F. VUKOTINOVIĆA 2","10000 ZAGREB",{"v":3205177,"d":"03205177"},"31120185175","Javni instituti","08008"]
[{"$nulls":12},{"v":99,"d":"99."},"22824 VELEUČILIŠTE U ŠIBENIKU",22824,"VELEUČILIŠTE U ŠIBENIKU","VELEUČILIŠTA","TRG A. HEBRANGA BR. 11","22000 ŠIBENIK",{"v":2100673,"d":"02100673"},"61727512157","Sveučilišta i veleučilišta u Republici Hrvatskoj","08006"]
[{"$nulls":12},{"v":100,"d":"100."},"22832 ZDRAVSTVENO VELEUČILIŠTE",22832,"ZDRAVSTVENO VELEUČILIŠTE","VELEUČILIŠTA","MLINARSKA CESTA 38","10000 ZAGREB",{"v":1274597,"d":"01274597"},"50952646228","Sveučilišta i veleučilišta u Republici Hrvatskoj","08006"]
[{"$nulls":12},{"v":101,"d":"101."},"22849 SVEUČILIŠTE J.J. STROSSMAYERA U OSIJEKU - MEDICINSKI FAKULTET",22849,"SVEUČILIŠTE J.J. STROSSMAYERA U OSIJEKU - MEDICINSKI FAKULTET","SVEUČILIŠTE J.J STROSSMAYERA U OSIJEKU","HUTTLEROVA 4","31000 OSIJEK",{"v":1388142,"d":"01388142"},"16214165873","Sveučilišta i veleučilišta u Republici Hrvatskoj","08006"]
[{"$nulls":12},{"v":102,"d":"102."},"22857 SVEUČILIŠTE U RIJECI - FILOZOFSKI FAKULTET",22857,"SVEUČILIŠTE U RIJECI - FILOZOFSKI FAKULTET","SVEUČILIŠTE U RIJECI","SVEUČILIŠNA AVENIJA 4","51000 RIJEKA",{"v":3368491,"d":"03368491"},"70505505759","Sveučilišta i veleučilišta u Republici Hrvatskoj","08006"]
[{"$nulls":12},{"v":103,"d":"103."},"23286 INSTITUT ZA JAVNE FINANCIJE",23286,"INSTITUT ZA JAVNE FINANCIJE","JAVNI INSTITUTI","SMIČIKLASOVA 21","10000 ZAGREB",{"v":3226344,"d":"03226344"},"41683226810","Javni instituti","08008"]
[{"$nulls":12},{"v":104,"d":"104."},"23368 SVEUČILIŠTE U SPLITU , KATOLIČKI BOGOSLOVNI FAKULTET",23368,"SVEUČILIŠTE U SPLITU , KATOLIČKI BOGOSLOVNI FAKULTET","SVEUČILIŠTE U SPLITU","ZRINSKOG FRANKOPANA 19 ","21000 SPLIT",{"v":1465643,"d":"01465643"},36149548625,"Sveučilišta i veleučilišta u Republici Hrvatskoj","08006"]
[{"$nulls":12},{"v":105,"d":"105."},"23665 SVEUČILIŠTE U ZAGREBU  SVEUČILIŠNI RAČUNSKI CENTAR",23665,"SVEUČILIŠTE U ZAGREBU  SVEUČILIŠNI RAČUNSKI CENTAR","AGENCIJE","JOSIPA MAROHNIĆA 5","10000 ZAGREB",{"v":3283020,"d":"03283020"},"34016189309","Agencije","08091"]
[{"$nulls":12},{"v":106,"d":"106."},"23815 SVEUČILIŠTE U ZADRU",23815,"SVEUČILIŠTE U ZADRU","SVEUČILIŠTE U ZADRU","MIHOVILA PAVLINOVIĆA 1","23000 ZADAR",{"v":1695525,"d":"01695525"},"10839679016","Sveučilišta i veleučilišta u Republici Hrvatskoj","08006"]
[{"$nulls":12},{"v":107,"d":"107."},"23962 AGENCIJA ZA ODGOJ I OBRAZOVANJE",23962,"AGENCIJA ZA ODGOJ I OBRAZOVANJE","AGENCIJE","DONJE SVETICE 38","10000 ZAGREB",{"v":1778129,"d":"01778129"},"72193628411","Agencije","08091"]
[{"$nulls":12},{"v":108,"d":"108."},"24141 SVEUČILIŠTE U DUBROVNIKU",24141,"SVEUČILIŠTE U DUBROVNIKU","SVEUČILIŠTE U DUBROVNIKU","BRANITELJA DUBROVNIKA 29","20000 DUBROVNIK",{"v":1787578,"d":"01787578"},"01338491514","Sveučilišta i veleučilišta u Republici Hrvatskoj","08006"]
[{"$nulls":12},{"v":109,"d":"109."},"38438 VELEUČILIŠTE MARKO MARULIĆ",38438,"VELEUČILIŠTE MARKO MARULIĆ","VELEUČILIŠTA","KRALJA PETRA KREŠIMIRA IV 30 ","22300 KNIN",{"v":1963813,"d":"01963813"},"13664089430","Sveučilišta i veleučilišta u Republici Hrvatskoj","08006"]
[{"$nulls":12},{"v":110,"d":"110."},"38446 VELEUČILIŠTE LAVOSLAV RUŽIČKA U VUKOVARU",38446,"VELEUČILIŠTE LAVOSLAV RUŽIČKA U VUKOVARU","VELEUČILIŠTA","ŽUPANIJSKA 50","32000 VUKOVAR",{"v":1970828,"d":"01970828"},"21720825730","Sveučilišta i veleučilišta u Republici Hrvatskoj","08006"]
[{"$nulls":12},{"v":111,"d":"111."},"38454 SVEUČILIŠTE U RIJECI, AKADEMIJA PRIMIJENJENIH UMJETNOSTI",38454,"SVEUČILIŠTE U RIJECI, AKADEMIJA PRIMIJENJENIH UMJETNOSTI","SVEUČILIŠTE U RIJECI","SLAVKA KRAUTZEKA 83","51000 RIJEKA",{"v":1954253,"d":"01954253"},"55704161999","Sveučilišta i veleučilišta u Republici Hrvatskoj","08006"]
[{"$nulls":12},{"v":112,"d":"112."},"38479 SVEUČILIŠTE JOSIPA JURJA STROSSMAYERA U OSIJEKU, KATOLIČKI BOGOSLOVNI FAKULTET U ĐAKOVU",38479,"SVEUČILIŠTE JOSIPA JURJA STROSSMAYERA U OSIJEKU, KATOLIČKI BOGOSLOVNI FAKULTET U ĐAKOVU","SVEUČILIŠTE J.J STROSSMAYERA U OSIJEKU","PETRA PRERADOVIĆA 17 ","31400 ĐAKOVO",{"v":1986490,"d":"01986490"},"05384220316","Sveučilišta i veleučilišta u Republici Hrvatskoj","08006"]
[{"$nulls":12},{"v":113,"d":"113."},"38487 AGENCIJA ZA ZNANOST I VISOKO OBRAZOVANJE",38487,"AGENCIJA ZA ZNANOST I VISOKO OBRAZOVANJE","AGENCIJE","DONJE SVETICE 38/5","10000 ZAGREB",{"v":1922548,"d":"01922548"},"83358955356","Agencije","08091"]
[{"$nulls":12},{"v":114,"d":"114."},"40883 NACIONALNI CENTAR ZA VANJSKO VREDNOVANJE OBRAZOVANJA",40883,"NACIONALNI CENTAR ZA VANJSKO VREDNOVANJE OBRAZOVANJA","AGENCIJE","ULICA D. TOMLJANOVIĆA GAVRANA 11","10020 ZAGREB",{"v":1943430,"d":"01943430"},"94833993984","Agencije","08091"]
[{"$nulls":12},{"v":115,"d":"115."},"40947 SVEUČILIŠTE U RIJECI, UČITELJSKI FAKULTET",40947,"SVEUČILIŠTE U RIJECI, UČITELJSKI FAKULTET","SVEUČILIŠTE U RIJECI","SVEUČILIŠNA AVENIJA 6","51000 RIJEKA",{"v":2116073,"d":"02116073"},"96996385705","Sveučilišta i veleučilišta u Republici Hrvatskoj","08006"]
[{"$nulls":12},{"v":116,"d":"116."},"41185 VELEUČILIŠTE NIKOLA TESLA U GOSPIĆU",41185,"VELEUČILIŠTE NIKOLA TESLA U GOSPIĆU","VELEUČILIŠTA","ULICA BANA IVANA KARLOVIĆA 16","53000 GOSPIĆ",{"v":2103133,"d":"02103133"},"42552392522","Sveučilišta i veleučilišta u Republici Hrvatskoj","08006"]
[{"$nulls":12},{"v":117,"d":"117."},"42024 SVEUČILIŠTE JURJA DOBRILE U PULI",42024,"SVEUČILIŠTE JURJA DOBRILE U PULI","SVEUČILIŠTE U PULI","ZAGREBAČKA 30","52100 PULA",{"v":2161753,"d":"02161753"},"61738073226","Sveučilišta i veleučilišta u Republici Hrvatskoj","08006"]
[{"$nulls":12},{"v":118,"d":"118."},"42993 VELEUČILIŠTE U VIROVITICI",42993,"VELEUČILIŠTE U VIROVITICI","VELEUČILIŠTA","ULICA MATIJE GUPCA 78","33000 VIROVITICA",{"v":2282208,"d":"02282208"},"46576407858","Sveučilišta i veleučilišta u Republici Hrvatskoj","08006"]
[{"$nulls":12},{"v":119,"d":"119."},"43335 AGENCIJA ZA MOBILNOST I PROGRAME EUROPSKE UNIJE",43335,"AGENCIJA ZA MOBILNOST I PROGRAME EUROPSKE UNIJE","AGENCIJE","FRANKOPANSKA 26","10000 ZAGREB",{"v":2298007,"d":"02298007"},"25385906011","Agencije","08091"]
[{"$nulls":12},{"v":120,"d":"120."},"43749 MEĐIMURSKO VELEUČILIŠTE U ČAKOVCU",43749,"MEĐIMURSKO VELEUČILIŠTE U ČAKOVCU","VELEUČILIŠTA","BANA JOSIPA JELAČIĆA 22/A","40000 ČAKOVEC",{"v":2382512,"d":"02382512"},"31444990605","Sveučilišta i veleučilišta u Republici Hrvatskoj","08006"]
[{"$nulls":12},{"v":121,"d":"121."},"43773 SVEUČILIŠTE U SPLITU, KINEZIOLOŠKI FAKULTET",43773,"SVEUČILIŠTE U SPLITU, KINEZIOLOŠKI FAKULTET","SVEUČILIŠTE U SPLITU","NIKOLE TESLE 6","21000 SPLIT",{"v":2393255,"d":"02393255"},"57848936921","Sveučilišta i veleučilišta u Republici Hrvatskoj","08006"]
[{"$nulls":12},{"v":122,"d":"122."},"46173 AGENCIJA ZA STRUKOVNO OBRAZOVANJE I OBRAZOVANJE ODRASLIH",46173,"AGENCIJA ZA STRUKOVNO OBRAZOVANJE I OBRAZOVANJE ODRASLIH","AGENCIJE","GARIĆGRADSKA ULICA 18","10000 ZAGREB",{"v":2650029,"d":"02650029"},"40719411729","Agencije","08091"]
[{"$nulls":12},{"v":123,"d":"123."},"48023 SVEUČILIŠTE U RIJECI, FAKULTET ZDRAVSTVENIH STUDIJA ",48023,"SVEUČILIŠTE U RIJECI, FAKULTET ZDRAVSTVENIH STUDIJA ","SVEUČILIŠTE U RIJECI","VIKTORA CARA EMINA 5","51000 RIJEKA","04052510","19213484918","Sveučilišta i veleučilišta u Republici Hrvatskoj","08006"]
[{"$nulls":12},{"v":124,"d":"124."},"48267 SVEUČILIŠTE SJEVER",48267,"SVEUČILIŠTE SJEVER","SVEUČILIŠTE SJEVER","TRG DR. ŽARKA DOLINARA 1","48000 KOPRIVNICA",{"v":2752298,"d":"02752298"},"59624928052","Sveučilišta i veleučilišta u Republici Hrvatskoj","08006"]
[{"$nulls":12},{"v":125,"d":"125."},{"$f":"O129&\" \"&P129","v":"49796 SVEUČILIŠTE J.J. STROSMAYERA U OSIJEKU - FAKULTET ZA DENTALNU MEDICINU I ZDRAVSTVO"},49796,"SVEUČILIŠTE J.J. STROSMAYERA U OSIJEKU - FAKULTET ZA DENTALNU MEDICINU I ZDRAVSTVO","SVEUČILIŠTE J.J STROSSMAYERA U OSIJEKU","CRKVENA 21","31000 OSIJEK",{"v":4748875,"d":"04748875"},"83830458507","Sveučilišta i veleučilišta u Republici Hrvatskoj","08006"]
[{"$nulls":12},{"v":126,"d":"126."},"50215 SVEUČILIŠTE JOSIPA JURJA STROSSMAYERA U OSIJEKU - AKADEMIJA ZA UMJETNOST I KULTURU U OSIJEKU",50215,"SVEUČILIŠTE JOSIPA JURJA STROSSMAYERA U OSIJEKU - AKADEMIJA ZA UMJETNOST I KULTURU U OSIJEKU","SVEUČILIŠTE J.J STROSSMAYERA U OSIJEKU","KRALJA PETRA SVAČIĆA 1/F","31000 OSIJEK",{"v":4907361,"d":"04907361"},"60277424315","Sveučilišta i veleučilišta u Republici Hrvatskoj","08006"]
[{"$nulls":12},{"v":127,"d":"127."},"50848 VELEUČILIŠTE HRVATSKO ZAGORJE KRAPINA",50848,"VELEUČILIŠTE HRVATSKO ZAGORJE KRAPINA","VELEUČILIŠTA","ŠETALIŠTE HRVATSKOG NARODNOG PREPORODA 6","49000 KRAPINA",{"v":2271354,"d":"02271354"},"16465214888","Sveučilišta i veleučilišta u Republici Hrvatskoj","08006"]
[{"$nulls":12},{"v":128,"d":"128."},"51191 Sveučilište u Zagrebu Fakultet hrvatskih studija",51191,"Sveučilište u Zagrebu Fakultet hrvatskih studija","SVEUČILIŠTE U ZAGREBU","BORONGAJSKA CESTA 83D","10000 ZAGREB",{"v":5214068,"d":"05214068"},"99454315441","Sveučilišta i veleučilišta u Republici Hrvatskoj","08006"]
[{"$nulls":12},{"v":129,"d":"129."},"51360 SVEUČILIŠTE U SLAVONSKOM BRODU",51360,"SVEUČILIŠTE U SLAVONSKOM BRODU","SVEUČILIŠTE U SLAVONSKOM BRODU","TRG IVANE BRLIĆ MAŽURANIĆ 2","35000 SLAVONSKI BROD",{"v":5290538,"d":"05290538"},"33027834374","Sveučilišta i veleučilišta u Republici Hrvatskoj","08006"]
[{"$nulls":12},{"v":130,"d":"130."},"51450 SVEUČILIŠTE JOSIPA JURJA STROSSMAYERA U OSIJEKU - KINEZIOLOŠKI FAKULTET OSIJEK",51450,"SVEUČILIŠTE JOSIPA JURJA STROSSMAYERA U OSIJEKU - KINEZIOLOŠKI FAKULTET OSIJEK","SVEUČILIŠTE J.J STROSSMAYERA U OSIJEKU","DRINSKA 16/A","31000 OSIJEK",{"v":5302099,"d":"05302099"},"70788591483","Sveučilišta i veleučilišta u Republici Hrvatskoj","08006"]
[{"$nulls":12},{"v":131,"d":"131."},"52209 HRVATSKA ZAKLADA ZA ZNANOST",52209,"HRVATSKA ZAKLADA ZA ZNANOST","AGENCIJE","ILICA 24","10000 ZAGREB",{"v":1626841,"d":"01626841"},88776522763,"Agencije","08091"]
[{"$nulls":12},{"$f":"+M135+1","v":{"v":132,"d":"132."}},"52565 SVEUČILIŠTE JOSIPA JURJA STROSSMAYERA U OSIJEKU, FAKULTET TURIZMA I RURALNOG RAZVOJA U POŽEGI",52565,"SVEUČILIŠTE JOSIPA JURJA STROSSMAYERA U OSIJEKU, FAKULTET TURIZMA I RURALNOG RAZVOJA U POŽEGI","SVEUČILIŠTE J.J STROSSMAYERA U OSIJEKU","VUKOVARSKA 17","31000 OSIJEK",{"v":5619696,"d":"05619696"},"11614501047","Sveučilišta i veleučilišta u Republici Hrvatskoj","08006"]
[{"$nulls":12},{"$f":"+M136+1","v":{"v":133,"d":"133."}},"53919 Sveučilište u Osijeku, Fakultet primijenjene matematike i informatike",53919,"Sveučilište u Osijeku, Fakultet primijenjene matematike i informatike","SVEUČILIŠTE J.J STROSSMAYERA U OSIJEKU",{"$nulls":4},"Sveučilišta i veleučilišta u Republici Hrvatskoj","08006"]

{"sheet":"Unos prihoda i primitaka","index":1,"n_rows":505,"n_cols":27,"rows_kept":505,"merged":[[0,0,0,4]]}
["Plan za unos u SAP - prihodi i primici",{"$nulls":4},{"$f":"IF(OR('OPĆI DIO'!C1=\"odaberite -\",'OPĆI DIO'!C1=\"\"),\"Molimo odaberite proračunskog korisnika na radnom listu Opći podaci!\",\"\")","v":""},{"$nulls":4},"u EUR"]
["GLAVA","OPIS GLAVE","IZVOR NA TERET","IZVOR","OPIS IZVORA","STAVKA","Stavka-Izvor","OPIS STAVKE","PLAN \n2026.","PROJEKCIJA \n2027.","PROJEKCIJA \n2028.","Davatelj prijenosa","Ustanova","left3","left2"]
[{"$f":"IF(F3=\"\",\"\",VLOOKUP('OPĆI DIO'!$C$1,'OPĆI DIO'!$N$4:$W$137,10,FALSE))","v":"08006"},{"$f":"IF(F3=\"\",\"\",VLOOKUP('OPĆI DIO'!$C$1,'OPĆI DIO'!$N$4:$W$137,9,FALSE))","v":"Sveučilišta i veleučilišta u Republici Hrvatskoj"},{"$f":"IFERROR(VLOOKUP(G3,$T$6:$AA$500,8,FALSE),\"\")","v":11},{"$f":"IFERROR(VLOOKUP(G3,$T$6:$AA$500,4,FALSE),\"\")","v":11},{"$f":"IFERROR(VLOOKUP(G3,$T$6:$AA$500,5,FALSE),\"\")","v":"Opći prihodi i primici"},{"$f":"IFERROR(VLOOKUP(G3,$T$6:$AA$500,2,FALSE),\"\")","v":67111},"67111-11",{"$f":"IFERROR(VLOOKUP(G3,$T$6:$AA$500,3,FALSE),\"\")","v":"Prihodi iz nadležnog proračuna za financiranje rashoda poslovanja "},{"v":7779089,"d":"7,779,089"},{"v":8296172,"d":"8,296,172"},{"v":8844948,"d":"8,844,948"},null,{"$f":"IF(F3=\"\",\"\",'OPĆI DIO'!$C$1)","v":"1812 Sveučilište u Zagrebu FAKULTET PROMETNIH ZNANOSTI"},{"$f":"LEFT(F3,2)","v":"67"},{"$f":"LEFT(F3,3)","v":"671"},"glava za visoko 6"]
[{"$f":"IF(F4=\"\",\"\",VLOOKUP('OPĆI DIO'!$C$1,'OPĆI DIO'!$N$4:$W$137,10,FALSE))","v":"08006"},{"$f":"IF(F4=\"\",\"\",VLOOKUP('OPĆI DIO'!$C$1,'OPĆI DIO'!$N$4:$W$137,9,FALSE))","v":"Sveučilišta i veleučilišta u Republici Hrvatskoj"},{"$f":"IFERROR(VLOOKUP(G4,$T$6:$AA$500,8,FALSE),\"\")","v":11},{"$f":"IFERROR(VLOOKUP(G4,$T$6:$AA$500,4,FALSE),\"\")","v":11},{"$f":"IFERROR(VLOOKUP(G4,$T$6:$AA$500,5,FALSE),\"\")","v":"Opći prihodi i primici"},{"$f":"IFERROR(VLOOKUP(G4,$T$6:$AA$500,2,FALSE),\"\")","v":67111},"67111-11",{"$f":"IFERROR(VLOOKUP(G4,$T$6:$AA$500,3,FALSE),\"\")","v":"Prihodi iz nadležnog proračuna za financiranje rashoda poslovanja "},{"v":158566,"d":"158,566"},{"v":166494,"d":"166,494"},{"v":174819,"d":"174,819"},null,{"$f":"IF(F4=\"\",\"\",'OPĆI DIO'!$C$1)","v":"1812 Sveučilište u Zagrebu FAKULTET PROMETNIH ZNANOSTI"},{"$f":"LEFT(F4,2)","v":"67"},{"$f":"LEFT(F4,3)","v":"671"}]
[{"$f":"IF(F5=\"\",\"\",VLOOKUP('OPĆI DIO'!$C$1,'OPĆI DIO'!$N$4:$W$137,10,FALSE))","v":"08006"},{"$f":"IF(F5=\"\",\"\",VLOOKUP('OPĆI DIO'!$C$1,'OPĆI DIO'!$N$4:$W$137,9,FALSE))","v":"Sveučilišta i veleučilišta u Republici Hrvatskoj"},11,11,"Opći prihodi i primici",67111,"67111-11","Prihodi iz nadležnog proračuna za financiranje rashoda poslovanja ",{"v":39015,"d":"39,015"},{"v":40966,"d":"40,966"},{"v":43014,"d":"43,014"},null,{"$f":"IF(F5=\"\",\"\",'OPĆI DIO'!$C$1)","v":"1812 Sveučilište u Zagrebu FAKULTET PROMETNIH ZNANOSTI"},"67","671","IZVOR","OPIS IZVORA",null,null,"StavkaIzvor","Stavka","opis stavke","izvor","OPIS IZVORA","3 konto","2 konto","Izvor"]
[{"$f":"IF(F6=\"\",\"\",VLOOKUP('OPĆI DIO'!$C$1,'OPĆI DIO'!$N$4:$W$137,10,FALSE))","v":"08006"},{"$f":"IF(F6=\"\",\"\",VLOOKUP('OPĆI DIO'!$C$1,'OPĆI DIO'!$N$4:$W$137,9,FALSE))","v":"Sveučilišta i veleučilišta u Republici Hrvatskoj"},581,581,"Mehanizam za oporavak i otpornost – bespovratna sredstva – raspoloživ predujam ili unaprijed naplaćen prihod",67111,"67111-581","Prihodi iz nadležnog proračuna za financiranje rashoda poslovanja  ",{"$f":"296371+296376","v":{"v":592747,"d":"592,747"}},{"$f":"296371+89446","v":{"v":385817,"d":"385,817"}},{"$f":"296371+145760","v":{"v":442131,"d":"442,131"}},null,{"$f":"IF(F6=\"\",\"\",'OPĆI DIO'!$C$1)","v":"1812 Sveučilište u Zagrebu FAKULTET PROMETNIH ZNANOSTI"},{"$f":"LEFT(F6,2)","v":"67"},"671",11,"Opći prihodi i primici",11,null,{"$f":"U6&\"-\"&W6","v":"67111-11"},67111,"Prihodi iz nadležnog proračuna za financiranje rashoda poslovanja ",11,"Opći prihodi i primici",{"$f":"LEFT(U6,3)","v":"671"},{"$f":"LEFT(U6,2)","v":"67"},11]
[{"$f":"IF(F7=\"\",\"\",VLOOKUP('OPĆI DIO'!$C$1,'OPĆI DIO'!$N$4:$W$137,10,FALSE))","v":"08006"},{"$f":"IF(F7=\"\",\"\",VLOOKUP('OPĆI DIO'!$C$1,'OPĆI DIO'!$N$4:$W$137,9,FALSE))","v":"Sveučilišta i veleučilišta u Republici Hrvatskoj"},51000,51000,"51000 Programi Unije – raspoloživ predujam",63231,"63231-51000","Tekuće pomoći od institucija i tijela EU   ",{"v":808360,"d":"808,360"},{"v":987540,"d":"987,540"},{"v":715000,"d":"715,000"},null,{"$f":"IF(F7=\"\",\"\",'OPĆI DIO'!$C$1)","v":"1812 Sveučilište u Zagrebu FAKULTET PROMETNIH ZNANOSTI"},"63","632",12,"Sredstva učešća za pomoći",12,null,{"$f":"U7&\"-\"&W7","v":"67111-12"},67111,"Prihodi iz nadležnog proračuna za financiranje rashoda poslovanja  ",12,"Sredstva učešća za pomoći",{"$f":"LEFT(U7,3)","v":"671"},{"$f":"LEFT(U7,2)","v":"67"},12]
[{"$f":"IF(F8=\"\",\"\",VLOOKUP('OPĆI DIO'!$C$1,'OPĆI DIO'!$N$4:$W$137,10,FALSE))","v":"08006"},{"$f":"IF(F8=\"\",\"\",VLOOKUP('OPĆI DIO'!$C$1,'OPĆI DIO'!$N$4:$W$137,9,FALSE))","v":"Sveučilišta i veleučilišta u Republici Hrvatskoj"},31,31,"Vlastiti prihodi",66151,"66151-31","Prihodi od pruženih usluga",{"v":3590000,"d":"3,590,000"},{"v":3690000,"d":"3,690,000"},{"v":3790000,"d":"3,790,000"},null,{"$f":"IF(F8=\"\",\"\",'OPĆI DIO'!$C$1)","v":"1812 Sveučilište u Zagrebu FAKULTET PROMETNIH ZNANOSTI"},"66","661",31,"Vlastiti prihodi",31,null,"67111-531",67111,"Prihodi iz nadležnog proračuna za financiranje rashoda poslovanja  ",531,"Švicarsko - hrvatski program suradnje","671","67",531]
[{"$f":"IF(F9=\"\",\"\",VLOOKUP('OPĆI DIO'!$C$1,'OPĆI DIO'!$N$4:$W$137,10,FALSE))","v":"08006"},{"$f":"IF(F9=\"\",\"\",VLOOKUP('OPĆI DIO'!$C$1,'OPĆI DIO'!$N$4:$W$137,9,FALSE))","v":"Sveučilišta i veleučilišta u Republici Hrvatskoj"},43,43,"Ostali prihodi za posebne namjene",65264,"65264-43","Sufinanciranje cijene usluge, participacije i slično",{"v":825000,"d":"825,000"},{"v":850000,"d":"850,000"},{"v":875000,"d":"875,000"},null,{"$f":"IF(F9=\"\",\"\",'OPĆI DIO'!$C$1)","v":"1812 Sveučilište u Zagrebu FAKULTET PROMETNIH ZNANOSTI"},"65","652",41,"Prihodi od igara na sreću",41,null,"67111-532",67111,"Prihodi iz nadležnog proračuna za financiranje rashoda poslovanja  ",532,"Financijski mehanizam Europskog gospodarskog prostora i Norveški financijski mehanizam","671","67",532]
[{"$f":"IF(F10=\"\",\"\",VLOOKUP('OPĆI DIO'!$C$1,'OPĆI DIO'!$N$4:$W$137,10,FALSE))","v":"08006"},{"$f":"IF(F10=\"\",\"\",VLOOKUP('OPĆI DIO'!$C$1,'OPĆI DIO'!$N$4:$W$137,9,FALSE))","v":"Sveučilišta i veleučilišta u Republici Hrvatskoj"},61,61,"Donacije",66311,"66311-61","Tekuće donacije od fizičkih osoba",{"v":20000,"d":"20,000"},{"v":20000,"d":"20,000"},{"v":20000,"d":"20,000"},null,{"$f":"IF(F10=\"\",\"\",'OPĆI DIO'!$C$1)","v":"1812 Sveučilište u Zagrebu FAKULTET PROMETNIH ZNANOSTI"},"66","663",43,"Ostali prihodi za posebne namjene",43,null,"67111-54",67111,"Prihodi iz nadležnog proračuna za financiranje rashoda poslovanja  ",54,"Europski poljoprivredni jamstveni fond (EAGF)","671","67",54]
[{"$f":"IF(F11=\"\",\"\",VLOOKUP('OPĆI DIO'!$C$1,'OPĆI DIO'!$N$4:$W$137,10,FALSE))","v":"08006"},{"$f":"IF(F11=\"\",\"\",VLOOKUP('OPĆI DIO'!$C$1,'OPĆI DIO'!$N$4:$W$137,9,FALSE))","v":"Sveučilišta i veleučilišta u Republici Hrvatskoj"},51000,51000,"51000 Programi Unije – raspoloživ predujam",63931,"63931-51000","Tekući prijenosi između proračunskih korisnika istog proračuna temeljem prijenosa EU sredstava",{"v":38535,"d":"38,535"},0,0,"21852 HRVATSKA AKADEMSKA ISTRAŽIVAČKA MREŽA - CARNET",{"$f":"IF(F11=\"\",\"\",'OPĆI DIO'!$C$1)","v":"1812 Sveučilište u Zagrebu FAKULTET PROMETNIH ZNANOSTI"},"63","639",50,"5011 Pomoći iz državnog proračuna kroz opće prihode i primitke",50,null,"67111-561",67111,"Prihodi iz nadležnog proračuna za financiranje rashoda poslovanja  ",561,"Europski socijalni fond plus – predfinanciranje iz izvora 11 Opći prihodi i primici","671","67",561]
[{"$f":"IF(F12=\"\",\"\",VLOOKUP('OPĆI DIO'!$C$1,'OPĆI DIO'!$N$4:$W$137,10,FALSE))","v":"08006"},{"$f":"IF(F12=\"\",\"\",VLOOKUP('OPĆI DIO'!$C$1,'OPĆI DIO'!$N$4:$W$137,9,FALSE))","v":"Sveučilišta i veleučilišta u Republici Hrvatskoj"},581,581,"Mehanizam za oporavak i otpornost – bespovratna sredstva – raspoloživ predujam ili unaprijed naplaćen prihod",63931,"63931-581","Tekući prijenosi između proračunskih korisnika istog proračuna temeljem prijenosa EU sredstava",{"v":38535,"d":"38,535"},0,0,"21852 HRVATSKA AKADEMSKA ISTRAŽIVAČKA MREŽA - CARNET",{"$f":"IF(F12=\"\",\"\",'OPĆI DIO'!$C$1)","v":"1812 Sveučilište u Zagrebu FAKULTET PROMETNIH ZNANOSTI"},"63","639",50,"5012 Pomoći iz državnog proračuna kroz nacionalno sufinanciranje EU projekata",50,null,"67111-562",67111,"Prihodi iz nadležnog proračuna za financiranje rashoda poslovanja  ",562,"Kohezijski fond - predfinanciranje iz izvora 11 Opći prihodi i primici","671","67",562]
[{"$f":"IF(F13=\"\",\"\",VLOOKUP('OPĆI DIO'!$C$1,'OPĆI DIO'!$N$4:$W$137,10,FALSE))","v":"08006"},{"$f":"IF(F13=\"\",\"\",VLOOKUP('OPĆI DIO'!$C$1,'OPĆI DIO'!$N$4:$W$137,9,FALSE))","v":"Sveučilišta i veleučilišta u Republici Hrvatskoj"},563,563,"Europski fond za regionalni razvoj - predfinanciranje iz izvora 11 Opći prihodi i      primici",63931,"63931-563","Tekući prijenosi između proračunskih korisnika istog proračuna temeljem prijenosa EU sredstava",{"v":186995,"d":"186,995"},0,0,"47123 MINISTARSTVO REGIONALNOGA RAZVOJA I FONDOVA EUROPSKE UNIJE",{"$f":"IF(F13=\"\",\"\",'OPĆI DIO'!$C$1)","v":"1812 Sveučilište u Zagrebu FAKULTET PROMETNIH ZNANOSTI"},"63","639",50,"5041 Pomoći iz državnog proračuna kroz prihode od igara na sreću",50,null,"67111-563",67111,"Prihodi iz nadležnog proračuna za financiranje rashoda poslovanja  ",563,"Europski fond za regionalni razvoj - predfinanciranje iz izvora 11 Opći prihodi i      primici","671","67",563]
[{"$f":"IF(F14=\"\",\"\",VLOOKUP('OPĆI DIO'!$C$1,'OPĆI DIO'!$N$4:$W$137,10,FALSE))","v":"08006"},{"$f":"IF(F14=\"\",\"\",VLOOKUP('OPĆI DIO'!$C$1,'OPĆI DIO'!$N$4:$W$137,9,FALSE))","v":"Sveučilišta i veleučilišta u Republici Hrvatskoj"},533,533,"Ostale darovnice",63211,"63211-533","Tekuće pomoći od međunarodnih organizacija",{"v":59360,"d":"59,360"},0,0,null,{"$f":"IF(F14=\"\",\"\",'OPĆI DIO'!$C$1)","v":"1812 Sveučilište u Zagrebu FAKULTET PROMETNIH ZNANOSTI"},"63","632",50,"5043 Pomoći iz državnog proračuna kroz ostale prihode za posebne namjene",50,null,"67111-564",67111,"Prihodi iz nadležnog proračuna za financiranje rashoda poslovanja  ",564,"Fond za pomorstvo, ribarstvo i akvakulturu - predfinanciranje iz izvora 11 Opći prihodi i primici","671","67",564]
[{"$f":"IF(F15=\"\",\"\",VLOOKUP('OPĆI DIO'!$C$1,'OPĆI DIO'!$N$4:$W$137,10,FALSE))","v":"08006"},{"$f":"IF(F15=\"\",\"\",VLOOKUP('OPĆI DIO'!$C$1,'OPĆI DIO'!$N$4:$W$137,9,FALSE))","v":"Sveučilišta i veleučilišta u Republici Hrvatskoj"},5011,5011,"5011 Pomoći iz državnog proračuna kroz opće prihode i primitke",63911,"63911-5011","Tekući prijenosi između proračunskih korisnika istog proračuna",{"v":90000,"d":"90,000"},{"v":90000,"d":"90,000"},{"v":90000,"d":"90,000"},"52209 HRVATSKA ZAKLADA ZA ZNANOST",{"$f":"IF(F15=\"\",\"\",'OPĆI DIO'!$C$1)","v":"1812 Sveučilište u Zagrebu FAKULTET PROMETNIH ZNANOSTI"},"63","639",50,"5052 Pomoći iz državnog proračuna kroz ostale pomoći",50,null,"67111-565",67111,"Prihodi iz nadležnog proračuna za financiranje rashoda poslovanja  ",565,"Europski poljoprivredni fond za ruralni razvoj - predfinanciranje iz izvora 11 Opći prihodi i primici","671","67",565]
[{"$f":"IF(F16=\"\",\"\",VLOOKUP('OPĆI DIO'!$C$1,'OPĆI DIO'!$N$4:$W$137,10,FALSE))","v":"08006"},{"$f":"IF(F16=\"\",\"\",VLOOKUP('OPĆI DIO'!$C$1,'OPĆI DIO'!$N$4:$W$137,9,FALSE))","v":"Sveučilišta i veleučilišta u Republici Hrvatskoj"},563,563,"Europski fond za regionalni razvoj - predfinanciranje iz izvora 11 Opći prihodi i      primici",63931,"63931-563","Tekući prijenosi između proračunskih korisnika istog proračuna temeljem prijenosa EU sredstava",{"v":30618,"d":"30,618"},0,0,"1757 SVEUČILIŠTE U ZAGREBU FAKULTET ELEKTROTEHNIKE I RAČUNARSTVA",{"$f":"IF(F16=\"\",\"\",'OPĆI DIO'!$C$1)","v":"1812 Sveučilište u Zagrebu FAKULTET PROMETNIH ZNANOSTI"},"63","639",50,"50810 Pomoći iz državnog proračuna kroz namjenske primitke od zaduživanja – ostali",50,null,"67111-566",67111,"Prihodi iz nadležnog proračuna za financiranje rashoda poslovanja  ",566,"Modernizacijski fond - predfinanciranje iz izvora 11 Opći prihodi i primici","671","67",566]
[{"$f":"IF(F17=\"\",\"\",VLOOKUP('OPĆI DIO'!$C$1,'OPĆI DIO'!$N$4:$W$137,10,FALSE))","v":""},{"$f":"IF(F17=\"\",\"\",VLOOKUP('OPĆI DIO'!$C$1,'OPĆI DIO'!$N$4:$W$137,9,FALSE))","v":""},"","","","",null,"",{"$nulls":4},{"$f":"IF(F17=\"\",\"\",'OPĆI DIO'!$C$1)","v":""},"","",50,"50815 Pomoći iz državnog proračuna kroz namjenske primitke od zaduživanja – NPOO",50,null,"67111-567",67111,"Prihodi iz nadležnog proračuna za financiranje rashoda poslovanja  ",567,"Socijalni fond za klimatsku politiku - predfinanciranje iz izvora 11 Opći prihodi i primici","671","67",567]
[{"$f":"IF(F18=\"\",\"\",VLOOKUP('OPĆI DIO'!$C$1,'OPĆI DIO'!$N$4:$W$137,10,FALSE))","v":""},{"$f":"IF(F18=\"\",\"\",VLOOKUP('OPĆI DIO'!$C$1,'OPĆI DIO'!$N$4:$W$137,9,FALSE))","v":""},"","","","",null,"",{"$nulls":4},{"$f":"IF(F18=\"\",\"\",'OPĆI DIO'!$C$1)","v":""},"","",51,"51000 Programi Unije – raspoloživ predujam",51,null,"67111-575",67111,"Prihodi iz nadležnog proračuna za financiranje rashoda poslovanja  ",575,"Fond za azil, migracije i integraciju - predfinanciranje iz izvora 11 Opći prihodi i primici","671","67",575]
[{"$f":"IF(F19=\"\",\"\",VLOOKUP('OPĆI DIO'!$C$1,'OPĆI DIO'!$N$4:$W$137,10,FALSE))","v":""},{"$f":"IF(F19=\"\",\"\",VLOOKUP('OPĆI DIO'!$C$1,'OPĆI DIO'!$N$4:$W$137,9,FALSE))","v":""},"","","","",null,"",{"$nulls":4},{"$f":"IF(F19=\"\",\"\",'OPĆI DIO'!$C$1)","v":""},"","",11,"51011 Programi Unije – predfinanciranje iz izvora 11 Opći prihodi i primici",11,null,"67111-577",67111,"Prihodi iz nadležnog proračuna za financiranje rashoda poslovanja  ",577,"Fond za pravednu tranziciju - predfinanciranje iz izvora 11 Opći prihodi i primici","671","67",577]
[{"$f":"IF(F20=\"\",\"\",VLOOKUP('OPĆI DIO'!$C$1,'OPĆI DIO'!$N$4:$W$137,10,FALSE))","v":""},{"$f":"IF(F20=\"\",\"\",VLOOKUP('OPĆI DIO'!$C$1,'OPĆI DIO'!$N$4:$W$137,9,FALSE))","v":""},"","","","",null,"",{"$nulls":4},{"$f":"IF(F20=\"\",\"\",'OPĆI DIO'!$C$1)","v":""},"","",31,"51031 Programi Unije – predfinanciranje iz izvora 31 Vlastiti prihodi",31,null,"67111-578",67111,"Prihodi iz nadležnog proračuna za financiranje rashoda poslovanja  ",578,"Fond za unutarnju sigurnost - predfinanciranje iz izvora 11 Opći prihodi i primici","671","67",578]
[{"$f":"IF(F21=\"\",\"\",VLOOKUP('OPĆI DIO'!$C$1,'OPĆI DIO'!$N$4:$W$137,10,FALSE))","v":""},{"$f":"IF(F21=\"\",\"\",VLOOKUP('OPĆI DIO'!$C$1,'OPĆI DIO'!$N$4:$W$137,9,FALSE))","v":""},"","","","",null,"",{"$nulls":4},{"$f":"IF(F21=\"\",\"\",'OPĆI DIO'!$C$1)","v":""},"","",43,"51043 Programi Unije – predfinanciranje iz izvora 43 Ostali prihodi za posebne namjene",43,null,"67111-579",67111,"Prihodi iz nadležnog proračuna za financiranje rashoda poslovanja  ",579,"Fond za integrirano upravljanje granicama - predfinanciranje iz izvora 11 Opći prihodi i primici","671","67",579]
[{"$f":"IF(F22=\"\",\"\",VLOOKUP('OPĆI DIO'!$C$1,'OPĆI DIO'!$N$4:$W$137,10,FALSE))","v":""},{"$f":"IF(F22=\"\",\"\",VLOOKUP('OPĆI DIO'!$C$1,'OPĆI DIO'!$N$4:$W$137,9,FALSE))","v":""},"","","","",null,"",{"$nulls":4},{"$f":"IF(F22=\"\",\"\",'OPĆI DIO'!$C$1)","v":""},"","",81,"51081 Programi Unije – predfinanciranje iz izvora 81 Namjenski primici od zaduživanja",81,null,"67111-581",67111,"Prihodi iz nadležnog proračuna za financiranje rashoda poslovanja  ",581,"Mehanizam za oporavak i otpornost – bespovratna sredstva – raspoloživ predujam ili unaprijed naplaćen prihod","671","67",581]
[{"$f":"IF(F23=\"\",\"\",VLOOKUP('OPĆI DIO'!$C$1,'OPĆI DIO'!$N$4:$W$137,10,FALSE))","v":""},{"$f":"IF(F23=\"\",\"\",VLOOKUP('OPĆI DIO'!$C$1,'OPĆI DIO'!$N$4:$W$137,9,FALSE))","v":""},"","","","",null,"",{"$nulls":4},{"$f":"IF(F23=\"\",\"\",'OPĆI DIO'!$C$1)","v":""},"","",52,"Ostale pomoći",52,null,"67111-815",67111,"Prihodi iz nadležnog proračuna za financiranje rashoda poslovanja  ",815,"Mehanizam za oporavak i otpornost (NPOO – zajam)","671","67",815]
[{"$f":"IF(F24=\"\",\"\",VLOOKUP('OPĆI DIO'!$C$1,'OPĆI DIO'!$N$4:$W$137,10,FALSE))","v":""},{"$f":"IF(F24=\"\",\"\",VLOOKUP('OPĆI DIO'!$C$1,'OPĆI DIO'!$N$4:$W$137,9,FALSE))","v":""},"","","","",null,"",{"$nulls":4},{"$f":"IF(F24=\"\",\"\",'OPĆI DIO'!$C$1)","v":""},"","",531,"Švicarsko - hrvatski program suradnje",53,null,"67121-11",67121,"Prihodi iz nadležnog proračuna za financiranje rashoda za nabavu nefinancijske imovine ",11,"Opći prihodi i primici","671","67",11]
[{"$f":"IF(F25=\"\",\"\",VLOOKUP('OPĆI DIO'!$C$1,'OPĆI DIO'!$N$4:$W$137,10,FALSE))","v":""},{"$f":"IF(F25=\"\",\"\",VLOOKUP('OPĆI DIO'!$C$1,'OPĆI DIO'!$N$4:$W$137,9,FALSE))","v":""},"","","","",null,"",{"$nulls":4},{"$f":"IF(F25=\"\",\"\",'OPĆI DIO'!$C$1)","v":""},"","",532,"Financijski mehanizam Europskog gospodarskog prostora i Norveški financijski mehanizam",53,null,"67121-12",67121,"Prihodi iz nadležnog proračuna za financiranje rashoda za nabavu nefinancijske imovine ",12,"Sredstva učešća za pomoći","671","67",12]
[{"$f":"IF(F26=\"\",\"\",VLOOKUP('OPĆI DIO'!$C$1,'OPĆI DIO'!$N$4:$W$137,10,FALSE))","v":""},{"$f":"IF(F26=\"\",\"\",VLOOKUP('OPĆI DIO'!$C$1,'OPĆI DIO'!$N$4:$W$137,9,FALSE))","v":""},"","","","",null,"",{"$nulls":4},{"$f":"IF(F26=\"\",\"\",'OPĆI DIO'!$C$1)","v":""},"","",533,"Ostale darovnice",53,null,"67121-531",67121,"Prihodi iz nadležnog proračuna za financiranje rashoda za nabavu nefinancijske imovine ",531,"Švicarsko - hrvatski program suradnje","671","67",531]
[{"$f":"IF(F27=\"\",\"\",VLOOKUP('OPĆI DIO'!$C$1,'OPĆI DIO'!$N$4:$W$137,10,FALSE))","v":""},{"$f":"IF(F27=\"\",\"\",VLOOKUP('OPĆI DIO'!$C$1,'OPĆI DIO'!$N$4:$W$137,9,FALSE))","v":""},"","","","",null,"",{"$nulls":4},{"$f":"IF(F27=\"\",\"\",'OPĆI DIO'!$C$1)","v":""},"","",54,"Europski poljoprivredni jamstveni fond (EAGF)",54,null,"67121-532",67121,"Prihodi iz nadležnog proračuna za financiranje rashoda za nabavu nefinancijske imovine ",532,"Financijski mehanizam Europskog gospodarskog prostora i Norveški financijski mehanizam","671","67",532]
[{"$f":"IF(F28=\"\",\"\",VLOOKUP('OPĆI DIO'!$C$1,'OPĆI DIO'!$N$4:$W$137,10,FALSE))","v":""},{"$f":"IF(F28=\"\",\"\",VLOOKUP('OPĆI DIO'!$C$1,'OPĆI DIO'!$N$4:$W$137,9,FALSE))","v":""},"","","","",null,"",{"$nulls":5},"","",561,"Europski socijalni fond plus – predfinanciranje iz izvora 11 Opći prihodi i primici",561,null,"67121-54",67121,"Prihodi iz nadležnog proračuna za financiranje rashoda za nabavu nefinancijske imovine ",54,"Europski poljoprivredni jamstveni fond (EAGF)","671","67",54]
[{"$f":"IF(F29=\"\",\"\",VLOOKUP('OPĆI DIO'!$C$1,'OPĆI DIO'!$N$4:$W$137,10,FALSE))","v":""},{"$f":"IF(F29=\"\",\"\",VLOOKUP('OPĆI DIO'!$C$1,'OPĆI DIO'!$N$4:$W$137,9,FALSE))","v":""},"","","","",null,"",{"$nulls":4},{"$f":"IF(F29=\"\",\"\",'OPĆI DIO'!$C$1)","v":""},"","",562,"Kohezijski fond",562,null,"67121-531",67121,"Prihodi iz nadležnog proračuna za financiranje rashoda za nabavu nefinancijske imovine ",531,"Švicarsko - hrvatski program suradnje","671","67",531]
[{"$f":"IF(F30=\"\",\"\",VLOOKUP('OPĆI DIO'!$C$1,'OPĆI DIO'!$N$4:$W$137,10,FALSE))","v":""},{"$f":"IF(F30=\"\",\"\",VLOOKUP('OPĆI DIO'!$C$1,'OPĆI DIO'!$N$4:$W$137,9,FALSE))","v":""},"","","","",null,"",{"$nulls":4},{"$f":"IF(F30=\"\",\"\",'OPĆI DIO'!$C$1)","v":""},"","",563,"Europski fond za regionalni razvoj – predfinanciranje iz izvora 11 Opći prihodi i primici",563,null,"67121-532",67121,"Prihodi iz nadležnog proračuna za financiranje rashoda za nabavu nefinancijske imovine ",532,"Financijski mehanizam Europskog gospodarskog prostora i Norveški financijski mehanizam","671","67",532]
[{"$f":"IF(F31=\"\",\"\",VLOOKUP('OPĆI DIO'!$C$1,'OPĆI DIO'!$N$4:$W$137,10,FALSE))","v":""},{"$f":"IF(F31=\"\",\"\",VLOOKUP('OPĆI DIO'!$C$1,'OPĆI DIO'!$N$4:$W$137,9,FALSE))","v":""},"","","","",null,"",{"$nulls":4},{"$f":"IF(F31=\"\",\"\",'OPĆI DIO'!$C$1)","v":""},"","",564,"Fond za pomorstvo, ribarstvo i akvakulturu",564,null,"67121-561",67121,"Prihodi iz nadležnog proračuna za financiranje rashoda za nabavu nefinancijske imovine ",561,"Europski socijalni fond plus – predfinanciranje iz izvora 11 Opći prihodi i primici","671","67",561]
[{"$f":"IF(F32=\"\",\"\",VLOOKUP('OPĆI DIO'!$C$1,'OPĆI DIO'!$N$4:$W$137,10,FALSE))","v":""},{"$f":"IF(F32=\"\",\"\",VLOOKUP('OPĆI DIO'!$C$1,'OPĆI DIO'!$N$4:$W$137,9,FALSE))","v":""},"","","","",null,"",{"$nulls":4},{"$f":"IF(F32=\"\",\"\",'OPĆI DIO'!$C$1)","v":""},"","",565,"Europski poljoprivredni fond za ruralni razvoj",565,null,"67121-562",67121,"Prihodi iz nadležnog proračuna za financiranje rashoda za nabavu nefinancijske imovine ",562,"Kohezijski fond - predfinanciranje iz izvora 11 Opći prihodi i primici","671","67",562]
[{"$f":"IF(F33=\"\",\"\",VLOOKUP('OPĆI DIO'!$C$1,'OPĆI DIO'!$N$4:$W$137,10,FALSE))","v":""},{"$f":"IF(F33=\"\",\"\",VLOOKUP('OPĆI DIO'!$C$1,'OPĆI DIO'!$N$4:$W$137,9,FALSE))","v":""},"","","","",null,"",{"$nulls":4},{"$f":"IF(F33=\"\",\"\",'OPĆI DIO'!$C$1)","v":""},"","",566,"Modernizacijski fond",566,null,"67121-563",67121,"Prihodi iz nadležnog proračuna za financiranje rashoda za nabavu nefinancijske imovine ",563,"Europski fond za regionalni razvoj - predfinanciranje iz izvora 11 Opći prihodi i      primici","671","67",563]
[{"$f":"IF(F34=\"\",\"\",VLOOKUP('OPĆI DIO'!$C$1,'OPĆI DIO'!$N$4:$W$137,10,FALSE))","v":""},{"$f":"IF(F34=\"\",\"\",VLOOKUP('OPĆI DIO'!$C$1,'OPĆI DIO'!$N$4:$W$137,9,FALSE))","v":""},"","","","",null,"",{"$nulls":4},{"$f":"IF(F34=\"\",\"\",'OPĆI DIO'!$C$1)","v":""},"","",567,"Socijalni fond za klimatsku politiku",567,null,"67121-564",67121,"Prihodi iz nadležnog proračuna za financiranje rashoda za nabavu nefinancijske imovine ",564,"Fond za pomorstvo, ribarstvo i akvakulturu - predfinanciranje iz izvora 11 Opći prihodi i primici","671","67",564]
[{"$f":"IF(F35=\"\",\"\",VLOOKUP('OPĆI DIO'!$C$1,'OPĆI DIO'!$N$4:$W$137,10,FALSE))","v":""},{"$f":"IF(F35=\"\",\"\",VLOOKUP('OPĆI DIO'!$C$1,'OPĆI DIO'!$N$4:$W$137,9,FALSE))","v":""},"","","","",null,"",{"$nulls":4},{"$f":"IF(F35=\"\",\"\",'OPĆI DIO'!$C$1)","v":""},"","",575,"Fond za azil, migracije i integraciju – predfinanciranje iz izvora 11 Opći prihodi i primici",575,null,"67121-565",67121,"Prihodi iz nadležnog proračuna za financiranje rashoda za nabavu nefinancijske imovine ",565,"Europski poljoprivredni fond za ruralni razvoj - predfinanciranje iz izvora 11 Opći prihodi i primici","671","67",565]
[{"$f":"IF(F36=\"\",\"\",VLOOKUP('OPĆI DIO'!$C$1,'OPĆI DIO'!$N$4:$W$137,10,FALSE))","v":""},{"$f":"IF(F36=\"\",\"\",VLOOKUP('OPĆI DIO'!$C$1,'OPĆI DIO'!$N$4:$W$137,9,FALSE))","v":""},"","","","",null,"",{"$nulls":4},{"$f":"IF(F36=\"\",\"\",'OPĆI DIO'!$C$1)","v":""},"","",577,"Fond za pravednu tranziciju",577,null,"67121-566",67121,"Prihodi iz nadležnog proračuna za financiranje rashoda za nabavu nefinancijske imovine ",566,"Modernizacijski fond - predfinanciranje iz izvora 11 Opći prihodi i primici","671","67",566]
[{"$f":"IF(F37=\"\",\"\",VLOOKUP('OPĆI DIO'!$C$1,'OPĆI DIO'!$N$4:$W$137,10,FALSE))","v":""},{"$f":"IF(F37=\"\",\"\",VLOOKUP('OPĆI DIO'!$C$1,'OPĆI DIO'!$N$4:$W$137,9,FALSE))","v":""},"","","","",null,"",{"$nulls":4},{"$f":"IF(F37=\"\",\"\",'OPĆI DIO'!$C$1)","v":""},"","",578,"Fond za unutarnju sigurnost",578,null,"67121-567",67121,"Prihodi iz nadležnog proračuna za financiranje rashoda za nabavu nefinancijske imovine ",567,"Socijalni fond za klimatsku politiku - predfinanciranje iz izvora 11 Opći prihodi i primici","671","67",567]
[{"$f":"IF(F38=\"\",\"\",VLOOKUP('OPĆI DIO'!$C$1,'OPĆI DIO'!$N$4:$W$137,10,FALSE))","v":""},{"$f":"IF(F38=\"\",\"\",VLOOKUP('OPĆI DIO'!$C$1,'OPĆI DIO'!$N$4:$W$137,9,FALSE))","v":""},"","","","",null,"",{"$nulls":4},{"$f":"IF(F38=\"\",\"\",'OPĆI DIO'!$C$1)","v":""},"","",579,"Fond za integrirano upravljanje granicama",579,null,"67121-575",67121,"Prihodi iz nadležnog proračuna za financiranje rashoda za nabavu nefinancijske imovine ",575,"Fond za azil, migracije i integraciju - predfinanciranje iz izvora 11 Opći prihodi i primici","671","67",575]
[{"$f":"IF(F39=\"\",\"\",VLOOKUP('OPĆI DIO'!$C$1,'OPĆI DIO'!$N$4:$W$137,10,FALSE))","v":""},{"$f":"IF(F39=\"\",\"\",VLOOKUP('OPĆI DIO'!$C$1,'OPĆI DIO'!$N$4:$W$137,9,FALSE))","v":""},"","","","",null,"",{"$nulls":4},{"$f":"IF(F39=\"\",\"\",'OPĆI DIO'!$C$1)","v":""},"","",581,"Mehanizam za oporavak i otpornost – bespovratna sredstva – raspoloživ predujam ili unaprijed naplaćen prihod",581,null,"67121-577",67121,"Prihodi iz nadležnog proračuna za financiranje rashoda za nabavu nefinancijske imovine ",577,"Fond za pravednu tranziciju - predfinanciranje iz izvora 11 Opći prihodi i primici","671","67",577]
[{"$f":"IF(F40=\"\",\"\",VLOOKUP('OPĆI DIO'!$C$1,'OPĆI DIO'!$N$4:$W$137,10,FALSE))","v":""},{"$f":"IF(F40=\"\",\"\",VLOOKUP('OPĆI DIO'!$C$1,'OPĆI DIO'!$N$4:$W$137,9,FALSE))","v":""},"","","","",null,"",{"$nulls":4},{"$f":"IF(F40=\"\",\"\",'OPĆI DIO'!$C$1)","v":""},"","",61,"Donacije",61,null,"67121-578",67121,"Prihodi iz nadležnog proračuna za financiranje rashoda za nabavu nefinancijske imovine ",578,"Fond za unutarnju sigurnost - predfinanciranje iz izvora 11 Opći prihodi i primici","671","67",578]
[{"$f":"IF(F41=\"\",\"\",VLOOKUP('OPĆI DIO'!$C$1,'OPĆI DIO'!$N$4:$W$137,10,FALSE))","v":""},{"$f":"IF(F41=\"\",\"\",VLOOKUP('OPĆI DIO'!$C$1,'OPĆI DIO'!$N$4:$W$137,9,FALSE))","v":""},"","","","",null,"",{"$nulls":4},{"$f":"IF(F41=\"\",\"\",'OPĆI DIO'!$C$1)","v":""},"","",71,"Prihodi od nefin. imovine i nadoknade štete s osnova osig.",71,null,"67121-579",67121,"Prihodi iz nadležnog proračuna za financiranje rashoda za nabavu nefinancijske imovine ",579,"Fond za integrirano upravljanje granicama - predfinanciranje iz izvora 11 Opći prihodi i primici","671","67",579]
[{"$f":"IF(F42=\"\",\"\",VLOOKUP('OPĆI DIO'!$C$1,'OPĆI DIO'!$N$4:$W$137,10,FALSE))","v":""},{"$f":"IF(F42=\"\",\"\",VLOOKUP('OPĆI DIO'!$C$1,'OPĆI DIO'!$N$4:$W$137,9,FALSE))","v":""},"","","","",null,"",{"$nulls":4},{"$f":"IF(F42=\"\",\"\",'OPĆI DIO'!$C$1)","v":""},"","",810,"Namjenski primici od zaduživanja – ostali",810,null,"67121-581",67121,"Prihodi iz nadležnog proračuna za financiranje rashoda za nabavu nefinancijske imovine ",581,"Mehanizam za oporavak i otpornost – bespovratna sredstva – raspoloživ predujam ili unaprijed naplaćen prihod","671","67",581]
[{"$f":"IF(F43=\"\",\"\",VLOOKUP('OPĆI DIO'!$C$1,'OPĆI DIO'!$N$4:$W$137,10,FALSE))","v":""},{"$f":"IF(F43=\"\",\"\",VLOOKUP('OPĆI DIO'!$C$1,'OPĆI DIO'!$N$4:$W$137,9,FALSE))","v":""},"","","","",null,"",{"$nulls":4},{"$f":"IF(F43=\"\",\"\",'OPĆI DIO'!$C$1)","v":""},"","",815,"Mehanizam za oporavak i otpornost (NPOO – zajam)",815,null,"67121-815",67121,"Prihodi iz nadležnog proračuna za financiranje rashoda za nabavu nefinancijske imovine ",815,"Mehanizam za oporavak i otpornost (NPOO – zajam)","671","67",815]
[{"$f":"IF(F44=\"\",\"\",VLOOKUP('OPĆI DIO'!$C$1,'OPĆI DIO'!$N$4:$W$137,10,FALSE))","v":""},{"$f":"IF(F44=\"\",\"\",VLOOKUP('OPĆI DIO'!$C$1,'OPĆI DIO'!$N$4:$W$137,9,FALSE))","v":""},"","","","",null,"",{"$nulls":4},{"$f":"IF(F44=\"\",\"\",'OPĆI DIO'!$C$1)","v":""},"","",{"$nulls":4},"66141-31",66141,"Prihodi od prodanih proizvoda",31,"Vlastiti prihodi","661","66",31]
[{"$f":"IF(F45=\"\",\"\",VLOOKUP('OPĆI DIO'!$C$1,'OPĆI DIO'!$N$4:$W$137,10,FALSE))","v":""},{"$f":"IF(F45=\"\",\"\",VLOOKUP('OPĆI DIO'!$C$1,'OPĆI DIO'!$N$4:$W$137,9,FALSE))","v":""},"","","","",null,"",{"$nulls":4},{"$f":"IF(F45=\"\",\"\",'OPĆI DIO'!$C$1)","v":""},"","",{"$nulls":4},"66142-31",66142,"Prihodi od prodaje robe",31,"Vlastiti prihodi","661","66",31]
[{"$f":"IF(F46=\"\",\"\",VLOOKUP('OPĆI DIO'!$C$1,'OPĆI DIO'!$N$4:$W$137,10,FALSE))","v":""},{"$f":"IF(F46=\"\",\"\",VLOOKUP('OPĆI DIO'!$C$1,'OPĆI DIO'!$N$4:$W$137,9,FALSE))","v":""},"","","","",null,"",{"$nulls":4},{"$f":"IF(F46=\"\",\"\",'OPĆI DIO'!$C$1)","v":""},"","",{"$nulls":4},"66151-31",66151,"Prihodi od pruženih usluga",31,"Vlastiti prihodi","661","66",31]
[{"$f":"IF(F47=\"\",\"\",VLOOKUP('OPĆI DIO'!$C$1,'OPĆI DIO'!$N$4:$W$137,10,FALSE))","v":""},{"$f":"IF(F47=\"\",\"\",VLOOKUP('OPĆI DIO'!$C$1,'OPĆI DIO'!$N$4:$W$137,9,FALSE))","v":""},"","","","",null,"",{"$nulls":4},{"$f":"IF(F47=\"\",\"\",'OPĆI DIO'!$C$1)","v":""},"","",{"$nulls":4},"66311-61",66311,"Tekuće donacije od fizičkih osoba",61,"Donacije","663","66",61]
[{"$f":"IF(F48=\"\",\"\",VLOOKUP('OPĆI DIO'!$C$1,'OPĆI DIO'!$N$4:$W$137,10,FALSE))","v":""},{"$f":"IF(F48=\"\",\"\",VLOOKUP('OPĆI DIO'!$C$1,'OPĆI DIO'!$N$4:$W$137,9,FALSE))","v":""},"","","","",null,"",{"$nulls":4},{"$f":"IF(F48=\"\",\"\",'OPĆI DIO'!$C$1)","v":""},"","",{"$nulls":4},"66312-561",66312,"Tekuće donacije od neprofitnih organizacija",561,"Europski socijalni fond plus – predfinanciranje iz izvora 11 Opći prihodi i primici","663","66",561]
[{"$f":"IF(F49=\"\",\"\",VLOOKUP('OPĆI DIO'!$C$1,'OPĆI DIO'!$N$4:$W$137,10,FALSE))","v":""},{"$f":"IF(F49=\"\",\"\",VLOOKUP('OPĆI DIO'!$C$1,'OPĆI DIO'!$N$4:$W$137,9,FALSE))","v":""},"","","","",null,"",{"$nulls":4},{"$f":"IF(F49=\"\",\"\",'OPĆI DIO'!$C$1)","v":""},"","",{"$nulls":4},"66312-562",66312,"Tekuće donacije od neprofitnih organizacija",562,"Kohezijski fond - predfinanciranje iz izvora 11 Opći prihodi i primici","663","66",562]
[{"$f":"IF(F50=\"\",\"\",VLOOKUP('OPĆI DIO'!$C$1,'OPĆI DIO'!$N$4:$W$137,10,FALSE))","v":""},{"$f":"IF(F50=\"\",\"\",VLOOKUP('OPĆI DIO'!$C$1,'OPĆI DIO'!$N$4:$W$137,9,FALSE))","v":""},"","","","",null,"",{"$nulls":4},{"$f":"IF(F50=\"\",\"\",'OPĆI DIO'!$C$1)","v":""},"","",{"$nulls":4},"66312-563",66312,"Tekuće donacije od neprofitnih organizacija",563,"Europski fond za regionalni razvoj - predfinanciranje iz izvora 11 Opći prihodi i      primici","663","66",563]
[{"$f":"IF(F51=\"\",\"\",VLOOKUP('OPĆI DIO'!$C$1,'OPĆI DIO'!$N$4:$W$137,10,FALSE))","v":""},{"$f":"IF(F51=\"\",\"\",VLOOKUP('OPĆI DIO'!$C$1,'OPĆI DIO'!$N$4:$W$137,9,FALSE))","v":""},"","","","",null,"",{"$nulls":4},{"$f":"IF(F51=\"\",\"\",'OPĆI DIO'!$C$1)","v":""},"","",{"$nulls":4},"66312-564",66312,"Tekuće donacije od neprofitnih organizacija",564,"Fond za pomorstvo, ribarstvo i akvakulturu - predfinanciranje iz izvora 11 Opći prihodi i primici","663","66",564]
[{"$f":"IF(F52=\"\",\"\",VLOOKUP('OPĆI DIO'!$C$1,'OPĆI DIO'!$N$4:$W$137,10,FALSE))","v":""},{"$f":"IF(F52=\"\",\"\",VLOOKUP('OPĆI DIO'!$C$1,'OPĆI DIO'!$N$4:$W$137,9,FALSE))","v":""},"","","","",null,"",{"$nulls":4},{"$f":"IF(F52=\"\",\"\",'OPĆI DIO'!$C$1)","v":""},"","",{"$nulls":4},"66312-565",66312,"Tekuće donacije od neprofitnih organizacija",565,"Europski poljoprivredni fond za ruralni razvoj - predfinanciranje iz izvora 11 Opći prihodi i primici","663","66",565]
[{"$f":"IF(F53=\"\",\"\",VLOOKUP('OPĆI DIO'!$C$1,'OPĆI DIO'!$N$4:$W$137,10,FALSE))","v":""},{"$f":"IF(F53=\"\",\"\",VLOOKUP('OPĆI DIO'!$C$1,'OPĆI DIO'!$N$4:$W$137,9,FALSE))","v":""},"","","","",null,"",{"$nulls":4},{"$f":"IF(F53=\"\",\"\",'OPĆI DIO'!$C$1)","v":""},"","",{"$nulls":4},"66312-566",66312,"Tekuće donacije od neprofitnih organizacija",566,"Modernizacijski fond - predfinanciranje iz izvora 11 Opći prihodi i primici","663","66",566]
[{"$f":"IF(F54=\"\",\"\",VLOOKUP('OPĆI DIO'!$C$1,'OPĆI DIO'!$N$4:$W$137,10,FALSE))","v":""},{"$f":"IF(F54=\"\",\"\",VLOOKUP('OPĆI DIO'!$C$1,'OPĆI DIO'!$N$4:$W$137,9,FALSE))","v":""},"","","","",null,"",{"$nulls":4},{"$f":"IF(F54=\"\",\"\",'OPĆI DIO'!$C$1)","v":""},"","",{"$nulls":4},"66312-567",66312,"Tekuće donacije od neprofitnih organizacija",567,"Socijalni fond za klimatsku politiku - predfinanciranje iz izvora 11 Opći prihodi i primici","663","66",567]
[{"$f":"IF(F55=\"\",\"\",VLOOKUP('OPĆI DIO'!$C$1,'OPĆI DIO'!$N$4:$W$137,10,FALSE))","v":""},{"$f":"IF(F55=\"\",\"\",VLOOKUP('OPĆI DIO'!$C$1,'OPĆI DIO'!$N$4:$W$137,9,FALSE))","v":""},"","","","",null,"",{"$nulls":4},{"$f":"IF(F55=\"\",\"\",'OPĆI DIO'!$C$1)","v":""},"","",{"$nulls":4},"66312-575",66312,"Tekuće donacije od neprofitnih organizacija",575,"Fond za azil, migracije i integraciju - predfinanciranje iz izvora 11 Opći prihodi i primici","663","66",575]
[{"$f":"IF(F56=\"\",\"\",VLOOKUP('OPĆI DIO'!$C$1,'OPĆI DIO'!$N$4:$W$137,10,FALSE))","v":""},{"$f":"IF(F56=\"\",\"\",VLOOKUP('OPĆI DIO'!$C$1,'OPĆI DIO'!$N$4:$W$137,9,FALSE))","v":""},"","","","",null,"",{"$nulls":4},{"$f":"IF(F56=\"\",\"\",'OPĆI DIO'!$C$1)","v":""},"","",{"$nulls":4},"66312-577",66312,"Tekuće donacije od neprofitnih organizacija",577,"Fond za pravednu tranziciju - predfinanciranje iz izvora 11 Opći prihodi i primici","663","66",577]
[{"$f":"IF(F57=\"\",\"\",VLOOKUP('OPĆI DIO'!$C$1,'OPĆI DIO'!$N$4:$W$137,10,FALSE))","v":""},{"$f":"IF(F57=\"\",\"\",VLOOKUP('OPĆI DIO'!$C$1,'OPĆI DIO'!$N$4:$W$137,9,FALSE))","v":""},"","","","",null,"",{"$nulls":4},{"$f":"IF(F57=\"\",\"\",'OPĆI DIO'!$C$1)","v":""},"","",{"$nulls":4},"66312-578",66312,"Tekuće donacije od neprofitnih organizacija",578,"Fond za unutarnju sigurnost - predfinanciranje iz izvora 11 Opći prihodi i primici","663","66",578]
[{"$f":"IF(F58=\"\",\"\",VLOOKUP('OPĆI DIO'!$C$1,'OPĆI DIO'!$N$4:$W$137,10,FALSE))","v":""},{"$f":"IF(F58=\"\",\"\",VLOOKUP('OPĆI DIO'!$C$1,'OPĆI DIO'!$N$4:$W$137,9,FALSE))","v":""},"","","","",null,"",{"$nulls":4},{"$f":"IF(F58=\"\",\"\",'OPĆI DIO'!$C$1)","v":""},"","",{"$nulls":4},"66312-579",66312,"Tekuće donacije od neprofitnih organizacija",579,"Fond za integrirano upravljanje granicama - predfinanciranje iz izvora 11 Opći prihodi i primici","663","66",579]
[{"$f":"IF(F59=\"\",\"\",VLOOKUP('OPĆI DIO'!$C$1,'OPĆI DIO'!$N$4:$W$137,10,FALSE))","v":""},{"$f":"IF(F59=\"\",\"\",VLOOKUP('OPĆI DIO'!$C$1,'OPĆI DIO'!$N$4:$W$137,9,FALSE))","v":""},"","","","",null,"",{"$nulls":4},{"$f":"IF(F59=\"\",\"\",'OPĆI DIO'!$C$1)","v":""},"","",{"$nulls":4},"66312-581",66312,"Tekuće donacije od neprofitnih organizacija",581,"Mehanizam za oporavak i otpornost – bespovratna sredstva – raspoloživ predujam ili unaprijed naplaćen prihod","663","66",581]
[{"$f":"IF(F60=\"\",\"\",VLOOKUP('OPĆI DIO'!$C$1,'OPĆI DIO'!$N$4:$W$137,10,FALSE))","v":""},{"$f":"IF(F60=\"\",\"\",VLOOKUP('OPĆI DIO'!$C$1,'OPĆI DIO'!$N$4:$W$137,9,FALSE))","v":""},"","","","",null,"",{"$nulls":4},{"$f":"IF(F60=\"\",\"\",'OPĆI DIO'!$C$1)","v":""},"","",{"$nulls":4},"66312-61",66312,"Tekuće donacije od neprofitnih organizacija",61,"Donacije","663","66",61]
[{"$f":"IF(F61=\"\",\"\",VLOOKUP('OPĆI DIO'!$C$1,'OPĆI DIO'!$N$4:$W$137,10,FALSE))","v":""},{"$f":"IF(F61=\"\",\"\",VLOOKUP('OPĆI DIO'!$C$1,'OPĆI DIO'!$N$4:$W$137,9,FALSE))","v":""},"","","","",null,"",{"$nulls":4},{"$f":"IF(F61=\"\",\"\",'OPĆI DIO'!$C$1)","v":""},"","",{"$nulls":4},"66313-561",66313,"Tekuće donacije od trgovačkih društava",561,"Europski socijalni fond plus – predfinanciranje iz izvora 11 Opći prihodi i primici","663","66",561]
[{"$f":"IF(F62=\"\",\"\",VLOOKUP('OPĆI DIO'!$C$1,'OPĆI DIO'!$N$4:$W$137,10,FALSE))","v":""},{"$f":"IF(F62=\"\",\"\",VLOOKUP('OPĆI DIO'!$C$1,'OPĆI DIO'!$N$4:$W$137,9,FALSE))","v":""},"","","","",null,"",{"$nulls":4},{"$f":"IF(F62=\"\",\"\",'OPĆI DIO'!$C$1)","v":""},"","",{"$nulls":4},"66313-562",66313,"Tekuće donacije od trgovačkih društava",562,"Kohezijski fond - predfinanciranje iz izvora 11 Opći prihodi i primici","663","66",562]
[{"$f":"IF(F63=\"\",\"\",VLOOKUP('OPĆI DIO'!$C$1,'OPĆI DIO'!$N$4:$W$137,10,FALSE))","v":""},{"$f":"IF(F63=\"\",\"\",VLOOKUP('OPĆI DIO'!$C$1,'OPĆI DIO'!$N$4:$W$137,9,FALSE))","v":""},"","","","",null,"",{"$nulls":4},{"$f":"IF(F63=\"\",\"\",'OPĆI DIO'!$C$1)","v":""},"","",{"$nulls":4},"66313-563",66313,"Tekuće donacije od trgovačkih društava",563,"Europski fond za regionalni razvoj - predfinanciranje iz izvora 11 Opći prihodi i      primici","663","66",563]
[{"$f":"IF(F64=\"\",\"\",VLOOKUP('OPĆI DIO'!$C$1,'OPĆI DIO'!$N$4:$W$137,10,FALSE))","v":""},{"$f":"IF(F64=\"\",\"\",VLOOKUP('OPĆI DIO'!$C$1,'OPĆI DIO'!$N$4:$W$137,9,FALSE))","v":""},"","","","",null,"",{"$nulls":4},{"$f":"IF(F64=\"\",\"\",'OPĆI DIO'!$C$1)","v":""},"","",{"$nulls":4},"66313-564",66313,"Tekuće donacije od trgovačkih društava",564,"Fond za pomorstvo, ribarstvo i akvakulturu - predfinanciranje iz izvora 11 Opći prihodi i primici","663","66",564]
[{"$f":"IF(F65=\"\",\"\",VLOOKUP('OPĆI DIO'!$C$1,'OPĆI DIO'!$N$4:$W$137,10,FALSE))","v":""},{"$f":"IF(F65=\"\",\"\",VLOOKUP('OPĆI DIO'!$C$1,'OPĆI DIO'!$N$4:$W$137,9,FALSE))","v":""},"","","","",null,"",{"$nulls":4},{"$f":"IF(F65=\"\",\"\",'OPĆI DIO'!$C$1)","v":""},"","",{"$nulls":3},"EVT",{"$f":"U65&\"-\"&W65","v":"66313-565"},66313,"Tekuće donacije od trgovačkih društava",565,"Europski poljoprivredni fond za ruralni razvoj - predfinanciranje iz izvora 11 Opći prihodi i primici","663","66",565]
[{"$f":"IF(F66=\"\",\"\",VLOOKUP('OPĆI DIO'!$C$1,'OPĆI DIO'!$N$4:$W$137,10,FALSE))","v":""},{"$f":"IF(F66=\"\",\"\",VLOOKUP('OPĆI DIO'!$C$1,'OPĆI DIO'!$N$4:$W$137,9,FALSE))","v":""},"","","","",null,"",{"$nulls":4},{"$f":"IF(F66=\"\",\"\",'OPĆI DIO'!$C$1)","v":""},"","",{"$nulls":3},"EVT","66313-566",66313,"Tekuće donacije od trgovačkih društava",566,"Modernizacijski fond - predfinanciranje iz izvora 11 Opći prihodi i primici","663","66",566]
[{"$f":"IF(F67=\"\",\"\",VLOOKUP('OPĆI DIO'!$C$1,'OPĆI DIO'!$N$4:$W$137,10,FALSE))","v":""},{"$f":"IF(F67=\"\",\"\",VLOOKUP('OPĆI DIO'!$C$1,'OPĆI DIO'!$N$4:$W$137,9,FALSE))","v":""},"","","","",null,"",{"$nulls":4},{"$f":"IF(F67=\"\",\"\",'OPĆI DIO'!$C$1)","v":""},"","",{"$nulls":3},"EVT","66313-567",66313,"Tekuće donacije od trgovačkih društava",567,"Socijalni fond za klimatsku politiku - predfinanciranje iz izvora 11 Opći prihodi i primici","663","66",567]
[{"$f":"IF(F68=\"\",\"\",VLOOKUP('OPĆI DIO'!$C$1,'OPĆI DIO'!$N$4:$W$137,10,FALSE))","v":""},{"$f":"IF(F68=\"\",\"\",VLOOKUP('OPĆI DIO'!$C$1,'OPĆI DIO'!$N$4:$W$137,9,FALSE))","v":""},{"$f":"IFERROR(VLOOKUP(G68,$T$6:$AA$500,8,FALSE),\"\")","v":""},{"$f":"IFERROR(VLOOKUP(G68,$T$6:$AA$500,4,FALSE),\"\")","v":""},{"$f":"IFERROR(VLOOKUP(G68,$T$6:$AA$500,5,FALSE),\"\")","v":""},{"$f":"IFERROR(VLOOKUP(G68,$T$6:$AA$500,2,FALSE),\"\")","v":""},null,{"$f":"IFERROR(VLOOKUP(G68,$T$6:$AA$500,3,FALSE),\"\")","v":""},{"$nulls":4},{"$f":"IF(F68=\"\",\"\",'OPĆI DIO'!$C$1)","v":""},{"$f":"LEFT(F68,2)","v":""},{"$f":"LEFT(F68,3)","v":""},{"$nulls":3},"EVT","66313-575",66313,"Tekuće donacije od trgovačkih društava",575,"Fond za azil, migracije i integraciju - predfinanciranje iz izvora 11 Opći prihodi i primici","663","66",575]
[null,null,"","","","",null,"",{"$nulls":4},{"$f":"IF(F69=\"\",\"\",'OPĆI DIO'!$C$1)","v":""},"","",{"$nulls":4},"66313-577",66313,"Tekuće donacije od trgovačkih društava",577,"Fond za pravednu tranziciju - predfinanciranje iz izvora 11 Opći prihodi i primici","663","66",577]
[{"$f":"IF(F70=\"\",\"\",VLOOKUP('OPĆI DIO'!$C$1,'OPĆI DIO'!$N$4:$W$137,10,FALSE))","v":""},{"$f":"IF(F70=\"\",\"\",VLOOKUP('OPĆI DIO'!$C$1,'OPĆI DIO'!$N$4:$W$137,9,FALSE))","v":""},"","","","",null,"",{"$nulls":4},{"$f":"IF(F70=\"\",\"\",'OPĆI DIO'!$C$1)","v":""},"","",{"$nulls":3},"EVT","66313-578",66313,"Tekuće donacije od trgovačkih društava",578,"Fond za unutarnju sigurnost - predfinanciranje iz izvora 11 Opći prihodi i primici","663","66",578]
[null,null,"","","","",null,"",{"$nulls":11},"66313-579",66313,"Tekuće donacije od trgovačkih društava",579,"Fond za integrirano upravljanje granicama - predfinanciranje iz izvora 11 Opći prihodi i primici","663","66",579]
[null,null,"","",null,"",null,"",{"$nulls":11},"66313-581",66313,"Tekuće donacije od trgovačkih društava",581,"Mehanizam za oporavak i otpornost – bespovratna sredstva – raspoloživ predujam ili unaprijed naplaćen prihod","663","66",581]
[null,null,"","",null,"",null,"",{"$nulls":11},"66313-61",66313,"Tekuće donacije od trgovačkih društava",61,"Donacije","663","66",61]
[null,null,"","",null,"",null,"",{"$nulls":11},"66314-561",66314,"Tekuće donacije od ostalih subjekata izvan općeg proračuna",561,"Europski socijalni fond plus – predfinanciranje iz izvora 11 Opći prihodi i primici","663","66",561]
[{"$f":"IF(F75=\"\",\"\",VLOOKUP('OPĆI DIO'!$C$1,'OPĆI DIO'!$N$4:$W$137,10,FALSE))","v":""},{"$f":"IF(F75=\"\",\"\",VLOOKUP('OPĆI DIO'!$C$1,'OPĆI DIO'!$N$4:$W$137,9,FALSE))","v":""},"","",{"$f":"IFERROR(VLOOKUP(F75,$U$6:$X$113,4,FALSE),\"\")","v":""},"",null,"",{"$nulls":4},{"$f":"IF(F75=\"\",\"\",'OPĆI DIO'!$C$1)","v":""},"","",{"$nulls":3},"EVT","66314-562",66314,"Tekuće donacije od ostalih subjekata izvan općeg proračuna",562,"Kohezijski fond - predfinanciranje iz izvora 11 Opći prihodi i primici","663","66",562]
[{"$f":"IF(F76=\"\",\"\",VLOOKUP('OPĆI DIO'!$C$1,'OPĆI DIO'!$N$4:$W$137,10,FALSE))","v":""},{"$f":"IF(F76=\"\",\"\",VLOOKUP('OPĆI DIO'!$C$1,'OPĆI DIO'!$N$4:$W$137,9,FALSE))","v":""},"","","","",null,"",{"$nulls":4},{"$f":"IF(F76=\"\",\"\",'OPĆI DIO'!$C$1)","v":""},"","",{"$nulls":3},"EVT","66314-563",66314,"Tekuće donacije od ostalih subjekata izvan općeg proračuna",563,"Europski fond za regionalni razvoj - predfinanciranje iz izvora 11 Opći prihodi i      primici","663","66",563]
[{"$f":"IF(F77=\"\",\"\",VLOOKUP('OPĆI DIO'!$C$1,'OPĆI DIO'!$N$4:$W$137,10,FALSE))","v":""},{"$f":"IF(F77=\"\",\"\",VLOOKUP('OPĆI DIO'!$C$1,'OPĆI DIO'!$N$4:$W$137,9,FALSE))","v":""},"","","","",null,"",{"$nulls":4},{"$f":"IF(F77=\"\",\"\",'OPĆI DIO'!$C$1)","v":""},"","",{"$nulls":3},"EVT","66314-564",66314,"Tekuće donacije od ostalih subjekata izvan općeg proračuna",564,"Fond za pomorstvo, ribarstvo i akvakulturu - predfinanciranje iz izvora 11 Opći prihodi i primici","663","66",564]
[{"$f":"IF(F78=\"\",\"\",VLOOKUP('OPĆI DIO'!$C$1,'OPĆI DIO'!$N$4:$W$137,10,FALSE))","v":""},{"$f":"IF(F78=\"\",\"\",VLOOKUP('OPĆI DIO'!$C$1,'OPĆI DIO'!$N$4:$W$137,9,FALSE))","v":""},"","","","",null,"",{"$nulls":4},{"$f":"IF(F78=\"\",\"\",'OPĆI DIO'!$C$1)","v":""},"","",{"$nulls":3},"EVT","66314-565",66314,"Tekuće donacije od ostalih subjekata izvan općeg proračuna",565,"Europski poljoprivredni fond za ruralni razvoj - predfinanciranje iz izvora 11 Opći prihodi i primici","663","66",565]
[{"$f":"IF(F79=\"\",\"\",VLOOKUP('OPĆI DIO'!$C$1,'OPĆI DIO'!$N$4:$W$137,10,FALSE))","v":""},{"$f":"IF(F79=\"\",\"\",VLOOKUP('OPĆI DIO'!$C$1,'OPĆI DIO'!$N$4:$W$137,9,FALSE))","v":""},"","","","",null,"",{"$nulls":4},{"$f":"IF(F79=\"\",\"\",'OPĆI DIO'!$C$1)","v":""},"","",{"$nulls":3},"EVT","66314-566",66314,"Tekuće donacije od ostalih subjekata izvan općeg proračuna",566,"Modernizacijski fond - predfinanciranje iz izvora 11 Opći prihodi i primici","663","66",566]
[{"$f":"IF(F80=\"\",\"\",VLOOKUP('OPĆI DIO'!$C$1,'OPĆI DIO'!$N$4:$W$137,10,FALSE))","v":""},{"$f":"IF(F80=\"\",\"\",VLOOKUP('OPĆI DIO'!$C$1,'OPĆI DIO'!$N$4:$W$137,9,FALSE))","v":""},"","","","",null,"",{"$nulls":4},{"$f":"IF(F80=\"\",\"\",'OPĆI DIO'!$C$1)","v":""},"","",{"$nulls":3},"EVT","66314-567",66314,"Tekuće donacije od ostalih subjekata izvan općeg proračuna",567,"Socijalni fond za klimatsku politiku - predfinanciranje iz izvora 11 Opći prihodi i primici","663","66",567]
[{"$f":"IF(F81=\"\",\"\",VLOOKUP('OPĆI DIO'!$C$1,'OPĆI DIO'!$N$4:$W$137,10,FALSE))","v":""},{"$f":"IF(F81=\"\",\"\",VLOOKUP('OPĆI DIO'!$C$1,'OPĆI DIO'!$N$4:$W$137,9,FALSE))","v":""},"","","","",null,"",{"$nulls":4},{"$f":"IF(F81=\"\",\"\",'OPĆI DIO'!$C$1)","v":""},"","",{"$nulls":3},"EVT","66314-575",66314,"Tekuće donacije od ostalih subjekata izvan općeg proračuna",575,"Fond za azil, migracije i integraciju - predfinanciranje iz izvora 11 Opći prihodi i primici","663","66",575]
[{"$f":"IF(F82=\"\",\"\",VLOOKUP('OPĆI DIO'!$C$1,'OPĆI DIO'!$N$4:$W$137,10,FALSE))","v":""},{"$f":"IF(F82=\"\",\"\",VLOOKUP('OPĆI DIO'!$C$1,'OPĆI DIO'!$N$4:$W$137,9,FALSE))","v":""},"","","","",null,"",{"$nulls":4},{"$f":"IF(F82=\"\",\"\",'OPĆI DIO'!$C$1)","v":""},"","",{"$nulls":3},"EVT","66314-577",66314,"Tekuće donacije od ostalih subjekata izvan općeg proračuna",577,"Fond za pravednu tranziciju - predfinanciranje iz izvora 11 Opći prihodi i primici","663","66",577]
[{"$f":"IF(F83=\"\",\"\",VLOOKUP('OPĆI DIO'!$C$1,'OPĆI DIO'!$N$4:$W$137,10,FALSE))","v":""},{"$f":"IF(F83=\"\",\"\",VLOOKUP('OPĆI DIO'!$C$1,'OPĆI DIO'!$N$4:$W$137,9,FALSE))","v":""},"","","","",null,"",{"$nulls":4},{"$f":"IF(F83=\"\",\"\",'OPĆI DIO'!$C$1)","v":""},"","",{"$nulls":3},"EVT","66314-578",66314,"Tekuće donacije od ostalih subjekata izvan općeg proračuna",578,"Fond za unutarnju sigurnost - predfinanciranje iz izvora 11 Opći prihodi i primici","663","66",578]
[{"$f":"IF(F84=\"\",\"\",VLOOKUP('OPĆI DIO'!$C$1,'OPĆI DIO'!$N$4:$W$137,10,FALSE))","v":""},{"$f":"IF(F84=\"\",\"\",VLOOKUP('OPĆI DIO'!$C$1,'OPĆI DIO'!$N$4:$W$137,9,FALSE))","v":""},"","","","",null,"",{"$nulls":4},{"$f":"IF(F84=\"\",\"\",'OPĆI DIO'!$C$1)","v":""},"","",{"$nulls":3},"EVT","66314-579",66314,"Tekuće donacije od ostalih subjekata izvan općeg proračuna",579,"Fond za integrirano upravljanje granicama - predfinanciranje iz izvora 11 Opći prihodi i primici","663","66",579]
[{"$f":"IF(F85=\"\",\"\",VLOOKUP('OPĆI DIO'!$C$1,'OPĆI DIO'!$N$4:$W$137,10,FALSE))","v":""},{"$f":"IF(F85=\"\",\"\",VLOOKUP('OPĆI DIO'!$C$1,'OPĆI DIO'!$N$4:$W$137,9,FALSE))","v":""},"","","","",null,"",{"$nulls":4},{"$f":"IF(F85=\"\",\"\",'OPĆI DIO'!$C$1)","v":""},"","",{"$nulls":3},"EVT","66314-581",66314,"Tekuće donacije od ostalih subjekata izvan općeg proračuna",581,"Mehanizam za oporavak i otpornost – bespovratna sredstva – raspoloživ predujam ili unaprijed naplaćen prihod","663","66",581]
[{"$f":"IF(F86=\"\",\"\",VLOOKUP('OPĆI DIO'!$C$1,'OPĆI DIO'!$N$4:$W$137,10,FALSE))","v":""},{"$f":"IF(F86=\"\",\"\",VLOOKUP('OPĆI DIO'!$C$1,'OPĆI DIO'!$N$4:$W$137,9,FALSE))","v":""},"","","","",null,"",{"$nulls":4},{"$f":"IF(F86=\"\",\"\",'OPĆI DIO'!$C$1)","v":""},"","",{"$nulls":4},"66314-61",66314,"Tekuće donacije od ostalih subjekata izvan općeg proračuna",61,"Donacije","663","66",61]
[{"$f":"IF(F87=\"\",\"\",VLOOKUP('OPĆI DIO'!$C$1,'OPĆI DIO'!$N$4:$W$137,10,FALSE))","v":""},{"$f":"IF(F87=\"\",\"\",VLOOKUP('OPĆI DIO'!$C$1,'OPĆI DIO'!$N$4:$W$137,9,FALSE))","v":""},"","","","",null,"",{"$nulls":4},{"$f":"IF(F87=\"\",\"\",'OPĆI DIO'!$C$1)","v":""},"","",{"$nulls":3},"EVT","66321-61",66321,"Kapitalne donacije od fizičkih osoba",61,"Donacije","663","66",61]
[{"$f":"IF(F88=\"\",\"\",VLOOKUP('OPĆI DIO'!$C$1,'OPĆI DIO'!$N$4:$W$137,10,FALSE))","v":""},{"$f":"IF(F88=\"\",\"\",VLOOKUP('OPĆI DIO'!$C$1,'OPĆI DIO'!$N$4:$W$137,9,FALSE))","v":""},"","","","",null,"",{"$nulls":4},{"$f":"IF(F88=\"\",\"\",'OPĆI DIO'!$C$1)","v":""},"","",{"$nulls":3},"EVT","66322-561",66322,"Kapitalne donacije od neprofitnih organizacija",561,"Europski socijalni fond plus – predfinanciranje iz izvora 11 Opći prihodi i primici","663","66",561]
[{"$f":"IF(F89=\"\",\"\",VLOOKUP('OPĆI DIO'!$C$1,'OPĆI DIO'!$N$4:$W$137,10,FALSE))","v":""},{"$f":"IF(F89=\"\",\"\",VLOOKUP('OPĆI DIO'!$C$1,'OPĆI DIO'!$N$4:$W$137,9,FALSE))","v":""},"","","","",null,"",{"$nulls":4},{"$f":"IF(F89=\"\",\"\",'OPĆI DIO'!$C$1)","v":""},"","",{"$nulls":3},"EVT","66322-562",66322,"Kapitalne donacije od neprofitnih organizacija",562,"Kohezijski fond - predfinanciranje iz izvora 11 Opći prihodi i primici","663","66",562]
[{"$f":"IF(F90=\"\",\"\",VLOOKUP('OPĆI DIO'!$C$1,'OPĆI DIO'!$N$4:$W$137,10,FALSE))","v":""},{"$f":"IF(F90=\"\",\"\",VLOOKUP('OPĆI DIO'!$C$1,'OPĆI DIO'!$N$4:$W$137,9,FALSE))","v":""},"","","","",null,"",{"$nulls":4},{"$f":"IF(F90=\"\",\"\",'OPĆI DIO'!$C$1)","v":""},"","",{"$nulls":3},"EVT","66322-563",66322,"Kapitalne donacije od neprofitnih organizacija",563,"Europski fond za regionalni razvoj - predfinanciranje iz izvora 11 Opći prihodi i      primici","663","66",563]
[{"$f":"IF(F91=\"\",\"\",VLOOKUP('OPĆI DIO'!$C$1,'OPĆI DIO'!$N$4:$W$137,10,FALSE))","v":""},{"$f":"IF(F91=\"\",\"\",VLOOKUP('OPĆI DIO'!$C$1,'OPĆI DIO'!$N$4:$W$137,9,FALSE))","v":""},"","","","",null,"",{"$nulls":4},{"$f":"IF(F91=\"\",\"\",'OPĆI DIO'!$C$1)","v":""},"","",{"$nulls":4},"66322-564",66322,"Kapitalne donacije od neprofitnih organizacija",564,"Fond za pomorstvo, ribarstvo i akvakulturu - predfinanciranje iz izvora 11 Opći prihodi i primici","663","66",564]
[{"$f":"IF(F92=\"\",\"\",VLOOKUP('OPĆI DIO'!$C$1,'OPĆI DIO'!$N$4:$W$137,10,FALSE))","v":""},{"$f":"IF(F92=\"\",\"\",VLOOKUP('OPĆI DIO'!$C$1,'OPĆI DIO'!$N$4:$W$137,9,FALSE))","v":""},"","","","",null,"",{"$nulls":4},{"$f":"IF(F92=\"\",\"\",'OPĆI DIO'!$C$1)","v":""},"","",{"$nulls":4},{"$f":"U92&\"-\"&W92","v":"66322-565"},66322,"Kapitalne donacije od neprofitnih organizacija",565,"Europski poljoprivredni fond za ruralni razvoj - predfinanciranje iz izvora 11 Opći prihodi i primici","663","66",565]
[{"$f":"IF(F93=\"\",\"\",VLOOKUP('OPĆI DIO'!$C$1,'OPĆI DIO'!$N$4:$W$137,10,FALSE))","v":""},{"$f":"IF(F93=\"\",\"\",VLOOKUP('OPĆI DIO'!$C$1,'OPĆI DIO'!$N$4:$W$137,9,FALSE))","v":""},"","","","",null,"",{"$nulls":4},{"$f":"IF(F93=\"\",\"\",'OPĆI DIO'!$C$1)","v":""},"","",{"$nulls":4},"66322-566",66322,"Kapitalne donacije od neprofitnih organizacija",566,"Modernizacijski fond - predfinanciranje iz izvora 11 Opći prihodi i primici","663","66",566]
[{"$f":"IF(F94=\"\",\"\",VLOOKUP('OPĆI DIO'!$C$1,'OPĆI DIO'!$N$4:$W$137,10,FALSE))","v":""},{"$f":"IF(F94=\"\",\"\",VLOOKUP('OPĆI DIO'!$C$1,'OPĆI DIO'!$N$4:$W$137,9,FALSE))","v":""},"","","","",null,"",{"$nulls":4},{"$f":"IF(F94=\"\",\"\",'OPĆI DIO'!$C$1)","v":""},"","",{"$nulls":4},"66322-567",66322,"Kapitalne donacije od neprofitnih organizacija",567,"Socijalni fond za klimatsku politiku - predfinanciranje iz izvora 11 Opći prihodi i primici","663","66",567]
[{"$f":"IF(F95=\"\",\"\",VLOOKUP('OPĆI DIO'!$C$1,'OPĆI DIO'!$N$4:$W$137,10,FALSE))","v":""},{"$f":"IF(F95=\"\",\"\",VLOOKUP('OPĆI DIO'!$C$1,'OPĆI DIO'!$N$4:$W$137,9,FALSE))","v":""},"","","","",null,"",{"$nulls":4},{"$f":"IF(F95=\"\",\"\",'OPĆI DIO'!$C$1)","v":""},"","",{"$nulls":4},"66322-575",66322,"Kapitalne donacije od neprofitnih organizacija",575,"Fond za azil, migracije i integraciju - predfinanciranje iz izvora 11 Opći prihodi i primici","663","66",575]
[{"$f":"IF(F96=\"\",\"\",VLOOKUP('OPĆI DIO'!$C$1,'OPĆI DIO'!$N$4:$W$137,10,FALSE))","v":""},{"$f":"IF(F96=\"\",\"\",VLOOKUP('OPĆI DIO'!$C$1,'OPĆI DIO'!$N$4:$W$137,9,FALSE))","v":""},"","","","",null,"",{"$nulls":4},{"$f":"IF(F96=\"\",\"\",'OPĆI DIO'!$C$1)","v":""},"","",{"$nulls":4},"66322-577",66322,"Kapitalne donacije od neprofitnih organizacija",577,"Fond za pravednu tranziciju - predfinanciranje iz izvora 11 Opći prihodi i primici","663","66",577]
[{"$f":"IF(F97=\"\",\"\",VLOOKUP('OPĆI DIO'!$C$1,'OPĆI DIO'!$N$4:$W$137,10,FALSE))","v":""},{"$f":"IF(F97=\"\",\"\",VLOOKUP('OPĆI DIO'!$C$1,'OPĆI DIO'!$N$4:$W$137,9,FALSE))","v":""},"","","","",null,"",{"$nulls":4},{"$f":"IF(F97=\"\",\"\",'OPĆI DIO'!$C$1)","v":""},"","",{"$nulls":4},"66322-578",66322,"Kapitalne donacije od neprofitnih organizacija",578,"Fond za unutarnju sigurnost - predfinanciranje iz izvora 11 Opći prihodi i primici","663","66",578]
[{"$f":"IF(F98=\"\",\"\",VLOOKUP('OPĆI DIO'!$C$1,'OPĆI DIO'!$N$4:$W$137,10,FALSE))","v":""},{"$f":"IF(F98=\"\",\"\",VLOOKUP('OPĆI DIO'!$C$1,'OPĆI DIO'!$N$4:$W$137,9,FALSE))","v":""},"","","","",null,"",{"$nulls":4},{"$f":"IF(F98=\"\",\"\",'OPĆI DIO'!$C$1)","v":""},"","",{"$nulls":4},"66322-579",66322,"Kapitalne donacije od neprofitnih organizacija",579,"Fond za integrirano upravljanje granicama - predfinanciranje iz izvora 11 Opći prihodi i primici","663","66",579]
[{"$f":"IF(F99=\"\",\"\",VLOOKUP('OPĆI DIO'!$C$1,'OPĆI DIO'!$N$4:$W$137,10,FALSE))","v":""},{"$f":"IF(F99=\"\",\"\",VLOOKUP('OPĆI DIO'!$C$1,'OPĆI DIO'!$N$4:$W$137,9,FALSE))","v":""},"","","","",null,"",{"$nulls":4},{"$f":"IF(F99=\"\",\"\",'OPĆI DIO'!$C$1)","v":""},"","",{"$nulls":4},"66322-581",66322,"Kapitalne donacije od neprofitnih organizacija",581,"Mehanizam za oporavak i otpornost – bespovratna sredstva – raspoloživ predujam ili unaprijed naplaćen prihod","663","66",581]
[{"$f":"IF(F100=\"\",\"\",VLOOKUP('OPĆI DIO'!$C$1,'OPĆI DIO'!$N$4:$W$137,10,FALSE))","v":""},{"$f":"IF(F100=\"\",\"\",VLOOKUP('OPĆI DIO'!$C$1,'OPĆI DIO'!$N$4:$W$137,9,FALSE))","v":""},"","","","",null,"",{"$nulls":4},{"$f":"IF(F100=\"\",\"\",'OPĆI DIO'!$C$1)","v":""},"","",{"$nulls":4},"66322-61",66322,"Kapitalne donacije od neprofitnih organizacija",61,"Donacije","663","66",61]
[{"$f":"IF(F101=\"\",\"\",VLOOKUP('OPĆI DIO'!$C$1,'OPĆI DIO'!$N$4:$W$137,10,FALSE))","v":""},{"$f":"IF(F101=\"\",\"\",VLOOKUP('OPĆI DIO'!$C$1,'OPĆI DIO'!$N$4:$W$137,9,FALSE))","v":""},"","","","",null,"",{"$nulls":4},{"$f":"IF(F101=\"\",\"\",'OPĆI DIO'!$C$1)","v":""},"","",{"$nulls":4},"66323-561",66323,"Kapitalne donacije od trgovačkih društava",561,"Europski socijalni fond plus – predfinanciranje iz izvora 11 Opći prihodi i primici","663","66",561]
[{"$f":"IF(F102=\"\",\"\",VLOOKUP('OPĆI DIO'!$C$1,'OPĆI DIO'!$N$4:$W$137,10,FALSE))","v":""},{"$f":"IF(F102=\"\",\"\",VLOOKUP('OPĆI DIO'!$C$1,'OPĆI DIO'!$N$4:$W$137,9,FALSE))","v":""},"","","","",null,"",{"$nulls":4},{"$f":"IF(F102=\"\",\"\",'OPĆI DIO'!$C$1)","v":""},"","",{"$nulls":4},"66323-562",66323,"Kapitalne donacije od trgovačkih društava",562,"Kohezijski fond - predfinanciranje iz izvora 11 Opći prihodi i primici","663","66",562]
[{"$f":"IF(F103=\"\",\"\",VLOOKUP('OPĆI DIO'!$C$1,'OPĆI DIO'!$N$4:$W$137,10,FALSE))","v":""},{"$f":"IF(F103=\"\",\"\",VLOOKUP('OPĆI DIO'!$C$1,'OPĆI DIO'!$N$4:$W$137,9,FALSE))","v":""},"","","","",null,"",{"$nulls":4},{"$f":"IF(F103=\"\",\"\",'OPĆI DIO'!$C$1)","v":""},"","",{"$nulls":4},"66323-563",66323,"Kapitalne donacije od trgovačkih društava",563,"Europski fond za regionalni razvoj - predfinanciranje iz izvora 11 Opći prihodi i      primici","663","66",563]
[{"$f":"IF(F104=\"\",\"\",VLOOKUP('OPĆI DIO'!$C$1,'OPĆI DIO'!$N$4:$W$137,10,FALSE))","v":""},{"$f":"IF(F104=\"\",\"\",VLOOKUP('OPĆI DIO'!$C$1,'OPĆI DIO'!$N$4:$W$137,9,FALSE))","v":""},"","","","",null,"",{"$nulls":4},{"$f":"IF(F104=\"\",\"\",'OPĆI DIO'!$C$1)","v":""},"","",{"$nulls":4},"66323-564",66323,"Kapitalne donacije od trgovačkih društava",564,"Fond za pomorstvo, ribarstvo i akvakulturu - predfinanciranje iz izvora 11 Opći prihodi i primici","663","66",564]
[{"$f":"IF(F105=\"\",\"\",VLOOKUP('OPĆI DIO'!$C$1,'OPĆI DIO'!$N$4:$W$137,10,FALSE))","v":""},{"$f":"IF(F105=\"\",\"\",VLOOKUP('OPĆI DIO'!$C$1,'OPĆI DIO'!$N$4:$W$137,9,FALSE))","v":""},"","","","",null,"",{"$nulls":4},{"$f":"IF(F105=\"\",\"\",'OPĆI DIO'!$C$1)","v":""},"","",{"$nulls":4},"66323-565",66323,"Kapitalne donacije od trgovačkih društava",565,"Europski poljoprivredni fond za ruralni razvoj - predfinanciranje iz izvora 11 Opći prihodi i primici","663","66",565]
[{"$f":"IF(F106=\"\",\"\",VLOOKUP('OPĆI DIO'!$C$1,'OPĆI DIO'!$N$4:$W$137,10,FALSE))","v":""},{"$f":"IF(F106=\"\",\"\",VLOOKUP('OPĆI DIO'!$C$1,'OPĆI DIO'!$N$4:$W$137,9,FALSE))","v":""},"","","","",null,"",{"$nulls":4},{"$f":"IF(F106=\"\",\"\",'OPĆI DIO'!$C$1)","v":""},"","",{"$nulls":4},"66323-566",66323,"Kapitalne donacije od trgovačkih društava",566,"Modernizacijski fond - predfinanciranje iz izvora 11 Opći prihodi i primici","663","66",566]
[{"$f":"IF(F107=\"\",\"\",VLOOKUP('OPĆI DIO'!$C$1,'OPĆI DIO'!$N$4:$W$137,10,FALSE))","v":""},{"$f":"IF(F107=\"\",\"\",VLOOKUP('OPĆI DIO'!$C$1,'OPĆI DIO'!$N$4:$W$137,9,FALSE))","v":""},"","","","",null,"",{"$nulls":4},{"$f":"IF(F107=\"\",\"\",'OPĆI DIO'!$C$1)","v":""},"","",{"$nulls":4},"66323-567",66323,"Kapitalne donacije od trgovačkih društava",567,"Socijalni fond za klimatsku politiku - predfinanciranje iz izvora 11 Opći prihodi i primici","663","66",567]
[{"$f":"IF(F108=\"\",\"\",VLOOKUP('OPĆI DIO'!$C$1,'OPĆI DIO'!$N$4:$W$137,10,FALSE))","v":""},{"$f":"IF(F108=\"\",\"\",VLOOKUP('OPĆI DIO'!$C$1,'OPĆI DIO'!$N$4:$W$137,9,FALSE))","v":""},"","","","",null,"",{"$nulls":4},{"$f":"IF(F108=\"\",\"\",'OPĆI DIO'!$C$1)","v":""},"","",{"$nulls":4},"66323-575",66323,"Kapitalne donacije od trgovačkih društava",575,"Fond za azil, migracije i integraciju - predfinanciranje iz izvora 11 Opći prihodi i primici","663","66",575]
[{"$f":"IF(F109=\"\",\"\",VLOOKUP('OPĆI DIO'!$C$1,'OPĆI DIO'!$N$4:$W$137,10,FALSE))","v":""},{"$f":"IF(F109=\"\",\"\",VLOOKUP('OPĆI DIO'!$C$1,'OPĆI DIO'!$N$4:$W$137,9,FALSE))","v":""},"","","","",null,"",{"$nulls":4},{"$f":"IF(F109=\"\",\"\",'OPĆI DIO'!$C$1)","v":""},"","",{"$nulls":4},"66323-577",66323,"Kapitalne donacije od trgovačkih društava",577,"Fond za pravednu tranziciju - predfinanciranje iz izvora 11 Opći prihodi i primici","663","66",577]
[{"$f":"IF(F110=\"\",\"\",VLOOKUP('OPĆI DIO'!$C$1,'OPĆI DIO'!$N$4:$W$137,10,FALSE))","v":""},{"$f":"IF(F110=\"\",\"\",VLOOKUP('OPĆI DIO'!$C$1,'OPĆI DIO'!$N$4:$W$137,9,FALSE))","v":""},"","","","",null,"",{"$nulls":4},{"$f":"IF(F110=\"\",\"\",'OPĆI DIO'!$C$1)","v":""},"","",{"$nulls":4},"66323-578",66323,"Kapitalne donacije od trgovačkih društava",578,"Fond za unutarnju sigurnost - predfinanciranje iz izvora 11 Opći prihodi i primici","663","66",578]
[{"$f":"IF(F111=\"\",\"\",VLOOKUP('OPĆI DIO'!$C$1,'OPĆI DIO'!$N$4:$W$137,10,FALSE))","v":""},{"$f":"IF(F111=\"\",\"\",VLOOKUP('OPĆI DIO'!$C$1,'OPĆI DIO'!$N$4:$W$137,9,FALSE))","v":""},"","","","",null,"",{"$nulls":4},{"$f":"IF(F111=\"\",\"\",'OPĆI DIO'!$C$1)","v":""},"","",{"$nulls":4},"66323-579",66323,"Kapitalne donacije od trgovačkih društava",579,"Fond za integrirano upravljanje granicama - predfinanciranje iz izvora 11 Opći prihodi i primici","663","66",579]
[{"$f":"IF(F112=\"\",\"\",VLOOKUP('OPĆI DIO'!$C$1,'OPĆI DIO'!$N$4:$W$137,10,FALSE))","v":""},{"$f":"IF(F112=\"\",\"\",VLOOKUP('OPĆI DIO'!$C$1,'OPĆI DIO'!$N$4:$W$137,9,FALSE))","v":""},"","","","",null,"",{"$nulls":4},{"$f":"IF(F112=\"\",\"\",'OPĆI DIO'!$C$1)","v":""},"","",{"$nulls":4},"66323-581",66323,"Kapitalne donacije od trgovačkih društava",581,"Mehanizam za oporavak i otpornost – bespovratna sredstva – raspoloživ predujam ili unaprijed naplaćen prihod","663","66",581]
[{"$f":"IF(F113=\"\",\"\",VLOOKUP('OPĆI DIO'!$C$1,'OPĆI DIO'!$N$4:$W$137,10,FALSE))","v":""},{"$f":"IF(F113=\"\",\"\",VLOOKUP('OPĆI DIO'!$C$1,'OPĆI DIO'!$N$4:$W$137,9,FALSE))","v":""},"","","","",null,"",{"$nulls":4},{"$f":"IF(F113=\"\",\"\",'OPĆI DIO'!$C$1)","v":""},"","",{"$nulls":4},"66323-61",66323,"Kapitalne donacije od trgovačkih društava",61,"Donacije","663","66",61]
[{"$f":"IF(F114=\"\",\"\",VLOOKUP('OPĆI DIO'!$C$1,'OPĆI DIO'!$N$4:$W$137,10,FALSE))","v":""},{"$f":"IF(F114=\"\",\"\",VLOOKUP('OPĆI DIO'!$C$1,'OPĆI DIO'!$N$4:$W$137,9,FALSE))","v":""},"","","","",null,"",{"$nulls":4},{"$f":"IF(F114=\"\",\"\",'OPĆI DIO'!$C$1)","v":""},"","",{"$nulls":4},"66324-561",66324,"Kapitalne donacije od ostalih subjekata izvan općeg proračuna",561,"Europski socijalni fond plus – predfinanciranje iz izvora 11 Opći prihodi i primici","663","66",561]
[{"$f":"IF(F115=\"\",\"\",VLOOKUP('OPĆI DIO'!$C$1,'OPĆI DIO'!$N$4:$W$137,10,FALSE))","v":""},{"$f":"IF(F115=\"\",\"\",VLOOKUP('OPĆI DIO'!$C$1,'OPĆI DIO'!$N$4:$W$137,9,FALSE))","v":""},"","","","",null,"",{"$nulls":4},{"$f":"IF(F115=\"\",\"\",'OPĆI DIO'!$C$1)","v":""},"","",{"$nulls":4},"66324-562",66324,"Kapitalne donacije od ostalih subjekata izvan općeg proračuna",562,"Kohezijski fond - predfinanciranje iz izvora 11 Opći prihodi i primici","663","66",562]
[{"$f":"IF(F116=\"\",\"\",VLOOKUP('OPĆI DIO'!$C$1,'OPĆI DIO'!$N$4:$W$137,10,FALSE))","v":""},{"$f":"IF(F116=\"\",\"\",VLOOKUP('OPĆI DIO'!$C$1,'OPĆI DIO'!$N$4:$W$137,9,FALSE))","v":""},"","","","",null,"",{"$nulls":4},{"$f":"IF(F116=\"\",\"\",'OPĆI DIO'!$C$1)","v":""},"","",{"$nulls":4},"66324-563",66324,"Kapitalne donacije od ostalih subjekata izvan općeg proračuna",563,"Europski fond za regionalni razvoj - predfinanciranje iz izvora 11 Opći prihodi i      primici","663","66",563]
[{"$f":"IF(F117=\"\",\"\",VLOOKUP('OPĆI DIO'!$C$1,'OPĆI DIO'!$N$4:$W$137,10,FALSE))","v":""},{"$f":"IF(F117=\"\",\"\",VLOOKUP('OPĆI DIO'!$C$1,'OPĆI DIO'!$N$4:$W$137,9,FALSE))","v":""},"","","","",null,"",{"$nulls":4},{"$f":"IF(F117=\"\",\"\",'OPĆI DIO'!$C$1)","v":""},"","",{"$nulls":4},"66324-564",66324,"Kapitalne donacije od ostalih subjekata izvan općeg proračuna",564,"Fond za pomorstvo, ribarstvo i akvakulturu - predfinanciranje iz izvora 11 Opći prihodi i primici","663","66",564]
[{"$f":"IF(F118=\"\",\"\",VLOOKUP('OPĆI DIO'!$C$1,'OPĆI DIO'!$N$4:$W$137,10,FALSE))","v":""},{"$f":"IF(F118=\"\",\"\",VLOOKUP('OPĆI DIO'!$C$1,'OPĆI DIO'!$N$4:$W$137,9,FALSE))","v":""},"","","","",null,"",{"$nulls":4},{"$f":"IF(F118=\"\",\"\",'OPĆI DIO'!$C$1)","v":""},"","",{"$nulls":4},"66324-565",66324,"Kapitalne donacije od ostalih subjekata izvan općeg proračuna",565,"Europski poljoprivredni fond za ruralni razvoj - predfinanciranje iz izvora 11 Opći prihodi i primici","663","66",565]
[{"$f":"IF(F119=\"\",\"\",VLOOKUP('OPĆI DIO'!$C$1,'OPĆI DIO'!$N$4:$W$137,10,FALSE))","v":""},{"$f":"IF(F119=\"\",\"\",VLOOKUP('OPĆI DIO'!$C$1,'OPĆI DIO'!$N$4:$W$137,9,FALSE))","v":""},"","","","",null,"",{"$nulls":4},{"$f":"IF(F119=\"\",\"\",'OPĆI DIO'!$C$1)","v":""},"","",{"$nulls":4},"66324-566",66324,"Kapitalne donacije od ostalih subjekata izvan općeg proračuna",566,"Modernizacijski fond - predfinanciranje iz izvora 11 Opći prihodi i primici","663","66",566]
[{"$f":"IF(F120=\"\",\"\",VLOOKUP('OPĆI DIO'!$C$1,'OPĆI DIO'!$N$4:$W$137,10,FALSE))","v":""},{"$f":"IF(F120=\"\",\"\",VLOOKUP('OPĆI DIO'!$C$1,'OPĆI DIO'!$N$4:$W$137,9,FALSE))","v":""},"","","","",null,"",{"$nulls":4},{"$f":"IF(F120=\"\",\"\",'OPĆI DIO'!$C$1)","v":""},"","",{"$nulls":4},"66324-567",66324,"Kapitalne donacije od ostalih subjekata izvan općeg proračuna",567,"Socijalni fond za klimatsku politiku - predfinanciranje iz izvora 11 Opći prihodi i primici","663","66",567]
[{"$f":"IF(F121=\"\",\"\",VLOOKUP('OPĆI DIO'!$C$1,'OPĆI DIO'!$N$4:$W$137,10,FALSE))","v":""},{"$f":"IF(F121=\"\",\"\",VLOOKUP('OPĆI DIO'!$C$1,'OPĆI DIO'!$N$4:$W$137,9,FALSE))","v":""},"","","","",null,"",{"$nulls":4},{"$f":"IF(F121=\"\",\"\",'OPĆI DIO'!$C$1)","v":""},"","",{"$nulls":4},"66324-575",66324,"Kapitalne donacije od ostalih subjekata izvan općeg proračuna",575,"Fond za azil, migracije i integraciju - predfinanciranje iz izvora 11 Opći prihodi i primici","663","66",575]
[{"$f":"IF(F122=\"\",\"\",VLOOKUP('OPĆI DIO'!$C$1,'OPĆI DIO'!$N$4:$W$137,10,FALSE))","v":""},{"$f":"IF(F122=\"\",\"\",VLOOKUP('OPĆI DIO'!$C$1,'OPĆI DIO'!$N$4:$W$137,9,FALSE))","v":""},"","","","",null,"",{"$nulls":4},{"$f":"IF(F122=\"\",\"\",'OPĆI DIO'!$C$1)","v":""},"","",{"$nulls":4},"66324-577",66324,"Kapitalne donacije od ostalih subjekata izvan općeg proračuna",577,"Fond za pravednu tranziciju - predfinanciranje iz izvora 11 Opći prihodi i primici","663","66",577]
[{"$f":"IF(F123=\"\",\"\",VLOOKUP('OPĆI DIO'!$C$1,'OPĆI DIO'!$N$4:$W$137,10,FALSE))","v":""},{"$f":"IF(F123=\"\",\"\",VLOOKUP('OPĆI DIO'!$C$1,'OPĆI DIO'!$N$4:$W$137,9,FALSE))","v":""},"","","","",null,"",{"$nulls":4},{"$f":"IF(F123=\"\",\"\",'OPĆI DIO'!$C$1)","v":""},"","",{"$nulls":4},"66324-578",66324,"Kapitalne donacije od ostalih subjekata izvan općeg proračuna",578,"Fond za unutarnju sigurnost - predfinanciranje iz izvora 11 Opći prihodi i primici","663","66",578]
[{"$f":"IF(F124=\"\",\"\",VLOOKUP('OPĆI DIO'!$C$1,'OPĆI DIO'!$N$4:$W$137,10,FALSE))","v":""},{"$f":"IF(F124=\"\",\"\",VLOOKUP('OPĆI DIO'!$C$1,'OPĆI DIO'!$N$4:$W$137,9,FALSE))","v":""},"","","","",null,"",{"$nulls":4},{"$f":"IF(F124=\"\",\"\",'OPĆI DIO'!$C$1)","v":""},"","",{"$nulls":4},"66324-579",66324,"Kapitalne donacije od ostalih subjekata izvan općeg proračuna",579,"Fond za integrirano upravljanje granicama - predfinanciranje iz izvora 11 Opći prihodi i primici","663","66",579]
[{"$f":"IF(F125=\"\",\"\",VLOOKUP('OPĆI DIO'!$C$1,'OPĆI DIO'!$N$4:$W$137,10,FALSE))","v":""},{"$f":"IF(F125=\"\",\"\",VLOOKUP('OPĆI DIO'!$C$1,'OPĆI DIO'!$N$4:$W$137,9,FALSE))","v":""},"","","","",null,"",{"$nulls":4},{"$f":"IF(F125=\"\",\"\",'OPĆI DIO'!$C$1)","v":""},"","",{"$nulls":4},"66324-581",66324,"Kapitalne donacije od ostalih subjekata izvan općeg proračuna",581,"Mehanizam za oporavak i otpornost – bespovratna sredstva – raspoloživ predujam ili unaprijed naplaćen prihod","663","66",581]
[{"$f":"IF(F126=\"\",\"\",VLOOKUP('OPĆI DIO'!$C$1,'OPĆI DIO'!$N$4:$W$137,10,FALSE))","v":""},{"$f":"IF(F126=\"\",\"\",VLOOKUP('OPĆI DIO'!$C$1,'OPĆI DIO'!$N$4:$W$137,9,FALSE))","v":""},"","","","",null,"",{"$nulls":4},{"$f":"IF(F126=\"\",\"\",'OPĆI DIO'!$C$1)","v":""},"","",{"$nulls":4},"66324-61",66324,"Kapitalne donacije od ostalih subjekata izvan općeg proračuna",61,"Donacije","663","66",61]
[{"$f":"IF(F127=\"\",\"\",VLOOKUP('OPĆI DIO'!$C$1,'OPĆI DIO'!$N$4:$W$137,10,FALSE))","v":""},{"$f":"IF(F127=\"\",\"\",VLOOKUP('OPĆI DIO'!$C$1,'OPĆI DIO'!$N$4:$W$137,9,FALSE))","v":""},"","","","",null,"",{"$nulls":4},{"$f":"IF(F127=\"\",\"\",'OPĆI DIO'!$C$1)","v":""},"","",{"$nulls":4},"65148-43",65148,"Ostale naknade i pristojbe za posebne namjene",43,"Ostali prihodi za posebne namjene","651","65",43]
[{"$f":"IF(F128=\"\",\"\",VLOOKUP('OPĆI DIO'!$C$1,'OPĆI DIO'!$N$4:$W$137,10,FALSE))","v":""},{"$f":"IF(F128=\"\",\"\",VLOOKUP('OPĆI DIO'!$C$1,'OPĆI DIO'!$N$4:$W$137,9,FALSE))","v":""},"","","","",null,"",{"$nulls":4},{"$f":"IF(F128=\"\",\"\",'OPĆI DIO'!$C$1)","v":""},"","",{"$nulls":4},"65218-43",65218,"Ostali prihodi državne uprave za posebne namjene",43,"Ostali prihodi za posebne namjene","652","65",43]
[{"$f":"IF(F129=\"\",\"\",VLOOKUP('OPĆI DIO'!$C$1,'OPĆI DIO'!$N$4:$W$137,10,FALSE))","v":""},{"$f":"IF(F129=\"\",\"\",VLOOKUP('OPĆI DIO'!$C$1,'OPĆI DIO'!$N$4:$W$137,9,FALSE))","v":""},"","","","",null,"",{"$nulls":4},{"$f":"IF(F129=\"\",\"\",'OPĆI DIO'!$C$1)","v":""},"","",{"$nulls":4},{"$f":"U129&\"-\"&W129","v":"65264-43"},65264,"Sufinanciranje cijene usluge, participacije i slično",43,"Ostali prihodi za posebne namjene","652","65",43]
[{"$f":"IF(F130=\"\",\"\",VLOOKUP('OPĆI DIO'!$C$1,'OPĆI DIO'!$N$4:$W$137,10,FALSE))","v":""},{"$f":"IF(F130=\"\",\"\",VLOOKUP('OPĆI DIO'!$C$1,'OPĆI DIO'!$N$4:$W$137,9,FALSE))","v":""},"","","","",null,"",{"$nulls":4},{"$f":"IF(F130=\"\",\"\",'OPĆI DIO'!$C$1)","v":""},"","",{"$nulls":4},"65267-71",65267,"Prihodi s naslova osiguranja, refundacije štete i totalne štete ",71,"Prihodi od nefin. imovine i nadoknade štete s osnova osig.","652","65",71]
[{"$f":"IF(F131=\"\",\"\",VLOOKUP('OPĆI DIO'!$C$1,'OPĆI DIO'!$N$4:$W$137,10,FALSE))","v":""},{"$f":"IF(F131=\"\",\"\",VLOOKUP('OPĆI DIO'!$C$1,'OPĆI DIO'!$N$4:$W$137,9,FALSE))","v":""},"","","","",null,"",{"$nulls":4},{"$f":"IF(F131=\"\",\"\",'OPĆI DIO'!$C$1)","v":""},"","",{"$nulls":4},"65267-11",65267,"Prihodi s naslova osiguranja, refundacije štete i totalne štete",11,"Opći prihodi i primici","652","65",11]
[{"$f":"IF(F132=\"\",\"\",VLOOKUP('OPĆI DIO'!$C$1,'OPĆI DIO'!$N$4:$W$137,10,FALSE))","v":""},{"$f":"IF(F132=\"\",\"\",VLOOKUP('OPĆI DIO'!$C$1,'OPĆI DIO'!$N$4:$W$137,9,FALSE))","v":""},{"$f":"IFERROR(VLOOKUP(G132,$T$6:$AA$500,8,FALSE),\"\")","v":""},{"$f":"IFERROR(VLOOKUP(G132,$T$6:$AA$500,4,FALSE),\"\")","v":""},"",{"$f":"IFERROR(VLOOKUP(G132,$T$6:$AA$500,2,FALSE),\"\")","v":""},null,{"$f":"IFERROR(VLOOKUP(G132,$T$6:$AA$500,3,FALSE),\"\")","v":""},{"$nulls":4},{"$f":"IF(F132=\"\",\"\",'OPĆI DIO'!$C$1)","v":""},"","",{"$nulls":4},"65268-43",65268,"Ostali prihodi za posebne namjene",43,"Ostali prihodi za posebne namjene","652","65",43]
[{"$f":"IF(F133=\"\",\"\",VLOOKUP('OPĆI DIO'!$C$1,'OPĆI DIO'!$N$4:$W$137,10,FALSE))","v":""},{"$f":"IF(F133=\"\",\"\",VLOOKUP('OPĆI DIO'!$C$1,'OPĆI DIO'!$N$4:$W$137,9,FALSE))","v":""},"","","","",null,"",{"$nulls":4},{"$f":"IF(F133=\"\",\"\",'OPĆI DIO'!$C$1)","v":""},"","",{"$nulls":4},"65411-41",65411,"Naknada za priređivanje lutrijskih igara",41,"Prihodi od igara na sreću","654","65",41]
[{"$f":"IF(F134=\"\",\"\",VLOOKUP('OPĆI DIO'!$C$1,'OPĆI DIO'!$N$4:$W$137,10,FALSE))","v":""},{"$f":"IF(F134=\"\",\"\",VLOOKUP('OPĆI DIO'!$C$1,'OPĆI DIO'!$N$4:$W$137,9,FALSE))","v":""},"","","","",null,"",{"$nulls":4},{"$f":"IF(F134=\"\",\"\",'OPĆI DIO'!$C$1)","v":""},"","",{"$nulls":4},"65412-41",65412,"Naknade za priređivanje igara na sreću u casinima",41,"Prihodi od igara na sreću","654","65",41]
[{"$f":"IF(F135=\"\",\"\",VLOOKUP('OPĆI DIO'!$C$1,'OPĆI DIO'!$N$4:$W$137,10,FALSE))","v":""},{"$f":"IF(F135=\"\",\"\",VLOOKUP('OPĆI DIO'!$C$1,'OPĆI DIO'!$N$4:$W$137,9,FALSE))","v":""},"","","","",null,"",{"$nulls":4},{"$f":"IF(F135=\"\",\"\",'OPĆI DIO'!$C$1)","v":""},"","",{"$nulls":4},"65413-41",65413,"Naknade za priređivanje klađenja",41,"Prihodi od igara na sreću","654","65",41]
[{"$f":"IF(F136=\"\",\"\",VLOOKUP('OPĆI DIO'!$C$1,'OPĆI DIO'!$N$4:$W$137,10,FALSE))","v":""},{"$f":"IF(F136=\"\",\"\",VLOOKUP('OPĆI DIO'!$C$1,'OPĆI DIO'!$N$4:$W$137,9,FALSE))","v":""},"","","","",null,"",{"$nulls":4},{"$f":"IF(F136=\"\",\"\",'OPĆI DIO'!$C$1)","v":""},{"$f":"LEFT(F136,2)","v":""},{"$f":"LEFT(F136,3)","v":""},{"$nulls":4},"65414-41",65414,"Naknade za priređivanje igara na sreću na automatima",41,"Prihodi od igara na sreću","654","65",41]
[{"$f":"IF(F137=\"\",\"\",VLOOKUP('OPĆI DIO'!$C$1,'OPĆI DIO'!$N$4:$W$137,10,FALSE))","v":""},{"$f":"IF(F137=\"\",\"\",VLOOKUP('OPĆI DIO'!$C$1,'OPĆI DIO'!$N$4:$W$137,9,FALSE))","v":""},"","","","",null,"",{"$nulls":4},{"$f":"IF(F137=\"\",\"\",'OPĆI DIO'!$C$1)","v":""},"","",{"$nulls":4},"64129-31",64129,"Kamate za ostale vrijednosne papire",31,"Vlastiti prihodi","641","64",31]
[{"$f":"IF(F138=\"\",\"\",VLOOKUP('OPĆI DIO'!$C$1,'OPĆI DIO'!$N$4:$W$137,10,FALSE))","v":""},{"$f":"IF(F138=\"\",\"\",VLOOKUP('OPĆI DIO'!$C$1,'OPĆI DIO'!$N$4:$W$137,9,FALSE))","v":""},"","","","",null,"",{"$nulls":4},{"$f":"IF(F138=\"\",\"\",'OPĆI DIO'!$C$1)","v":""},"","",{"$nulls":4},"64131-31",64131,"Kamate na oročena sredstva",31,"Vlastiti prihodi","641","64",31]
[{"$f":"IF(F139=\"\",\"\",VLOOKUP('OPĆI DIO'!$C$1,'OPĆI DIO'!$N$4:$W$137,10,FALSE))","v":""},{"$f":"IF(F139=\"\",\"\",VLOOKUP('OPĆI DIO'!$C$1,'OPĆI DIO'!$N$4:$W$137,9,FALSE))","v":""},"","",{"$f":"IFERROR(VLOOKUP(F139,$U$6:$X$113,4,FALSE),\"\")","v":""},"",null,"",{"$nulls":4},{"$f":"IF(F139=\"\",\"\",'OPĆI DIO'!$C$1)","v":""},"","",{"$nulls":4},"64132-31",64132,"Kamate na depozite po viđenju",31,"Vlastiti prihodi",{"$f":"LEFT(U139,3)","v":"641"},{"$f":"LEFT(U139,2)","v":"64"},31]
[{"$f":"IF(F140=\"\",\"\",VLOOKUP('OPĆI DIO'!$C$1,'OPĆI DIO'!$N$4:$W$137,10,FALSE))","v":""},{"$f":"IF(F140=\"\",\"\",VLOOKUP('OPĆI DIO'!$C$1,'OPĆI DIO'!$N$4:$W$137,9,FALSE))","v":""},"","","","",null,"",{"$nulls":4},{"$f":"IF(F140=\"\",\"\",'OPĆI DIO'!$C$1)","v":""},"","",{"$nulls":4},"64132-43",64132,"Kamate na depozite po viđenju",43,"Ostali prihodi za posebne namjene","641","64",43]
[{"$f":"IF(F141=\"\",\"\",VLOOKUP('OPĆI DIO'!$C$1,'OPĆI DIO'!$N$4:$W$137,10,FALSE))","v":""},{"$f":"IF(F141=\"\",\"\",VLOOKUP('OPĆI DIO'!$C$1,'OPĆI DIO'!$N$4:$W$137,9,FALSE))","v":""},"","","","",null,"",{"$nulls":4},{"$f":"IF(F141=\"\",\"\",'OPĆI DIO'!$C$1)","v":""},"","",{"$nulls":4},"64143-31",64143,"Zatezne kamate iz obveznih odnosa i drugo ",31,"Vlastiti prihodi","641","64",31]
[{"$f":"IF(F142=\"\",\"\",VLOOKUP('OPĆI DIO'!$C$1,'OPĆI DIO'!$N$4:$W$137,10,FALSE))","v":""},{"$f":"IF(F142=\"\",\"\",VLOOKUP('OPĆI DIO'!$C$1,'OPĆI DIO'!$N$4:$W$137,9,FALSE))","v":""},"","","","",null,"",{"$nulls":4},{"$f":"IF(F142=\"\",\"\",'OPĆI DIO'!$C$1)","v":""},"","",{"$nulls":4},"64143-43",64143,"Zatezne kamate iz obveznih odnosa i drugo ",43,"Ostali prihodi za posebne namjene","641","64",43]
[{"$f":"IF(F143=\"\",\"\",VLOOKUP('OPĆI DIO'!$C$1,'OPĆI DIO'!$N$4:$W$137,10,FALSE))","v":""},{"$f":"IF(F143=\"\",\"\",VLOOKUP('OPĆI DIO'!$C$1,'OPĆI DIO'!$N$4:$W$137,9,FALSE))","v":""},"","","","",null,"",{"$nulls":4},{"$f":"IF(F143=\"\",\"\",'OPĆI DIO'!$C$1)","v":""},"","",{"$nulls":4},"64151-31",64151,"Prihodi od pozitivnih tečajnih razlika",31,"Vlastiti prihodi","641","64",31]
[{"$f":"IF(F144=\"\",\"\",VLOOKUP('OPĆI DIO'!$C$1,'OPĆI DIO'!$N$4:$W$137,10,FALSE))","v":""},{"$f":"IF(F144=\"\",\"\",VLOOKUP('OPĆI DIO'!$C$1,'OPĆI DIO'!$N$4:$W$137,9,FALSE))","v":""},"","","","",null,"",{"$nulls":4},{"$f":"IF(F144=\"\",\"\",'OPĆI DIO'!$C$1)","v":""},"","",{"$nulls":4},{"$f":"U144&\"-\"&W144","v":"64151-43"},64151,"Prihodi od pozitivnih tečajnih razlika",43,"Ostali prihodi za posebne namjene","641","64",43]
[{"$f":"IF(F145=\"\",\"\",VLOOKUP('OPĆI DIO'!$C$1,'OPĆI DIO'!$N$4:$W$137,10,FALSE))","v":""},{"$f":"IF(F145=\"\",\"\",VLOOKUP('OPĆI DIO'!$C$1,'OPĆI DIO'!$N$4:$W$137,9,FALSE))","v":""},"","","","",null,"",{"$nulls":4},{"$f":"IF(F145=\"\",\"\",'OPĆI DIO'!$C$1)","v":""},"","",{"$nulls":4},"64163-31",64163,"Prihod od dividendi na dionice u kreditnim i ostalim financijskim institucijama izvan javnog sektora",31,"Vlastiti prihodi","641","64",31]
[{"$f":"IF(F146=\"\",\"\",VLOOKUP('OPĆI DIO'!$C$1,'OPĆI DIO'!$N$4:$W$137,10,FALSE))","v":""},{"$f":"IF(F146=\"\",\"\",VLOOKUP('OPĆI DIO'!$C$1,'OPĆI DIO'!$N$4:$W$137,9,FALSE))","v":""},"","","","",null,"",{"$nulls":4},{"$f":"IF(F146=\"\",\"\",'OPĆI DIO'!$C$1)","v":""},"","",{"$nulls":4},"64164-31",64164,"Prihodi od dividendi na dionice u trgovačkim društvima izvan javnog sektora",31,"Vlastiti prihodi","641","64",31]
[{"$f":"IF(F147=\"\",\"\",VLOOKUP('OPĆI DIO'!$C$1,'OPĆI DIO'!$N$4:$W$137,10,FALSE))","v":""},{"$f":"IF(F147=\"\",\"\",VLOOKUP('OPĆI DIO'!$C$1,'OPĆI DIO'!$N$4:$W$137,9,FALSE))","v":""},"","","","",null,"",{"$nulls":4},{"$f":"IF(F147=\"\",\"\",'OPĆI DIO'!$C$1)","v":""},"","",{"$nulls":4},"64172-43",64172,"Prihodi iz dobiti trgovačkih društava u javnom sektoru",43,"Ostali prihodi za posebne namjene","641","64",43]
[{"$f":"IF(F148=\"\",\"\",VLOOKUP('OPĆI DIO'!$C$1,'OPĆI DIO'!$N$4:$W$137,10,FALSE))","v":""},{"$f":"IF(F148=\"\",\"\",VLOOKUP('OPĆI DIO'!$C$1,'OPĆI DIO'!$N$4:$W$137,9,FALSE))","v":""},"","","","",null,"",{"$nulls":4},{"$f":"IF(F148=\"\",\"\",'OPĆI DIO'!$C$1)","v":""},"","",{"$nulls":4},"64177-41",64177,"Prihodi iz dobiti Hrvatske lutrije",41,"Prihodi od igara na sreću","641","64",41]
[{"$f":"IF(F149=\"\",\"\",VLOOKUP('OPĆI DIO'!$C$1,'OPĆI DIO'!$N$4:$W$137,10,FALSE))","v":""},{"$f":"IF(F149=\"\",\"\",VLOOKUP('OPĆI DIO'!$C$1,'OPĆI DIO'!$N$4:$W$137,9,FALSE))","v":""},"","","","",null,"",{"$nulls":4},{"$f":"IF(F149=\"\",\"\",'OPĆI DIO'!$C$1)","v":""},"","",{"$nulls":4},"64199-43",64199,"Ostali prihodi od financijske imovine",43,"Ostali prihodi za posebne namjene","641","64",43]
[{"$f":"IF(F150=\"\",\"\",VLOOKUP('OPĆI DIO'!$C$1,'OPĆI DIO'!$N$4:$W$137,10,FALSE))","v":""},{"$f":"IF(F150=\"\",\"\",VLOOKUP('OPĆI DIO'!$C$1,'OPĆI DIO'!$N$4:$W$137,9,FALSE))","v":""},"","","","",null,"",{"$nulls":4},{"$f":"IF(F150=\"\",\"\",'OPĆI DIO'!$C$1)","v":""},"","",{"$nulls":4},"64251-31",64251,"Prihodi od prodaje kratkotrajne nefinancijske imovine, sitnog inventara i autoguma",31,"Vlastiti prihodi","642","64",31]
[{"$f":"IF(F151=\"\",\"\",VLOOKUP('OPĆI DIO'!$C$1,'OPĆI DIO'!$N$4:$W$137,10,FALSE))","v":""},{"$f":"IF(F151=\"\",\"\",VLOOKUP('OPĆI DIO'!$C$1,'OPĆI DIO'!$N$4:$W$137,9,FALSE))","v":""},"","","","",null,"",{"$nulls":4},{"$f":"IF(F151=\"\",\"\",'OPĆI DIO'!$C$1)","v":""},"","",{"$nulls":4},{"$f":"U151&\"-\"&W151","v":"64299-31"},64299,"Ostali prihodi od nefinancijske imovine",31,"Vlastiti prihodi","642","64",31]
[{"$f":"IF(F152=\"\",\"\",VLOOKUP('OPĆI DIO'!$C$1,'OPĆI DIO'!$N$4:$W$137,10,FALSE))","v":""},{"$f":"IF(F152=\"\",\"\",VLOOKUP('OPĆI DIO'!$C$1,'OPĆI DIO'!$N$4:$W$137,9,FALSE))","v":""},"","","","",null,"",{"$nulls":4},{"$f":"IF(F152=\"\",\"\",'OPĆI DIO'!$C$1)","v":""},"","",{"$nulls":4},"64341-31",64341,"Prihodi od kamata na dane zajmove trgovačkim društvima u javnom sektoru",31,"Vlastiti prihodi","643","64",31]
[{"$f":"IF(F153=\"\",\"\",VLOOKUP('OPĆI DIO'!$C$1,'OPĆI DIO'!$N$4:$W$137,10,FALSE))","v":""},{"$f":"IF(F153=\"\",\"\",VLOOKUP('OPĆI DIO'!$C$1,'OPĆI DIO'!$N$4:$W$137,9,FALSE))","v":""},"","","","",null,"",{"$nulls":4},{"$f":"IF(F153=\"\",\"\",'OPĆI DIO'!$C$1)","v":""},"","",{"$nulls":4},"63111-533","63111","Tekuće pomoći od inozemnih vlada u EU",533,"Ostale darovnice","631","63",533]
[{"$f":"IF(F154=\"\",\"\",VLOOKUP('OPĆI DIO'!$C$1,'OPĆI DIO'!$N$4:$W$137,10,FALSE))","v":""},{"$f":"IF(F154=\"\",\"\",VLOOKUP('OPĆI DIO'!$C$1,'OPĆI DIO'!$N$4:$W$137,9,FALSE))","v":""},"","","","",null,"",{"$nulls":4},{"$f":"IF(F154=\"\",\"\",'OPĆI DIO'!$C$1)","v":""},"","",{"$nulls":4},"63111-51000","63111","Tekuće pomoći od inozemnih vlada u EU",51000,"51000 Programi Unije – raspoloživ predujam","631","63",51000]
[{"$f":"IF(F155=\"\",\"\",VLOOKUP('OPĆI DIO'!$C$1,'OPĆI DIO'!$N$4:$W$137,10,FALSE))","v":""},{"$f":"IF(F155=\"\",\"\",VLOOKUP('OPĆI DIO'!$C$1,'OPĆI DIO'!$N$4:$W$137,9,FALSE))","v":""},"","","","",null,"",{"$nulls":4},{"$f":"IF(F155=\"\",\"\",'OPĆI DIO'!$C$1)","v":""},"","",{"$nulls":4},"63111-51011","63111","Tekuće pomoći od inozemnih vlada u EU",51011,"51011 Programi Unije – predfinanciranje iz izvora 11 Opći prihodi i primici","631","63",51011]
[{"$f":"IF(F156=\"\",\"\",VLOOKUP('OPĆI DIO'!$C$1,'OPĆI DIO'!$N$4:$W$137,10,FALSE))","v":""},{"$f":"IF(F156=\"\",\"\",VLOOKUP('OPĆI DIO'!$C$1,'OPĆI DIO'!$N$4:$W$137,9,FALSE))","v":""},"","","","",null,"",{"$nulls":4},{"$f":"IF(F156=\"\",\"\",'OPĆI DIO'!$C$1)","v":""},"","",{"$nulls":4},"63111-563","63111","Tekuće pomoći od inozemnih vlada u EU",563,"Europski fond za regionalni razvoj – predfinanciranje iz izvora 11 Opći prihodi i primici","631","63",563]
[{"$f":"IF(F157=\"\",\"\",VLOOKUP('OPĆI DIO'!$C$1,'OPĆI DIO'!$N$4:$W$137,10,FALSE))","v":""},{"$f":"IF(F157=\"\",\"\",VLOOKUP('OPĆI DIO'!$C$1,'OPĆI DIO'!$N$4:$W$137,9,FALSE))","v":""},"","","","",null,"",{"$nulls":4},{"$f":"IF(F157=\"\",\"\",'OPĆI DIO'!$C$1)","v":""},"","",{"$nulls":4},"63112-533","63112","Tekuće pomoći od inozemnih vlada izvan EU",533,"Ostale darovnice","631","63",533]
[{"$f":"IF(F158=\"\",\"\",VLOOKUP('OPĆI DIO'!$C$1,'OPĆI DIO'!$N$4:$W$137,10,FALSE))","v":""},{"$f":"IF(F158=\"\",\"\",VLOOKUP('OPĆI DIO'!$C$1,'OPĆI DIO'!$N$4:$W$137,9,FALSE))","v":""},"","","","",null,"",{"$nulls":4},{"$f":"IF(F158=\"\",\"\",'OPĆI DIO'!$C$1)","v":""},"","",{"$nulls":4},"63112-563","63112","Tekuće pomoći od inozemnih vlada izvan EU",563,"Europski fond za regionalni razvoj – predfinanciranje iz izvora 11 Opći prihodi i primici","631","63",563]
[{"$f":"IF(F159=\"\",\"\",VLOOKUP('OPĆI DIO'!$C$1,'OPĆI DIO'!$N$4:$W$137,10,FALSE))","v":""},{"$f":"IF(F159=\"\",\"\",VLOOKUP('OPĆI DIO'!$C$1,'OPĆI DIO'!$N$4:$W$137,9,FALSE))","v":""},"","","","",null,"",{"$nulls":4},{"$f":"IF(F159=\"\",\"\",'OPĆI DIO'!$C$1)","v":""},"","",{"$nulls":4},"63121-533",63121,"Kapitalne pomoći od inozemnih vlada u EU",533,"Ostale darovnice","631","63",533]
[{"$f":"IF(F160=\"\",\"\",VLOOKUP('OPĆI DIO'!$C$1,'OPĆI DIO'!$N$4:$W$137,10,FALSE))","v":""},{"$f":"IF(F160=\"\",\"\",VLOOKUP('OPĆI DIO'!$C$1,'OPĆI DIO'!$N$4:$W$137,9,FALSE))","v":""},"","","","",null,"",{"$nulls":4},{"$f":"IF(F160=\"\",\"\",'OPĆI DIO'!$C$1)","v":""},"","",{"$nulls":4},"63121-51000",63121,"Kapitalne pomoći od inozemnih vlada u EU",51000,"51000 Programi Unije – raspoloživ predujam","631","63",51000]
[{"$f":"IF(F161=\"\",\"\",VLOOKUP('OPĆI DIO'!$C$1,'OPĆI DIO'!$N$4:$W$137,10,FALSE))","v":""},{"$f":"IF(F161=\"\",\"\",VLOOKUP('OPĆI DIO'!$C$1,'OPĆI DIO'!$N$4:$W$137,9,FALSE))","v":""},"","","","",null,"",{"$nulls":4},{"$f":"IF(F161=\"\",\"\",'OPĆI DIO'!$C$1)","v":""},"","",{"$nulls":4},"63121-51011",63121,"Kapitalne pomoći od inozemnih vlada u EU",51011,"51011 Programi Unije – predfinanciranje iz izvora 11 Opći prihodi i primici","631","63",51011]
[{"$f":"IF(F162=\"\",\"\",VLOOKUP('OPĆI DIO'!$C$1,'OPĆI DIO'!$N$4:$W$137,10,FALSE))","v":""},{"$f":"IF(F162=\"\",\"\",VLOOKUP('OPĆI DIO'!$C$1,'OPĆI DIO'!$N$4:$W$137,9,FALSE))","v":""},"","","","",null,"",{"$nulls":4},{"$f":"IF(F162=\"\",\"\",'OPĆI DIO'!$C$1)","v":""},"","",{"$nulls":4},"63121-563",63121,"Kapitalne pomoći od inozemnih vlada u EU",563,"Europski fond za regionalni razvoj – predfinanciranje iz izvora 11 Opći prihodi i primici","631","63",563]
[{"$f":"IF(F163=\"\",\"\",VLOOKUP('OPĆI DIO'!$C$1,'OPĆI DIO'!$N$4:$W$137,10,FALSE))","v":""},{"$f":"IF(F163=\"\",\"\",VLOOKUP('OPĆI DIO'!$C$1,'OPĆI DIO'!$N$4:$W$137,9,FALSE))","v":""},"","","","",null,"",{"$nulls":4},{"$f":"IF(F163=\"\",\"\",'OPĆI DIO'!$C$1)","v":""},"","",{"$nulls":4},"63122-563",63122,"Kapitalne pomoći od inozemnih vlada izvan EU",563,"Europski fond za regionalni razvoj – predfinanciranje iz izvora 11 Opći prihodi i primici","631","63",563]
[{"$f":"IF(F164=\"\",\"\",VLOOKUP('OPĆI DIO'!$C$1,'OPĆI DIO'!$N$4:$W$137,10,FALSE))","v":""},{"$f":"IF(F164=\"\",\"\",VLOOKUP('OPĆI DIO'!$C$1,'OPĆI DIO'!$N$4:$W$137,9,FALSE))","v":""},"","","","",null,"",{"$nulls":4},{"$f":"IF(F164=\"\",\"\",'OPĆI DIO'!$C$1)","v":""},"","",{"$nulls":4},"63122-533",63122,"Kapitalne pomoći od inozemnih vlada izvan EU",533,"Ostale darovnice","631","63",533]
[{"$f":"IF(F165=\"\",\"\",VLOOKUP('OPĆI DIO'!$C$1,'OPĆI DIO'!$N$4:$W$137,10,FALSE))","v":""},{"$f":"IF(F165=\"\",\"\",VLOOKUP('OPĆI DIO'!$C$1,'OPĆI DIO'!$N$4:$W$137,9,FALSE))","v":""},"","","","",null,"",{"$nulls":4},{"$f":"IF(F165=\"\",\"\",'OPĆI DIO'!$C$1)","v":""},"","",{"$nulls":4},"63211-533",63211,"Tekuće pomoći od međunarodnih organizacija",533,"Ostale darovnice","632","63",533]
[{"$f":"IF(F166=\"\",\"\",VLOOKUP('OPĆI DIO'!$C$1,'OPĆI DIO'!$N$4:$W$137,10,FALSE))","v":""},{"$f":"IF(F166=\"\",\"\",VLOOKUP('OPĆI DIO'!$C$1,'OPĆI DIO'!$N$4:$W$137,9,FALSE))","v":""},"","","","",null,"",{"$nulls":4},{"$f":"IF(F166=\"\",\"\",'OPĆI DIO'!$C$1)","v":""},"","",{"$nulls":4},"63221-533",63221,"Kapitalne pomoći od međunarodnih organizacija",533,"Ostale darovnice","632","63",533]
[{"$f":"IF(F167=\"\",\"\",VLOOKUP('OPĆI DIO'!$C$1,'OPĆI DIO'!$N$4:$W$137,10,FALSE))","v":""},{"$f":"IF(F167=\"\",\"\",VLOOKUP('OPĆI DIO'!$C$1,'OPĆI DIO'!$N$4:$W$137,9,FALSE))","v":""},"","","","",null,"",{"$nulls":4},{"$f":"IF(F167=\"\",\"\",'OPĆI DIO'!$C$1)","v":""},"","",{"$nulls":4},"63231-51000",63231,"Tekuće pomoći od institucija i tijela EU   ",51000,"51000 Programi Unije – raspoloživ predujam","632","63",51000]
[{"$f":"IF(F168=\"\",\"\",VLOOKUP('OPĆI DIO'!$C$1,'OPĆI DIO'!$N$4:$W$137,10,FALSE))","v":""},{"$f":"IF(F168=\"\",\"\",VLOOKUP('OPĆI DIO'!$C$1,'OPĆI DIO'!$N$4:$W$137,9,FALSE))","v":""},"","","","",null,"",{"$nulls":4},{"$f":"IF(F168=\"\",\"\",'OPĆI DIO'!$C$1)","v":""},"","",{"$nulls":4},"63231-51011",63231,"Tekuće pomoći od institucija i tijela EU   ",51011,"51011 Programi Unije – predfinanciranje iz izvora 11 Opći prihodi i primici","632","63",51011]
[{"$f":"IF(F169=\"\",\"\",VLOOKUP('OPĆI DIO'!$C$1,'OPĆI DIO'!$N$4:$W$137,10,FALSE))","v":""},{"$f":"IF(F169=\"\",\"\",VLOOKUP('OPĆI DIO'!$C$1,'OPĆI DIO'!$N$4:$W$137,9,FALSE))","v":""},"","","","",null,"",{"$nulls":4},{"$f":"IF(F169=\"\",\"\",'OPĆI DIO'!$C$1)","v":""},"","",{"$nulls":4},"63231-51031",63231,"Tekuće pomoći od institucija i tijela EU   ",51031,"51031 Programi Unije – predfinanciranje iz izvora 31 Vlastiti prihodi","632","63",51031]
[{"$f":"IF(F170=\"\",\"\",VLOOKUP('OPĆI DIO'!$C$1,'OPĆI DIO'!$N$4:$W$137,10,FALSE))","v":""},{"$f":"IF(F170=\"\",\"\",VLOOKUP('OPĆI DIO'!$C$1,'OPĆI DIO'!$N$4:$W$137,9,FALSE))","v":""},"","","","",null,"",{"$nulls":4},{"$f":"IF(F170=\"\",\"\",'OPĆI DIO'!$C$1)","v":""},"","",{"$nulls":4},"63231-51043",63231,"Tekuće pomoći od institucija i tijela EU   ",51043,"51043 Programi Unije – predfinanciranje iz izvora 43 Ostali prihodi za posebne namjene","632","63",51043]
[{"$f":"IF(F171=\"\",\"\",VLOOKUP('OPĆI DIO'!$C$1,'OPĆI DIO'!$N$4:$W$137,10,FALSE))","v":""},{"$f":"IF(F171=\"\",\"\",VLOOKUP('OPĆI DIO'!$C$1,'OPĆI DIO'!$N$4:$W$137,9,FALSE))","v":""},"","","","",null,"",{"$nulls":4},{"$f":"IF(F171=\"\",\"\",'OPĆI DIO'!$C$1)","v":""},"","",{"$nulls":4},"63231-51081",63231,"Tekuće pomoći od institucija i tijela EU   ",51081,"51081 Programi Unije – predfinanciranje iz izvora 81 Namjenski primici od zaduživanja","632","63",51081]
[{"$f":"IF(F172=\"\",\"\",VLOOKUP('OPĆI DIO'!$C$1,'OPĆI DIO'!$N$4:$W$137,10,FALSE))","v":""},{"$f":"IF(F172=\"\",\"\",VLOOKUP('OPĆI DIO'!$C$1,'OPĆI DIO'!$N$4:$W$137,9,FALSE))","v":""},"","","","",null,"",{"$nulls":4},{"$f":"IF(F172=\"\",\"\",'OPĆI DIO'!$C$1)","v":""},"","",{"$nulls":4},"63241-51000",63241,"Kapitalne pomoći od institucija i tijela EU  ",51000,"51000 Programi Unije – raspoloživ predujam","632","63",51000]
[{"$f":"IF(F173=\"\",\"\",VLOOKUP('OPĆI DIO'!$C$1,'OPĆI DIO'!$N$4:$W$137,10,FALSE))","v":""},{"$f":"IF(F173=\"\",\"\",VLOOKUP('OPĆI DIO'!$C$1,'OPĆI DIO'!$N$4:$W$137,9,FALSE))","v":""},"","","","",null,"",{"$nulls":4},{"$f":"IF(F173=\"\",\"\",'OPĆI DIO'!$C$1)","v":""},"","",{"$nulls":4},"63241-51011",63241,"Kapitalne pomoći od institucija i tijela EU  ",51011,"51011 Programi Unije – predfinanciranje iz izvora 11 Opći prihodi i primici","632","63",51011]
[{"$f":"IF(F174=\"\",\"\",VLOOKUP('OPĆI DIO'!$C$1,'OPĆI DIO'!$N$4:$W$137,10,FALSE))","v":""},{"$f":"IF(F174=\"\",\"\",VLOOKUP('OPĆI DIO'!$C$1,'OPĆI DIO'!$N$4:$W$137,9,FALSE))","v":""},"","","","",null,"",{"$nulls":4},{"$f":"IF(F174=\"\",\"\",'OPĆI DIO'!$C$1)","v":""},"","",{"$nulls":4},"63241-51031",63241,"Kapitalne pomoći od institucija i tijela EU  ",51031,"51031 Programi Unije – predfinanciranje iz izvora 31 Vlastiti prihodi","632","63",51031]
[{"$f":"IF(F175=\"\",\"\",VLOOKUP('OPĆI DIO'!$C$1,'OPĆI DIO'!$N$4:$W$137,10,FALSE))","v":""},{"$f":"IF(F175=\"\",\"\",VLOOKUP('OPĆI DIO'!$C$1,'OPĆI DIO'!$N$4:$W$137,9,FALSE))","v":""},"","","","",null,"",{"$nulls":4},{"$f":"IF(F175=\"\",\"\",'OPĆI DIO'!$C$1)","v":""},"","",{"$nulls":4},"63241-51043",63241,"Kapitalne pomoći od institucija i tijela EU  ",51043,"51043 Programi Unije – predfinanciranje iz izvora 43 Ostali prihodi za posebne namjene","632","63",51043]
[{"$f":"IF(F176=\"\",\"\",VLOOKUP('OPĆI DIO'!$C$1,'OPĆI DIO'!$N$4:$W$137,10,FALSE))","v":""},{"$f":"IF(F176=\"\",\"\",VLOOKUP('OPĆI DIO'!$C$1,'OPĆI DIO'!$N$4:$W$137,9,FALSE))","v":""},"","","","",null,"",{"$nulls":4},{"$f":"IF(F176=\"\",\"\",'OPĆI DIO'!$C$1)","v":""},"","",{"$nulls":4},"63241-51081",63241,"Kapitalne pomoći od institucija i tijela EU  ",51081,"51081 Programi Unije – predfinanciranje iz izvora 81 Namjenski primici od zaduživanja","632","63",51081]
[{"$f":"IF(F177=\"\",\"\",VLOOKUP('OPĆI DIO'!$C$1,'OPĆI DIO'!$N$4:$W$137,10,FALSE))","v":""},{"$f":"IF(F177=\"\",\"\",VLOOKUP('OPĆI DIO'!$C$1,'OPĆI DIO'!$N$4:$W$137,9,FALSE))","v":""},"","","","",null,"",{"$nulls":4},{"$f":"IF(F177=\"\",\"\",'OPĆI DIO'!$C$1)","v":""},"","",{"$nulls":4},"63414-52",63414,"Tekuće pomoći od HZMO-a, HZZ-a i HZZO-a",52,"Ostale pomoći","634","63",52]
[{"$f":"IF(F178=\"\",\"\",VLOOKUP('OPĆI DIO'!$C$1,'OPĆI DIO'!$N$4:$W$137,10,FALSE))","v":""},{"$f":"IF(F178=\"\",\"\",VLOOKUP('OPĆI DIO'!$C$1,'OPĆI DIO'!$N$4:$W$137,9,FALSE))","v":""},"","","","",null,"",{"$nulls":4},{"$f":"IF(F178=\"\",\"\",'OPĆI DIO'!$C$1)","v":""},"","",{"$nulls":4},"63415-52",63415,"Tekuće pomoći od ostalih izvanproračunskih korisnika državnog proračuna",52,"Ostale pomoći","634","63",52]
[{"$f":"IF(F179=\"\",\"\",VLOOKUP('OPĆI DIO'!$C$1,'OPĆI DIO'!$N$4:$W$137,10,FALSE))","v":""},{"$f":"IF(F179=\"\",\"\",VLOOKUP('OPĆI DIO'!$C$1,'OPĆI DIO'!$N$4:$W$137,9,FALSE))","v":""},"","","","",null,"",{"$nulls":4},{"$f":"IF(F179=\"\",\"\",'OPĆI DIO'!$C$1)","v":""},"","",{"$nulls":4},"63424-52",63424,"Kapitalne pomoći od HZMO-a, HZZ-a i HZZO-a",52,"Ostale pomoći","634","63",52]
[{"$f":"IF(F180=\"\",\"\",VLOOKUP('OPĆI DIO'!$C$1,'OPĆI DIO'!$N$4:$W$137,10,FALSE))","v":""},{"$f":"IF(F180=\"\",\"\",VLOOKUP('OPĆI DIO'!$C$1,'OPĆI DIO'!$N$4:$W$137,9,FALSE))","v":""},"","","","",null,"",{"$nulls":4},{"$f":"IF(F180=\"\",\"\",'OPĆI DIO'!$C$1)","v":""},"","",{"$nulls":4},"63425-52",63425,"Kapitalne pomoći od ostalih izvanproračunskih korisnika državnog proračuna",52,"Ostale pomoći","634","63",52]
[{"$f":"IF(F181=\"\",\"\",VLOOKUP('OPĆI DIO'!$C$1,'OPĆI DIO'!$N$4:$W$137,10,FALSE))","v":""},{"$f":"IF(F181=\"\",\"\",VLOOKUP('OPĆI DIO'!$C$1,'OPĆI DIO'!$N$4:$W$137,9,FALSE))","v":""},"","","","",null,"",{"$nulls":4},{"$f":"IF(F181=\"\",\"\",'OPĆI DIO'!$C$1)","v":""},"","",{"$nulls":4},"63613-52",63613,"Tekuće pomoći proračunskim korisnicima iz proračuna JLP(R)S koji im nije nadležan",52,"Ostale pomoći","636","63",52]
[{"$f":"IF(F182=\"\",\"\",VLOOKUP('OPĆI DIO'!$C$1,'OPĆI DIO'!$N$4:$W$137,10,FALSE))","v":""},{"$f":"IF(F182=\"\",\"\",VLOOKUP('OPĆI DIO'!$C$1,'OPĆI DIO'!$N$4:$W$137,9,FALSE))","v":""},"","","","",null,"",{"$nulls":4},{"$f":"IF(F182=\"\",\"\",'OPĆI DIO'!$C$1)","v":""},"","",{"$nulls":4},"63623-52",63623,"Kapitalne pomoći proračunskim korisnicima iz proračuna JLP(R)S koji im nije nadležan",52,"Ostale pomoći","636","63",52]
[{"$f":"IF(F183=\"\",\"\",VLOOKUP('OPĆI DIO'!$C$1,'OPĆI DIO'!$N$4:$W$137,10,FALSE))","v":""},{"$f":"IF(F183=\"\",\"\",VLOOKUP('OPĆI DIO'!$C$1,'OPĆI DIO'!$N$4:$W$137,9,FALSE))","v":""},"","","","",null,"",{"$nulls":4},{"$f":"IF(F183=\"\",\"\",'OPĆI DIO'!$C$1)","v":""},"","",{"$nulls":4},"63812-561",63812,"Tekuće pomoći iz proračuna JLP(R)S temeljem prijenosa EU sredstava",561,"Europski socijalni fond plus – predfinanciranje iz izvora 11 Opći prihodi i primici","638","63",561]
[{"$f":"IF(F184=\"\",\"\",VLOOKUP('OPĆI DIO'!$C$1,'OPĆI DIO'!$N$4:$W$137,10,FALSE))","v":""},{"$f":"IF(F184=\"\",\"\",VLOOKUP('OPĆI DIO'!$C$1,'OPĆI DIO'!$N$4:$W$137,9,FALSE))","v":""},"","","","",null,"",{"$nulls":4},{"$f":"IF(F184=\"\",\"\",'OPĆI DIO'!$C$1)","v":""},"","",{"$nulls":4},"63812-562",63812,"Tekuće pomoći iz proračuna JLP(R)S temeljem prijenosa EU sredstava",562,"Kohezijski fond - predfinanciranje iz izvora 11 Opći prihodi i primici","638","63",562]
[{"$f":"IF(F185=\"\",\"\",VLOOKUP('OPĆI DIO'!$C$1,'OPĆI DIO'!$N$4:$W$137,10,FALSE))","v":""},{"$f":"IF(F185=\"\",\"\",VLOOKUP('OPĆI DIO'!$C$1,'OPĆI DIO'!$N$4:$W$137,9,FALSE))","v":""},"","","","",null,"",{"$nulls":4},{"$f":"IF(F185=\"\",\"\",'OPĆI DIO'!$C$1)","v":""},"","",{"$nulls":4},"63812-563",63812,"Tekuće pomoći iz proračuna JLP(R)S temeljem prijenosa EU sredstava",563,"Europski fond za regionalni razvoj - predfinanciranje iz izvora 11 Opći prihodi i      primici","638","63",563]
[{"$f":"IF(F186=\"\",\"\",VLOOKUP('OPĆI DIO'!$C$1,'OPĆI DIO'!$N$4:$W$137,10,FALSE))","v":""},{"$f":"IF(F186=\"\",\"\",VLOOKUP('OPĆI DIO'!$C$1,'OPĆI DIO'!$N$4:$W$137,9,FALSE))","v":""},"","","","",null,"",{"$nulls":4},{"$f":"IF(F186=\"\",\"\",'OPĆI DIO'!$C$1)","v":""},{"$f":"LEFT(F186,2)","v":""},{"$f":"LEFT(F186,3)","v":""},{"$nulls":4},"63812-564",63812,"Tekuće pomoći iz proračuna JLP(R)S temeljem prijenosa EU sredstava",564,"Fond za pomorstvo, ribarstvo i akvakulturu - predfinanciranje iz izvora 11 Opći prihodi i primici","638","63",564]
[{"$f":"IF(F187=\"\",\"\",VLOOKUP('OPĆI DIO'!$C$1,'OPĆI DIO'!$N$4:$W$137,10,FALSE))","v":""},{"$f":"IF(F187=\"\",\"\",VLOOKUP('OPĆI DIO'!$C$1,'OPĆI DIO'!$N$4:$W$137,9,FALSE))","v":""},"","","","",null,"",{"$nulls":4},{"$f":"IF(F187=\"\",\"\",'OPĆI DIO'!$C$1)","v":""},"","",{"$nulls":4},"63812-565",63812,"Tekuće pomoći iz proračuna JLP(R)S temeljem prijenosa EU sredstava",565,"Europski poljoprivredni fond za ruralni razvoj - predfinanciranje iz izvora 11 Opći prihodi i primici","638","63",565]
[{"$f":"IF(F188=\"\",\"\",VLOOKUP('OPĆI DIO'!$C$1,'OPĆI DIO'!$N$4:$W$137,10,FALSE))","v":""},{"$f":"IF(F188=\"\",\"\",VLOOKUP('OPĆI DIO'!$C$1,'OPĆI DIO'!$N$4:$W$137,9,FALSE))","v":""},"","","","",null,"",{"$nulls":4},{"$f":"IF(F188=\"\",\"\",'OPĆI DIO'!$C$1)","v":""},"","",{"$nulls":4},"63812-566",63812,"Tekuće pomoći iz proračuna JLP(R)S temeljem prijenosa EU sredstava",566,"Modernizacijski fond - predfinanciranje iz izvora 11 Opći prihodi i primici","638","63",566]
[{"$f":"IF(F189=\"\",\"\",VLOOKUP('OPĆI DIO'!$C$1,'OPĆI DIO'!$N$4:$W$137,10,FALSE))","v":""},{"$f":"IF(F189=\"\",\"\",VLOOKUP('OPĆI DIO'!$C$1,'OPĆI DIO'!$N$4:$W$137,9,FALSE))","v":""},"","","","",null,"",{"$nulls":4},{"$f":"IF(F189=\"\",\"\",'OPĆI DIO'!$C$1)","v":""},"","",{"$nulls":4},"63812-567",63812,"Tekuće pomoći iz proračuna JLP(R)S temeljem prijenosa EU sredstava",567,"Socijalni fond za klimatsku politiku - predfinanciranje iz izvora 11 Opći prihodi i primici","638","63",567]
[{"$f":"IF(F190=\"\",\"\",VLOOKUP('OPĆI DIO'!$C$1,'OPĆI DIO'!$N$4:$W$137,10,FALSE))","v":""},{"$f":"IF(F190=\"\",\"\",VLOOKUP('OPĆI DIO'!$C$1,'OPĆI DIO'!$N$4:$W$137,9,FALSE))","v":""},"","","","",null,"",{"$nulls":4},{"$f":"IF(F190=\"\",\"\",'OPĆI DIO'!$C$1)","v":""},"","",{"$nulls":4},"63812-575",63812,"Tekuće pomoći iz proračuna JLP(R)S temeljem prijenosa EU sredstava",575,"Fond za azil, migracije i integraciju - predfinanciranje iz izvora 11 Opći prihodi i primici","638","63",575]
[{"$f":"IF(F191=\"\",\"\",VLOOKUP('OPĆI DIO'!$C$1,'OPĆI DIO'!$N$4:$W$137,10,FALSE))","v":""},{"$f":"IF(F191=\"\",\"\",VLOOKUP('OPĆI DIO'!$C$1,'OPĆI DIO'!$N$4:$W$137,9,FALSE))","v":""},"","","","",null,"",{"$nulls":4},{"$f":"IF(F191=\"\",\"\",'OPĆI DIO'!$C$1)","v":""},"","",{"$nulls":4},"63812-577",63812,"Tekuće pomoći iz proračuna JLP(R)S temeljem prijenosa EU sredstava",577,"Fond za pravednu tranziciju - predfinanciranje iz izvora 11 Opći prihodi i primici","638","63",577]
[{"$f":"IF(F192=\"\",\"\",VLOOKUP('OPĆI DIO'!$C$1,'OPĆI DIO'!$N$4:$W$137,10,FALSE))","v":""},{"$f":"IF(F192=\"\",\"\",VLOOKUP('OPĆI DIO'!$C$1,'OPĆI DIO'!$N$4:$W$137,9,FALSE))","v":""},"","","","",null,"",{"$nulls":4},{"$f":"IF(F192=\"\",\"\",'OPĆI DIO'!$C$1)","v":""},"","",{"$nulls":4},"63812-578",63812,"Tekuće pomoći iz proračuna JLP(R)S temeljem prijenosa EU sredstava",578,"Fond za unutarnju sigurnost - predfinanciranje iz izvora 11 Opći prihodi i primici","638","63",578]
[{"$f":"IF(F193=\"\",\"\",VLOOKUP('OPĆI DIO'!$C$1,'OPĆI DIO'!$N$4:$W$137,10,FALSE))","v":""},{"$f":"IF(F193=\"\",\"\",VLOOKUP('OPĆI DIO'!$C$1,'OPĆI DIO'!$N$4:$W$137,9,FALSE))","v":""},"","","","",null,"",{"$nulls":4},{"$f":"IF(F193=\"\",\"\",'OPĆI DIO'!$C$1)","v":""},"","",{"$nulls":4},{"$f":"U193&\"-\"&W193","v":"63812-579"},63812,"Tekuće pomoći iz proračuna JLP(R)S temeljem prijenosa EU sredstava",579,"Fond za integrirano upravljanje granicama - predfinanciranje iz izvora 11 Opći prihodi i primici","638","63",579]
[{"$f":"IF(F194=\"\",\"\",VLOOKUP('OPĆI DIO'!$C$1,'OPĆI DIO'!$N$4:$W$137,10,FALSE))","v":""},{"$f":"IF(F194=\"\",\"\",VLOOKUP('OPĆI DIO'!$C$1,'OPĆI DIO'!$N$4:$W$137,9,FALSE))","v":""},"","","","",null,"",{"$nulls":4},{"$f":"IF(F194=\"\",\"\",'OPĆI DIO'!$C$1)","v":""},"","",{"$nulls":4},"63812-581",63812,"Tekuće pomoći iz proračuna JLP(R)S temeljem prijenosa EU sredstava",581,"Mehanizam za oporavak i otpornost – bespovratna sredstva – raspoloživ predujam ili unaprijed naplaćen prihod","638","63",581]
[{"$f":"IF(F195=\"\",\"\",VLOOKUP('OPĆI DIO'!$C$1,'OPĆI DIO'!$N$4:$W$137,10,FALSE))","v":""},{"$f":"IF(F195=\"\",\"\",VLOOKUP('OPĆI DIO'!$C$1,'OPĆI DIO'!$N$4:$W$137,9,FALSE))","v":""},"","","","",null,"",{"$nulls":4},{"$f":"IF(F195=\"\",\"\",'OPĆI DIO'!$C$1)","v":""},"","",{"$nulls":4},"63813-561",63813,"Tekuće pomoći od proračunskog korisnika drugog proračuna temeljem prijenosa EU sredstava",561,"Europski socijalni fond plus – predfinanciranje iz izvora 11 Opći prihodi i primici","638","63",561]
[{"$f":"IF(F196=\"\",\"\",VLOOKUP('OPĆI DIO'!$C$1,'OPĆI DIO'!$N$4:$W$137,10,FALSE))","v":""},{"$f":"IF(F196=\"\",\"\",VLOOKUP('OPĆI DIO'!$C$1,'OPĆI DIO'!$N$4:$W$137,9,FALSE))","v":""},{"$f":"IFERROR(VLOOKUP(G196,$T$6:$AA$500,8,FALSE),\"\")","v":""},{"$f":"IFERROR(VLOOKUP(G196,$T$6:$AA$500,4,FALSE),\"\")","v":""},"",{"$f":"IFERROR(VLOOKUP(G196,$T$6:$AA$500,2,FALSE),\"\")","v":""},null,{"$f":"IFERROR(VLOOKUP(G196,$T$6:$AA$500,3,FALSE),\"\")","v":""},{"$nulls":4},{"$f":"IF(F196=\"\",\"\",'OPĆI DIO'!$C$1)","v":""},"","",{"$nulls":4},"63813-562",63813,"Tekuće pomoći od proračunskog korisnika drugog proračuna temeljem prijenosa EU sredstava",562,"Kohezijski fond - predfinanciranje iz izvora 11 Opći prihodi i primici","638","63",562]
[{"$f":"IF(F197=\"\",\"\",VLOOKUP('OPĆI DIO'!$C$1,'OPĆI DIO'!$N$4:$W$137,10,FALSE))","v":""},{"$f":"IF(F197=\"\",\"\",VLOOKUP('OPĆI DIO'!$C$1,'OPĆI DIO'!$N$4:$W$137,9,FALSE))","v":""},"","","","",null,"",{"$nulls":4},{"$f":"IF(F197=\"\",\"\",'OPĆI DIO'!$C$1)","v":""},"","",{"$nulls":4},"63813-563",63813,"Tekuće pomoći od proračunskog korisnika drugog proračuna temeljem prijenosa EU sredstava",563,"Europski fond za regionalni razvoj - predfinanciranje iz izvora 11 Opći prihodi i      primici","638","63",563]
[{"$f":"IF(F198=\"\",\"\",VLOOKUP('OPĆI DIO'!$C$1,'OPĆI DIO'!$N$4:$W$137,10,FALSE))","v":""},{"$f":"IF(F198=\"\",\"\",VLOOKUP('OPĆI DIO'!$C$1,'OPĆI DIO'!$N$4:$W$137,9,FALSE))","v":""},"","","","",null,"",{"$nulls":4},{"$f":"IF(F198=\"\",\"\",'OPĆI DIO'!$C$1)","v":""},"","",{"$nulls":4},"63813-564",63813,"Tekuće pomoći od proračunskog korisnika drugog proračuna temeljem prijenosa EU sredstava",564,"Fond za pomorstvo, ribarstvo i akvakulturu - predfinanciranje iz izvora 11 Opći prihodi i primici","638","63",564]
[{"$f":"IF(F199=\"\",\"\",VLOOKUP('OPĆI DIO'!$C$1,'OPĆI DIO'!$N$4:$W$137,10,FALSE))","v":""},{"$f":"IF(F199=\"\",\"\",VLOOKUP('OPĆI DIO'!$C$1,'OPĆI DIO'!$N$4:$W$137,9,FALSE))","v":""},"","","","",null,"",{"$nulls":4},{"$f":"IF(F199=\"\",\"\",'OPĆI DIO'!$C$1)","v":""},"","",{"$nulls":4},"63813-565",63813,"Tekuće pomoći od proračunskog korisnika drugog proračuna temeljem prijenosa EU sredstava",565,"Europski poljoprivredni fond za ruralni razvoj - predfinanciranje iz izvora 11 Opći prihodi i primici","638","63",565]
[{"$f":"IF(F200=\"\",\"\",VLOOKUP('OPĆI DIO'!$C$1,'OPĆI DIO'!$N$4:$W$137,10,FALSE))","v":""},{"$f":"IF(F200=\"\",\"\",VLOOKUP('OPĆI DIO'!$C$1,'OPĆI DIO'!$N$4:$W$137,9,FALSE))","v":""},"","","","",null,"",{"$nulls":4},{"$f":"IF(F200=\"\",\"\",'OPĆI DIO'!$C$1)","v":""},"","",{"$nulls":4},"63813-566",63813,"Tekuće pomoći od proračunskog korisnika drugog proračuna temeljem prijenosa EU sredstava",566,"Modernizacijski fond - predfinanciranje iz izvora 11 Opći prihodi i primici","638","63",566]
[{"$f":"IF(F201=\"\",\"\",VLOOKUP('OPĆI DIO'!$C$1,'OPĆI DIO'!$N$4:$W$137,10,FALSE))","v":""},{"$f":"IF(F201=\"\",\"\",VLOOKUP('OPĆI DIO'!$C$1,'OPĆI DIO'!$N$4:$W$137,9,FALSE))","v":""},"","","","",null,"",{"$nulls":4},{"$f":"IF(F201=\"\",\"\",'OPĆI DIO'!$C$1)","v":""},"","",{"$nulls":4},"63813-567",63813,"Tekuće pomoći od proračunskog korisnika drugog proračuna temeljem prijenosa EU sredstava",567,"Socijalni fond za klimatsku politiku - predfinanciranje iz izvora 11 Opći prihodi i primici","638","63",567]
[{"$f":"IF(F202=\"\",\"\",VLOOKUP('OPĆI DIO'!$C$1,'OPĆI DIO'!$N$4:$W$137,10,FALSE))","v":""},{"$f":"IF(F202=\"\",\"\",VLOOKUP('OPĆI DIO'!$C$1,'OPĆI DIO'!$N$4:$W$137,9,FALSE))","v":""},"","","","",null,"",{"$nulls":4},{"$f":"IF(F202=\"\",\"\",'OPĆI DIO'!$C$1)","v":""},{"$f":"LEFT(F202,2)","v":""},{"$f":"LEFT(F202,3)","v":""},{"$nulls":4},"63813-575",63813,"Tekuće pomoći od proračunskog korisnika drugog proračuna temeljem prijenosa EU sredstava",575,"Fond za azil, migracije i integraciju - predfinanciranje iz izvora 11 Opći prihodi i primici","638","63",575]
[{"$f":"IF(F203=\"\",\"\",VLOOKUP('OPĆI DIO'!$C$1,'OPĆI DIO'!$N$4:$W$137,10,FALSE))","v":""},{"$f":"IF(F203=\"\",\"\",VLOOKUP('OPĆI DIO'!$C$1,'OPĆI DIO'!$N$4:$W$137,9,FALSE))","v":""},"","",{"$f":"IFERROR(VLOOKUP(F203,$U$6:$X$113,4,FALSE),\"\")","v":""},"",null,"",{"$nulls":4},{"$f":"IF(F203=\"\",\"\",'OPĆI DIO'!$C$1)","v":""},"","",{"$nulls":4},"63813-577",63813,"Tekuće pomoći od proračunskog korisnika drugog proračuna temeljem prijenosa EU sredstava",577,"Fond za pravednu tranziciju - predfinanciranje iz izvora 11 Opći prihodi i primici","638","63",577]
[{"$f":"IF(F204=\"\",\"\",VLOOKUP('OPĆI DIO'!$C$1,'OPĆI DIO'!$N$4:$W$137,10,FALSE))","v":""},{"$f":"IF(F204=\"\",\"\",VLOOKUP('OPĆI DIO'!$C$1,'OPĆI DIO'!$N$4:$W$137,9,FALSE))","v":""},"","","","",null,"",{"$nulls":4},{"$f":"IF(F204=\"\",\"\",'OPĆI DIO'!$C$1)","v":""},"","",{"$nulls":4},"63813-578",63813,"Tekuće pomoći od proračunskog korisnika drugog proračuna temeljem prijenosa EU sredstava",578,"Fond za unutarnju sigurnost - predfinanciranje iz izvora 11 Opći prihodi i primici","638","63",578]
[{"$f":"IF(F205=\"\",\"\",VLOOKUP('OPĆI DIO'!$C$1,'OPĆI DIO'!$N$4:$W$137,10,FALSE))","v":""},{"$f":"IF(F205=\"\",\"\",VLOOKUP('OPĆI DIO'!$C$1,'OPĆI DIO'!$N$4:$W$137,9,FALSE))","v":""},"","","","",null,"",{"$nulls":4},{"$f":"IF(F205=\"\",\"\",'OPĆI DIO'!$C$1)","v":""},"","",{"$nulls":4},"63813-579",63813,"Tekuće pomoći od proračunskog korisnika drugog proračuna temeljem prijenosa EU sredstava",579,"Fond za integrirano upravljanje granicama - predfinanciranje iz izvora 11 Opći prihodi i primici","638","63",579]
[{"$f":"IF(F206=\"\",\"\",VLOOKUP('OPĆI DIO'!$C$1,'OPĆI DIO'!$N$4:$W$137,10,FALSE))","v":""},{"$f":"IF(F206=\"\",\"\",VLOOKUP('OPĆI DIO'!$C$1,'OPĆI DIO'!$N$4:$W$137,9,FALSE))","v":""},"","","","",null,"",{"$nulls":4},{"$f":"IF(F206=\"\",\"\",'OPĆI DIO'!$C$1)","v":""},"","",{"$nulls":4},"63813-581",63813,"Tekuće pomoći od proračunskog korisnika drugog proračuna temeljem prijenosa EU sredstava",581,"Mehanizam za oporavak i otpornost – bespovratna sredstva – raspoloživ predujam ili unaprijed naplaćen prihod","638","63",581]
[{"$f":"IF(F207=\"\",\"\",VLOOKUP('OPĆI DIO'!$C$1,'OPĆI DIO'!$N$4:$W$137,10,FALSE))","v":""},{"$f":"IF(F207=\"\",\"\",VLOOKUP('OPĆI DIO'!$C$1,'OPĆI DIO'!$N$4:$W$137,9,FALSE))","v":""},"","","","",null,"",{"$nulls":4},{"$f":"IF(F207=\"\",\"\",'OPĆI DIO'!$C$1)","v":""},"","",{"$nulls":4},"63814-561",63814,"Tekuće pomoći od izvanproračunskog korisnika temeljem prijenosa EU sredstava",561,"Europski socijalni fond plus – predfinanciranje iz izvora 11 Opći prihodi i primici","638","63",561]
[{"$f":"IF(F208=\"\",\"\",VLOOKUP('OPĆI DIO'!$C$1,'OPĆI DIO'!$N$4:$W$137,10,FALSE))","v":""},{"$f":"IF(F208=\"\",\"\",VLOOKUP('OPĆI DIO'!$C$1,'OPĆI DIO'!$N$4:$W$137,9,FALSE))","v":""},"","","","",null,"",{"$nulls":4},{"$f":"IF(F208=\"\",\"\",'OPĆI DIO'!$C$1)","v":""},"","",{"$nulls":4},"63814-562",63814,"Tekuće pomoći od izvanproračunskog korisnika temeljem prijenosa EU sredstava",562,"Kohezijski fond - predfinanciranje iz izvora 11 Opći prihodi i primici","638","63",562]
[{"$f":"IF(F209=\"\",\"\",VLOOKUP('OPĆI DIO'!$C$1,'OPĆI DIO'!$N$4:$W$137,10,FALSE))","v":""},{"$f":"IF(F209=\"\",\"\",VLOOKUP('OPĆI DIO'!$C$1,'OPĆI DIO'!$N$4:$W$137,9,FALSE))","v":""},"","","","",null,"",{"$nulls":4},{"$f":"IF(F209=\"\",\"\",'OPĆI DIO'!$C$1)","v":""},"","",{"$nulls":4},"63814-563",63814,"Tekuće pomoći od izvanproračunskog korisnika temeljem prijenosa EU sredstava",563,"Europski fond za regionalni razvoj - predfinanciranje iz izvora 11 Opći prihodi i      primici","638","63",563]
[{"$f":"IF(F210=\"\",\"\",VLOOKUP('OPĆI DIO'!$C$1,'OPĆI DIO'!$N$4:$W$137,10,FALSE))","v":""},{"$f":"IF(F210=\"\",\"\",VLOOKUP('OPĆI DIO'!$C$1,'OPĆI DIO'!$N$4:$W$137,9,FALSE))","v":""},"","","","",null,"",{"$nulls":4},{"$f":"IF(F210=\"\",\"\",'OPĆI DIO'!$C$1)","v":""},"","",{"$nulls":4},"63814-564",63814,"Tekuće pomoći od izvanproračunskog korisnika temeljem prijenosa EU sredstava",564,"Fond za pomorstvo, ribarstvo i akvakulturu - predfinanciranje iz izvora 11 Opći prihodi i primici","638","63",564]
[{"$f":"IF(F211=\"\",\"\",VLOOKUP('OPĆI DIO'!$C$1,'OPĆI DIO'!$N$4:$W$137,10,FALSE))","v":""},{"$f":"IF(F211=\"\",\"\",VLOOKUP('OPĆI DIO'!$C$1,'OPĆI DIO'!$N$4:$W$137,9,FALSE))","v":""},"","","","",null,"",{"$nulls":4},{"$f":"IF(F211=\"\",\"\",'OPĆI DIO'!$C$1)","v":""},"","",{"$nulls":4},"63814-565",63814,"Tekuće pomoći od izvanproračunskog korisnika temeljem prijenosa EU sredstava",565,"Europski poljoprivredni fond za ruralni razvoj - predfinanciranje iz izvora 11 Opći prihodi i primici","638","63",565]
[{"$f":"IF(F212=\"\",\"\",VLOOKUP('OPĆI DIO'!$C$1,'OPĆI DIO'!$N$4:$W$137,10,FALSE))","v":""},{"$f":"IF(F212=\"\",\"\",VLOOKUP('OPĆI DIO'!$C$1,'OPĆI DIO'!$N$4:$W$137,9,FALSE))","v":""},"","","","",null,"",{"$nulls":4},{"$f":"IF(F212=\"\",\"\",'OPĆI DIO'!$C$1)","v":""},"","",{"$nulls":4},"63814-566",63814,"Tekuće pomoći od izvanproračunskog korisnika temeljem prijenosa EU sredstava",566,"Modernizacijski fond - predfinanciranje iz izvora 11 Opći prihodi i primici","638","63",566]
[{"$f":"IF(F213=\"\",\"\",VLOOKUP('OPĆI DIO'!$C$1,'OPĆI DIO'!$N$4:$W$137,10,FALSE))","v":""},{"$f":"IF(F213=\"\",\"\",VLOOKUP('OPĆI DIO'!$C$1,'OPĆI DIO'!$N$4:$W$137,9,FALSE))","v":""},"","","","",null,"",{"$nulls":4},{"$f":"IF(F213=\"\",\"\",'OPĆI DIO'!$C$1)","v":""},"","",{"$nulls":4},"63814-567",63814,"Tekuće pomoći od izvanproračunskog korisnika temeljem prijenosa EU sredstava",567,"Socijalni fond za klimatsku politiku - predfinanciranje iz izvora 11 Opći prihodi i primici","638","63",567]
[{"$f":"IF(F214=\"\",\"\",VLOOKUP('OPĆI DIO'!$C$1,'OPĆI DIO'!$N$4:$W$137,10,FALSE))","v":""},{"$f":"IF(F214=\"\",\"\",VLOOKUP('OPĆI DIO'!$C$1,'OPĆI DIO'!$N$4:$W$137,9,FALSE))","v":""},"","","","",null,"",{"$nulls":4},{"$f":"IF(F214=\"\",\"\",'OPĆI DIO'!$C$1)","v":""},"","",{"$nulls":4},"63814-575",63814,"Tekuće pomoći od izvanproračunskog korisnika temeljem prijenosa EU sredstava",575,"Fond za azil, migracije i integraciju - predfinanciranje iz izvora 11 Opći prihodi i primici","638","63",575]
[{"$f":"IF(F215=\"\",\"\",VLOOKUP('OPĆI DIO'!$C$1,'OPĆI DIO'!$N$4:$W$137,10,FALSE))","v":""},{"$f":"IF(F215=\"\",\"\",VLOOKUP('OPĆI DIO'!$C$1,'OPĆI DIO'!$N$4:$W$137,9,FALSE))","v":""},"","","","",null,"",{"$nulls":4},{"$f":"IF(F215=\"\",\"\",'OPĆI DIO'!$C$1)","v":""},"","",{"$nulls":4},"63814-577",63814,"Tekuće pomoći od izvanproračunskog korisnika temeljem prijenosa EU sredstava",577,"Fond za pravednu tranziciju - predfinanciranje iz izvora 11 Opći prihodi i primici","638","63",577]
[{"$f":"IF(F216=\"\",\"\",VLOOKUP('OPĆI DIO'!$C$1,'OPĆI DIO'!$N$4:$W$137,10,FALSE))","v":""},{"$f":"IF(F216=\"\",\"\",VLOOKUP('OPĆI DIO'!$C$1,'OPĆI DIO'!$N$4:$W$137,9,FALSE))","v":""},"","","","",null,"",{"$nulls":4},{"$f":"IF(F216=\"\",\"\",'OPĆI DIO'!$C$1)","v":""},"","",{"$nulls":4},"63814-578",63814,"Tekuće pomoći od izvanproračunskog korisnika temeljem prijenosa EU sredstava",578,"Fond za unutarnju sigurnost - predfinanciranje iz izvora 11 Opći prihodi i primici","638","63",578]
[{"$f":"IF(F217=\"\",\"\",VLOOKUP('OPĆI DIO'!$C$1,'OPĆI DIO'!$N$4:$W$137,10,FALSE))","v":""},{"$f":"IF(F217=\"\",\"\",VLOOKUP('OPĆI DIO'!$C$1,'OPĆI DIO'!$N$4:$W$137,9,FALSE))","v":""},"","","","",null,"",{"$nulls":4},{"$f":"IF(F217=\"\",\"\",'OPĆI DIO'!$C$1)","v":""},"","",{"$nulls":4},"63814-579",63814,"Tekuće pomoći od izvanproračunskog korisnika temeljem prijenosa EU sredstava",579,"Fond za integrirano upravljanje granicama - predfinanciranje iz izvora 11 Opći prihodi i primici","638","63",579]
[{"$f":"IF(F218=\"\",\"\",VLOOKUP('OPĆI DIO'!$C$1,'OPĆI DIO'!$N$4:$W$137,10,FALSE))","v":""},{"$f":"IF(F218=\"\",\"\",VLOOKUP('OPĆI DIO'!$C$1,'OPĆI DIO'!$N$4:$W$137,9,FALSE))","v":""},"","","","",null,"",{"$nulls":4},{"$f":"IF(F218=\"\",\"\",'OPĆI DIO'!$C$1)","v":""},"","",{"$nulls":4},"63814-581",63814,"Tekuće pomoći od izvanproračunskog korisnika temeljem prijenosa EU sredstava",581,"Mehanizam za oporavak i otpornost – bespovratna sredstva – raspoloživ predujam ili unaprijed naplaćen prihod","638","63",581]
[{"$f":"IF(F219=\"\",\"\",VLOOKUP('OPĆI DIO'!$C$1,'OPĆI DIO'!$N$4:$W$137,10,FALSE))","v":""},{"$f":"IF(F219=\"\",\"\",VLOOKUP('OPĆI DIO'!$C$1,'OPĆI DIO'!$N$4:$W$137,9,FALSE))","v":""},"","","","",null,"",{"$nulls":4},{"$f":"IF(F219=\"\",\"\",'OPĆI DIO'!$C$1)","v":""},"","",{"$nulls":4},"63822-561",63822,"Kapitalne pomoći iz proračuna JLP(R)S temeljem prijenosa EU sredstava",561,"Europski socijalni fond plus – predfinanciranje iz izvora 11 Opći prihodi i primici","638","63",561]
[{"$f":"IF(F220=\"\",\"\",VLOOKUP('OPĆI DIO'!$C$1,'OPĆI DIO'!$N$4:$W$137,10,FALSE))","v":""},{"$f":"IF(F220=\"\",\"\",VLOOKUP('OPĆI DIO'!$C$1,'OPĆI DIO'!$N$4:$W$137,9,FALSE))","v":""},"","","","",null,"",{"$nulls":4},{"$f":"IF(F220=\"\",\"\",'OPĆI DIO'!$C$1)","v":""},"","",{"$nulls":4},"63822-562",63822,"Kapitalne pomoći iz proračuna JLP(R)S temeljem prijenosa EU sredstava",562,"Kohezijski fond - predfinanciranje iz izvora 11 Opći prihodi i primici","638","63",562]
[{"$f":"IF(F221=\"\",\"\",VLOOKUP('OPĆI DIO'!$C$1,'OPĆI DIO'!$N$4:$W$137,10,FALSE))","v":""},{"$f":"IF(F221=\"\",\"\",VLOOKUP('OPĆI DIO'!$C$1,'OPĆI DIO'!$N$4:$W$137,9,FALSE))","v":""},"","","","",null,"",{"$nulls":4},{"$f":"IF(F221=\"\",\"\",'OPĆI DIO'!$C$1)","v":""},"","",{"$nulls":4},"63822-563",63822,"Kapitalne pomoći iz proračuna JLP(R)S temeljem prijenosa EU sredstava",563,"Europski fond za regionalni razvoj - predfinanciranje iz izvora 11 Opći prihodi i      primici","638","63",563]
[{"$f":"IF(F222=\"\",\"\",VLOOKUP('OPĆI DIO'!$C$1,'OPĆI DIO'!$N$4:$W$137,10,FALSE))","v":""},{"$f":"IF(F222=\"\",\"\",VLOOKUP('OPĆI DIO'!$C$1,'OPĆI DIO'!$N$4:$W$137,9,FALSE))","v":""},"","","","",null,"",{"$nulls":4},{"$f":"IF(F222=\"\",\"\",'OPĆI DIO'!$C$1)","v":""},"","",{"$nulls":4},"63822-564",63822,"Kapitalne pomoći iz proračuna JLP(R)S temeljem prijenosa EU sredstava",564,"Fond za pomorstvo, ribarstvo i akvakulturu - predfinanciranje iz izvora 11 Opći prihodi i primici","638","63",564]
[{"$f":"IF(F223=\"\",\"\",VLOOKUP('OPĆI DIO'!$C$1,'OPĆI DIO'!$N$4:$W$137,10,FALSE))","v":""},{"$f":"IF(F223=\"\",\"\",VLOOKUP('OPĆI DIO'!$C$1,'OPĆI DIO'!$N$4:$W$137,9,FALSE))","v":""},"","","","",null,"",{"$nulls":4},{"$f":"IF(F223=\"\",\"\",'OPĆI DIO'!$C$1)","v":""},"","",{"$nulls":4},"63822-565",63822,"Kapitalne pomoći iz proračuna JLP(R)S temeljem prijenosa EU sredstava",565,"Europski poljoprivredni fond za ruralni razvoj - predfinanciranje iz izvora 11 Opći prihodi i primici","638","63",565]
[{"$f":"IF(F224=\"\",\"\",VLOOKUP('OPĆI DIO'!$C$1,'OPĆI DIO'!$N$4:$W$137,10,FALSE))","v":""},{"$f":"IF(F224=\"\",\"\",VLOOKUP('OPĆI DIO'!$C$1,'OPĆI DIO'!$N$4:$W$137,9,FALSE))","v":""},"","","","",null,"",{"$nulls":4},{"$f":"IF(F224=\"\",\"\",'OPĆI DIO'!$C$1)","v":""},"","",{"$nulls":4},"63822-566",63822,"Kapitalne pomoći iz proračuna JLP(R)S temeljem prijenosa EU sredstava",566,"Modernizacijski fond - predfinanciranje iz izvora 11 Opći prihodi i primici","638","63",566]
[{"$f":"IF(F225=\"\",\"\",VLOOKUP('OPĆI DIO'!$C$1,'OPĆI DIO'!$N$4:$W$137,10,FALSE))","v":""},{"$f":"IF(F225=\"\",\"\",VLOOKUP('OPĆI DIO'!$C$1,'OPĆI DIO'!$N$4:$W$137,9,FALSE))","v":""},"","","","",null,"",{"$nulls":4},{"$f":"IF(F225=\"\",\"\",'OPĆI DIO'!$C$1)","v":""},"","",{"$nulls":4},"63822-567",63822,"Kapitalne pomoći iz proračuna JLP(R)S temeljem prijenosa EU sredstava",567,"Socijalni fond za klimatsku politiku - predfinanciranje iz izvora 11 Opći prihodi i primici","638","63",567]
[{"$f":"IF(F226=\"\",\"\",VLOOKUP('OPĆI DIO'!$C$1,'OPĆI DIO'!$N$4:$W$137,10,FALSE))","v":""},{"$f":"IF(F226=\"\",\"\",VLOOKUP('OPĆI DIO'!$C$1,'OPĆI DIO'!$N$4:$W$137,9,FALSE))","v":""},"","","","",null,"",{"$nulls":4},{"$f":"IF(F226=\"\",\"\",'OPĆI DIO'!$C$1)","v":""},"","",{"$nulls":4},"63822-575",63822,"Kapitalne pomoći iz proračuna JLP(R)S temeljem prijenosa EU sredstava",575,"Fond za azil, migracije i integraciju - predfinanciranje iz izvora 11 Opći prihodi i primici","638","63",575]
[{"$f":"IF(F227=\"\",\"\",VLOOKUP('OPĆI DIO'!$C$1,'OPĆI DIO'!$N$4:$W$137,10,FALSE))","v":""},{"$f":"IF(F227=\"\",\"\",VLOOKUP('OPĆI DIO'!$C$1,'OPĆI DIO'!$N$4:$W$137,9,FALSE))","v":""},"","","","",null,"",{"$nulls":4},{"$f":"IF(F227=\"\",\"\",'OPĆI DIO'!$C$1)","v":""},"","",{"$nulls":4},"63822-577",63822,"Kapitalne pomoći iz proračuna JLP(R)S temeljem prijenosa EU sredstava",577,"Fond za pravednu tranziciju - predfinanciranje iz izvora 11 Opći prihodi i primici","638","63",577]
[{"$f":"IF(F228=\"\",\"\",VLOOKUP('OPĆI DIO'!$C$1,'OPĆI DIO'!$N$4:$W$137,10,FALSE))","v":""},{"$f":"IF(F228=\"\",\"\",VLOOKUP('OPĆI DIO'!$C$1,'OPĆI DIO'!$N$4:$W$137,9,FALSE))","v":""},"","","","",null,"",{"$nulls":4},{"$f":"IF(F228=\"\",\"\",'OPĆI DIO'!$C$1)","v":""},"","",{"$nulls":4},"63822-578",63822,"Kapitalne pomoći iz proračuna JLP(R)S temeljem prijenosa EU sredstava",578,"Fond za unutarnju sigurnost - predfinanciranje iz izvora 11 Opći prihodi i primici","638","63",578]
[{"$f":"IF(F229=\"\",\"\",VLOOKUP('OPĆI DIO'!$C$1,'OPĆI DIO'!$N$4:$W$137,10,FALSE))","v":""},{"$f":"IF(F229=\"\",\"\",VLOOKUP('OPĆI DIO'!$C$1,'OPĆI DIO'!$N$4:$W$137,9,FALSE))","v":""},"","","","",null,"",{"$nulls":4},{"$f":"IF(F229=\"\",\"\",'OPĆI DIO'!$C$1)","v":""},"","",{"$nulls":4},"63822-579",63822,"Kapitalne pomoći iz proračuna JLP(R)S temeljem prijenosa EU sredstava",579,"Fond za integrirano upravljanje granicama - predfinanciranje iz izvora 11 Opći prihodi i primici","638","63",579]
[{"$f":"IF(F230=\"\",\"\",VLOOKUP('OPĆI DIO'!$C$1,'OPĆI DIO'!$N$4:$W$137,10,FALSE))","v":""},{"$f":"IF(F230=\"\",\"\",VLOOKUP('OPĆI DIO'!$C$1,'OPĆI DIO'!$N$4:$W$137,9,FALSE))","v":""},"","","","",null,"",{"$nulls":4},{"$f":"IF(F230=\"\",\"\",'OPĆI DIO'!$C$1)","v":""},"","",{"$nulls":4},"63822-581",63822,"Kapitalne pomoći iz proračuna JLP(R)S temeljem prijenosa EU sredstava",581,"Mehanizam za oporavak i otpornost – bespovratna sredstva – raspoloživ predujam ili unaprijed naplaćen prihod","638","63",581]
[{"$f":"IF(F231=\"\",\"\",VLOOKUP('OPĆI DIO'!$C$1,'OPĆI DIO'!$N$4:$W$137,10,FALSE))","v":""},{"$f":"IF(F231=\"\",\"\",VLOOKUP('OPĆI DIO'!$C$1,'OPĆI DIO'!$N$4:$W$137,9,FALSE))","v":""},"","","","",null,"",{"$nulls":4},{"$f":"IF(F231=\"\",\"\",'OPĆI DIO'!$C$1)","v":""},"","",{"$nulls":4},"63823-561",63823,"Kapitalne pomoći od proračunskog korisnika drugog proračuna temeljem prijenosa EU sredstava",561,"Europski socijalni fond plus – predfinanciranje iz izvora 11 Opći prihodi i primici","638","63",561]
[{"$f":"IF(F232=\"\",\"\",VLOOKUP('OPĆI DIO'!$C$1,'OPĆI DIO'!$N$4:$W$137,10,FALSE))","v":""},{"$f":"IF(F232=\"\",\"\",VLOOKUP('OPĆI DIO'!$C$1,'OPĆI DIO'!$N$4:$W$137,9,FALSE))","v":""},"","","","",null,"",{"$nulls":4},{"$f":"IF(F232=\"\",\"\",'OPĆI DIO'!$C$1)","v":""},"","",{"$nulls":4},"63823-562",63823,"Kapitalne pomoći od proračunskog korisnika drugog proračuna temeljem prijenosa EU sredstava",562,"Kohezijski fond - predfinanciranje iz izvora 11 Opći prihodi i primici","638","63",562]
[{"$f":"IF(F233=\"\",\"\",VLOOKUP('OPĆI DIO'!$C$1,'OPĆI DIO'!$N$4:$W$137,10,FALSE))","v":""},{"$f":"IF(F233=\"\",\"\",VLOOKUP('OPĆI DIO'!$C$1,'OPĆI DIO'!$N$4:$W$137,9,FALSE))","v":""},"","","","",null,"",{"$nulls":4},{"$f":"IF(F233=\"\",\"\",'OPĆI DIO'!$C$1)","v":""},"","",{"$nulls":4},"63823-563",63823,"Kapitalne pomoći od proračunskog korisnika drugog proračuna temeljem prijenosa EU sredstava",563,"Europski fond za regionalni razvoj - predfinanciranje iz izvora 11 Opći prihodi i      primici","638","63",563]
[{"$f":"IF(F234=\"\",\"\",VLOOKUP('OPĆI DIO'!$C$1,'OPĆI DIO'!$N$4:$W$137,10,FALSE))","v":""},{"$f":"IF(F234=\"\",\"\",VLOOKUP('OPĆI DIO'!$C$1,'OPĆI DIO'!$N$4:$W$137,9,FALSE))","v":""},"","","","",null,"",{"$nulls":4},{"$f":"IF(F234=\"\",\"\",'OPĆI DIO'!$C$1)","v":""},"","",{"$nulls":4},"63823-564",63823,"Kapitalne pomoći od proračunskog korisnika drugog proračuna temeljem prijenosa EU sredstava",564,"Fond za pomorstvo, ribarstvo i akvakulturu - predfinanciranje iz izvora 11 Opći prihodi i primici","638","63",564]
[{"$f":"IF(F235=\"\",\"\",VLOOKUP('OPĆI DIO'!$C$1,'OPĆI DIO'!$N$4:$W$137,10,FALSE))","v":""},{"$f":"IF(F235=\"\",\"\",VLOOKUP('OPĆI DIO'!$C$1,'OPĆI DIO'!$N$4:$W$137,9,FALSE))","v":""},"","","","",null,"",{"$nulls":4},{"$f":"IF(F235=\"\",\"\",'OPĆI DIO'!$C$1)","v":""},"","",{"$nulls":4},"63823-565",63823,"Kapitalne pomoći od proračunskog korisnika drugog proračuna temeljem prijenosa EU sredstava",565,"Europski poljoprivredni fond za ruralni razvoj - predfinanciranje iz izvora 11 Opći prihodi i primici","638","63",565]
[{"$f":"IF(F236=\"\",\"\",VLOOKUP('OPĆI DIO'!$C$1,'OPĆI DIO'!$N$4:$W$137,10,FALSE))","v":""},{"$f":"IF(F236=\"\",\"\",VLOOKUP('OPĆI DIO'!$C$1,'OPĆI DIO'!$N$4:$W$137,9,FALSE))","v":""},"","","","",null,"",{"$nulls":4},{"$f":"IF(F236=\"\",\"\",'OPĆI DIO'!$C$1)","v":""},"","",{"$nulls":4},"63823-566",63823,"Kapitalne pomoći od proračunskog korisnika drugog proračuna temeljem prijenosa EU sredstava",566,"Modernizacijski fond - predfinanciranje iz izvora 11 Opći prihodi i primici","638","63",566]
[{"$f":"IF(F237=\"\",\"\",VLOOKUP('OPĆI DIO'!$C$1,'OPĆI DIO'!$N$4:$W$137,10,FALSE))","v":""},{"$f":"IF(F237=\"\",\"\",VLOOKUP('OPĆI DIO'!$C$1,'OPĆI DIO'!$N$4:$W$137,9,FALSE))","v":""},"","","","",null,"",{"$nulls":4},{"$f":"IF(F237=\"\",\"\",'OPĆI DIO'!$C$1)","v":""},"","",{"$nulls":4},"63823-567",63823,"Kapitalne pomoći od proračunskog korisnika drugog proračuna temeljem prijenosa EU sredstava",567,"Socijalni fond za klimatsku politiku - predfinanciranje iz izvora 11 Opći prihodi i primici","638","63",567]
[{"$f":"IF(F238=\"\",\"\",VLOOKUP('OPĆI DIO'!$C$1,'OPĆI DIO'!$N$4:$W$137,10,FALSE))","v":""},{"$f":"IF(F238=\"\",\"\",VLOOKUP('OPĆI DIO'!$C$1,'OPĆI DIO'!$N$4:$W$137,9,FALSE))","v":""},"","","","",null,"",{"$nulls":4},{"$f":"IF(F238=\"\",\"\",'OPĆI DIO'!$C$1)","v":""},"","",{"$nulls":4},"63823-575",63823,"Kapitalne pomoći od proračunskog korisnika drugog proračuna temeljem prijenosa EU sredstava",575,"Fond za azil, migracije i integraciju - predfinanciranje iz izvora 11 Opći prihodi i primici","638","63",575]
[{"$f":"IF(F239=\"\",\"\",VLOOKUP('OPĆI DIO'!$C$1,'OPĆI DIO'!$N$4:$W$137,10,FALSE))","v":""},{"$f":"IF(F239=\"\",\"\",VLOOKUP('OPĆI DIO'!$C$1,'OPĆI DIO'!$N$4:$W$137,9,FALSE))","v":""},"","","","",null,"",{"$nulls":4},{"$f":"IF(F239=\"\",\"\",'OPĆI DIO'!$C$1)","v":""},"","",{"$nulls":4},"63823-577",63823,"Kapitalne pomoći od proračunskog korisnika drugog proračuna temeljem prijenosa EU sredstava",577,"Fond za pravednu tranziciju - predfinanciranje iz izvora 11 Opći prihodi i primici","638","63",577]
[{"$f":"IF(F240=\"\",\"\",VLOOKUP('OPĆI DIO'!$C$1,'OPĆI DIO'!$N$4:$W$137,10,FALSE))","v":""},{"$f":"IF(F240=\"\",\"\",VLOOKUP('OPĆI DIO'!$C$1,'OPĆI DIO'!$N$4:$W$137,9,FALSE))","v":""},"","","","",null,"",{"$nulls":4},{"$f":"IF(F240=\"\",\"\",'OPĆI DIO'!$C$1)","v":""},"","",{"$nulls":4},"63823-578",63823,"Kapitalne pomoći od proračunskog korisnika drugog proračuna temeljem prijenosa EU sredstava",578,"Fond za unutarnju sigurnost - predfinanciranje iz izvora 11 Opći prihodi i primici","638","63",578]
[{"$f":"IF(F241=\"\",\"\",VLOOKUP('OPĆI DIO'!$C$1,'OPĆI DIO'!$N$4:$W$137,10,FALSE))","v":""},{"$f":"IF(F241=\"\",\"\",VLOOKUP('OPĆI DIO'!$C$1,'OPĆI DIO'!$N$4:$W$137,9,FALSE))","v":""},"","","","",null,"",{"$nulls":4},{"$f":"IF(F241=\"\",\"\",'OPĆI DIO'!$C$1)","v":""},"","",{"$nulls":4},"63823-579",63823,"Kapitalne pomoći od proračunskog korisnika drugog proračuna temeljem prijenosa EU sredstava",579,"Fond za integrirano upravljanje granicama - predfinanciranje iz izvora 11 Opći prihodi i primici","638","63",579]
[{"$f":"IF(F242=\"\",\"\",VLOOKUP('OPĆI DIO'!$C$1,'OPĆI DIO'!$N$4:$W$137,10,FALSE))","v":""},{"$f":"IF(F242=\"\",\"\",VLOOKUP('OPĆI DIO'!$C$1,'OPĆI DIO'!$N$4:$W$137,9,FALSE))","v":""},"","","","",null,"",{"$nulls":4},{"$f":"IF(F242=\"\",\"\",'OPĆI DIO'!$C$1)","v":""},"","",{"$nulls":4},"63823-581",63823,"Kapitalne pomoći od proračunskog korisnika drugog proračuna temeljem prijenosa EU sredstava",581,"Mehanizam za oporavak i otpornost – bespovratna sredstva – raspoloživ predujam ili unaprijed naplaćen prihod","638","63",581]
[{"$f":"IF(F243=\"\",\"\",VLOOKUP('OPĆI DIO'!$C$1,'OPĆI DIO'!$N$4:$W$137,10,FALSE))","v":""},{"$f":"IF(F243=\"\",\"\",VLOOKUP('OPĆI DIO'!$C$1,'OPĆI DIO'!$N$4:$W$137,9,FALSE))","v":""},"","","","",null,"",{"$nulls":4},{"$f":"IF(F243=\"\",\"\",'OPĆI DIO'!$C$1)","v":""},"","",{"$nulls":4},"63824-561",63824,"Kapitalne pomoći od izvanproračunskog korisnika temeljem prijenosa EU sredstava",561,"Europski socijalni fond plus – predfinanciranje iz izvora 11 Opći prihodi i primici","638","63",561]
[{"$f":"IF(F244=\"\",\"\",VLOOKUP('OPĆI DIO'!$C$1,'OPĆI DIO'!$N$4:$W$137,10,FALSE))","v":""},{"$f":"IF(F244=\"\",\"\",VLOOKUP('OPĆI DIO'!$C$1,'OPĆI DIO'!$N$4:$W$137,9,FALSE))","v":""},"","","","",null,"",{"$nulls":4},{"$f":"IF(F244=\"\",\"\",'OPĆI DIO'!$C$1)","v":""},"","",{"$nulls":4},"63824-562",63824,"Kapitalne pomoći od izvanproračunskog korisnika temeljem prijenosa EU sredstava",562,"Kohezijski fond - predfinanciranje iz izvora 11 Opći prihodi i primici","638","63",562]
[{"$f":"IF(F245=\"\",\"\",VLOOKUP('OPĆI DIO'!$C$1,'OPĆI DIO'!$N$4:$W$137,10,FALSE))","v":""},{"$f":"IF(F245=\"\",\"\",VLOOKUP('OPĆI DIO'!$C$1,'OPĆI DIO'!$N$4:$W$137,9,FALSE))","v":""},"","","","",null,"",{"$nulls":4},{"$f":"IF(F245=\"\",\"\",'OPĆI DIO'!$C$1)","v":""},"","",{"$nulls":4},"63824-563",63824,"Kapitalne pomoći od izvanproračunskog korisnika temeljem prijenosa EU sredstava",563,"Europski fond za regionalni razvoj - predfinanciranje iz izvora 11 Opći prihodi i      primici","638","63",563]
[{"$f":"IF(F246=\"\",\"\",VLOOKUP('OPĆI DIO'!$C$1,'OPĆI DIO'!$N$4:$W$137,10,FALSE))","v":""},{"$f":"IF(F246=\"\",\"\",VLOOKUP('OPĆI DIO'!$C$1,'OPĆI DIO'!$N$4:$W$137,9,FALSE))","v":""},"","","","",null,"",{"$nulls":4},{"$f":"IF(F246=\"\",\"\",'OPĆI DIO'!$C$1)","v":""},"","",{"$nulls":4},"63824-564",63824,"Kapitalne pomoći od izvanproračunskog korisnika temeljem prijenosa EU sredstava",564,"Fond za pomorstvo, ribarstvo i akvakulturu - predfinanciranje iz izvora 11 Opći prihodi i primici","638","63",564]
[{"$f":"IF(F247=\"\",\"\",VLOOKUP('OPĆI DIO'!$C$1,'OPĆI DIO'!$N$4:$W$137,10,FALSE))","v":""},{"$f":"IF(F247=\"\",\"\",VLOOKUP('OPĆI DIO'!$C$1,'OPĆI DIO'!$N$4:$W$137,9,FALSE))","v":""},"","","","",null,"",{"$nulls":4},{"$f":"IF(F247=\"\",\"\",'OPĆI DIO'!$C$1)","v":""},"","",{"$nulls":4},"63824-565",63824,"Kapitalne pomoći od izvanproračunskog korisnika temeljem prijenosa EU sredstava",565,"Europski poljoprivredni fond za ruralni razvoj - predfinanciranje iz izvora 11 Opći prihodi i primici","638","63",565]
[{"$f":"IF(F248=\"\",\"\",VLOOKUP('OPĆI DIO'!$C$1,'OPĆI DIO'!$N$4:$W$137,10,FALSE))","v":""},{"$f":"IF(F248=\"\",\"\",VLOOKUP('OPĆI DIO'!$C$1,'OPĆI DIO'!$N$4:$W$137,9,FALSE))","v":""},"","","","",null,"",{"$nulls":4},{"$f":"IF(F248=\"\",\"\",'OPĆI DIO'!$C$1)","v":""},"","",{"$nulls":4},"63824-566",63824,"Kapitalne pomoći od izvanproračunskog korisnika temeljem prijenosa EU sredstava",566,"Modernizacijski fond - predfinanciranje iz izvora 11 Opći prihodi i primici","638","63",566]
[{"$f":"IF(F249=\"\",\"\",VLOOKUP('OPĆI DIO'!$C$1,'OPĆI DIO'!$N$4:$W$137,10,FALSE))","v":""},{"$f":"IF(F249=\"\",\"\",VLOOKUP('OPĆI DIO'!$C$1,'OPĆI DIO'!$N$4:$W$137,9,FALSE))","v":""},"","","","",null,"",{"$nulls":4},{"$f":"IF(F249=\"\",\"\",'OPĆI DIO'!$C$1)","v":""},"","",{"$nulls":4},"63824-567",63824,"Kapitalne pomoći od izvanproračunskog korisnika temeljem prijenosa EU sredstava",567,"Socijalni fond za klimatsku politiku - predfinanciranje iz izvora 11 Opći prihodi i primici","638","63",567]
[{"$f":"IF(F250=\"\",\"\",VLOOKUP('OPĆI DIO'!$C$1,'OPĆI DIO'!$N$4:$W$137,10,FALSE))","v":""},{"$f":"IF(F250=\"\",\"\",VLOOKUP('OPĆI DIO'!$C$1,'OPĆI DIO'!$N$4:$W$137,9,FALSE))","v":""},"","","","",null,"",{"$nulls":4},{"$f":"IF(F250=\"\",\"\",'OPĆI DIO'!$C$1)","v":""},"","",{"$nulls":4},"63824-575",63824,"Kapitalne pomoći od izvanproračunskog korisnika temeljem prijenosa EU sredstava",575,"Fond za azil, migracije i integraciju - predfinanciranje iz izvora 11 Opći prihodi i primici","638","63",575]
[{"$f":"IF(F251=\"\",\"\",VLOOKUP('OPĆI DIO'!$C$1,'OPĆI DIO'!$N$4:$W$137,10,FALSE))","v":""},{"$f":"IF(F251=\"\",\"\",VLOOKUP('OPĆI DIO'!$C$1,'OPĆI DIO'!$N$4:$W$137,9,FALSE))","v":""},"","","","",null,"",{"$nulls":4},{"$f":"IF(F251=\"\",\"\",'OPĆI DIO'!$C$1)","v":""},"","",{"$nulls":4},"63824-577",63824,"Kapitalne pomoći od izvanproračunskog korisnika temeljem prijenosa EU sredstava",577,"Fond za pravednu tranziciju - predfinanciranje iz izvora 11 Opći prihodi i primici","638","63",577]
[{"$f":"IF(F252=\"\",\"\",VLOOKUP('OPĆI DIO'!$C$1,'OPĆI DIO'!$N$4:$W$137,10,FALSE))","v":""},{"$f":"IF(F252=\"\",\"\",VLOOKUP('OPĆI DIO'!$C$1,'OPĆI DIO'!$N$4:$W$137,9,FALSE))","v":""},"","","","",null,"",{"$nulls":4},{"$f":"IF(F252=\"\",\"\",'OPĆI DIO'!$C$1)","v":""},"","",{"$nulls":4},"63824-578",63824,"Kapitalne pomoći od izvanproračunskog korisnika temeljem prijenosa EU sredstava",578,"Fond za unutarnju sigurnost - predfinanciranje iz izvora 11 Opći prihodi i primici","638","63",578]
[{"$f":"IF(F253=\"\",\"\",VLOOKUP('OPĆI DIO'!$C$1,'OPĆI DIO'!$N$4:$W$137,10,FALSE))","v":""},{"$f":"IF(F253=\"\",\"\",VLOOKUP('OPĆI DIO'!$C$1,'OPĆI DIO'!$N$4:$W$137,9,FALSE))","v":""},"","","","",null,"",{"$nulls":4},{"$f":"IF(F253=\"\",\"\",'OPĆI DIO'!$C$1)","v":""},"","",{"$nulls":4},"63824-579",63824,"Kapitalne pomoći od izvanproračunskog korisnika temeljem prijenosa EU sredstava",579,"Fond za integrirano upravljanje granicama - predfinanciranje iz izvora 11 Opći prihodi i primici","638","63",579]
[{"$f":"IF(F254=\"\",\"\",VLOOKUP('OPĆI DIO'!$C$1,'OPĆI DIO'!$N$4:$W$137,10,FALSE))","v":""},{"$f":"IF(F254=\"\",\"\",VLOOKUP('OPĆI DIO'!$C$1,'OPĆI DIO'!$N$4:$W$137,9,FALSE))","v":""},"","","","",null,"",{"$nulls":4},{"$f":"IF(F254=\"\",\"\",'OPĆI DIO'!$C$1)","v":""},"","",{"$nulls":4},"63824-581",63824,"Kapitalne pomoći od izvanproračunskog korisnika temeljem prijenosa EU sredstava",581,"Mehanizam za oporavak i otpornost – bespovratna sredstva – raspoloživ predujam ili unaprijed naplaćen prihod","638","63",581]
[{"$f":"IF(F255=\"\",\"\",VLOOKUP('OPĆI DIO'!$C$1,'OPĆI DIO'!$N$4:$W$137,10,FALSE))","v":""},{"$f":"IF(F255=\"\",\"\",VLOOKUP('OPĆI DIO'!$C$1,'OPĆI DIO'!$N$4:$W$137,9,FALSE))","v":""},"","","","",null,"",{"$nulls":4},{"$f":"IF(F255=\"\",\"\",'OPĆI DIO'!$C$1)","v":""},"","",{"$nulls":4},"63911-5011",63911,"Tekući prijenosi između proračunskih korisnika istog proračuna",5011,"5011 Pomoći iz državnog proračuna kroz opće prihode i primitke","639","63",5011]
[{"$f":"IF(F256=\"\",\"\",VLOOKUP('OPĆI DIO'!$C$1,'OPĆI DIO'!$N$4:$W$137,10,FALSE))","v":""},{"$f":"IF(F256=\"\",\"\",VLOOKUP('OPĆI DIO'!$C$1,'OPĆI DIO'!$N$4:$W$137,9,FALSE))","v":""},"","","","",null,"",{"$nulls":4},{"$f":"IF(F256=\"\",\"\",'OPĆI DIO'!$C$1)","v":""},"","",{"$nulls":4},"63911-5041",63911,"Tekući prijenosi između proračunskih korisnika istog proračuna",5041,"5041 Pomoći iz državnog proračuna kroz prihode od igara na sreću","639","63",5041]
[{"$f":"IF(F257=\"\",\"\",VLOOKUP('OPĆI DIO'!$C$1,'OPĆI DIO'!$N$4:$W$137,10,FALSE))","v":""},{"$f":"IF(F257=\"\",\"\",VLOOKUP('OPĆI DIO'!$C$1,'OPĆI DIO'!$N$4:$W$137,9,FALSE))","v":""},"","","","",null,"",{"$nulls":4},{"$f":"IF(F257=\"\",\"\",'OPĆI DIO'!$C$1)","v":""},"","",{"$nulls":4},{"$f":"U257&\"-\"&W257","v":"63911-5043"},63911,"Tekući prijenosi između proračunskih korisnika istog proračuna",5043,"5043 Pomoći iz državnog proračuna kroz ostale prihode za posebne namjene",{"$f":"LEFT(U257,3)","v":"639"},{"$f":"LEFT(U257,2)","v":"63"},5043]
[{"$f":"IF(F258=\"\",\"\",VLOOKUP('OPĆI DIO'!$C$1,'OPĆI DIO'!$N$4:$W$137,10,FALSE))","v":""},{"$f":"IF(F258=\"\",\"\",VLOOKUP('OPĆI DIO'!$C$1,'OPĆI DIO'!$N$4:$W$137,9,FALSE))","v":""},"","","","",null,"",{"$nulls":4},{"$f":"IF(F258=\"\",\"\",'OPĆI DIO'!$C$1)","v":""},"","",{"$nulls":4},"63911-5052",63911,"Tekući prijenosi između proračunskih korisnika istog proračuna",5052,"5052 Pomoći iz državnog proračuna kroz ostale pomoći","639","63",5052]
[{"$f":"IF(F259=\"\",\"\",VLOOKUP('OPĆI DIO'!$C$1,'OPĆI DIO'!$N$4:$W$137,10,FALSE))","v":""},{"$f":"IF(F259=\"\",\"\",VLOOKUP('OPĆI DIO'!$C$1,'OPĆI DIO'!$N$4:$W$137,9,FALSE))","v":""},"","","","",null,"",{"$nulls":4},{"$f":"IF(F259=\"\",\"\",'OPĆI DIO'!$C$1)","v":""},"","",{"$nulls":4},"63911-50810",63911,"Tekući prijenosi između proračunskih korisnika istog proračuna",50810,"50810 Pomoći iz državnog proračuna kroz namjenske primitke od zaduživanja – ostali","639","63",50810]
[{"$f":"IF(F260=\"\",\"\",VLOOKUP('OPĆI DIO'!$C$1,'OPĆI DIO'!$N$4:$W$137,10,FALSE))","v":""},{"$f":"IF(F260=\"\",\"\",VLOOKUP('OPĆI DIO'!$C$1,'OPĆI DIO'!$N$4:$W$137,9,FALSE))","v":""},{"$f":"IFERROR(VLOOKUP(G260,$T$6:$AA$500,8,FALSE),\"\")","v":""},{"$f":"IFERROR(VLOOKUP(G260,$T$6:$AA$500,4,FALSE),\"\")","v":""},"",{"$f":"IFERROR(VLOOKUP(G260,$T$6:$AA$500,2,FALSE),\"\")","v":""},null,{"$f":"IFERROR(VLOOKUP(G260,$T$6:$AA$500,3,FALSE),\"\")","v":""},{"$nulls":4},{"$f":"IF(F260=\"\",\"\",'OPĆI DIO'!$C$1)","v":""},"","",{"$nulls":4},"63921-5011",63921,"Kapitalni prijenosi između proračunskih korisnika istog proračuna",5011,"5011 Pomoći iz državnog proračuna kroz opće prihode i primitke","639","63",5011]
[{"$f":"IF(F261=\"\",\"\",VLOOKUP('OPĆI DIO'!$C$1,'OPĆI DIO'!$N$4:$W$137,10,FALSE))","v":""},{"$f":"IF(F261=\"\",\"\",VLOOKUP('OPĆI DIO'!$C$1,'OPĆI DIO'!$N$4:$W$137,9,FALSE))","v":""},"","","","",null,"",{"$nulls":4},{"$f":"IF(F261=\"\",\"\",'OPĆI DIO'!$C$1)","v":""},"","",{"$nulls":4},"63921-5041",63921,"Kapitalni prijenosi između proračunskih korisnika istog proračuna",5041,"5041 Pomoći iz državnog proračuna kroz prihode od igara na sreću","639","63",5041]
[{"$f":"IF(F262=\"\",\"\",VLOOKUP('OPĆI DIO'!$C$1,'OPĆI DIO'!$N$4:$W$137,10,FALSE))","v":""},{"$f":"IF(F262=\"\",\"\",VLOOKUP('OPĆI DIO'!$C$1,'OPĆI DIO'!$N$4:$W$137,9,FALSE))","v":""},"","","","",null,"",{"$nulls":4},{"$f":"IF(F262=\"\",\"\",'OPĆI DIO'!$C$1)","v":""},"","",{"$nulls":4},"63921-5043",63921,"Kapitalni prijenosi između proračunskih korisnika istog proračuna",5043,"5043 Pomoći iz državnog proračuna kroz ostale prihode za posebne namjene","639","63",5043]
[{"$f":"IF(F263=\"\",\"\",VLOOKUP('OPĆI DIO'!$C$1,'OPĆI DIO'!$N$4:$W$137,10,FALSE))","v":""},{"$f":"IF(F263=\"\",\"\",VLOOKUP('OPĆI DIO'!$C$1,'OPĆI DIO'!$N$4:$W$137,9,FALSE))","v":""},"","","","",null,"",{"$nulls":4},{"$f":"IF(F263=\"\",\"\",'OPĆI DIO'!$C$1)","v":""},"","",{"$nulls":4},"63921-5052",63921,"Kapitalni prijenosi između proračunskih korisnika istog proračuna",5052,"5052 Pomoći iz državnog proračuna kroz ostale pomoći","639","63",5052]
[{"$f":"IF(F264=\"\",\"\",VLOOKUP('OPĆI DIO'!$C$1,'OPĆI DIO'!$N$4:$W$137,10,FALSE))","v":""},{"$f":"IF(F264=\"\",\"\",VLOOKUP('OPĆI DIO'!$C$1,'OPĆI DIO'!$N$4:$W$137,9,FALSE))","v":""},"","","","",null,"",{"$nulls":4},{"$f":"IF(F264=\"\",\"\",'OPĆI DIO'!$C$1)","v":""},{"$f":"LEFT(F264,2)","v":""},{"$f":"LEFT(F264,3)","v":""},{"$nulls":4},"63921-50810",63921,"Kapitalni prijenosi između proračunskih korisnika istog proračuna",50810,"50810 Pomoći iz državnog proračuna kroz namjenske primitke od zaduživanja – ostali","639","63",50810]
[{"$f":"IF(F265=\"\",\"\",VLOOKUP('OPĆI DIO'!$C$1,'OPĆI DIO'!$N$4:$W$137,10,FALSE))","v":""},{"$f":"IF(F265=\"\",\"\",VLOOKUP('OPĆI DIO'!$C$1,'OPĆI DIO'!$N$4:$W$137,9,FALSE))","v":""},"","","","",null,"",{"$nulls":4},{"$f":"IF(F265=\"\",\"\",'OPĆI DIO'!$C$1)","v":""},"","",{"$nulls":4},"63931-5012",63931,"Tekući prijenosi između proračunskih korisnika istog proračuna temeljem prijenosa EU sredstava",5012,"5012 Pomoći iz državnog proračuna kroz nacionalno sufinanciranje EU projekata","639","63",5012]
[{"$f":"IF(F266=\"\",\"\",VLOOKUP('OPĆI DIO'!$C$1,'OPĆI DIO'!$N$4:$W$137,10,FALSE))","v":""},{"$f":"IF(F266=\"\",\"\",VLOOKUP('OPĆI DIO'!$C$1,'OPĆI DIO'!$N$4:$W$137,9,FALSE))","v":""},"","","","",null,"",{"$nulls":4},{"$f":"IF(F266=\"\",\"\",'OPĆI DIO'!$C$1)","v":""},"","",{"$nulls":4},"63931-50815",63931,"Tekući prijenosi između proračunskih korisnika istog proračuna temeljem prijenosa EU sredstava",50815,"50815 Pomoći iz državnog proračuna kroz namjenske primitke od zaduživanja – NPOO","639","63",50815]
[{"$f":"IF(F267=\"\",\"\",VLOOKUP('OPĆI DIO'!$C$1,'OPĆI DIO'!$N$4:$W$137,10,FALSE))","v":""},{"$f":"IF(F267=\"\",\"\",VLOOKUP('OPĆI DIO'!$C$1,'OPĆI DIO'!$N$4:$W$137,9,FALSE))","v":""},"","",{"$f":"IFERROR(VLOOKUP(F267,$U$6:$X$113,4,FALSE),\"\")","v":""},"",null,"",{"$nulls":4},{"$f":"IF(F267=\"\",\"\",'OPĆI DIO'!$C$1)","v":""},"","",{"$nulls":4},"63931-51000",63931,"Tekući prijenosi između proračunskih korisnika istog proračuna temeljem prijenosa EU sredstava",51000,"51000 Programi Unije – raspoloživ predujam","639","63",51000]
[{"$f":"IF(F268=\"\",\"\",VLOOKUP('OPĆI DIO'!$C$1,'OPĆI DIO'!$N$4:$W$137,10,FALSE))","v":""},{"$f":"IF(F268=\"\",\"\",VLOOKUP('OPĆI DIO'!$C$1,'OPĆI DIO'!$N$4:$W$137,9,FALSE))","v":""},"","","","",null,"",{"$nulls":4},{"$f":"IF(F268=\"\",\"\",'OPĆI DIO'!$C$1)","v":""},"","",{"$nulls":4},"63931-51011",63931,"Tekući prijenosi između proračunskih korisnika istog proračuna temeljem prijenosa EU sredstava",51011,"51011 Programi Unije – predfinanciranje iz izvora 11 Opći prihodi i primici","639","63",51011]
[{"$f":"IF(F269=\"\",\"\",VLOOKUP('OPĆI DIO'!$C$1,'OPĆI DIO'!$N$4:$W$137,10,FALSE))","v":""},{"$f":"IF(F269=\"\",\"\",VLOOKUP('OPĆI DIO'!$C$1,'OPĆI DIO'!$N$4:$W$137,9,FALSE))","v":""},"","","","",null,"",{"$nulls":4},{"$f":"IF(F269=\"\",\"\",'OPĆI DIO'!$C$1)","v":""},"","",{"$nulls":4},"63931-561",63931,"Tekući prijenosi između proračunskih korisnika istog proračuna temeljem prijenosa EU sredstava",561,"Europski socijalni fond plus – predfinanciranje iz izvora 11 Opći prihodi i primici","639","63",561]
[{"$f":"IF(F270=\"\",\"\",VLOOKUP('OPĆI DIO'!$C$1,'OPĆI DIO'!$N$4:$W$137,10,FALSE))","v":""},{"$f":"IF(F270=\"\",\"\",VLOOKUP('OPĆI DIO'!$C$1,'OPĆI DIO'!$N$4:$W$137,9,FALSE))","v":""},"","","","",null,"",{"$nulls":4},{"$f":"IF(F270=\"\",\"\",'OPĆI DIO'!$C$1)","v":""},"","",{"$nulls":4},"63931-562",63931,"Tekući prijenosi između proračunskih korisnika istog proračuna temeljem prijenosa EU sredstava",562,"Kohezijski fond - predfinanciranje iz izvora 11 Opći prihodi i primici","639","63",562]
[{"$f":"IF(F271=\"\",\"\",VLOOKUP('OPĆI DIO'!$C$1,'OPĆI DIO'!$N$4:$W$137,10,FALSE))","v":""},{"$f":"IF(F271=\"\",\"\",VLOOKUP('OPĆI DIO'!$C$1,'OPĆI DIO'!$N$4:$W$137,9,FALSE))","v":""},"","","","",null,"",{"$nulls":4},{"$f":"IF(F271=\"\",\"\",'OPĆI DIO'!$C$1)","v":""},"","",{"$nulls":4},"63931-563",63931,"Tekući prijenosi između proračunskih korisnika istog proračuna temeljem prijenosa EU sredstava",563,"Europski fond za regionalni razvoj - predfinanciranje iz izvora 11 Opći prihodi i      primici","639","63",563]
[{"$f":"IF(F272=\"\",\"\",VLOOKUP('OPĆI DIO'!$C$1,'OPĆI DIO'!$N$4:$W$137,10,FALSE))","v":""},{"$f":"IF(F272=\"\",\"\",VLOOKUP('OPĆI DIO'!$C$1,'OPĆI DIO'!$N$4:$W$137,9,FALSE))","v":""},"","","","",null,"",{"$nulls":4},{"$f":"IF(F272=\"\",\"\",'OPĆI DIO'!$C$1)","v":""},"","",{"$nulls":4},"63931-564",63931,"Tekući prijenosi između proračunskih korisnika istog proračuna temeljem prijenosa EU sredstava",564,"Fond za pomorstvo, ribarstvo i akvakulturu - predfinanciranje iz izvora 11 Opći prihodi i primici","639","63",564]
[{"$f":"IF(F273=\"\",\"\",VLOOKUP('OPĆI DIO'!$C$1,'OPĆI DIO'!$N$4:$W$137,10,FALSE))","v":""},{"$f":"IF(F273=\"\",\"\",VLOOKUP('OPĆI DIO'!$C$1,'OPĆI DIO'!$N$4:$W$137,9,FALSE))","v":""},"","","","",null,"",{"$nulls":4},{"$f":"IF(F273=\"\",\"\",'OPĆI DIO'!$C$1)","v":""},"","",{"$nulls":4},"63931-565",63931,"Tekući prijenosi između proračunskih korisnika istog proračuna temeljem prijenosa EU sredstava",565,"Europski poljoprivredni fond za ruralni razvoj - predfinanciranje iz izvora 11 Opći prihodi i primici","639","63",565]
[{"$f":"IF(F274=\"\",\"\",VLOOKUP('OPĆI DIO'!$C$1,'OPĆI DIO'!$N$4:$W$137,10,FALSE))","v":""},{"$f":"IF(F274=\"\",\"\",VLOOKUP('OPĆI DIO'!$C$1,'OPĆI DIO'!$N$4:$W$137,9,FALSE))","v":""},"","","","",null,"",{"$nulls":4},{"$f":"IF(F274=\"\",\"\",'OPĆI DIO'!$C$1)","v":""},"","",{"$nulls":4},"63931-566",63931,"Tekući prijenosi između proračunskih korisnika istog proračuna temeljem prijenosa EU sredstava",566,"Modernizacijski fond - predfinanciranje iz izvora 11 Opći prihodi i primici","639","63",566]
[{"$f":"IF(F275=\"\",\"\",VLOOKUP('OPĆI DIO'!$C$1,'OPĆI DIO'!$N$4:$W$137,10,FALSE))","v":""},{"$f":"IF(F275=\"\",\"\",VLOOKUP('OPĆI DIO'!$C$1,'OPĆI DIO'!$N$4:$W$137,9,FALSE))","v":""},"","","","",null,"",{"$nulls":4},{"$f":"IF(F275=\"\",\"\",'OPĆI DIO'!$C$1)","v":""},"","",{"$nulls":4},"63931-567",63931,"Tekući prijenosi između proračunskih korisnika istog proračuna temeljem prijenosa EU sredstava",567,"Socijalni fond za klimatsku politiku - predfinanciranje iz izvora 11 Opći prihodi i primici","639","63",567]
[{"$f":"IF(F276=\"\",\"\",VLOOKUP('OPĆI DIO'!$C$1,'OPĆI DIO'!$N$4:$W$137,10,FALSE))","v":""},{"$f":"IF(F276=\"\",\"\",VLOOKUP('OPĆI DIO'!$C$1,'OPĆI DIO'!$N$4:$W$137,9,FALSE))","v":""},"","","","",null,"",{"$nulls":4},{"$f":"IF(F276=\"\",\"\",'OPĆI DIO'!$C$1)","v":""},"","",{"$nulls":4},"63931-575",63931,"Tekući prijenosi između proračunskih korisnika istog proračuna temeljem prijenosa EU sredstava",575,"Fond za azil, migracije i integraciju - predfinanciranje iz izvora 11 Opći prihodi i primici","639","63",575]
[{"$f":"IF(F277=\"\",\"\",VLOOKUP('OPĆI DIO'!$C$1,'OPĆI DIO'!$N$4:$W$137,10,FALSE))","v":""},{"$f":"IF(F277=\"\",\"\",VLOOKUP('OPĆI DIO'!$C$1,'OPĆI DIO'!$N$4:$W$137,9,FALSE))","v":""},"","","","",null,"",{"$nulls":4},{"$f":"IF(F277=\"\",\"\",'OPĆI DIO'!$C$1)","v":""},"","",{"$nulls":4},"63931-577",63931,"Tekući prijenosi između proračunskih korisnika istog proračuna temeljem prijenosa EU sredstava",577,"Fond za pravednu tranziciju - predfinanciranje iz izvora 11 Opći prihodi i primici","639","63",577]
[{"$f":"IF(F278=\"\",\"\",VLOOKUP('OPĆI DIO'!$C$1,'OPĆI DIO'!$N$4:$W$137,10,FALSE))","v":""},{"$f":"IF(F278=\"\",\"\",VLOOKUP('OPĆI DIO'!$C$1,'OPĆI DIO'!$N$4:$W$137,9,FALSE))","v":""},"","","","",null,"",{"$nulls":4},{"$f":"IF(F278=\"\",\"\",'OPĆI DIO'!$C$1)","v":""},"","",{"$nulls":4},"63931-578",63931,"Tekući prijenosi između proračunskih korisnika istog proračuna temeljem prijenosa EU sredstava",578,"Fond za unutarnju sigurnost - predfinanciranje iz izvora 11 Opći prihodi i primici","639","63",578]
[{"$f":"IF(F279=\"\",\"\",VLOOKUP('OPĆI DIO'!$C$1,'OPĆI DIO'!$N$4:$W$137,10,FALSE))","v":""},{"$f":"IF(F279=\"\",\"\",VLOOKUP('OPĆI DIO'!$C$1,'OPĆI DIO'!$N$4:$W$137,9,FALSE))","v":""},"","","","",null,"",{"$nulls":4},{"$f":"IF(F279=\"\",\"\",'OPĆI DIO'!$C$1)","v":""},"","",{"$nulls":4},"63931-579",63931,"Tekući prijenosi između proračunskih korisnika istog proračuna temeljem prijenosa EU sredstava",579,"Fond za integrirano upravljanje granicama - predfinanciranje iz izvora 11 Opći prihodi i primici","639","63",579]
[{"$f":"IF(F280=\"\",\"\",VLOOKUP('OPĆI DIO'!$C$1,'OPĆI DIO'!$N$4:$W$137,10,FALSE))","v":""},{"$f":"IF(F280=\"\",\"\",VLOOKUP('OPĆI DIO'!$C$1,'OPĆI DIO'!$N$4:$W$137,9,FALSE))","v":""},"","","","",null,"",{"$nulls":4},{"$f":"IF(F280=\"\",\"\",'OPĆI DIO'!$C$1)","v":""},"","",{"$nulls":4},"63931-581",63931,"Tekući prijenosi između proračunskih korisnika istog proračuna temeljem prijenosa EU sredstava",581,"Mehanizam za oporavak i otpornost – bespovratna sredstva – raspoloživ predujam ili unaprijed naplaćen prihod","639","63",581]
[{"$f":"IF(F281=\"\",\"\",VLOOKUP('OPĆI DIO'!$C$1,'OPĆI DIO'!$N$4:$W$137,10,FALSE))","v":""},{"$f":"IF(F281=\"\",\"\",VLOOKUP('OPĆI DIO'!$C$1,'OPĆI DIO'!$N$4:$W$137,9,FALSE))","v":""},"","","","",null,"",{"$nulls":4},{"$f":"IF(F281=\"\",\"\",'OPĆI DIO'!$C$1)","v":""},"","",{"$nulls":4},"63941-5012",63941,"Kapitalni prijenosi između proračunskih korisnika istog proračuna temeljem prijenosa EU sredstava",5012,"5012 Pomoći iz državnog proračuna kroz nacionalno sufinanciranje EU projekata","639","63",5012]
[{"$f":"IF(F282=\"\",\"\",VLOOKUP('OPĆI DIO'!$C$1,'OPĆI DIO'!$N$4:$W$137,10,FALSE))","v":""},{"$f":"IF(F282=\"\",\"\",VLOOKUP('OPĆI DIO'!$C$1,'OPĆI DIO'!$N$4:$W$137,9,FALSE))","v":""},"","","","",null,"",{"$nulls":4},{"$f":"IF(F282=\"\",\"\",'OPĆI DIO'!$C$1)","v":""},"","",{"$nulls":4},"63941-50815",63941,"Kapitalni prijenosi između proračunskih korisnika istog proračuna",50815,"50815 Pomoći iz državnog proračuna kroz namjenske primitke od zaduživanja – NPOO","639","63",50815]
[{"$f":"IF(F283=\"\",\"\",VLOOKUP('OPĆI DIO'!$C$1,'OPĆI DIO'!$N$4:$W$137,10,FALSE))","v":""},{"$f":"IF(F283=\"\",\"\",VLOOKUP('OPĆI DIO'!$C$1,'OPĆI DIO'!$N$4:$W$137,9,FALSE))","v":""},"","","","",null,"",{"$nulls":4},{"$f":"IF(F283=\"\",\"\",'OPĆI DIO'!$C$1)","v":""},"","",{"$nulls":4},"63941-51000",63941,"Kapitalni prijenosi između proračunskih korisnika istog proračuna temeljem prijenosa EU sredstava",51000,"51000 Programi Unije – raspoloživ predujam","639","63",51000]
[{"$f":"IF(F284=\"\",\"\",VLOOKUP('OPĆI DIO'!$C$1,'OPĆI DIO'!$N$4:$W$137,10,FALSE))","v":""},{"$f":"IF(F284=\"\",\"\",VLOOKUP('OPĆI DIO'!$C$1,'OPĆI DIO'!$N$4:$W$137,9,FALSE))","v":""},"","","","",null,"",{"$nulls":4},{"$f":"IF(F284=\"\",\"\",'OPĆI DIO'!$C$1)","v":""},"","",{"$nulls":4},"63941-51011",63941,"Kapitalni prijenosi između proračunskih korisnika istog proračuna temeljem prijenosa EU sredstava",51011,"51011 Programi Unije – predfinanciranje iz izvora 11 Opći prihodi i primici","639","63",51011]
[{"$f":"IF(F285=\"\",\"\",VLOOKUP('OPĆI DIO'!$C$1,'OPĆI DIO'!$N$4:$W$137,10,FALSE))","v":""},{"$f":"IF(F285=\"\",\"\",VLOOKUP('OPĆI DIO'!$C$1,'OPĆI DIO'!$N$4:$W$137,9,FALSE))","v":""},"","","","",null,"",{"$nulls":4},{"$f":"IF(F285=\"\",\"\",'OPĆI DIO'!$C$1)","v":""},"","",{"$nulls":4},"63941-561",63941,"Kapitalni prijenosi između proračunskih korisnika istog proračuna temeljem prijenosa EU sredstava",561,"Europski socijalni fond plus – predfinanciranje iz izvora 11 Opći prihodi i primici","639","63",561]
[{"$f":"IF(F286=\"\",\"\",VLOOKUP('OPĆI DIO'!$C$1,'OPĆI DIO'!$N$4:$W$137,10,FALSE))","v":""},{"$f":"IF(F286=\"\",\"\",VLOOKUP('OPĆI DIO'!$C$1,'OPĆI DIO'!$N$4:$W$137,9,FALSE))","v":""},"","","","",null,"",{"$nulls":4},{"$f":"IF(F286=\"\",\"\",'OPĆI DIO'!$C$1)","v":""},"","",{"$nulls":4},"63941-562",63941,"Kapitalni prijenosi između proračunskih korisnika istog proračuna temeljem prijenosa EU sredstava",562,"Kohezijski fond - predfinanciranje iz izvora 11 Opći prihodi i primici","639","63",562]
[{"$f":"IF(F287=\"\",\"\",VLOOKUP('OPĆI DIO'!$C$1,'OPĆI DIO'!$N$4:$W$137,10,FALSE))","v":""},{"$f":"IF(F287=\"\",\"\",VLOOKUP('OPĆI DIO'!$C$1,'OPĆI DIO'!$N$4:$W$137,9,FALSE))","v":""},"","","","",null,"",{"$nulls":4},{"$f":"IF(F287=\"\",\"\",'OPĆI DIO'!$C$1)","v":""},"","",{"$nulls":4},"63941-563",63941,"Kapitalni prijenosi između proračunskih korisnika istog proračuna temeljem prijenosa EU sredstava",563,"Europski fond za regionalni razvoj - predfinanciranje iz izvora 11 Opći prihodi i      primici","639","63",563]
[{"$f":"IF(F288=\"\",\"\",VLOOKUP('OPĆI DIO'!$C$1,'OPĆI DIO'!$N$4:$W$137,10,FALSE))","v":""},{"$f":"IF(F288=\"\",\"\",VLOOKUP('OPĆI DIO'!$C$1,'OPĆI DIO'!$N$4:$W$137,9,FALSE))","v":""},"","","","",null,"",{"$nulls":4},{"$f":"IF(F288=\"\",\"\",'OPĆI DIO'!$C$1)","v":""},"","",{"$nulls":4},"63941-564",63941,"Kapitalni prijenosi između proračunskih korisnika istog proračuna temeljem prijenosa EU sredstava",564,"Fond za pomorstvo, ribarstvo i akvakulturu - predfinanciranje iz izvora 11 Opći prihodi i primici","639","63",564]
[{"$f":"IF(F289=\"\",\"\",VLOOKUP('OPĆI DIO'!$C$1,'OPĆI DIO'!$N$4:$W$137,10,FALSE))","v":""},{"$f":"IF(F289=\"\",\"\",VLOOKUP('OPĆI DIO'!$C$1,'OPĆI DIO'!$N$4:$W$137,9,FALSE))","v":""},"","","","",null,"",{"$nulls":4},{"$f":"IF(F289=\"\",\"\",'OPĆI DIO'!$C$1)","v":""},"","",{"$nulls":4},"63941-565",63941,"Kapitalni prijenosi između proračunskih korisnika istog proračuna temeljem prijenosa EU sredstava",565,"Europski poljoprivredni fond za ruralni razvoj - predfinanciranje iz izvora 11 Opći prihodi i primici","639","63",565]
[{"$f":"IF(F290=\"\",\"\",VLOOKUP('OPĆI DIO'!$C$1,'OPĆI DIO'!$N$4:$W$137,10,FALSE))","v":""},{"$f":"IF(F290=\"\",\"\",VLOOKUP('OPĆI DIO'!$C$1,'OPĆI DIO'!$N$4:$W$137,9,FALSE))","v":""},"","","","",null,"",{"$nulls":4},{"$f":"IF(F290=\"\",\"\",'OPĆI DIO'!$C$1)","v":""},"","",{"$nulls":4},"63941-566",63941,"Kapitalni prijenosi između proračunskih korisnika istog proračuna temeljem prijenosa EU sredstava",566,"Modernizacijski fond - predfinanciranje iz izvora 11 Opći prihodi i primici","639","63",566]
[{"$f":"IF(F291=\"\",\"\",VLOOKUP('OPĆI DIO'!$C$1,'OPĆI DIO'!$N$4:$W$137,10,FALSE))","v":""},{"$f":"IF(F291=\"\",\"\",VLOOKUP('OPĆI DIO'!$C$1,'OPĆI DIO'!$N$4:$W$137,9,FALSE))","v":""},"","","","",null,"",{"$nulls":4},{"$f":"IF(F291=\"\",\"\",'OPĆI DIO'!$C$1)","v":""},"","",{"$nulls":4},"63941-567",63941,"Kapitalni prijenosi između proračunskih korisnika istog proračuna temeljem prijenosa EU sredstava",567,"Socijalni fond za klimatsku politiku - predfinanciranje iz izvora 11 Opći prihodi i primici","639","63",567]
[{"$f":"IF(F292=\"\",\"\",VLOOKUP('OPĆI DIO'!$C$1,'OPĆI DIO'!$N$4:$W$137,10,FALSE))","v":""},{"$f":"IF(F292=\"\",\"\",VLOOKUP('OPĆI DIO'!$C$1,'OPĆI DIO'!$N$4:$W$137,9,FALSE))","v":""},"","","","",null,"",{"$nulls":4},{"$f":"IF(F292=\"\",\"\",'OPĆI DIO'!$C$1)","v":""},"","",{"$nulls":4},"63941-575",63941,"Kapitalni prijenosi između proračunskih korisnika istog proračuna temeljem prijenosa EU sredstava",575,"Fond za azil, migracije i integraciju - predfinanciranje iz izvora 11 Opći prihodi i primici","639","63",575]
[{"$f":"IF(F293=\"\",\"\",VLOOKUP('OPĆI DIO'!$C$1,'OPĆI DIO'!$N$4:$W$137,10,FALSE))","v":""},{"$f":"IF(F293=\"\",\"\",VLOOKUP('OPĆI DIO'!$C$1,'OPĆI DIO'!$N$4:$W$137,9,FALSE))","v":""},"","","","",null,"",{"$nulls":4},{"$f":"IF(F293=\"\",\"\",'OPĆI DIO'!$C$1)","v":""},"","",{"$nulls":4},"63941-577",63941,"Kapitalni prijenosi između proračunskih korisnika istog proračuna temeljem prijenosa EU sredstava",577,"Fond za pravednu tranziciju - predfinanciranje iz izvora 11 Opći prihodi i primici","639","63",577]
[{"$f":"IF(F294=\"\",\"\",VLOOKUP('OPĆI DIO'!$C$1,'OPĆI DIO'!$N$4:$W$137,10,FALSE))","v":""},{"$f":"IF(F294=\"\",\"\",VLOOKUP('OPĆI DIO'!$C$1,'OPĆI DIO'!$N$4:$W$137,9,FALSE))","v":""},"","","","",null,"",{"$nulls":4},{"$f":"IF(F294=\"\",\"\",'OPĆI DIO'!$C$1)","v":""},"","",{"$nulls":4},"63941-578",63941,"Kapitalni prijenosi između proračunskih korisnika istog proračuna temeljem prijenosa EU sredstava",578,"Fond za unutarnju sigurnost - predfinanciranje iz izvora 11 Opći prihodi i primici","639","63",578]
[{"$f":"IF(F295=\"\",\"\",VLOOKUP('OPĆI DIO'!$C$1,'OPĆI DIO'!$N$4:$W$137,10,FALSE))","v":""},{"$f":"IF(F295=\"\",\"\",VLOOKUP('OPĆI DIO'!$C$1,'OPĆI DIO'!$N$4:$W$137,9,FALSE))","v":""},"","","","",null,"",{"$nulls":4},{"$f":"IF(F295=\"\",\"\",'OPĆI DIO'!$C$1)","v":""},"","",{"$nulls":4},"63941-579",63941,"Kapitalni prijenosi između proračunskih korisnika istog proračuna temeljem prijenosa EU sredstava",579,"Fond za integrirano upravljanje granicama - predfinanciranje iz izvora 11 Opći prihodi i primici","639","63",579]
[{"$f":"IF(F296=\"\",\"\",VLOOKUP('OPĆI DIO'!$C$1,'OPĆI DIO'!$N$4:$W$137,10,FALSE))","v":""},{"$f":"IF(F296=\"\",\"\",VLOOKUP('OPĆI DIO'!$C$1,'OPĆI DIO'!$N$4:$W$137,9,FALSE))","v":""},"","","","",null,"",{"$nulls":4},{"$f":"IF(F296=\"\",\"\",'OPĆI DIO'!$C$1)","v":""},"","",{"$nulls":4},"63941-581",63941,"Kapitalni prijenosi između proračunskih korisnika istog proračuna temeljem prijenosa EU sredstava",581,"Mehanizam za oporavak i otpornost – bespovratna sredstva – raspoloživ predujam ili unaprijed naplaćen prihod","639","63",581]
[{"$f":"IF(F297=\"\",\"\",VLOOKUP('OPĆI DIO'!$C$1,'OPĆI DIO'!$N$4:$W$137,10,FALSE))","v":""},{"$f":"IF(F297=\"\",\"\",VLOOKUP('OPĆI DIO'!$C$1,'OPĆI DIO'!$N$4:$W$137,9,FALSE))","v":""},"","","","",null,"",{"$nulls":4},{"$f":"IF(F297=\"\",\"\",'OPĆI DIO'!$C$1)","v":""},"","",{"$nulls":4},"68191-43",68191,"Ostale nespomenute kazne",43,"Ostali prihodi za posebne namjene","681","68",43]
[{"$f":"IF(F298=\"\",\"\",VLOOKUP('OPĆI DIO'!$C$1,'OPĆI DIO'!$N$4:$W$137,10,FALSE))","v":""},{"$f":"IF(F298=\"\",\"\",VLOOKUP('OPĆI DIO'!$C$1,'OPĆI DIO'!$N$4:$W$137,9,FALSE))","v":""},"","","","",null,"",{"$nulls":4},{"$f":"IF(F298=\"\",\"\",'OPĆI DIO'!$C$1)","v":""},"","",{"$nulls":4},"68311-31",68311,"Ostali prihodi",31,"Vlastiti prihodi","683","68",31]
[{"$f":"IF(F299=\"\",\"\",VLOOKUP('OPĆI DIO'!$C$1,'OPĆI DIO'!$N$4:$W$137,10,FALSE))","v":""},{"$f":"IF(F299=\"\",\"\",VLOOKUP('OPĆI DIO'!$C$1,'OPĆI DIO'!$N$4:$W$137,9,FALSE))","v":""},"","","","",null,"",{"$nulls":4},{"$f":"IF(F299=\"\",\"\",'OPĆI DIO'!$C$1)","v":""},"","",{"$nulls":4},"68311-43",68311,"Ostali prihodi",43,"Ostali prihodi za posebne namjene","683","68",43]
[{"$f":"IF(F300=\"\",\"\",VLOOKUP('OPĆI DIO'!$C$1,'OPĆI DIO'!$N$4:$W$137,10,FALSE))","v":""},{"$f":"IF(F300=\"\",\"\",VLOOKUP('OPĆI DIO'!$C$1,'OPĆI DIO'!$N$4:$W$137,9,FALSE))","v":""},"","","","",null,"",{"$nulls":4},{"$f":"IF(F300=\"\",\"\",'OPĆI DIO'!$C$1)","v":""},"","",{"$nulls":4},"71111-71",71111,"Poljoprivredno zemljište",71,"Prihodi od nefin. imovine i nadoknade štete s osnova osig.","711","71",71]
[{"$f":"IF(F301=\"\",\"\",VLOOKUP('OPĆI DIO'!$C$1,'OPĆI DIO'!$N$4:$W$137,10,FALSE))","v":""},{"$f":"IF(F301=\"\",\"\",VLOOKUP('OPĆI DIO'!$C$1,'OPĆI DIO'!$N$4:$W$137,9,FALSE))","v":""},"","","","",null,"",{"$nulls":4},{"$f":"IF(F301=\"\",\"\",'OPĆI DIO'!$C$1)","v":""},"","",{"$nulls":4},"71112-71",71112,"Građevinsko zemljište",71,"Prihodi od nefin. imovine i nadoknade štete s osnova osig.","711","71",71]
[{"$f":"IF(F302=\"\",\"\",VLOOKUP('OPĆI DIO'!$C$1,'OPĆI DIO'!$N$4:$W$137,10,FALSE))","v":""},{"$f":"IF(F302=\"\",\"\",VLOOKUP('OPĆI DIO'!$C$1,'OPĆI DIO'!$N$4:$W$137,9,FALSE))","v":""},"","","","",null,"",{"$nulls":4},{"$f":"IF(F302=\"\",\"\",'OPĆI DIO'!$C$1)","v":""},"","",{"$nulls":4},"72111-71",72111,"Stambeni objekti za zaposlene",71,"Prihodi od nefin. imovine i nadoknade štete s osnova osig.","721","72",71]
[{"$f":"IF(F303=\"\",\"\",VLOOKUP('OPĆI DIO'!$C$1,'OPĆI DIO'!$N$4:$W$137,10,FALSE))","v":""},{"$f":"IF(F303=\"\",\"\",VLOOKUP('OPĆI DIO'!$C$1,'OPĆI DIO'!$N$4:$W$137,9,FALSE))","v":""},"","","","",null,"",{"$nulls":4},{"$f":"IF(F303=\"\",\"\",'OPĆI DIO'!$C$1)","v":""},"","",{"$nulls":4},"72119-71",72119,"Ostali stambeni objekti",71,"Prihodi od nefin. imovine i nadoknade štete s osnova osig.","721","72",71]
[{"$f":"IF(F304=\"\",\"\",VLOOKUP('OPĆI DIO'!$C$1,'OPĆI DIO'!$N$4:$W$137,10,FALSE))","v":""},{"$f":"IF(F304=\"\",\"\",VLOOKUP('OPĆI DIO'!$C$1,'OPĆI DIO'!$N$4:$W$137,9,FALSE))","v":""},"","","","",null,"",{"$nulls":4},{"$f":"IF(F304=\"\",\"\",'OPĆI DIO'!$C$1)","v":""},"","",{"$nulls":4},"72121-71",72121,"Uredski objekti",71,"Prihodi od nefin. imovine i nadoknade štete s osnova osig.","721","72",71]
[{"$f":"IF(F305=\"\",\"\",VLOOKUP('OPĆI DIO'!$C$1,'OPĆI DIO'!$N$4:$W$137,10,FALSE))","v":""},{"$f":"IF(F305=\"\",\"\",VLOOKUP('OPĆI DIO'!$C$1,'OPĆI DIO'!$N$4:$W$137,9,FALSE))","v":""},"","","","",null,"",{"$nulls":4},{"$f":"IF(F305=\"\",\"\",'OPĆI DIO'!$C$1)","v":""},"","",{"$nulls":4},"72123-71",72123,"Zgrade znanstvenih i obrazovnih institucija (fakulteti, škole, vrtići i slično)",71,"Prihodi od nefin. imovine i nadoknade štete s osnova osig.","721","72",71]
[{"$f":"IF(F306=\"\",\"\",VLOOKUP('OPĆI DIO'!$C$1,'OPĆI DIO'!$N$4:$W$137,10,FALSE))","v":""},{"$f":"IF(F306=\"\",\"\",VLOOKUP('OPĆI DIO'!$C$1,'OPĆI DIO'!$N$4:$W$137,9,FALSE))","v":""},"","","","",null,"",{"$nulls":4},{"$f":"IF(F306=\"\",\"\",'OPĆI DIO'!$C$1)","v":""},"","",{"$nulls":4},"72129-71",72129,"Ostali poslovni građevinski objekti",71,"Prihodi od nefin. imovine i nadoknade štete s osnova osig.","721","72",71]
[{"$f":"IF(F307=\"\",\"\",VLOOKUP('OPĆI DIO'!$C$1,'OPĆI DIO'!$N$4:$W$137,10,FALSE))","v":""},{"$f":"IF(F307=\"\",\"\",VLOOKUP('OPĆI DIO'!$C$1,'OPĆI DIO'!$N$4:$W$137,9,FALSE))","v":""},"","","","",null,"",{"$nulls":4},{"$f":"IF(F307=\"\",\"\",'OPĆI DIO'!$C$1)","v":""},"","",{"$nulls":4},"72211-71",72211,"Računala i računalna oprema",71,"Prihodi od nefin. imovine i nadoknade štete s osnova osig.","722","72",71]
[{"$f":"IF(F308=\"\",\"\",VLOOKUP('OPĆI DIO'!$C$1,'OPĆI DIO'!$N$4:$W$137,10,FALSE))","v":""},{"$f":"IF(F308=\"\",\"\",VLOOKUP('OPĆI DIO'!$C$1,'OPĆI DIO'!$N$4:$W$137,9,FALSE))","v":""},"","","","",null,"",{"$nulls":4},{"$f":"IF(F308=\"\",\"\",'OPĆI DIO'!$C$1)","v":""},"","",{"$nulls":4},"72212-71",72212,"Uredski namještaj",71,"Prihodi od nefin. imovine i nadoknade štete s osnova osig.","722","72",71]
[{"$f":"IF(F309=\"\",\"\",VLOOKUP('OPĆI DIO'!$C$1,'OPĆI DIO'!$N$4:$W$137,10,FALSE))","v":""},{"$f":"IF(F309=\"\",\"\",VLOOKUP('OPĆI DIO'!$C$1,'OPĆI DIO'!$N$4:$W$137,9,FALSE))","v":""},"","","","",null,"",{"$nulls":4},{"$f":"IF(F309=\"\",\"\",'OPĆI DIO'!$C$1)","v":""},"","",{"$nulls":4},"72219-71",72219,"Ostala uredska oprema",71,"Prihodi od nefin. imovine i nadoknade štete s osnova osig.","722","72",71]
[{"$f":"IF(F310=\"\",\"\",VLOOKUP('OPĆI DIO'!$C$1,'OPĆI DIO'!$N$4:$W$137,10,FALSE))","v":""},{"$f":"IF(F310=\"\",\"\",VLOOKUP('OPĆI DIO'!$C$1,'OPĆI DIO'!$N$4:$W$137,9,FALSE))","v":""},"","","","",null,"",{"$nulls":4},{"$f":"IF(F310=\"\",\"\",'OPĆI DIO'!$C$1)","v":""},"","",{"$nulls":4},"72221-71",72221,"Radio i TV prijemnici",71,"Prihodi od nefin. imovine i nadoknade štete s osnova osig.","722","72",71]
[{"$f":"IF(F311=\"\",\"\",VLOOKUP('OPĆI DIO'!$C$1,'OPĆI DIO'!$N$4:$W$137,10,FALSE))","v":""},{"$f":"IF(F311=\"\",\"\",VLOOKUP('OPĆI DIO'!$C$1,'OPĆI DIO'!$N$4:$W$137,9,FALSE))","v":""},"","","","",null,"",{"$nulls":4},{"$f":"IF(F311=\"\",\"\",'OPĆI DIO'!$C$1)","v":""},"","",{"$nulls":4},"72241-71",72241,"Medicinska oprema",71,"Prihodi od nefin. imovine i nadoknade štete s osnova osig.","722","72",71]
[{"$f":"IF(F312=\"\",\"\",VLOOKUP('OPĆI DIO'!$C$1,'OPĆI DIO'!$N$4:$W$137,10,FALSE))","v":""},{"$f":"IF(F312=\"\",\"\",VLOOKUP('OPĆI DIO'!$C$1,'OPĆI DIO'!$N$4:$W$137,9,FALSE))","v":""},"","","","",null,"",{"$nulls":4},{"$f":"IF(F312=\"\",\"\",'OPĆI DIO'!$C$1)","v":""},"","",{"$nulls":4},"72262-71",72262,"Glazbeni instrumenti i oprema",71,"Prihodi od nefin. imovine i nadoknade štete s osnova osig.","722","72",71]
[{"$f":"IF(F313=\"\",\"\",VLOOKUP('OPĆI DIO'!$C$1,'OPĆI DIO'!$N$4:$W$137,10,FALSE))","v":""},{"$f":"IF(F313=\"\",\"\",VLOOKUP('OPĆI DIO'!$C$1,'OPĆI DIO'!$N$4:$W$137,9,FALSE))","v":""},"","","","",null,"",{"$nulls":4},{"$f":"IF(F313=\"\",\"\",'OPĆI DIO'!$C$1)","v":""},"","",{"$nulls":4},"72272-71",72272,"Strojevi",71,"Prihodi od nefin. imovine i nadoknade štete s osnova osig.","722","72",71]
[{"$f":"IF(F314=\"\",\"\",VLOOKUP('OPĆI DIO'!$C$1,'OPĆI DIO'!$N$4:$W$137,10,FALSE))","v":""},{"$f":"IF(F314=\"\",\"\",VLOOKUP('OPĆI DIO'!$C$1,'OPĆI DIO'!$N$4:$W$137,9,FALSE))","v":""},"","","","",null,"",{"$nulls":4},{"$f":"IF(F314=\"\",\"\",'OPĆI DIO'!$C$1)","v":""},"","",{"$nulls":4},"72273-71",72273,"Oprema",71,"Prihodi od nefin. imovine i nadoknade štete s osnova osig.","722","72",71]
[{"$f":"IF(F315=\"\",\"\",VLOOKUP('OPĆI DIO'!$C$1,'OPĆI DIO'!$N$4:$W$137,10,FALSE))","v":""},{"$f":"IF(F315=\"\",\"\",VLOOKUP('OPĆI DIO'!$C$1,'OPĆI DIO'!$N$4:$W$137,9,FALSE))","v":""},"","","","",null,"",{"$nulls":4},{"$f":"IF(F315=\"\",\"\",'OPĆI DIO'!$C$1)","v":""},"","",{"$nulls":4},"72311-71",72311,"Osobni automobili",71,"Prihodi od nefin. imovine i nadoknade štete s osnova osig.","723","72",71]
[{"$f":"IF(F316=\"\",\"\",VLOOKUP('OPĆI DIO'!$C$1,'OPĆI DIO'!$N$4:$W$137,10,FALSE))","v":""},{"$f":"IF(F316=\"\",\"\",VLOOKUP('OPĆI DIO'!$C$1,'OPĆI DIO'!$N$4:$W$137,9,FALSE))","v":""},"","","","",null,"",{"$nulls":4},{"$f":"IF(F316=\"\",\"\",'OPĆI DIO'!$C$1)","v":""},"","",{"$nulls":4},"72313-71",72313,"Kombi vozila",71,"Prihodi od nefin. imovine i nadoknade štete s osnova osig.","723","72",71]
[{"$f":"IF(F317=\"\",\"\",VLOOKUP('OPĆI DIO'!$C$1,'OPĆI DIO'!$N$4:$W$137,10,FALSE))","v":""},{"$f":"IF(F317=\"\",\"\",VLOOKUP('OPĆI DIO'!$C$1,'OPĆI DIO'!$N$4:$W$137,9,FALSE))","v":""},"","","","",null,"",{"$nulls":4},{"$f":"IF(F317=\"\",\"\",'OPĆI DIO'!$C$1)","v":""},"","",{"$nulls":4},"72314-71",72314,"Kamioni",71,"Prihodi od nefin. imovine i nadoknade štete s osnova osig.","723","72",71]
[{"$f":"IF(F318=\"\",\"\",VLOOKUP('OPĆI DIO'!$C$1,'OPĆI DIO'!$N$4:$W$137,10,FALSE))","v":""},{"$f":"IF(F318=\"\",\"\",VLOOKUP('OPĆI DIO'!$C$1,'OPĆI DIO'!$N$4:$W$137,9,FALSE))","v":""},"","","","",null,"",{"$nulls":4},{"$f":"IF(F318=\"\",\"\",'OPĆI DIO'!$C$1)","v":""},"","",{"$nulls":4},"72315-71",72315,"Traktori",71,"Prihodi od nefin. imovine i nadoknade štete s osnova osig.","723","72",71]
[{"$f":"IF(F319=\"\",\"\",VLOOKUP('OPĆI DIO'!$C$1,'OPĆI DIO'!$N$4:$W$137,10,FALSE))","v":""},{"$f":"IF(F319=\"\",\"\",VLOOKUP('OPĆI DIO'!$C$1,'OPĆI DIO'!$N$4:$W$137,9,FALSE))","v":""},"","","","",null,"",{"$nulls":4},{"$f":"IF(F319=\"\",\"\",'OPĆI DIO'!$C$1)","v":""},"","",{"$nulls":4},"72316-71",72316,"Terenska vozila (protupožarna, vojna i slično)",71,"Prihodi od nefin. imovine i nadoknade štete s osnova osig.","723","72",71]
[{"$f":"IF(F320=\"\",\"\",VLOOKUP('OPĆI DIO'!$C$1,'OPĆI DIO'!$N$4:$W$137,10,FALSE))","v":""},{"$f":"IF(F320=\"\",\"\",VLOOKUP('OPĆI DIO'!$C$1,'OPĆI DIO'!$N$4:$W$137,9,FALSE))","v":""},"","","","",null,"",{"$nulls":4},{"$f":"IF(F320=\"\",\"\",'OPĆI DIO'!$C$1)","v":""},"","",{"$nulls":4},"72319-71",72319,"Ostala prijevozna sredstva u cestovnom prometu",71,"Prihodi od nefin. imovine i nadoknade štete s osnova osig.","723","72",71]
[{"$f":"IF(F321=\"\",\"\",VLOOKUP('OPĆI DIO'!$C$1,'OPĆI DIO'!$N$4:$W$137,10,FALSE))","v":""},{"$f":"IF(F321=\"\",\"\",VLOOKUP('OPĆI DIO'!$C$1,'OPĆI DIO'!$N$4:$W$137,9,FALSE))","v":""},"","","","",null,"",{"$nulls":4},{"$f":"IF(F321=\"\",\"\",'OPĆI DIO'!$C$1)","v":""},"","",{"$nulls":4},{"$f":"U321&\"-\"&W321","v":"72331-71"},72331,"Plovila",71,"Prihodi od nefin. imovine i nadoknade štete s osnova osig.","723","72",71]
[{"$f":"IF(F322=\"\",\"\",VLOOKUP('OPĆI DIO'!$C$1,'OPĆI DIO'!$N$4:$W$137,10,FALSE))","v":""},{"$f":"IF(F322=\"\",\"\",VLOOKUP('OPĆI DIO'!$C$1,'OPĆI DIO'!$N$4:$W$137,9,FALSE))","v":""},"","","","",null,"",{"$nulls":4},{"$f":"IF(F322=\"\",\"\",'OPĆI DIO'!$C$1)","v":""},"","",{"$nulls":4},"72521-71",72521,"Osnovno stado",71,"Prihodi od nefin. imovine i nadoknade štete s osnova osig.","725","72",71]
[{"$f":"IF(F323=\"\",\"\",VLOOKUP('OPĆI DIO'!$C$1,'OPĆI DIO'!$N$4:$W$137,10,FALSE))","v":""},{"$f":"IF(F323=\"\",\"\",VLOOKUP('OPĆI DIO'!$C$1,'OPĆI DIO'!$N$4:$W$137,9,FALSE))","v":""},"","","","",null,"",{"$nulls":4},{"$f":"IF(F323=\"\",\"\",'OPĆI DIO'!$C$1)","v":""},"","",{"$nulls":4},"84222-810",84222,"Primljeni krediti od kreditnih institucija u javnom sektoru - dugoročni",810,"Namjenski primici od zaduživanja – ostali","842","84",810]
[{"$f":"IF(F324=\"\",\"\",VLOOKUP('OPĆI DIO'!$C$1,'OPĆI DIO'!$N$4:$W$137,10,FALSE))","v":""},{"$f":"IF(F324=\"\",\"\",VLOOKUP('OPĆI DIO'!$C$1,'OPĆI DIO'!$N$4:$W$137,9,FALSE))","v":""},{"$f":"IFERROR(VLOOKUP(G324,$T$6:$AA$500,8,FALSE),\"\")","v":""},{"$f":"IFERROR(VLOOKUP(G324,$T$6:$AA$500,4,FALSE),\"\")","v":""},"",{"$f":"IFERROR(VLOOKUP(G324,$T$6:$AA$500,2,FALSE),\"\")","v":""},null,{"$f":"IFERROR(VLOOKUP(G324,$T$6:$AA$500,3,FALSE),\"\")","v":""},{"$nulls":4},{"$f":"IF(F324=\"\",\"\",'OPĆI DIO'!$C$1)","v":""},"","",{"$nulls":4},"84432-810",84432,"Primljeni krediti od tuzemnih kreditnih institucija izvan javnog sektora - dugoročni",810,"Namjenski primici od zaduživanja – ostali","844","84",810]
[{"$f":"IF(F325=\"\",\"\",VLOOKUP('OPĆI DIO'!$C$1,'OPĆI DIO'!$N$4:$W$137,10,FALSE))","v":""},{"$f":"IF(F325=\"\",\"\",VLOOKUP('OPĆI DIO'!$C$1,'OPĆI DIO'!$N$4:$W$137,9,FALSE))","v":""},"","","","",null,"",{"$nulls":4},{"$f":"IF(F325=\"\",\"\",'OPĆI DIO'!$C$1)","v":""},"","",{"$nulls":4},"84132-810",84132,"Primljeni zajmovi od međunarodnih organizacija - dugoročni",810,"Namjenski primici od zaduživanja – ostali","841","84",810]
[{"$f":"IF(F326=\"\",\"\",VLOOKUP('OPĆI DIO'!$C$1,'OPĆI DIO'!$N$4:$W$137,10,FALSE))","v":""},{"$f":"IF(F326=\"\",\"\",VLOOKUP('OPĆI DIO'!$C$1,'OPĆI DIO'!$N$4:$W$137,9,FALSE))","v":""},"","","","",null,"",{"$nulls":4},{"$f":"IF(F326=\"\",\"\",'OPĆI DIO'!$C$1)","v":""},"",""]
[{"$f":"IF(F327=\"\",\"\",VLOOKUP('OPĆI DIO'!$C$1,'OPĆI DIO'!$N$4:$W$137,10,FALSE))","v":""},{"$f":"IF(F327=\"\",\"\",VLOOKUP('OPĆI DIO'!$C$1,'OPĆI DIO'!$N$4:$W$137,9,FALSE))","v":""},"","","","",null,"",{"$nulls":4},{"$f":"IF(F327=\"\",\"\",'OPĆI DIO'!$C$1)","v":""},"",""]
[{"$f":"IF(F328=\"\",\"\",VLOOKUP('OPĆI DIO'!$C$1,'OPĆI DIO'!$N$4:$W$137,10,FALSE))","v":""},{"$f":"IF(F328=\"\",\"\",VLOOKUP('OPĆI DIO'!$C$1,'OPĆI DIO'!$N$4:$W$137,9,FALSE))","v":""},"","","","",null,"",{"$nulls":4},{"$f":"IF(F328=\"\",\"\",'OPĆI DIO'!$C$1)","v":""},{"$f":"LEFT(F328,2)","v":""},{"$f":"LEFT(F328,3)","v":""}]
[{"$f":"IF(F329=\"\",\"\",VLOOKUP('OPĆI DIO'!$C$1,'OPĆI DIO'!$N$4:$W$137,10,FALSE))","v":""},{"$f":"IF(F329=\"\",\"\",VLOOKUP('OPĆI DIO'!$C$1,'OPĆI DIO'!$N$4:$W$137,9,FALSE))","v":""},"","","","",null,"",{"$nulls":4},{"$f":"IF(F329=\"\",\"\",'OPĆI DIO'!$C$1)","v":""},"",""]
[{"$f":"IF(F330=\"\",\"\",VLOOKUP('OPĆI DIO'!$C$1,'OPĆI DIO'!$N$4:$W$137,10,FALSE))","v":""},{"$f":"IF(F330=\"\",\"\",VLOOKUP('OPĆI DIO'!$C$1,'OPĆI DIO'!$N$4:$W$137,9,FALSE))","v":""},"","","","",null,"",{"$nulls":4},{"$f":"IF(F330=\"\",\"\",'OPĆI DIO'!$C$1)","v":""},"",""]
[{"$f":"IF(F331=\"\",\"\",VLOOKUP('OPĆI DIO'!$C$1,'OPĆI DIO'!$N$4:$W$137,10,FALSE))","v":""},{"$f":"IF(F331=\"\",\"\",VLOOKUP('OPĆI DIO'!$C$1,'OPĆI DIO'!$N$4:$W$137,9,FALSE))","v":""},"","",{"$f":"IFERROR(VLOOKUP(F331,$U$6:$X$113,4,FALSE),\"\")","v":""},"",null,"",{"$nulls":4},{"$f":"IF(F331=\"\",\"\",'OPĆI DIO'!$C$1)","v":""},"",""]
[{"$f":"IF(F332=\"\",\"\",VLOOKUP('OPĆI DIO'!$C$1,'OPĆI DIO'!$N$4:$W$137,10,FALSE))","v":""},{"$f":"IF(F332=\"\",\"\",VLOOKUP('OPĆI DIO'!$C$1,'OPĆI DIO'!$N$4:$W$137,9,FALSE))","v":""},"","","","",null,"",{"$nulls":4},{"$f":"IF(F332=\"\",\"\",'OPĆI DIO'!$C$1)","v":""},"",""]
[{"$f":"IF(F333=\"\",\"\",VLOOKUP('OPĆI DIO'!$C$1,'OPĆI DIO'!$N$4:$W$137,10,FALSE))","v":""},{"$f":"IF(F333=\"\",\"\",VLOOKUP('OPĆI DIO'!$C$1,'OPĆI DIO'!$N$4:$W$137,9,FALSE))","v":""},"","","","",null,"",{"$nulls":4},{"$f":"IF(F333=\"\",\"\",'OPĆI DIO'!$C$1)","v":""},"",""]
[{"$f":"IF(F334=\"\",\"\",VLOOKUP('OPĆI DIO'!$C$1,'OPĆI DIO'!$N$4:$W$137,10,FALSE))","v":""},{"$f":"IF(F334=\"\",\"\",VLOOKUP('OPĆI DIO'!$C$1,'OPĆI DIO'!$N$4:$W$137,9,FALSE))","v":""},"","","","",null,"",{"$nulls":4},{"$f":"IF(F334=\"\",\"\",'OPĆI DIO'!$C$1)","v":""},"",""]
[{"$f":"IF(F335=\"\",\"\",VLOOKUP('OPĆI DIO'!$C$1,'OPĆI DIO'!$N$4:$W$137,10,FALSE))","v":""},{"$f":"IF(F335=\"\",\"\",VLOOKUP('OPĆI DIO'!$C$1,'OPĆI DIO'!$N$4:$W$137,9,FALSE))","v":""},"","","","",null,"",{"$nulls":4},{"$f":"IF(F335=\"\",\"\",'OPĆI DIO'!$C$1)","v":""},"",""]
[{"$f":"IF(F336=\"\",\"\",VLOOKUP('OPĆI DIO'!$C$1,'OPĆI DIO'!$N$4:$W$137,10,FALSE))","v":""},{"$f":"IF(F336=\"\",\"\",VLOOKUP('OPĆI DIO'!$C$1,'OPĆI DIO'!$N$4:$W$137,9,FALSE))","v":""},"","","","",null,"",{"$nulls":4},{"$f":"IF(F336=\"\",\"\",'OPĆI DIO'!$C$1)","v":""},"",""]
[{"$f":"IF(F337=\"\",\"\",VLOOKUP('OPĆI DIO'!$C$1,'OPĆI DIO'!$N$4:$W$137,10,FALSE))","v":""},{"$f":"IF(F337=\"\",\"\",VLOOKUP('OPĆI DIO'!$C$1,'OPĆI DIO'!$N$4:$W$137,9,FALSE))","v":""},"","","","",null,"",{"$nulls":4},{"$f":"IF(F337=\"\",\"\",'OPĆI DIO'!$C$1)","v":""},"",""]
[{"$f":"IF(F338=\"\",\"\",VLOOKUP('OPĆI DIO'!$C$1,'OPĆI DIO'!$N$4:$W$137,10,FALSE))","v":""},{"$f":"IF(F338=\"\",\"\",VLOOKUP('OPĆI DIO'!$C$1,'OPĆI DIO'!$N$4:$W$137,9,FALSE))","v":""},"","","","",null,"",{"$nulls":4},{"$f":"IF(F338=\"\",\"\",'OPĆI DIO'!$C$1)","v":""},"",""]
[{"$f":"IF(F339=\"\",\"\",VLOOKUP('OPĆI DIO'!$C$1,'OPĆI DIO'!$N$4:$W$137,10,FALSE))","v":""},{"$f":"IF(F339=\"\",\"\",VLOOKUP('OPĆI DIO'!$C$1,'OPĆI DIO'!$N$4:$W$137,9,FALSE))","v":""},"","","","",null,"",{"$nulls":4},{"$f":"IF(F339=\"\",\"\",'OPĆI DIO'!$C$1)","v":""},"",""]
[{"$f":"IF(F340=\"\",\"\",VLOOKUP('OPĆI DIO'!$C$1,'OPĆI DIO'!$N$4:$W$137,10,FALSE))","v":""},{"$f":"IF(F340=\"\",\"\",VLOOKUP('OPĆI DIO'!$C$1,'OPĆI DIO'!$N$4:$W$137,9,FALSE))","v":""},"","","","",null,"",{"$nulls":4},{"$f":"IF(F340=\"\",\"\",'OPĆI DIO'!$C$1)","v":""},"",""]
[{"$f":"IF(F341=\"\",\"\",VLOOKUP('OPĆI DIO'!$C$1,'OPĆI DIO'!$N$4:$W$137,10,FALSE))","v":""},{"$f":"IF(F341=\"\",\"\",VLOOKUP('OPĆI DIO'!$C$1,'OPĆI DIO'!$N$4:$W$137,9,FALSE))","v":""},"","","","",null,"",{"$nulls":4},{"$f":"IF(F341=\"\",\"\",'OPĆI DIO'!$C$1)","v":""},"",""]
[{"$f":"IF(F342=\"\",\"\",VLOOKUP('OPĆI DIO'!$C$1,'OPĆI DIO'!$N$4:$W$137,10,FALSE))","v":""},{"$f":"IF(F342=\"\",\"\",VLOOKUP('OPĆI DIO'!$C$1,'OPĆI DIO'!$N$4:$W$137,9,FALSE))","v":""},"","","","",null,"",{"$nulls":4},{"$f":"IF(F342=\"\",\"\",'OPĆI DIO'!$C$1)","v":""},"",""]
[{"$f":"IF(F343=\"\",\"\",VLOOKUP('OPĆI DIO'!$C$1,'OPĆI DIO'!$N$4:$W$137,10,FALSE))","v":""},{"$f":"IF(F343=\"\",\"\",VLOOKUP('OPĆI DIO'!$C$1,'OPĆI DIO'!$N$4:$W$137,9,FALSE))","v":""},"","","","",null,"",{"$nulls":4},{"$f":"IF(F343=\"\",\"\",'OPĆI DIO'!$C$1)","v":""},"",""]
[{"$f":"IF(F344=\"\",\"\",VLOOKUP('OPĆI DIO'!$C$1,'OPĆI DIO'!$N$4:$W$137,10,FALSE))","v":""},{"$f":"IF(F344=\"\",\"\",VLOOKUP('OPĆI DIO'!$C$1,'OPĆI DIO'!$N$4:$W$137,9,FALSE))","v":""},"","","","",null,"",{"$nulls":4},{"$f":"IF(F344=\"\",\"\",'OPĆI DIO'!$C$1)","v":""},"",""]
[{"$f":"IF(F345=\"\",\"\",VLOOKUP('OPĆI DIO'!$C$1,'OPĆI DIO'!$N$4:$W$137,10,FALSE))","v":""},{"$f":"IF(F345=\"\",\"\",VLOOKUP('OPĆI DIO'!$C$1,'OPĆI DIO'!$N$4:$W$137,9,FALSE))","v":""},"","","","",null,"",{"$nulls":4},{"$f":"IF(F345=\"\",\"\",'OPĆI DIO'!$C$1)","v":""},"",""]
[{"$f":"IF(F346=\"\",\"\",VLOOKUP('OPĆI DIO'!$C$1,'OPĆI DIO'!$N$4:$W$137,10,FALSE))","v":""},{"$f":"IF(F346=\"\",\"\",VLOOKUP('OPĆI DIO'!$C$1,'OPĆI DIO'!$N$4:$W$137,9,FALSE))","v":""},"","","","",null,"",{"$nulls":4},{"$f":"IF(F346=\"\",\"\",'OPĆI DIO'!$C$1)","v":""},"",""]
[{"$f":"IF(F347=\"\",\"\",VLOOKUP('OPĆI DIO'!$C$1,'OPĆI DIO'!$N$4:$W$137,10,FALSE))","v":""},{"$f":"IF(F347=\"\",\"\",VLOOKUP('OPĆI DIO'!$C$1,'OPĆI DIO'!$N$4:$W$137,9,FALSE))","v":""},"","","","",null,"",{"$nulls":4},{"$f":"IF(F347=\"\",\"\",'OPĆI DIO'!$C$1)","v":""},"",""]
[{"$f":"IF(F348=\"\",\"\",VLOOKUP('OPĆI DIO'!$C$1,'OPĆI DIO'!$N$4:$W$137,10,FALSE))","v":""},{"$f":"IF(F348=\"\",\"\",VLOOKUP('OPĆI DIO'!$C$1,'OPĆI DIO'!$N$4:$W$137,9,FALSE))","v":""},"","","","",null,"",{"$nulls":4},{"$f":"IF(F348=\"\",\"\",'OPĆI DIO'!$C$1)","v":""},"",""]
[{"$f":"IF(F349=\"\",\"\",VLOOKUP('OPĆI DIO'!$C$1,'OPĆI DIO'!$N$4:$W$137,10,FALSE))","v":""},{"$f":"IF(F349=\"\",\"\",VLOOKUP('OPĆI DIO'!$C$1,'OPĆI DIO'!$N$4:$W$137,9,FALSE))","v":""},"","","","",null,"",{"$nulls":4},{"$f":"IF(F349=\"\",\"\",'OPĆI DIO'!$C$1)","v":""},"",""]
[{"$f":"IF(F350=\"\",\"\",VLOOKUP('OPĆI DIO'!$C$1,'OPĆI DIO'!$N$4:$W$137,10,FALSE))","v":""},{"$f":"IF(F350=\"\",\"\",VLOOKUP('OPĆI DIO'!$C$1,'OPĆI DIO'!$N$4:$W$137,9,FALSE))","v":""},"","","","",null,"",{"$nulls":4},{"$f":"IF(F350=\"\",\"\",'OPĆI DIO'!$C$1)","v":""},"",""]
[{"$f":"IF(F351=\"\",\"\",VLOOKUP('OPĆI DIO'!$C$1,'OPĆI DIO'!$N$4:$W$137,10,FALSE))","v":""},{"$f":"IF(F351=\"\",\"\",VLOOKUP('OPĆI DIO'!$C$1,'OPĆI DIO'!$N$4:$W$137,9,FALSE))","v":""},"","","","",null,"",{"$nulls":4},{"$f":"IF(F351=\"\",\"\",'OPĆI DIO'!$C$1)","v":""},"",""]
[{"$f":"IF(F352=\"\",\"\",VLOOKUP('OPĆI DIO'!$C$1,'OPĆI DIO'!$N$4:$W$137,10,FALSE))","v":""},{"$f":"IF(F352=\"\",\"\",VLOOKUP('OPĆI DIO'!$C$1,'OPĆI DIO'!$N$4:$W$137,9,FALSE))","v":""},"","","","",null,"",{"$nulls":4},{"$f":"IF(F352=\"\",\"\",'OPĆI DIO'!$C$1)","v":""},"",""]
[{"$f":"IF(F353=\"\",\"\",VLOOKUP('OPĆI DIO'!$C$1,'OPĆI DIO'!$N$4:$W$137,10,FALSE))","v":""},{"$f":"IF(F353=\"\",\"\",VLOOKUP('OPĆI DIO'!$C$1,'OPĆI DIO'!$N$4:$W$137,9,FALSE))","v":""},"","","","",null,"",{"$nulls":4},{"$f":"IF(F353=\"\",\"\",'OPĆI DIO'!$C$1)","v":""},"",""]
[{"$f":"IF(F354=\"\",\"\",VLOOKUP('OPĆI DIO'!$C$1,'OPĆI DIO'!$N$4:$W$137,10,FALSE))","v":""},{"$f":"IF(F354=\"\",\"\",VLOOKUP('OPĆI DIO'!$C$1,'OPĆI DIO'!$N$4:$W$137,9,FALSE))","v":""},"","","","",null,"",{"$nulls":4},{"$f":"IF(F354=\"\",\"\",'OPĆI DIO'!$C$1)","v":""},"",""]
[{"$f":"IF(F355=\"\",\"\",VLOOKUP('OPĆI DIO'!$C$1,'OPĆI DIO'!$N$4:$W$137,10,FALSE))","v":""},{"$f":"IF(F355=\"\",\"\",VLOOKUP('OPĆI DIO'!$C$1,'OPĆI DIO'!$N$4:$W$137,9,FALSE))","v":""},"","","","",null,"",{"$nulls":4},{"$f":"IF(F355=\"\",\"\",'OPĆI DIO'!$C$1)","v":""},"",""]
[{"$f":"IF(F356=\"\",\"\",VLOOKUP('OPĆI DIO'!$C$1,'OPĆI DIO'!$N$4:$W$137,10,FALSE))","v":""},{"$f":"IF(F356=\"\",\"\",VLOOKUP('OPĆI DIO'!$C$1,'OPĆI DIO'!$N$4:$W$137,9,FALSE))","v":""},"","","","",null,"",{"$nulls":4},{"$f":"IF(F356=\"\",\"\",'OPĆI DIO'!$C$1)","v":""},"",""]
[{"$f":"IF(F357=\"\",\"\",VLOOKUP('OPĆI DIO'!$C$1,'OPĆI DIO'!$N$4:$W$137,10,FALSE))","v":""},{"$f":"IF(F357=\"\",\"\",VLOOKUP('OPĆI DIO'!$C$1,'OPĆI DIO'!$N$4:$W$137,9,FALSE))","v":""},"","","","",null,"",{"$nulls":4},{"$f":"IF(F357=\"\",\"\",'OPĆI DIO'!$C$1)","v":""},"",""]
[{"$f":"IF(F358=\"\",\"\",VLOOKUP('OPĆI DIO'!$C$1,'OPĆI DIO'!$N$4:$W$137,10,FALSE))","v":""},{"$f":"IF(F358=\"\",\"\",VLOOKUP('OPĆI DIO'!$C$1,'OPĆI DIO'!$N$4:$W$137,9,FALSE))","v":""},"","","","",null,"",{"$nulls":4},{"$f":"IF(F358=\"\",\"\",'OPĆI DIO'!$C$1)","v":""},"",""]
[{"$f":"IF(F359=\"\",\"\",VLOOKUP('OPĆI DIO'!$C$1,'OPĆI DIO'!$N$4:$W$137,10,FALSE))","v":""},{"$f":"IF(F359=\"\",\"\",VLOOKUP('OPĆI DIO'!$C$1,'OPĆI DIO'!$N$4:$W$137,9,FALSE))","v":""},"","","","",null,"",{"$nulls":4},{"$f":"IF(F359=\"\",\"\",'OPĆI DIO'!$C$1)","v":""},"",""]
[{"$f":"IF(F360=\"\",\"\",VLOOKUP('OPĆI DIO'!$C$1,'OPĆI DIO'!$N$4:$W$137,10,FALSE))","v":""},{"$f":"IF(F360=\"\",\"\",VLOOKUP('OPĆI DIO'!$C$1,'OPĆI DIO'!$N$4:$W$137,9,FALSE))","v":""},"","","","",null,"",{"$nulls":4},{"$f":"IF(F360=\"\",\"\",'OPĆI DIO'!$C$1)","v":""},"",""]
[{"$f":"IF(F361=\"\",\"\",VLOOKUP('OPĆI DIO'!$C$1,'OPĆI DIO'!$N$4:$W$137,10,FALSE))","v":""},{"$f":"IF(F361=\"\",\"\",VLOOKUP('OPĆI DIO'!$C$1,'OPĆI DIO'!$N$4:$W$137,9,FALSE))","v":""},"","","","",null,"",{"$nulls":4},{"$f":"IF(F361=\"\",\"\",'OPĆI DIO'!$C$1)","v":""},"",""]
[{"$f":"IF(F362=\"\",\"\",VLOOKUP('OPĆI DIO'!$C$1,'OPĆI DIO'!$N$4:$W$137,10,FALSE))","v":""},{"$f":"IF(F362=\"\",\"\",VLOOKUP('OPĆI DIO'!$C$1,'OPĆI DIO'!$N$4:$W$137,9,FALSE))","v":""},"","","","",null,"",{"$nulls":4},{"$f":"IF(F362=\"\",\"\",'OPĆI DIO'!$C$1)","v":""},"",""]
[{"$f":"IF(F363=\"\",\"\",VLOOKUP('OPĆI DIO'!$C$1,'OPĆI DIO'!$N$4:$W$137,10,FALSE))","v":""},{"$f":"IF(F363=\"\",\"\",VLOOKUP('OPĆI DIO'!$C$1,'OPĆI DIO'!$N$4:$W$137,9,FALSE))","v":""},"","","","",null,"",{"$nulls":4},{"$f":"IF(F363=\"\",\"\",'OPĆI DIO'!$C$1)","v":""},"",""]
[{"$f":"IF(F364=\"\",\"\",VLOOKUP('OPĆI DIO'!$C$1,'OPĆI DIO'!$N$4:$W$137,10,FALSE))","v":""},{"$f":"IF(F364=\"\",\"\",VLOOKUP('OPĆI DIO'!$C$1,'OPĆI DIO'!$N$4:$W$137,9,FALSE))","v":""},"","","","",null,"",{"$nulls":4},{"$f":"IF(F364=\"\",\"\",'OPĆI DIO'!$C$1)","v":""},"",""]
[{"$f":"IF(F365=\"\",\"\",VLOOKUP('OPĆI DIO'!$C$1,'OPĆI DIO'!$N$4:$W$137,10,FALSE))","v":""},{"$f":"IF(F365=\"\",\"\",VLOOKUP('OPĆI DIO'!$C$1,'OPĆI DIO'!$N$4:$W$137,9,FALSE))","v":""},"","","","",null,"",{"$nulls":4},{"$f":"IF(F365=\"\",\"\",'OPĆI DIO'!$C$1)","v":""},"",""]
[{"$f":"IF(F366=\"\",\"\",VLOOKUP('OPĆI DIO'!$C$1,'OPĆI DIO'!$N$4:$W$137,10,FALSE))","v":""},{"$f":"IF(F366=\"\",\"\",VLOOKUP('OPĆI DIO'!$C$1,'OPĆI DIO'!$N$4:$W$137,9,FALSE))","v":""},"","","","",null,"",{"$nulls":4},{"$f":"IF(F366=\"\",\"\",'OPĆI DIO'!$C$1)","v":""},"",""]
[{"$f":"IF(F367=\"\",\"\",VLOOKUP('OPĆI DIO'!$C$1,'OPĆI DIO'!$N$4:$W$137,10,FALSE))","v":""},{"$f":"IF(F367=\"\",\"\",VLOOKUP('OPĆI DIO'!$C$1,'OPĆI DIO'!$N$4:$W$137,9,FALSE))","v":""},"","","","",null,"",{"$nulls":4},{"$f":"IF(F367=\"\",\"\",'OPĆI DIO'!$C$1)","v":""},"",""]
[{"$f":"IF(F368=\"\",\"\",VLOOKUP('OPĆI DIO'!$C$1,'OPĆI DIO'!$N$4:$W$137,10,FALSE))","v":""},{"$f":"IF(F368=\"\",\"\",VLOOKUP('OPĆI DIO'!$C$1,'OPĆI DIO'!$N$4:$W$137,9,FALSE))","v":""},"","","","",null,"",{"$nulls":4},{"$f":"IF(F368=\"\",\"\",'OPĆI DIO'!$C$1)","v":""},"",""]
[{"$f":"IF(F369=\"\",\"\",VLOOKUP('OPĆI DIO'!$C$1,'OPĆI DIO'!$N$4:$W$137,10,FALSE))","v":""},{"$f":"IF(F369=\"\",\"\",VLOOKUP('OPĆI DIO'!$C$1,'OPĆI DIO'!$N$4:$W$137,9,FALSE))","v":""},"","","","",null,"",{"$nulls":4},{"$f":"IF(F369=\"\",\"\",'OPĆI DIO'!$C$1)","v":""},"",""]
[{"$f":"IF(F370=\"\",\"\",VLOOKUP('OPĆI DIO'!$C$1,'OPĆI DIO'!$N$4:$W$137,10,FALSE))","v":""},{"$f":"IF(F370=\"\",\"\",VLOOKUP('OPĆI DIO'!$C$1,'OPĆI DIO'!$N$4:$W$137,9,FALSE))","v":""},"","","","",null,"",{"$nulls":4},{"$f":"IF(F370=\"\",\"\",'OPĆI DIO'!$C$1)","v":""},"",""]
[{"$f":"IF(F371=\"\",\"\",VLOOKUP('OPĆI DIO'!$C$1,'OPĆI DIO'!$N$4:$W$137,10,FALSE))","v":""},{"$f":"IF(F371=\"\",\"\",VLOOKUP('OPĆI DIO'!$C$1,'OPĆI DIO'!$N$4:$W$137,9,FALSE))","v":""},"","","","",null,"",{"$nulls":4},{"$f":"IF(F371=\"\",\"\",'OPĆI DIO'!$C$1)","v":""},"",""]
[{"$f":"IF(F372=\"\",\"\",VLOOKUP('OPĆI DIO'!$C$1,'OPĆI DIO'!$N$4:$W$137,10,FALSE))","v":""},{"$f":"IF(F372=\"\",\"\",VLOOKUP('OPĆI DIO'!$C$1,'OPĆI DIO'!$N$4:$W$137,9,FALSE))","v":""},"","","","",null,"",{"$nulls":4},{"$f":"IF(F372=\"\",\"\",'OPĆI DIO'!$C$1)","v":""},"",""]
[{"$f":"IF(F373=\"\",\"\",VLOOKUP('OPĆI DIO'!$C$1,'OPĆI DIO'!$N$4:$W$137,10,FALSE))","v":""},{"$f":"IF(F373=\"\",\"\",VLOOKUP('OPĆI DIO'!$C$1,'OPĆI DIO'!$N$4:$W$137,9,FALSE))","v":""},"","","","",null,"",{"$nulls":4},{"$f":"IF(F373=\"\",\"\",'OPĆI DIO'!$C$1)","v":""},"",""]
[{"$f":"IF(F374=\"\",\"\",VLOOKUP('OPĆI DIO'!$C$1,'OPĆI DIO'!$N$4:$W$137,10,FALSE))","v":""},{"$f":"IF(F374=\"\",\"\",VLOOKUP('OPĆI DIO'!$C$1,'OPĆI DIO'!$N$4:$W$137,9,FALSE))","v":""},"","","","",null,"",{"$nulls":4},{"$f":"IF(F374=\"\",\"\",'OPĆI DIO'!$C$1)","v":""},"",""]
[{"$f":"IF(F375=\"\",\"\",VLOOKUP('OPĆI DIO'!$C$1,'OPĆI DIO'!$N$4:$W$137,10,FALSE))","v":""},{"$f":"IF(F375=\"\",\"\",VLOOKUP('OPĆI DIO'!$C$1,'OPĆI DIO'!$N$4:$W$137,9,FALSE))","v":""},"","","","",null,"",{"$nulls":4},{"$f":"IF(F375=\"\",\"\",'OPĆI DIO'!$C$1)","v":""},"",""]
[{"$f":"IF(F376=\"\",\"\",VLOOKUP('OPĆI DIO'!$C$1,'OPĆI DIO'!$N$4:$W$137,10,FALSE))","v":""},{"$f":"IF(F376=\"\",\"\",VLOOKUP('OPĆI DIO'!$C$1,'OPĆI DIO'!$N$4:$W$137,9,FALSE))","v":""},"","","","",null,"",{"$nulls":4},{"$f":"IF(F376=\"\",\"\",'OPĆI DIO'!$C$1)","v":""},"",""]
[{"$f":"IF(F377=\"\",\"\",VLOOKUP('OPĆI DIO'!$C$1,'OPĆI DIO'!$N$4:$W$137,10,FALSE))","v":""},{"$f":"IF(F377=\"\",\"\",VLOOKUP('OPĆI DIO'!$C$1,'OPĆI DIO'!$N$4:$W$137,9,FALSE))","v":""},"","","","",null,"",{"$nulls":4},{"$f":"IF(F377=\"\",\"\",'OPĆI DIO'!$C$1)","v":""},"",""]
[{"$f":"IF(F378=\"\",\"\",VLOOKUP('OPĆI DIO'!$C$1,'OPĆI DIO'!$N$4:$W$137,10,FALSE))","v":""},{"$f":"IF(F378=\"\",\"\",VLOOKUP('OPĆI DIO'!$C$1,'OPĆI DIO'!$N$4:$W$137,9,FALSE))","v":""},"","","","",null,"",{"$nulls":4},{"$f":"IF(F378=\"\",\"\",'OPĆI DIO'!$C$1)","v":""},"",""]
[{"$f":"IF(F379=\"\",\"\",VLOOKUP('OPĆI DIO'!$C$1,'OPĆI DIO'!$N$4:$W$137,10,FALSE))","v":""},{"$f":"IF(F379=\"\",\"\",VLOOKUP('OPĆI DIO'!$C$1,'OPĆI DIO'!$N$4:$W$137,9,FALSE))","v":""},"","","","",null,"",{"$nulls":4},{"$f":"IF(F379=\"\",\"\",'OPĆI DIO'!$C$1)","v":""},"",""]
[{"$f":"IF(F380=\"\",\"\",VLOOKUP('OPĆI DIO'!$C$1,'OPĆI DIO'!$N$4:$W$137,10,FALSE))","v":""},{"$f":"IF(F380=\"\",\"\",VLOOKUP('OPĆI DIO'!$C$1,'OPĆI DIO'!$N$4:$W$137,9,FALSE))","v":""},"","","","",null,"",{"$nulls":4},{"$f":"IF(F380=\"\",\"\",'OPĆI DIO'!$C$1)","v":""},"",""]
[{"$f":"IF(F381=\"\",\"\",VLOOKUP('OPĆI DIO'!$C$1,'OPĆI DIO'!$N$4:$W$137,10,FALSE))","v":""},{"$f":"IF(F381=\"\",\"\",VLOOKUP('OPĆI DIO'!$C$1,'OPĆI DIO'!$N$4:$W$137,9,FALSE))","v":""},"","","","",null,"",{"$nulls":4},{"$f":"IF(F381=\"\",\"\",'OPĆI DIO'!$C$1)","v":""},"",""]
[{"$f":"IF(F382=\"\",\"\",VLOOKUP('OPĆI DIO'!$C$1,'OPĆI DIO'!$N$4:$W$137,10,FALSE))","v":""},{"$f":"IF(F382=\"\",\"\",VLOOKUP('OPĆI DIO'!$C$1,'OPĆI DIO'!$N$4:$W$137,9,FALSE))","v":""},"","","","",null,"",{"$nulls":4},{"$f":"IF(F382=\"\",\"\",'OPĆI DIO'!$C$1)","v":""},"",""]
[{"$f":"IF(F383=\"\",\"\",VLOOKUP('OPĆI DIO'!$C$1,'OPĆI DIO'!$N$4:$W$137,10,FALSE))","v":""},{"$f":"IF(F383=\"\",\"\",VLOOKUP('OPĆI DIO'!$C$1,'OPĆI DIO'!$N$4:$W$137,9,FALSE))","v":""},"","","","",null,"",{"$nulls":4},{"$f":"IF(F383=\"\",\"\",'OPĆI DIO'!$C$1)","v":""},"",""]
[{"$f":"IF(F384=\"\",\"\",VLOOKUP('OPĆI DIO'!$C$1,'OPĆI DIO'!$N$4:$W$137,10,FALSE))","v":""},{"$f":"IF(F384=\"\",\"\",VLOOKUP('OPĆI DIO'!$C$1,'OPĆI DIO'!$N$4:$W$137,9,FALSE))","v":""},"","","","",null,"",{"$nulls":4},{"$f":"IF(F384=\"\",\"\",'OPĆI DIO'!$C$1)","v":""},"",""]
[{"$f":"IF(F385=\"\",\"\",VLOOKUP('OPĆI DIO'!$C$1,'OPĆI DIO'!$N$4:$W$137,10,FALSE))","v":""},{"$f":"IF(F385=\"\",\"\",VLOOKUP('OPĆI DIO'!$C$1,'OPĆI DIO'!$N$4:$W$137,9,FALSE))","v":""},"","","","",null,"",{"$nulls":4},{"$f":"IF(F385=\"\",\"\",'OPĆI DIO'!$C$1)","v":""},"",""]
[{"$f":"IF(F386=\"\",\"\",VLOOKUP('OPĆI DIO'!$C$1,'OPĆI DIO'!$N$4:$W$137,10,FALSE))","v":""},{"$f":"IF(F386=\"\",\"\",VLOOKUP('OPĆI DIO'!$C$1,'OPĆI DIO'!$N$4:$W$137,9,FALSE))","v":""},"","","","",null,"",{"$nulls":4},{"$f":"IF(F386=\"\",\"\",'OPĆI DIO'!$C$1)","v":""},"",""]
[{"$f":"IF(F387=\"\",\"\",VLOOKUP('OPĆI DIO'!$C$1,'OPĆI DIO'!$N$4:$W$137,10,FALSE))","v":""},{"$f":"IF(F387=\"\",\"\",VLOOKUP('OPĆI DIO'!$C$1,'OPĆI DIO'!$N$4:$W$137,9,FALSE))","v":""},"","","","",null,"",{"$nulls":4},{"$f":"IF(F387=\"\",\"\",'OPĆI DIO'!$C$1)","v":""},"",""]
[{"$f":"IF(F388=\"\",\"\",VLOOKUP('OPĆI DIO'!$C$1,'OPĆI DIO'!$N$4:$W$137,10,FALSE))","v":""},{"$f":"IF(F388=\"\",\"\",VLOOKUP('OPĆI DIO'!$C$1,'OPĆI DIO'!$N$4:$W$137,9,FALSE))","v":""},{"$f":"IFERROR(VLOOKUP(G388,$T$6:$AA$500,8,FALSE),\"\")","v":""},{"$f":"IFERROR(VLOOKUP(G388,$T$6:$AA$500,4,FALSE),\"\")","v":""},"",{"$f":"IFERROR(VLOOKUP(G388,$T$6:$AA$500,2,FALSE),\"\")","v":""},null,{"$f":"IFERROR(VLOOKUP(G388,$T$6:$AA$500,3,FALSE),\"\")","v":""},{"$nulls":4},{"$f":"IF(F388=\"\",\"\",'OPĆI DIO'!$C$1)","v":""},"",""]
[{"$f":"IF(F389=\"\",\"\",VLOOKUP('OPĆI DIO'!$C$1,'OPĆI DIO'!$N$4:$W$137,10,FALSE))","v":""},{"$f":"IF(F389=\"\",\"\",VLOOKUP('OPĆI DIO'!$C$1,'OPĆI DIO'!$N$4:$W$137,9,FALSE))","v":""},"","","","",null,"",{"$nulls":4},{"$f":"IF(F389=\"\",\"\",'OPĆI DIO'!$C$1)","v":""},"",""]
[{"$f":"IF(F390=\"\",\"\",VLOOKUP('OPĆI DIO'!$C$1,'OPĆI DIO'!$N$4:$W$137,10,FALSE))","v":""},{"$f":"IF(F390=\"\",\"\",VLOOKUP('OPĆI DIO'!$C$1,'OPĆI DIO'!$N$4:$W$137,9,FALSE))","v":""},"","","","",null,"",{"$nulls":4},{"$f":"IF(F390=\"\",\"\",'OPĆI DIO'!$C$1)","v":""},"",""]
[{"$f":"IF(F391=\"\",\"\",VLOOKUP('OPĆI DIO'!$C$1,'OPĆI DIO'!$N$4:$W$137,10,FALSE))","v":""},{"$f":"IF(F391=\"\",\"\",VLOOKUP('OPĆI DIO'!$C$1,'OPĆI DIO'!$N$4:$W$137,9,FALSE))","v":""},"","","","",null,"",{"$nulls":4},{"$f":"IF(F391=\"\",\"\",'OPĆI DIO'!$C$1)","v":""},"",""]
[{"$f":"IF(F392=\"\",\"\",VLOOKUP('OPĆI DIO'!$C$1,'OPĆI DIO'!$N$4:$W$137,10,FALSE))","v":""},{"$f":"IF(F392=\"\",\"\",VLOOKUP('OPĆI DIO'!$C$1,'OPĆI DIO'!$N$4:$W$137,9,FALSE))","v":""},"","","","",null,"",{"$nulls":4},{"$f":"IF(F392=\"\",\"\",'OPĆI DIO'!$C$1)","v":""},{"$f":"LEFT(F392,2)","v":""},{"$f":"LEFT(F392,3)","v":""}]
[{"$f":"IF(F393=\"\",\"\",VLOOKUP('OPĆI DIO'!$C$1,'OPĆI DIO'!$N$4:$W$137,10,FALSE))","v":""},{"$f":"IF(F393=\"\",\"\",VLOOKUP('OPĆI DIO'!$C$1,'OPĆI DIO'!$N$4:$W$137,9,FALSE))","v":""},"","","","",null,"",{"$nulls":4},{"$f":"IF(F393=\"\",\"\",'OPĆI DIO'!$C$1)","v":""},"",""]
[{"$f":"IF(F394=\"\",\"\",VLOOKUP('OPĆI DIO'!$C$1,'OPĆI DIO'!$N$4:$W$137,10,FALSE))","v":""},{"$f":"IF(F394=\"\",\"\",VLOOKUP('OPĆI DIO'!$C$1,'OPĆI DIO'!$N$4:$W$137,9,FALSE))","v":""},"","","","",null,"",{"$nulls":4},{"$f":"IF(F394=\"\",\"\",'OPĆI DIO'!$C$1)","v":""},"",""]
[{"$f":"IF(F395=\"\",\"\",VLOOKUP('OPĆI DIO'!$C$1,'OPĆI DIO'!$N$4:$W$137,10,FALSE))","v":""},{"$f":"IF(F395=\"\",\"\",VLOOKUP('OPĆI DIO'!$C$1,'OPĆI DIO'!$N$4:$W$137,9,FALSE))","v":""},"","",{"$f":"IFERROR(VLOOKUP(F395,$U$6:$X$113,4,FALSE),\"\")","v":""},"",null,"",{"$nulls":4},{"$f":"IF(F395=\"\",\"\",'OPĆI DIO'!$C$1)","v":""},"",""]
[{"$f":"IF(F396=\"\",\"\",VLOOKUP('OPĆI DIO'!$C$1,'OPĆI DIO'!$N$4:$W$137,10,FALSE))","v":""},{"$f":"IF(F396=\"\",\"\",VLOOKUP('OPĆI DIO'!$C$1,'OPĆI DIO'!$N$4:$W$137,9,FALSE))","v":""},"","","","",null,"",{"$nulls":4},{"$f":"IF(F396=\"\",\"\",'OPĆI DIO'!$C$1)","v":""},"",""]
[{"$f":"IF(F397=\"\",\"\",VLOOKUP('OPĆI DIO'!$C$1,'OPĆI DIO'!$N$4:$W$137,10,FALSE))","v":""},{"$f":"IF(F397=\"\",\"\",VLOOKUP('OPĆI DIO'!$C$1,'OPĆI DIO'!$N$4:$W$137,9,FALSE))","v":""},"","","","",null,"",{"$nulls":4},{"$f":"IF(F397=\"\",\"\",'OPĆI DIO'!$C$1)","v":""},"",""]
[{"$f":"IF(F398=\"\",\"\",VLOOKUP('OPĆI DIO'!$C$1,'OPĆI DIO'!$N$4:$W$137,10,FALSE))","v":""},{"$f":"IF(F398=\"\",\"\",VLOOKUP('OPĆI DIO'!$C$1,'OPĆI DIO'!$N$4:$W$137,9,FALSE))","v":""},"","","","",null,"",{"$nulls":4},{"$f":"IF(F398=\"\",\"\",'OPĆI DIO'!$C$1)","v":""},"",""]
[{"$f":"IF(F399=\"\",\"\",VLOOKUP('OPĆI DIO'!$C$1,'OPĆI DIO'!$N$4:$W$137,10,FALSE))","v":""},{"$f":"IF(F399=\"\",\"\",VLOOKUP('OPĆI DIO'!$C$1,'OPĆI DIO'!$N$4:$W$137,9,FALSE))","v":""},"","","","",null,"",{"$nulls":4},{"$f":"IF(F399=\"\",\"\",'OPĆI DIO'!$C$1)","v":""},"",""]
[{"$f":"IF(F400=\"\",\"\",VLOOKUP('OPĆI DIO'!$C$1,'OPĆI DIO'!$N$4:$W$137,10,FALSE))","v":""},{"$f":"IF(F400=\"\",\"\",VLOOKUP('OPĆI DIO'!$C$1,'OPĆI DIO'!$N$4:$W$137,9,FALSE))","v":""},"","","","",null,"",{"$nulls":4},{"$f":"IF(F400=\"\",\"\",'OPĆI DIO'!$C$1)","v":""},"",""]
[{"$f":"IF(F401=\"\",\"\",VLOOKUP('OPĆI DIO'!$C$1,'OPĆI DIO'!$N$4:$W$137,10,FALSE))","v":""},{"$f":"IF(F401=\"\",\"\",VLOOKUP('OPĆI DIO'!$C$1,'OPĆI DIO'!$N$4:$W$137,9,FALSE))","v":""},"","","","",null,"",{"$nulls":4},{"$f":"IF(F401=\"\",\"\",'OPĆI DIO'!$C$1)","v":""},"",""]
[{"$f":"IF(F402=\"\",\"\",VLOOKUP('OPĆI DIO'!$C$1,'OPĆI DIO'!$N$4:$W$137,10,FALSE))","v":""},{"$f":"IF(F402=\"\",\"\",VLOOKUP('OPĆI DIO'!$C$1,'OPĆI DIO'!$N$4:$W$137,9,FALSE))","v":""},"","","","",null,"",{"$nulls":4},{"$f":"IF(F402=\"\",\"\",'OPĆI DIO'!$C$1)","v":""},"",""]
[{"$f":"IF(F403=\"\",\"\",VLOOKUP('OPĆI DIO'!$C$1,'OPĆI DIO'!$N$4:$W$137,10,FALSE))","v":""},{"$f":"IF(F403=\"\",\"\",VLOOKUP('OPĆI DIO'!$C$1,'OPĆI DIO'!$N$4:$W$137,9,FALSE))","v":""},"","","","",null,"",{"$nulls":4},{"$f":"IF(F403=\"\",\"\",'OPĆI DIO'!$C$1)","v":""},"",""]
[{"$f":"IF(F404=\"\",\"\",VLOOKUP('OPĆI DIO'!$C$1,'OPĆI DIO'!$N$4:$W$137,10,FALSE))","v":""},{"$f":"IF(F404=\"\",\"\",VLOOKUP('OPĆI DIO'!$C$1,'OPĆI DIO'!$N$4:$W$137,9,FALSE))","v":""},"","","","",null,"",{"$nulls":4},{"$f":"IF(F404=\"\",\"\",'OPĆI DIO'!$C$1)","v":""},"",""]
[{"$f":"IF(F405=\"\",\"\",VLOOKUP('OPĆI DIO'!$C$1,'OPĆI DIO'!$N$4:$W$137,10,FALSE))","v":""},{"$f":"IF(F405=\"\",\"\",VLOOKUP('OPĆI DIO'!$C$1,'OPĆI DIO'!$N$4:$W$137,9,FALSE))","v":""},"","","","",null,"",{"$nulls":4},{"$f":"IF(F405=\"\",\"\",'OPĆI DIO'!$C$1)","v":""},"",""]
[{"$f":"IF(F406=\"\",\"\",VLOOKUP('OPĆI DIO'!$C$1,'OPĆI DIO'!$N$4:$W$137,10,FALSE))","v":""},{"$f":"IF(F406=\"\",\"\",VLOOKUP('OPĆI DIO'!$C$1,'OPĆI DIO'!$N$4:$W$137,9,FALSE))","v":""},"","","","",null,"",{"$nulls":4},{"$f":"IF(F406=\"\",\"\",'OPĆI DIO'!$C$1)","v":""},"",""]
[{"$f":"IF(F407=\"\",\"\",VLOOKUP('OPĆI DIO'!$C$1,'OPĆI DIO'!$N$4:$W$137,10,FALSE))","v":""},{"$f":"IF(F407=\"\",\"\",VLOOKUP('OPĆI DIO'!$C$1,'OPĆI DIO'!$N$4:$W$137,9,FALSE))","v":""},"","","","",null,"",{"$nulls":4},{"$f":"IF(F407=\"\",\"\",'OPĆI DIO'!$C$1)","v":""},"",""]
[{"$f":"IF(F408=\"\",\"\",VLOOKUP('OPĆI DIO'!$C$1,'OPĆI DIO'!$N$4:$W$137,10,FALSE))","v":""},{"$f":"IF(F408=\"\",\"\",VLOOKUP('OPĆI DIO'!$C$1,'OPĆI DIO'!$N$4:$W$137,9,FALSE))","v":""},"","","","",null,"",{"$nulls":4},{"$f":"IF(F408=\"\",\"\",'OPĆI DIO'!$C$1)","v":""},"",""]
[{"$f":"IF(F409=\"\",\"\",VLOOKUP('OPĆI DIO'!$C$1,'OPĆI DIO'!$N$4:$W$137,10,FALSE))","v":""},{"$f":"IF(F409=\"\",\"\",VLOOKUP('OPĆI DIO'!$C$1,'OPĆI DIO'!$N$4:$W$137,9,FALSE))","v":""},"","","","",null,"",{"$nulls":4},{"$f":"IF(F409=\"\",\"\",'OPĆI DIO'!$C$1)","v":""},"",""]
[{"$f":"IF(F410=\"\",\"\",VLOOKUP('OPĆI DIO'!$C$1,'OPĆI DIO'!$N$4:$W$137,10,FALSE))","v":""},{"$f":"IF(F410=\"\",\"\",VLOOKUP('OPĆI DIO'!$C$1,'OPĆI DIO'!$N$4:$W$137,9,FALSE))","v":""},"","","","",null,"",{"$nulls":4},{"$f":"IF(F410=\"\",\"\",'OPĆI DIO'!$C$1)","v":""},"",""]
[{"$f":"IF(F411=\"\",\"\",VLOOKUP('OPĆI DIO'!$C$1,'OPĆI DIO'!$N$4:$W$137,10,FALSE))","v":""},{"$f":"IF(F411=\"\",\"\",VLOOKUP('OPĆI DIO'!$C$1,'OPĆI DIO'!$N$4:$W$137,9,FALSE))","v":""},"","","","",null,"",{"$nulls":4},{"$f":"IF(F411=\"\",\"\",'OPĆI DIO'!$C$1)","v":""},"",""]
[{"$f":"IF(F412=\"\",\"\",VLOOKUP('OPĆI DIO'!$C$1,'OPĆI DIO'!$N$4:$W$137,10,FALSE))","v":""},{"$f":"IF(F412=\"\",\"\",VLOOKUP('OPĆI DIO'!$C$1,'OPĆI DIO'!$N$4:$W$137,9,FALSE))","v":""},"","","","",null,"",{"$nulls":4},{"$f":"IF(F412=\"\",\"\",'OPĆI DIO'!$C$1)","v":""},"",""]
[{"$f":"IF(F413=\"\",\"\",VLOOKUP('OPĆI DIO'!$C$1,'OPĆI DIO'!$N$4:$W$137,10,FALSE))","v":""},{"$f":"IF(F413=\"\",\"\",VLOOKUP('OPĆI DIO'!$C$1,'OPĆI DIO'!$N$4:$W$137,9,FALSE))","v":""},"","","","",null,"",{"$nulls":4},{"$f":"IF(F413=\"\",\"\",'OPĆI DIO'!$C$1)","v":""},"",""]
[{"$f":"IF(F414=\"\",\"\",VLOOKUP('OPĆI DIO'!$C$1,'OPĆI DIO'!$N$4:$W$137,10,FALSE))","v":""},{"$f":"IF(F414=\"\",\"\",VLOOKUP('OPĆI DIO'!$C$1,'OPĆI DIO'!$N$4:$W$137,9,FALSE))","v":""},"","","","",null,"",{"$nulls":4},{"$f":"IF(F414=\"\",\"\",'OPĆI DIO'!$C$1)","v":""},"",""]
[{"$f":"IF(F415=\"\",\"\",VLOOKUP('OPĆI DIO'!$C$1,'OPĆI DIO'!$N$4:$W$137,10,FALSE))","v":""},{"$f":"IF(F415=\"\",\"\",VLOOKUP('OPĆI DIO'!$C$1,'OPĆI DIO'!$N$4:$W$137,9,FALSE))","v":""},"","","","",null,"",{"$nulls":4},{"$f":"IF(F415=\"\",\"\",'OPĆI DIO'!$C$1)","v":""},"",""]
[{"$f":"IF(F416=\"\",\"\",VLOOKUP('OPĆI DIO'!$C$1,'OPĆI DIO'!$N$4:$W$137,10,FALSE))","v":""},{"$f":"IF(F416=\"\",\"\",VLOOKUP('OPĆI DIO'!$C$1,'OPĆI DIO'!$N$4:$W$137,9,FALSE))","v":""},"","","","",null,"",{"$nulls":4},{"$f":"IF(F416=\"\",\"\",'OPĆI DIO'!$C$1)","v":""},"",""]
[{"$f":"IF(F417=\"\",\"\",VLOOKUP('OPĆI DIO'!$C$1,'OPĆI DIO'!$N$4:$W$137,10,FALSE))","v":""},{"$f":"IF(F417=\"\",\"\",VLOOKUP('OPĆI DIO'!$C$1,'OPĆI DIO'!$N$4:$W$137,9,FALSE))","v":""},"","","","",null,"",{"$nulls":4},{"$f":"IF(F417=\"\",\"\",'OPĆI DIO'!$C$1)","v":""},"",""]
[{"$f":"IF(F418=\"\",\"\",VLOOKUP('OPĆI DIO'!$C$1,'OPĆI DIO'!$N$4:$W$137,10,FALSE))","v":""},{"$f":"IF(F418=\"\",\"\",VLOOKUP('OPĆI DIO'!$C$1,'OPĆI DIO'!$N$4:$W$137,9,FALSE))","v":""},"","","","",null,"",{"$nulls":4},{"$f":"IF(F418=\"\",\"\",'OPĆI DIO'!$C$1)","v":""},"",""]
[{"$f":"IF(F419=\"\",\"\",VLOOKUP('OPĆI DIO'!$C$1,'OPĆI DIO'!$N$4:$W$137,10,FALSE))","v":""},{"$f":"IF(F419=\"\",\"\",VLOOKUP('OPĆI DIO'!$C$1,'OPĆI DIO'!$N$4:$W$137,9,FALSE))","v":""},"","","","",null,"",{"$nulls":4},{"$f":"IF(F419=\"\",\"\",'OPĆI DIO'!$C$1)","v":""},"",""]
[{"$f":"IF(F420=\"\",\"\",VLOOKUP('OPĆI DIO'!$C$1,'OPĆI DIO'!$N$4:$W$137,10,FALSE))","v":""},{"$f":"IF(F420=\"\",\"\",VLOOKUP('OPĆI DIO'!$C$1,'OPĆI DIO'!$N$4:$W$137,9,FALSE))","v":""},"","","","",null,"",{"$nulls":4},{"$f":"IF(F420=\"\",\"\",'OPĆI DIO'!$C$1)","v":""},"",""]
[{"$f":"IF(F421=\"\",\"\",VLOOKUP('OPĆI DIO'!$C$1,'OPĆI DIO'!$N$4:$W$137,10,FALSE))","v":""},{"$f":"IF(F421=\"\",\"\",VLOOKUP('OPĆI DIO'!$C$1,'OPĆI DIO'!$N$4:$W$137,9,FALSE))","v":""},"","","","",null,"",{"$nulls":4},{"$f":"IF(F421=\"\",\"\",'OPĆI DIO'!$C$1)","v":""},"",""]
[{"$f":"IF(F422=\"\",\"\",VLOOKUP('OPĆI DIO'!$C$1,'OPĆI DIO'!$N$4:$W$137,10,FALSE))","v":""},{"$f":"IF(F422=\"\",\"\",VLOOKUP('OPĆI DIO'!$C$1,'OPĆI DIO'!$N$4:$W$137,9,FALSE))","v":""},"","","","",null,"",{"$nulls":4},{"$f":"IF(F422=\"\",\"\",'OPĆI DIO'!$C$1)","v":""},"",""]
[{"$f":"IF(F423=\"\",\"\",VLOOKUP('OPĆI DIO'!$C$1,'OPĆI DIO'!$N$4:$W$137,10,FALSE))","v":""},{"$f":"IF(F423=\"\",\"\",VLOOKUP('OPĆI DIO'!$C$1,'OPĆI DIO'!$N$4:$W$137,9,FALSE))","v":""},"","","","",null,"",{"$nulls":4},{"$f":"IF(F423=\"\",\"\",'OPĆI DIO'!$C$1)","v":""},"",""]
[{"$f":"IF(F424=\"\",\"\",VLOOKUP('OPĆI DIO'!$C$1,'OPĆI DIO'!$N$4:$W$137,10,FALSE))","v":""},{"$f":"IF(F424=\"\",\"\",VLOOKUP('OPĆI DIO'!$C$1,'OPĆI DIO'!$N$4:$W$137,9,FALSE))","v":""},"","","","",null,"",{"$nulls":4},{"$f":"IF(F424=\"\",\"\",'OPĆI DIO'!$C$1)","v":""},"",""]
[{"$f":"IF(F425=\"\",\"\",VLOOKUP('OPĆI DIO'!$C$1,'OPĆI DIO'!$N$4:$W$137,10,FALSE))","v":""},{"$f":"IF(F425=\"\",\"\",VLOOKUP('OPĆI DIO'!$C$1,'OPĆI DIO'!$N$4:$W$137,9,FALSE))","v":""},"","","","",null,"",{"$nulls":4},{"$f":"IF(F425=\"\",\"\",'OPĆI DIO'!$C$1)","v":""},"",""]
[{"$f":"IF(F426=\"\",\"\",VLOOKUP('OPĆI DIO'!$C$1,'OPĆI DIO'!$N$4:$W$137,10,FALSE))","v":""},{"$f":"IF(F426=\"\",\"\",VLOOKUP('OPĆI DIO'!$C$1,'OPĆI DIO'!$N$4:$W$137,9,FALSE))","v":""},"","","","",null,"",{"$nulls":4},{"$f":"IF(F426=\"\",\"\",'OPĆI DIO'!$C$1)","v":""},"",""]
[{"$f":"IF(F427=\"\",\"\",VLOOKUP('OPĆI DIO'!$C$1,'OPĆI DIO'!$N$4:$W$137,10,FALSE))","v":""},{"$f":"IF(F427=\"\",\"\",VLOOKUP('OPĆI DIO'!$C$1,'OPĆI DIO'!$N$4:$W$137,9,FALSE))","v":""},"","","","",null,"",{"$nulls":4},{"$f":"IF(F427=\"\",\"\",'OPĆI DIO'!$C$1)","v":""},"",""]
[{"$f":"IF(F428=\"\",\"\",VLOOKUP('OPĆI DIO'!$C$1,'OPĆI DIO'!$N$4:$W$137,10,FALSE))","v":""},{"$f":"IF(F428=\"\",\"\",VLOOKUP('OPĆI DIO'!$C$1,'OPĆI DIO'!$N$4:$W$137,9,FALSE))","v":""},"","","","",null,"",{"$nulls":4},{"$f":"IF(F428=\"\",\"\",'OPĆI DIO'!$C$1)","v":""},"",""]
[{"$f":"IF(F429=\"\",\"\",VLOOKUP('OPĆI DIO'!$C$1,'OPĆI DIO'!$N$4:$W$137,10,FALSE))","v":""},{"$f":"IF(F429=\"\",\"\",VLOOKUP('OPĆI DIO'!$C$1,'OPĆI DIO'!$N$4:$W$137,9,FALSE))","v":""},"","","","",null,"",{"$nulls":4},{"$f":"IF(F429=\"\",\"\",'OPĆI DIO'!$C$1)","v":""},"",""]
[{"$f":"IF(F430=\"\",\"\",VLOOKUP('OPĆI DIO'!$C$1,'OPĆI DIO'!$N$4:$W$137,10,FALSE))","v":""},{"$f":"IF(F430=\"\",\"\",VLOOKUP('OPĆI DIO'!$C$1,'OPĆI DIO'!$N$4:$W$137,9,FALSE))","v":""},"","","","",null,"",{"$nulls":4},{"$f":"IF(F430=\"\",\"\",'OPĆI DIO'!$C$1)","v":""},"",""]
[{"$f":"IF(F431=\"\",\"\",VLOOKUP('OPĆI DIO'!$C$1,'OPĆI DIO'!$N$4:$W$137,10,FALSE))","v":""},{"$f":"IF(F431=\"\",\"\",VLOOKUP('OPĆI DIO'!$C$1,'OPĆI DIO'!$N$4:$W$137,9,FALSE))","v":""},"","","","",null,"",{"$nulls":4},{"$f":"IF(F431=\"\",\"\",'OPĆI DIO'!$C$1)","v":""},"",""]
[{"$f":"IF(F432=\"\",\"\",VLOOKUP('OPĆI DIO'!$C$1,'OPĆI DIO'!$N$4:$W$137,10,FALSE))","v":""},{"$f":"IF(F432=\"\",\"\",VLOOKUP('OPĆI DIO'!$C$1,'OPĆI DIO'!$N$4:$W$137,9,FALSE))","v":""},"","","","",null,"",{"$nulls":4},{"$f":"IF(F432=\"\",\"\",'OPĆI DIO'!$C$1)","v":""},"",""]
[{"$f":"IF(F433=\"\",\"\",VLOOKUP('OPĆI DIO'!$C$1,'OPĆI DIO'!$N$4:$W$137,10,FALSE))","v":""},{"$f":"IF(F433=\"\",\"\",VLOOKUP('OPĆI DIO'!$C$1,'OPĆI DIO'!$N$4:$W$137,9,FALSE))","v":""},"","","","",null,"",{"$nulls":4},{"$f":"IF(F433=\"\",\"\",'OPĆI DIO'!$C$1)","v":""},"",""]
[{"$f":"IF(F434=\"\",\"\",VLOOKUP('OPĆI DIO'!$C$1,'OPĆI DIO'!$N$4:$W$137,10,FALSE))","v":""},{"$f":"IF(F434=\"\",\"\",VLOOKUP('OPĆI DIO'!$C$1,'OPĆI DIO'!$N$4:$W$137,9,FALSE))","v":""},"","","","",null,"",{"$nulls":4},{"$f":"IF(F434=\"\",\"\",'OPĆI DIO'!$C$1)","v":""},"",""]
[{"$f":"IF(F435=\"\",\"\",VLOOKUP('OPĆI DIO'!$C$1,'OPĆI DIO'!$N$4:$W$137,10,FALSE))","v":""},{"$f":"IF(F435=\"\",\"\",VLOOKUP('OPĆI DIO'!$C$1,'OPĆI DIO'!$N$4:$W$137,9,FALSE))","v":""},"","","","",null,"",{"$nulls":4},{"$f":"IF(F435=\"\",\"\",'OPĆI DIO'!$C$1)","v":""},"",""]
[{"$f":"IF(F436=\"\",\"\",VLOOKUP('OPĆI DIO'!$C$1,'OPĆI DIO'!$N$4:$W$137,10,FALSE))","v":""},{"$f":"IF(F436=\"\",\"\",VLOOKUP('OPĆI DIO'!$C$1,'OPĆI DIO'!$N$4:$W$137,9,FALSE))","v":""},"","","","",null,"",{"$nulls":4},{"$f":"IF(F436=\"\",\"\",'OPĆI DIO'!$C$1)","v":""},"",""]
[{"$f":"IF(F437=\"\",\"\",VLOOKUP('OPĆI DIO'!$C$1,'OPĆI DIO'!$N$4:$W$137,10,FALSE))","v":""},{"$f":"IF(F437=\"\",\"\",VLOOKUP('OPĆI DIO'!$C$1,'OPĆI DIO'!$N$4:$W$137,9,FALSE))","v":""},"","","","",null,"",{"$nulls":4},{"$f":"IF(F437=\"\",\"\",'OPĆI DIO'!$C$1)","v":""},"",""]
[{"$f":"IF(F438=\"\",\"\",VLOOKUP('OPĆI DIO'!$C$1,'OPĆI DIO'!$N$4:$W$137,10,FALSE))","v":""},{"$f":"IF(F438=\"\",\"\",VLOOKUP('OPĆI DIO'!$C$1,'OPĆI DIO'!$N$4:$W$137,9,FALSE))","v":""},"","","","",null,"",{"$nulls":4},{"$f":"IF(F438=\"\",\"\",'OPĆI DIO'!$C$1)","v":""},"",""]
[{"$f":"IF(F439=\"\",\"\",VLOOKUP('OPĆI DIO'!$C$1,'OPĆI DIO'!$N$4:$W$137,10,FALSE))","v":""},{"$f":"IF(F439=\"\",\"\",VLOOKUP('OPĆI DIO'!$C$1,'OPĆI DIO'!$N$4:$W$137,9,FALSE))","v":""},"","","","",null,"",{"$nulls":4},{"$f":"IF(F439=\"\",\"\",'OPĆI DIO'!$C$1)","v":""},"",""]
[{"$f":"IF(F440=\"\",\"\",VLOOKUP('OPĆI DIO'!$C$1,'OPĆI DIO'!$N$4:$W$137,10,FALSE))","v":""},{"$f":"IF(F440=\"\",\"\",VLOOKUP('OPĆI DIO'!$C$1,'OPĆI DIO'!$N$4:$W$137,9,FALSE))","v":""},"","","","",null,"",{"$nulls":4},{"$f":"IF(F440=\"\",\"\",'OPĆI DIO'!$C$1)","v":""},"",""]
[{"$f":"IF(F441=\"\",\"\",VLOOKUP('OPĆI DIO'!$C$1,'OPĆI DIO'!$N$4:$W$137,10,FALSE))","v":""},{"$f":"IF(F441=\"\",\"\",VLOOKUP('OPĆI DIO'!$C$1,'OPĆI DIO'!$N$4:$W$137,9,FALSE))","v":""},"","","","",null,"",{"$nulls":4},{"$f":"IF(F441=\"\",\"\",'OPĆI DIO'!$C$1)","v":""},"",""]
[{"$f":"IF(F442=\"\",\"\",VLOOKUP('OPĆI DIO'!$C$1,'OPĆI DIO'!$N$4:$W$137,10,FALSE))","v":""},{"$f":"IF(F442=\"\",\"\",VLOOKUP('OPĆI DIO'!$C$1,'OPĆI DIO'!$N$4:$W$137,9,FALSE))","v":""},"","","","",null,"",{"$nulls":4},{"$f":"IF(F442=\"\",\"\",'OPĆI DIO'!$C$1)","v":""},"",""]
[{"$f":"IF(F443=\"\",\"\",VLOOKUP('OPĆI DIO'!$C$1,'OPĆI DIO'!$N$4:$W$137,10,FALSE))","v":""},{"$f":"IF(F443=\"\",\"\",VLOOKUP('OPĆI DIO'!$C$1,'OPĆI DIO'!$N$4:$W$137,9,FALSE))","v":""},"","","","",null,"",{"$nulls":4},{"$f":"IF(F443=\"\",\"\",'OPĆI DIO'!$C$1)","v":""},"",""]
[{"$f":"IF(F444=\"\",\"\",VLOOKUP('OPĆI DIO'!$C$1,'OPĆI DIO'!$N$4:$W$137,10,FALSE))","v":""},{"$f":"IF(F444=\"\",\"\",VLOOKUP('OPĆI DIO'!$C$1,'OPĆI DIO'!$N$4:$W$137,9,FALSE))","v":""},"","","","",null,"",{"$nulls":4},{"$f":"IF(F444=\"\",\"\",'OPĆI DIO'!$C$1)","v":""},"",""]
[{"$f":"IF(F445=\"\",\"\",VLOOKUP('OPĆI DIO'!$C$1,'OPĆI DIO'!$N$4:$W$137,10,FALSE))","v":""},{"$f":"IF(F445=\"\",\"\",VLOOKUP('OPĆI DIO'!$C$1,'OPĆI DIO'!$N$4:$W$137,9,FALSE))","v":""},"","","","",null,"",{"$nulls":4},{"$f":"IF(F445=\"\",\"\",'OPĆI DIO'!$C$1)","v":""},"",""]
[{"$f":"IF(F446=\"\",\"\",VLOOKUP('OPĆI DIO'!$C$1,'OPĆI DIO'!$N$4:$W$137,10,FALSE))","v":""},{"$f":"IF(F446=\"\",\"\",VLOOKUP('OPĆI DIO'!$C$1,'OPĆI DIO'!$N$4:$W$137,9,FALSE))","v":""},"","","","",null,"",{"$nulls":4},{"$f":"IF(F446=\"\",\"\",'OPĆI DIO'!$C$1)","v":""},"",""]
[{"$f":"IF(F447=\"\",\"\",VLOOKUP('OPĆI DIO'!$C$1,'OPĆI DIO'!$N$4:$W$137,10,FALSE))","v":""},{"$f":"IF(F447=\"\",\"\",VLOOKUP('OPĆI DIO'!$C$1,'OPĆI DIO'!$N$4:$W$137,9,FALSE))","v":""},"","","","",null,"",{"$nulls":4},{"$f":"IF(F447=\"\",\"\",'OPĆI DIO'!$C$1)","v":""},"",""]
[{"$f":"IF(F448=\"\",\"\",VLOOKUP('OPĆI DIO'!$C$1,'OPĆI DIO'!$N$4:$W$137,10,FALSE))","v":""},{"$f":"IF(F448=\"\",\"\",VLOOKUP('OPĆI DIO'!$C$1,'OPĆI DIO'!$N$4:$W$137,9,FALSE))","v":""},"","","","",null,"",{"$nulls":4},{"$f":"IF(F448=\"\",\"\",'OPĆI DIO'!$C$1)","v":""},"",""]
[{"$f":"IF(F449=\"\",\"\",VLOOKUP('OPĆI DIO'!$C$1,'OPĆI DIO'!$N$4:$W$137,10,FALSE))","v":""},{"$f":"IF(F449=\"\",\"\",VLOOKUP('OPĆI DIO'!$C$1,'OPĆI DIO'!$N$4:$W$137,9,FALSE))","v":""},"","","","",null,"",{"$nulls":4},{"$f":"IF(F449=\"\",\"\",'OPĆI DIO'!$C$1)","v":""},"",""]
[{"$f":"IF(F450=\"\",\"\",VLOOKUP('OPĆI DIO'!$C$1,'OPĆI DIO'!$N$4:$W$137,10,FALSE))","v":""},{"$f":"IF(F450=\"\",\"\",VLOOKUP('OPĆI DIO'!$C$1,'OPĆI DIO'!$N$4:$W$137,9,FALSE))","v":""},"","","","",null,"",{"$nulls":4},{"$f":"IF(F450=\"\",\"\",'OPĆI DIO'!$C$1)","v":""},"",""]
[{"$f":"IF(F451=\"\",\"\",VLOOKUP('OPĆI DIO'!$C$1,'OPĆI DIO'!$N$4:$W$137,10,FALSE))","v":""},{"$f":"IF(F451=\"\",\"\",VLOOKUP('OPĆI DIO'!$C$1,'OPĆI DIO'!$N$4:$W$137,9,FALSE))","v":""},"","","","",null,"",{"$nulls":4},{"$f":"IF(F451=\"\",\"\",'OPĆI DIO'!$C$1)","v":""},"",""]
[{"$f":"IF(F452=\"\",\"\",VLOOKUP('OPĆI DIO'!$C$1,'OPĆI DIO'!$N$4:$W$137,10,FALSE))","v":""},{"$f":"IF(F452=\"\",\"\",VLOOKUP('OPĆI DIO'!$C$1,'OPĆI DIO'!$N$4:$W$137,9,FALSE))","v":""},{"$f":"IFERROR(VLOOKUP(G452,$T$6:$AA$500,8,FALSE),\"\")","v":""},{"$f":"IFERROR(VLOOKUP(G452,$T$6:$AA$500,4,FALSE),\"\")","v":""},"",{"$f":"IFERROR(VLOOKUP(G452,$T$6:$AA$500,2,FALSE),\"\")","v":""},null,{"$f":"IFERROR(VLOOKUP(G452,$T$6:$AA$500,3,FALSE),\"\")","v":""},{"$nulls":4},{"$f":"IF(F452=\"\",\"\",'OPĆI DIO'!$C$1)","v":""},"",""]
[{"$f":"IF(F453=\"\",\"\",VLOOKUP('OPĆI DIO'!$C$1,'OPĆI DIO'!$N$4:$W$137,10,FALSE))","v":""},{"$f":"IF(F453=\"\",\"\",VLOOKUP('OPĆI DIO'!$C$1,'OPĆI DIO'!$N$4:$W$137,9,FALSE))","v":""},"","","","",null,"",{"$nulls":4},{"$f":"IF(F453=\"\",\"\",'OPĆI DIO'!$C$1)","v":""},"",""]
[{"$f":"IF(F454=\"\",\"\",VLOOKUP('OPĆI DIO'!$C$1,'OPĆI DIO'!$N$4:$W$137,10,FALSE))","v":""},{"$f":"IF(F454=\"\",\"\",VLOOKUP('OPĆI DIO'!$C$1,'OPĆI DIO'!$N$4:$W$137,9,FALSE))","v":""},"","","","",null,"",{"$nulls":4},{"$f":"IF(F454=\"\",\"\",'OPĆI DIO'!$C$1)","v":""},"",""]
[{"$f":"IF(F455=\"\",\"\",VLOOKUP('OPĆI DIO'!$C$1,'OPĆI DIO'!$N$4:$W$137,10,FALSE))","v":""},{"$f":"IF(F455=\"\",\"\",VLOOKUP('OPĆI DIO'!$C$1,'OPĆI DIO'!$N$4:$W$137,9,FALSE))","v":""},"","","","",null,"",{"$nulls":4},{"$f":"IF(F455=\"\",\"\",'OPĆI DIO'!$C$1)","v":""},"",""]
[{"$f":"IF(F456=\"\",\"\",VLOOKUP('OPĆI DIO'!$C$1,'OPĆI DIO'!$N$4:$W$137,10,FALSE))","v":""},{"$f":"IF(F456=\"\",\"\",VLOOKUP('OPĆI DIO'!$C$1,'OPĆI DIO'!$N$4:$W$137,9,FALSE))","v":""},"","","","",null,"",{"$nulls":4},{"$f":"IF(F456=\"\",\"\",'OPĆI DIO'!$C$1)","v":""},{"$f":"LEFT(F456,2)","v":""},{"$f":"LEFT(F456,3)","v":""}]
[{"$f":"IF(F457=\"\",\"\",VLOOKUP('OPĆI DIO'!$C$1,'OPĆI DIO'!$N$4:$W$137,10,FALSE))","v":""},{"$f":"IF(F457=\"\",\"\",VLOOKUP('OPĆI DIO'!$C$1,'OPĆI DIO'!$N$4:$W$137,9,FALSE))","v":""},"","","","",null,"",{"$nulls":4},{"$f":"IF(F457=\"\",\"\",'OPĆI DIO'!$C$1)","v":""},"",""]
[{"$f":"IF(F458=\"\",\"\",VLOOKUP('OPĆI DIO'!$C$1,'OPĆI DIO'!$N$4:$W$137,10,FALSE))","v":""},{"$f":"IF(F458=\"\",\"\",VLOOKUP('OPĆI DIO'!$C$1,'OPĆI DIO'!$N$4:$W$137,9,FALSE))","v":""},"","","","",null,"",{"$nulls":4},{"$f":"IF(F458=\"\",\"\",'OPĆI DIO'!$C$1)","v":""},"",""]
[{"$f":"IF(F459=\"\",\"\",VLOOKUP('OPĆI DIO'!$C$1,'OPĆI DIO'!$N$4:$W$137,10,FALSE))","v":""},{"$f":"IF(F459=\"\",\"\",VLOOKUP('OPĆI DIO'!$C$1,'OPĆI DIO'!$N$4:$W$137,9,FALSE))","v":""},"","",{"$f":"IFERROR(VLOOKUP(F459,$U$6:$X$113,4,FALSE),\"\")","v":""},"",null,"",{"$nulls":4},{"$f":"IF(F459=\"\",\"\",'OPĆI DIO'!$C$1)","v":""},"",""]
[{"$f":"IF(F460=\"\",\"\",VLOOKUP('OPĆI DIO'!$C$1,'OPĆI DIO'!$N$4:$W$137,10,FALSE))","v":""},{"$f":"IF(F460=\"\",\"\",VLOOKUP('OPĆI DIO'!$C$1,'OPĆI DIO'!$N$4:$W$137,9,FALSE))","v":""},"","","","",null,"",{"$nulls":4},{"$f":"IF(F460=\"\",\"\",'OPĆI DIO'!$C$1)","v":""},"",""]
[{"$f":"IF(F461=\"\",\"\",VLOOKUP('OPĆI DIO'!$C$1,'OPĆI DIO'!$N$4:$W$137,10,FALSE))","v":""},{"$f":"IF(F461=\"\",\"\",VLOOKUP('OPĆI DIO'!$C$1,'OPĆI DIO'!$N$4:$W$137,9,FALSE))","v":""},"","","","",null,"",{"$nulls":4},{"$f":"IF(F461=\"\",\"\",'OPĆI DIO'!$C$1)","v":""},"",""]
[{"$f":"IF(F462=\"\",\"\",VLOOKUP('OPĆI DIO'!$C$1,'OPĆI DIO'!$N$4:$W$137,10,FALSE))","v":""},{"$f":"IF(F462=\"\",\"\",VLOOKUP('OPĆI DIO'!$C$1,'OPĆI DIO'!$N$4:$W$137,9,FALSE))","v":""},"","","","",null,"",{"$nulls":4},{"$f":"IF(F462=\"\",\"\",'OPĆI DIO'!$C$1)","v":""},"",""]
[{"$f":"IF(F463=\"\",\"\",VLOOKUP('OPĆI DIO'!$C$1,'OPĆI DIO'!$N$4:$W$137,10,FALSE))","v":""},{"$f":"IF(F463=\"\",\"\",VLOOKUP('OPĆI DIO'!$C$1,'OPĆI DIO'!$N$4:$W$137,9,FALSE))","v":""},"","","","",null,"",{"$nulls":4},{"$f":"IF(F463=\"\",\"\",'OPĆI DIO'!$C$1)","v":""},"",""]
[{"$f":"IF(F464=\"\",\"\",VLOOKUP('OPĆI DIO'!$C$1,'OPĆI DIO'!$N$4:$W$137,10,FALSE))","v":""},{"$f":"IF(F464=\"\",\"\",VLOOKUP('OPĆI DIO'!$C$1,'OPĆI DIO'!$N$4:$W$137,9,FALSE))","v":""},"","","","",null,"",{"$nulls":4},{"$f":"IF(F464=\"\",\"\",'OPĆI DIO'!$C$1)","v":""},"",""]
[{"$f":"IF(F465=\"\",\"\",VLOOKUP('OPĆI DIO'!$C$1,'OPĆI DIO'!$N$4:$W$137,10,FALSE))","v":""},{"$f":"IF(F465=\"\",\"\",VLOOKUP('OPĆI DIO'!$C$1,'OPĆI DIO'!$N$4:$W$137,9,FALSE))","v":""},"","","","",null,"",{"$nulls":4},{"$f":"IF(F465=\"\",\"\",'OPĆI DIO'!$C$1)","v":""},"",""]
[{"$f":"IF(F466=\"\",\"\",VLOOKUP('OPĆI DIO'!$C$1,'OPĆI DIO'!$N$4:$W$137,10,FALSE))","v":""},{"$f":"IF(F466=\"\",\"\",VLOOKUP('OPĆI DIO'!$C$1,'OPĆI DIO'!$N$4:$W$137,9,FALSE))","v":""},"","","","",null,"",{"$nulls":4},{"$f":"IF(F466=\"\",\"\",'OPĆI DIO'!$C$1)","v":""},"",""]
[{"$f":"IF(F467=\"\",\"\",VLOOKUP('OPĆI DIO'!$C$1,'OPĆI DIO'!$N$4:$W$137,10,FALSE))","v":""},{"$f":"IF(F467=\"\",\"\",VLOOKUP('OPĆI DIO'!$C$1,'OPĆI DIO'!$N$4:$W$137,9,FALSE))","v":""},"","","","",null,"",{"$nulls":4},{"$f":"IF(F467=\"\",\"\",'OPĆI DIO'!$C$1)","v":""},"",""]
[{"$f":"IF(F468=\"\",\"\",VLOOKUP('OPĆI DIO'!$C$1,'OPĆI DIO'!$N$4:$W$137,10,FALSE))","v":""},{"$f":"IF(F468=\"\",\"\",VLOOKUP('OPĆI DIO'!$C$1,'OPĆI DIO'!$N$4:$W$137,9,FALSE))","v":""},"","","","",null,"",{"$nulls":4},{"$f":"IF(F468=\"\",\"\",'OPĆI DIO'!$C$1)","v":""},"",""]
[{"$f":"IF(F469=\"\",\"\",VLOOKUP('OPĆI DIO'!$C$1,'OPĆI DIO'!$N$4:$W$137,10,FALSE))","v":""},{"$f":"IF(F469=\"\",\"\",VLOOKUP('OPĆI DIO'!$C$1,'OPĆI DIO'!$N$4:$W$137,9,FALSE))","v":""},"","","","",null,"",{"$nulls":4},{"$f":"IF(F469=\"\",\"\",'OPĆI DIO'!$C$1)","v":""},"",""]
[{"$f":"IF(F470=\"\",\"\",VLOOKUP('OPĆI DIO'!$C$1,'OPĆI DIO'!$N$4:$W$137,10,FALSE))","v":""},{"$f":"IF(F470=\"\",\"\",VLOOKUP('OPĆI DIO'!$C$1,'OPĆI DIO'!$N$4:$W$137,9,FALSE))","v":""},"","","","",null,"",{"$nulls":4},{"$f":"IF(F470=\"\",\"\",'OPĆI DIO'!$C$1)","v":""},"",""]
[{"$f":"IF(F471=\"\",\"\",VLOOKUP('OPĆI DIO'!$C$1,'OPĆI DIO'!$N$4:$W$137,10,FALSE))","v":""},{"$f":"IF(F471=\"\",\"\",VLOOKUP('OPĆI DIO'!$C$1,'OPĆI DIO'!$N$4:$W$137,9,FALSE))","v":""},"","","","",null,"",{"$nulls":4},{"$f":"IF(F471=\"\",\"\",'OPĆI DIO'!$C$1)","v":""},"",""]
[{"$f":"IF(F472=\"\",\"\",VLOOKUP('OPĆI DIO'!$C$1,'OPĆI DIO'!$N$4:$W$137,10,FALSE))","v":""},{"$f":"IF(F472=\"\",\"\",VLOOKUP('OPĆI DIO'!$C$1,'OPĆI DIO'!$N$4:$W$137,9,FALSE))","v":""},"","","","",null,"",{"$nulls":4},{"$f":"IF(F472=\"\",\"\",'OPĆI DIO'!$C$1)","v":""},"",""]
[{"$f":"IF(F473=\"\",\"\",VLOOKUP('OPĆI DIO'!$C$1,'OPĆI DIO'!$N$4:$W$137,10,FALSE))","v":""},{"$f":"IF(F473=\"\",\"\",VLOOKUP('OPĆI DIO'!$C$1,'OPĆI DIO'!$N$4:$W$137,9,FALSE))","v":""},"","","","",null,"",{"$nulls":4},{"$f":"IF(F473=\"\",\"\",'OPĆI DIO'!$C$1)","v":""},"",""]
[{"$f":"IF(F474=\"\",\"\",VLOOKUP('OPĆI DIO'!$C$1,'OPĆI DIO'!$N$4:$W$137,10,FALSE))","v":""},{"$f":"IF(F474=\"\",\"\",VLOOKUP('OPĆI DIO'!$C$1,'OPĆI DIO'!$N$4:$W$137,9,FALSE))","v":""},"","","","",null,"",{"$nulls":4},{"$f":"IF(F474=\"\",\"\",'OPĆI DIO'!$C$1)","v":""},"",""]
[{"$f":"IF(F475=\"\",\"\",VLOOKUP('OPĆI DIO'!$C$1,'OPĆI DIO'!$N$4:$W$137,10,FALSE))","v":""},{"$f":"IF(F475=\"\",\"\",VLOOKUP('OPĆI DIO'!$C$1,'OPĆI DIO'!$N$4:$W$137,9,FALSE))","v":""},"","","","",null,"",{"$nulls":4},{"$f":"IF(F475=\"\",\"\",'OPĆI DIO'!$C$1)","v":""},"",""]
[{"$f":"IF(F476=\"\",\"\",VLOOKUP('OPĆI DIO'!$C$1,'OPĆI DIO'!$N$4:$W$137,10,FALSE))","v":""},{"$f":"IF(F476=\"\",\"\",VLOOKUP('OPĆI DIO'!$C$1,'OPĆI DIO'!$N$4:$W$137,9,FALSE))","v":""},"","","","",null,"",{"$nulls":4},{"$f":"IF(F476=\"\",\"\",'OPĆI DIO'!$C$1)","v":""},"",""]
[{"$f":"IF(F477=\"\",\"\",VLOOKUP('OPĆI DIO'!$C$1,'OPĆI DIO'!$N$4:$W$137,10,FALSE))","v":""},{"$f":"IF(F477=\"\",\"\",VLOOKUP('OPĆI DIO'!$C$1,'OPĆI DIO'!$N$4:$W$137,9,FALSE))","v":""},"","","","",null,"",{"$nulls":4},{"$f":"IF(F477=\"\",\"\",'OPĆI DIO'!$C$1)","v":""},"",""]
[{"$f":"IF(F478=\"\",\"\",VLOOKUP('OPĆI DIO'!$C$1,'OPĆI DIO'!$N$4:$W$137,10,FALSE))","v":""},{"$f":"IF(F478=\"\",\"\",VLOOKUP('OPĆI DIO'!$C$1,'OPĆI DIO'!$N$4:$W$137,9,FALSE))","v":""},"","","","",null,"",{"$nulls":4},{"$f":"IF(F478=\"\",\"\",'OPĆI DIO'!$C$1)","v":""},"",""]
[{"$f":"IF(F479=\"\",\"\",VLOOKUP('OPĆI DIO'!$C$1,'OPĆI DIO'!$N$4:$W$137,10,FALSE))","v":""},{"$f":"IF(F479=\"\",\"\",VLOOKUP('OPĆI DIO'!$C$1,'OPĆI DIO'!$N$4:$W$137,9,FALSE))","v":""},"","","","",null,"",{"$nulls":4},{"$f":"IF(F479=\"\",\"\",'OPĆI DIO'!$C$1)","v":""},"",""]
[{"$f":"IF(F480=\"\",\"\",VLOOKUP('OPĆI DIO'!$C$1,'OPĆI DIO'!$N$4:$W$137,10,FALSE))","v":""},{"$f":"IF(F480=\"\",\"\",VLOOKUP('OPĆI DIO'!$C$1,'OPĆI DIO'!$N$4:$W$137,9,FALSE))","v":""},"","","","",null,"",{"$nulls":4},{"$f":"IF(F480=\"\",\"\",'OPĆI DIO'!$C$1)","v":""},"",""]
[{"$f":"IF(F481=\"\",\"\",VLOOKUP('OPĆI DIO'!$C$1,'OPĆI DIO'!$N$4:$W$137,10,FALSE))","v":""},{"$f":"IF(F481=\"\",\"\",VLOOKUP('OPĆI DIO'!$C$1,'OPĆI DIO'!$N$4:$W$137,9,FALSE))","v":""},"","","","",null,"",{"$nulls":4},{"$f":"IF(F481=\"\",\"\",'OPĆI DIO'!$C$1)","v":""},"",""]
[{"$f":"IF(F482=\"\",\"\",VLOOKUP('OPĆI DIO'!$C$1,'OPĆI DIO'!$N$4:$W$137,10,FALSE))","v":""},{"$f":"IF(F482=\"\",\"\",VLOOKUP('OPĆI DIO'!$C$1,'OPĆI DIO'!$N$4:$W$137,9,FALSE))","v":""},"","","","",null,"",{"$nulls":4},{"$f":"IF(F482=\"\",\"\",'OPĆI DIO'!$C$1)","v":""},"",""]
[{"$f":"IF(F483=\"\",\"\",VLOOKUP('OPĆI DIO'!$C$1,'OPĆI DIO'!$N$4:$W$137,10,FALSE))","v":""},{"$f":"IF(F483=\"\",\"\",VLOOKUP('OPĆI DIO'!$C$1,'OPĆI DIO'!$N$4:$W$137,9,FALSE))","v":""},"","","","",null,"",{"$nulls":4},{"$f":"IF(F483=\"\",\"\",'OPĆI DIO'!$C$1)","v":""},"",""]
[{"$f":"IF(F484=\"\",\"\",VLOOKUP('OPĆI DIO'!$C$1,'OPĆI DIO'!$N$4:$W$137,10,FALSE))","v":""},{"$f":"IF(F484=\"\",\"\",VLOOKUP('OPĆI DIO'!$C$1,'OPĆI DIO'!$N$4:$W$137,9,FALSE))","v":""},"","","","",null,"",{"$nulls":4},{"$f":"IF(F484=\"\",\"\",'OPĆI DIO'!$C$1)","v":""},"",""]
[{"$f":"IF(F485=\"\",\"\",VLOOKUP('OPĆI DIO'!$C$1,'OPĆI DIO'!$N$4:$W$137,10,FALSE))","v":""},{"$f":"IF(F485=\"\",\"\",VLOOKUP('OPĆI DIO'!$C$1,'OPĆI DIO'!$N$4:$W$137,9,FALSE))","v":""},"","","","",null,"",{"$nulls":4},{"$f":"IF(F485=\"\",\"\",'OPĆI DIO'!$C$1)","v":""},"",""]
[{"$f":"IF(F486=\"\",\"\",VLOOKUP('OPĆI DIO'!$C$1,'OPĆI DIO'!$N$4:$W$137,10,FALSE))","v":""},{"$f":"IF(F486=\"\",\"\",VLOOKUP('OPĆI DIO'!$C$1,'OPĆI DIO'!$N$4:$W$137,9,FALSE))","v":""},"","","","",null,"",{"$nulls":4},{"$f":"IF(F486=\"\",\"\",'OPĆI DIO'!$C$1)","v":""},"",""]
[{"$f":"IF(F487=\"\",\"\",VLOOKUP('OPĆI DIO'!$C$1,'OPĆI DIO'!$N$4:$W$137,10,FALSE))","v":""},{"$f":"IF(F487=\"\",\"\",VLOOKUP('OPĆI DIO'!$C$1,'OPĆI DIO'!$N$4:$W$137,9,FALSE))","v":""},"","","","",null,"",{"$nulls":4},{"$f":"IF(F487=\"\",\"\",'OPĆI DIO'!$C$1)","v":""},"",""]
[{"$f":"IF(F488=\"\",\"\",VLOOKUP('OPĆI DIO'!$C$1,'OPĆI DIO'!$N$4:$W$137,10,FALSE))","v":""},{"$f":"IF(F488=\"\",\"\",VLOOKUP('OPĆI DIO'!$C$1,'OPĆI DIO'!$N$4:$W$137,9,FALSE))","v":""},"","","","",null,"",{"$nulls":4},{"$f":"IF(F488=\"\",\"\",'OPĆI DIO'!$C$1)","v":""},"",""]
[{"$f":"IF(F489=\"\",\"\",VLOOKUP('OPĆI DIO'!$C$1,'OPĆI DIO'!$N$4:$W$137,10,FALSE))","v":""},{"$f":"IF(F489=\"\",\"\",VLOOKUP('OPĆI DIO'!$C$1,'OPĆI DIO'!$N$4:$W$137,9,FALSE))","v":""},"","","","",null,"",{"$nulls":4},{"$f":"IF(F489=\"\",\"\",'OPĆI DIO'!$C$1)","v":""},"",""]
[{"$f":"IF(F490=\"\",\"\",VLOOKUP('OPĆI DIO'!$C$1,'OPĆI DIO'!$N$4:$W$137,10,FALSE))","v":""},{"$f":"IF(F490=\"\",\"\",VLOOKUP('OPĆI DIO'!$C$1,'OPĆI DIO'!$N$4:$W$137,9,FALSE))","v":""},"","","","",null,"",{"$nulls":4},{"$f":"IF(F490=\"\",\"\",'OPĆI DIO'!$C$1)","v":""},"",""]
[{"$f":"IF(F491=\"\",\"\",VLOOKUP('OPĆI DIO'!$C$1,'OPĆI DIO'!$N$4:$W$137,10,FALSE))","v":""},{"$f":"IF(F491=\"\",\"\",VLOOKUP('OPĆI DIO'!$C$1,'OPĆI DIO'!$N$4:$W$137,9,FALSE))","v":""},"","","","",null,"",{"$nulls":4},{"$f":"IF(F491=\"\",\"\",'OPĆI DIO'!$C$1)","v":""},"",""]
[{"$f":"IF(F492=\"\",\"\",VLOOKUP('OPĆI DIO'!$C$1,'OPĆI DIO'!$N$4:$W$137,10,FALSE))","v":""},{"$f":"IF(F492=\"\",\"\",VLOOKUP('OPĆI DIO'!$C$1,'OPĆI DIO'!$N$4:$W$137,9,FALSE))","v":""},"","","","",null,"",{"$nulls":4},{"$f":"IF(F492=\"\",\"\",'OPĆI DIO'!$C$1)","v":""},"",""]
[{"$f":"IF(F493=\"\",\"\",VLOOKUP('OPĆI DIO'!$C$1,'OPĆI DIO'!$N$4:$W$137,10,FALSE))","v":""},{"$f":"IF(F493=\"\",\"\",VLOOKUP('OPĆI DIO'!$C$1,'OPĆI DIO'!$N$4:$W$137,9,FALSE))","v":""},"","","","",null,"",{"$nulls":4},{"$f":"IF(F493=\"\",\"\",'OPĆI DIO'!$C$1)","v":""},"",""]
[{"$f":"IF(F494=\"\",\"\",VLOOKUP('OPĆI DIO'!$C$1,'OPĆI DIO'!$N$4:$W$137,10,FALSE))","v":""},{"$f":"IF(F494=\"\",\"\",VLOOKUP('OPĆI DIO'!$C$1,'OPĆI DIO'!$N$4:$W$137,9,FALSE))","v":""},"","","","",null,"",{"$nulls":4},{"$f":"IF(F494=\"\",\"\",'OPĆI DIO'!$C$1)","v":""},"",""]
[{"$f":"IF(F495=\"\",\"\",VLOOKUP('OPĆI DIO'!$C$1,'OPĆI DIO'!$N$4:$W$137,10,FALSE))","v":""},{"$f":"IF(F495=\"\",\"\",VLOOKUP('OPĆI DIO'!$C$1,'OPĆI DIO'!$N$4:$W$137,9,FALSE))","v":""},"","","","",null,"",{"$nulls":4},{"$f":"IF(F495=\"\",\"\",'OPĆI DIO'!$C$1)","v":""},"",""]
[{"$f":"IF(F496=\"\",\"\",VLOOKUP('OPĆI DIO'!$C$1,'OPĆI DIO'!$N$4:$W$137,10,FALSE))","v":""},{"$f":"IF(F496=\"\",\"\",VLOOKUP('OPĆI DIO'!$C$1,'OPĆI DIO'!$N$4:$W$137,9,FALSE))","v":""},"","","","",null,"",{"$nulls":4},{"$f":"IF(F496=\"\",\"\",'OPĆI DIO'!$C$1)","v":""},"",""]
[{"$f":"IF(F497=\"\",\"\",VLOOKUP('OPĆI DIO'!$C$1,'OPĆI DIO'!$N$4:$W$137,10,FALSE))","v":""},{"$f":"IF(F497=\"\",\"\",VLOOKUP('OPĆI DIO'!$C$1,'OPĆI DIO'!$N$4:$W$137,9,FALSE))","v":""},"","","","",null,"",{"$nulls":4},{"$f":"IF(F497=\"\",\"\",'OPĆI DIO'!$C$1)","v":""},"",""]
[{"$f":"IF(F498=\"\",\"\",VLOOKUP('OPĆI DIO'!$C$1,'OPĆI DIO'!$N$4:$W$137,10,FALSE))","v":""},{"$f":"IF(F498=\"\",\"\",VLOOKUP('OPĆI DIO'!$C$1,'OPĆI DIO'!$N$4:$W$137,9,FALSE))","v":""},"","","","",null,"",{"$nulls":4},{"$f":"IF(F498=\"\",\"\",'OPĆI DIO'!$C$1)","v":""},"",""]
[{"$f":"IF(F499=\"\",\"\",VLOOKUP('OPĆI DIO'!$C$1,'OPĆI DIO'!$N$4:$W$137,10,FALSE))","v":""},{"$f":"IF(F499=\"\",\"\",VLOOKUP('OPĆI DIO'!$C$1,'OPĆI DIO'!$N$4:$W$137,9,FALSE))","v":""},"","","","",null,"",{"$nulls":4},{"$f":"IF(F499=\"\",\"\",'OPĆI DIO'!$C$1)","v":""},"",""]
[{"$f":"IF(F500=\"\",\"\",VLOOKUP('OPĆI DIO'!$C$1,'OPĆI DIO'!$N$4:$W$137,10,FALSE))","v":""},{"$f":"IF(F500=\"\",\"\",VLOOKUP('OPĆI DIO'!$C$1,'OPĆI DIO'!$N$4:$W$137,9,FALSE))","v":""},"","","","",null,"",{"$nulls":4},{"$f":"IF(F500=\"\",\"\",'OPĆI DIO'!$C$1)","v":""},"",""]
[{"$f":"IF(F501=\"\",\"\",VLOOKUP('OPĆI DIO'!$C$1,'OPĆI DIO'!$N$4:$W$137,10,FALSE))","v":""},{"$f":"IF(F501=\"\",\"\",VLOOKUP('OPĆI DIO'!$C$1,'OPĆI DIO'!$N$4:$W$137,9,FALSE))","v":""},"","","","",null,"",{"$nulls":4},{"$f":"IF(F501=\"\",\"\",'OPĆI DIO'!$C$1)","v":""},"",""]
[{"$f":"IF(F502=\"\",\"\",VLOOKUP('OPĆI DIO'!$C$1,'OPĆI DIO'!$N$4:$W$137,10,FALSE))","v":""},{"$f":"IF(F502=\"\",\"\",VLOOKUP('OPĆI DIO'!$C$1,'OPĆI DIO'!$N$4:$W$137,9,FALSE))","v":""},"","","","",null,"",{"$nulls":4},{"$f":"IF(F502=\"\",\"\",'OPĆI DIO'!$C$1)","v":""},"",""]
[{"$f":"IF(F503=\"\",\"\",VLOOKUP('OPĆI DIO'!$C$1,'OPĆI DIO'!$N$4:$W$137,10,FALSE))","v":""},{"$f":"IF(F503=\"\",\"\",VLOOKUP('OPĆI DIO'!$C$1,'OPĆI DIO'!$N$4:$W$137,9,FALSE))","v":""},"","","","",null,"",{"$nulls":4},{"$f":"IF(F503=\"\",\"\",'OPĆI DIO'!$C$1)","v":""},"",""]
[{"$f":"IF(F504=\"\",\"\",VLOOKUP('OPĆI DIO'!$C$1,'OPĆI DIO'!$N$4:$W$137,10,FALSE))","v":""},{"$f":"IF(F504=\"\",\"\",VLOOKUP('OPĆI DIO'!$C$1,'OPĆI DIO'!$N$4:$W$137,9,FALSE))","v":""},"","","","",null,"",{"$nulls":4},{"$f":"IF(F504=\"\",\"\",'OPĆI DIO'!$C$1)","v":""},"",""]
[{"$f":"IF(F505=\"\",\"\",VLOOKUP('OPĆI DIO'!$C$1,'OPĆI DIO'!$N$4:$W$137,10,FALSE))","v":""},{"$f":"IF(F505=\"\",\"\",VLOOKUP('OPĆI DIO'!$C$1,'OPĆI DIO'!$N$4:$W$137,9,FALSE))","v":""},"","","","",null,"",{"$nulls":4},{"$f":"IF(F505=\"\",\"\",'OPĆI DIO'!$C$1)","v":""},"",""]

{"sheet":"Unos rashoda i izdataka","index":2,"n_rows":501,"n_cols":36,"rows_kept":501,"merged":[[0,0,0,4]]}
["Plan za unos u SAP - rashodi i izdaci",{"$nulls":4},{"$f":"IF(OR('OPĆI DIO'!C1=\"odaberite -\",'OPĆI DIO'!C1=\"\"),\"Molimo odaberite proračunskog korisnika na radnom listu Opći podaci!\",\"\")","v":""},{"$nulls":6},"u EUR"]
["GLAVA","OPIS GLAVE","IZVOR NA TERET","IZVOR (odaberite)","OPIS IZVORA","Stavka\n(odaberite)","OPIS STAVKE","AKTIVNOST\n(odaberite)","OPIS AKTIVNOSTI","FP","PLAN \n2026.","PROJEKCIJA \n2027.","PROJEKCIJA \n2028.","Primatelj prijenosa","Ustanova","left3","left2","leftIzvor","mid","left1","IzvorKrovno"]
[{"$f":"IF(C3=\"\",\"\",VLOOKUP('OPĆI DIO'!$C$1,'OPĆI DIO'!$N$4:$W$137,10,FALSE))","v":"08006"},{"$f":"IF(C3=\"\",\"\",VLOOKUP('OPĆI DIO'!$C$1,'OPĆI DIO'!$N$4:$W$137,9,FALSE))","v":"Sveučilišta i veleučilišta u Republici Hrvatskoj"},{"$f":"IFERROR(VLOOKUP(D3,$V$6:$X$34,3,FALSE),\"\")","v":11},11,{"$f":"IFERROR(VLOOKUP(D3,$V$6:$W$34,2,FALSE),\"\")","v":"Opći prihodi i primici"},3111,{"$f":"IFERROR(VLOOKUP(F3,$Y$5:$AA$129,2,FALSE),\"\")","v":"Plaće za redovan rad"},"A679134",{"$f":"IFERROR(VLOOKUP(H3,$AE$6:$AF$353,2,FALSE),\"\")","v":"'PROGRAMSKO FINANCIRANJE JAVNIH VISOKIH UČILIŠTA 2025. - 2029."},{"$f":"IFERROR(VLOOKUP(H3,$AE$6:$AI$353,3,FALSE),\"\")","v":"0942"},{"v":5868930,"d":"5,868,930"},{"v":6266413,"d":"6,266,413"},{"v":6689851,"d":"6,689,851"},null,{"$f":"IF(C3=\"\",\"\",'OPĆI DIO'!$C$1)","v":"1812 Sveučilište u Zagrebu FAKULTET PROMETNIH ZNANOSTI"},{"$f":"LEFT(F3,3)","v":"311"},{"$f":"LEFT(F3,2)","v":"31"},{"$f":"LEFT(C3,3)","v":"11"},{"$f":"MID(J3,2,2)","v":"94"},{"$f":"LEFT(F3,1)","v":"3"},{"$f":"IFERROR(VLOOKUP(C3,$V$6:$X$34,3,FALSE),\"\")","v":11}]
[{"$f":"IF(C4=\"\",\"\",VLOOKUP('OPĆI DIO'!$C$1,'OPĆI DIO'!$N$4:$W$137,10,FALSE))","v":"08006"},{"$f":"IF(C4=\"\",\"\",VLOOKUP('OPĆI DIO'!$C$1,'OPĆI DIO'!$N$4:$W$137,9,FALSE))","v":"Sveučilišta i veleučilišta u Republici Hrvatskoj"},{"$f":"IFERROR(VLOOKUP(D4,$V$6:$X$34,3,FALSE),\"\")","v":11},11,{"$f":"IFERROR(VLOOKUP(D4,$V$6:$W$34,2,FALSE),\"\")","v":"Opći prihodi i primici"},3121,"Ostali rashodi za zaposlene","A679134","'PROGRAMSKO FINANCIRANJE JAVNIH VISOKIH UČILIŠTA 2025. - 2029.","0942",{"v":127312,"d":"127,312"},{"v":133678,"d":"133,678"},{"v":140362,"d":"140,362"},null,{"$f":"IF(C4=\"\",\"\",'OPĆI DIO'!$C$1)","v":"1812 Sveučilište u Zagrebu FAKULTET PROMETNIH ZNANOSTI"},{"$f":"LEFT(F4,3)","v":"312"},{"$f":"LEFT(F4,2)","v":"31"},{"$f":"LEFT(C4,3)","v":"11"},{"$f":"MID(J4,2,2)","v":"94"},{"$f":"LEFT(F4,1)","v":"3"},{"$f":"IFERROR(VLOOKUP(C4,$V$6:$X$34,3,FALSE),\"\")","v":11}]
[{"$f":"IF(C5=\"\",\"\",VLOOKUP('OPĆI DIO'!$C$1,'OPĆI DIO'!$N$4:$W$137,10,FALSE))","v":"08006"},{"$f":"IF(C5=\"\",\"\",VLOOKUP('OPĆI DIO'!$C$1,'OPĆI DIO'!$N$4:$W$137,9,FALSE))","v":"Sveučilišta i veleučilišta u Republici Hrvatskoj"},11,11,"Opći prihodi i primici",3132,"Doprinosi za obvezno zdravstveno osiguranje","A679134","'PROGRAMSKO FINANCIRANJE JAVNIH VISOKIH UČILIŠTA 2025. - 2029.","0942",{"v":968374,"d":"968,374"},{"v":1033958,"d":"1,033,958"},{"v":1103825,"d":"1,103,825"},null,{"$f":"IF(C5=\"\",\"\",'OPĆI DIO'!$C$1)","v":"1812 Sveučilište u Zagrebu FAKULTET PROMETNIH ZNANOSTI"},"313","31","11","94","3",11,"IZVOR","OPIS IZVORA",null,3111,"Plaće za redovan rad",null,{"$f":"LEFT(Y5,2)","v":"31"},{"$f":"LEFT(Y5,3)","v":"311"},null,"AKTIVNOST","OPIS AKTIVNOSTI"]
[{"$f":"IF(C6=\"\",\"\",VLOOKUP('OPĆI DIO'!$C$1,'OPĆI DIO'!$N$4:$W$137,10,FALSE))","v":"08006"},{"$f":"IF(C6=\"\",\"\",VLOOKUP('OPĆI DIO'!$C$1,'OPĆI DIO'!$N$4:$W$137,9,FALSE))","v":"Sveučilišta i veleučilišta u Republici Hrvatskoj"},11,11,"Opći prihodi i primici",3212,"Naknade za prijevoz, za rad na terenu i odvojeni život","A679134","'PROGRAMSKO FINANCIRANJE JAVNIH VISOKIH UČILIŠTA 2025. - 2029.","0942",{"v":157155,"d":"157,155"},{"v":171375,"d":"171,375"},{"v":185150,"d":"185,150"},null,{"$f":"IF(C6=\"\",\"\",'OPĆI DIO'!$C$1)","v":"1812 Sveučilište u Zagrebu FAKULTET PROMETNIH ZNANOSTI"},"321","32","11","94","3",11,11,"Opći prihodi i primici",11,3112,"Plaće u naravi",null,{"$f":"LEFT(Y6,2)","v":"31"},{"$f":"LEFT(Y6,3)","v":"311"},null,"Podprogram (P3)","Naziv P3","Funkcijsko područje","Naziv FP","NOVA AKT","NOVA AKT"]
[{"$f":"IF(C7=\"\",\"\",VLOOKUP('OPĆI DIO'!$C$1,'OPĆI DIO'!$N$4:$W$137,10,FALSE))","v":"08006"},{"$f":"IF(C7=\"\",\"\",VLOOKUP('OPĆI DIO'!$C$1,'OPĆI DIO'!$N$4:$W$137,9,FALSE))","v":"Sveučilišta i veleučilišta u Republici Hrvatskoj"},11,11,"Opći prihodi i primici",3236,"Zdravstvene i veterinarske usluge","A679134","'PROGRAMSKO FINANCIRANJE JAVNIH VISOKIH UČILIŠTA 2025. - 2029.","0942",{"v":14225,"d":"14,225"},{"v":15500,"d":"15,500"},{"v":16750,"d":"16,750"},null,{"$f":"IF(C7=\"\",\"\",'OPĆI DIO'!$C$1)","v":"1812 Sveučilište u Zagrebu FAKULTET PROMETNIH ZNANOSTI"},"323","32","11","94","3",11,12,"Sredstva učešća za pomoći",12,3113,"Plaće za prekovremeni rad",null,{"$f":"LEFT(Y7,2)","v":"31"},{"$f":"LEFT(Y7,3)","v":"311"},null,"A111111","PROGRAMSKO FINANCIRANJE JAVNIH VISOKIH UČILIŠTA","0942","Drugi stupanj visoke naobrazbe",{"$f":"LEFT(AG7,2)","v":"09"},{"$f":"LEFT(AG7,3)","v":"094"}]
[{"$f":"IF(C8=\"\",\"\",VLOOKUP('OPĆI DIO'!$C$1,'OPĆI DIO'!$N$4:$W$137,10,FALSE))","v":"08006"},{"$f":"IF(C8=\"\",\"\",VLOOKUP('OPĆI DIO'!$C$1,'OPĆI DIO'!$N$4:$W$137,9,FALSE))","v":"Sveučilišta i veleučilišta u Republici Hrvatskoj"},11,11,"Opći prihodi i primici",3235,"Zakupnine i najamnine","A679134","'PROGRAMSKO FINANCIRANJE JAVNIH VISOKIH UČILIŠTA 2025. - 2029.","0942",{"v":34989,"d":"34,989"},{"v":36751,"d":"36,751"},{"v":38595,"d":"38,595"},null,{"$f":"IF(C8=\"\",\"\",'OPĆI DIO'!$C$1)","v":"1812 Sveučilište u Zagrebu FAKULTET PROMETNIH ZNANOSTI"},"323","32","11","94","3",11,31,"Vlastiti prihodi",31,3114,"Plaće za posebne uvjete rada",null,{"$f":"LEFT(Y8,2)","v":"31"},{"$f":"LEFT(Y8,3)","v":"311"},null,"A222222","PROGRAMSKO I OSTALO FINANCIRANJE JAVNIH VISOKIH UČILIŠTA – IZ EVIDENCIJSKIH PRIHODA","0942","Drugi stupanj visoke naobrazbe","09","094"]
[{"$f":"IF(C9=\"\",\"\",VLOOKUP('OPĆI DIO'!$C$1,'OPĆI DIO'!$N$4:$W$137,10,FALSE))","v":"08006"},{"$f":"IF(C9=\"\",\"\",VLOOKUP('OPĆI DIO'!$C$1,'OPĆI DIO'!$N$4:$W$137,9,FALSE))","v":"Sveučilišta i veleučilišta u Republici Hrvatskoj"},11,11,"Opći prihodi i primici",3223,"Energija","A679134","'PROGRAMSKO FINANCIRANJE JAVNIH VISOKIH UČILIŠTA 2025. - 2029.","0942",{"v":29697,"d":"29,697"},{"v":31192,"d":"31,192"},{"v":32746,"d":"32,746"},null,{"$f":"IF(C9=\"\",\"\",'OPĆI DIO'!$C$1)","v":"1812 Sveučilište u Zagrebu FAKULTET PROMETNIH ZNANOSTI"},"322","32","11","94","3",11,41,"Prihodi od igara na sreću",41,3121,"Ostali rashodi za zaposlene",null,{"$f":"LEFT(Y9,2)","v":"31"},{"$f":"LEFT(Y9,3)","v":"312"},null,"A333333","PROGRAM PREKOGRANIČNE SURADNJE","0942","Drugi stupanj visoke naobrazbe","09","094"]
[{"$f":"IF(C10=\"\",\"\",VLOOKUP('OPĆI DIO'!$C$1,'OPĆI DIO'!$N$4:$W$137,10,FALSE))","v":"08006"},{"$f":"IF(C10=\"\",\"\",VLOOKUP('OPĆI DIO'!$C$1,'OPĆI DIO'!$N$4:$W$137,9,FALSE))","v":"Sveučilišta i veleučilišta u Republici Hrvatskoj"},11,11,"Opći prihodi i primici",3224,"Materijal i dijelovi za tekuće i investicijsko održavanje","A679134","'PROGRAMSKO FINANCIRANJE JAVNIH VISOKIH UČILIŠTA 2025. - 2029.","0942",{"v":17916,"d":"17,916"},{"v":18775,"d":"18,775"},{"v":19725,"d":"19,725"},null,{"$f":"IF(C10=\"\",\"\",'OPĆI DIO'!$C$1)","v":"1812 Sveučilište u Zagrebu FAKULTET PROMETNIH ZNANOSTI"},"322","32","11","94","3",11,43,"Ostali prihodi za posebne namjene",43,3132,"Doprinosi za obvezno zdravstveno osiguranje",null,{"$f":"LEFT(Y10,2)","v":"31"},{"$f":"LEFT(Y10,3)","v":"313"},null,"A444444","PROGRAM PREKOGRANIČNE SURADNJE UPRAVLJAČKO TIJELO IZ INOZEMSTVA","0942","Drugi stupanj visoke naobrazbe","09","094"]
[{"$f":"IF(C11=\"\",\"\",VLOOKUP('OPĆI DIO'!$C$1,'OPĆI DIO'!$N$4:$W$137,10,FALSE))","v":"08006"},{"$f":"IF(C11=\"\",\"\",VLOOKUP('OPĆI DIO'!$C$1,'OPĆI DIO'!$N$4:$W$137,9,FALSE))","v":"Sveučilišta i veleučilišta u Republici Hrvatskoj"},11,11,"Opći prihodi i primici",3221,"Uredski materijal i ostali materijalni rashodi","A679134","'PROGRAMSKO FINANCIRANJE JAVNIH VISOKIH UČILIŠTA 2025. - 2029.","0942",{"v":18484,"d":"18,484"},{"v":19415,"d":"19,415"},{"v":20357,"d":"20,357"},null,{"$f":"IF(C11=\"\",\"\",'OPĆI DIO'!$C$1)","v":"1812 Sveučilište u Zagrebu FAKULTET PROMETNIH ZNANOSTI"},"322","32","11","94","3",11,5011,"5011 Pomoći iz državnog proračuna kroz opće prihode i primitke",50,3211,"Službena putovanja",null,"32","321",null,"A555555","PROGRAM PREKOGRANIČNE SURADNJE","0150","Istraživanje i razvoj: Opće javne usluge","01","015"]
[{"$f":"IF(C12=\"\",\"\",VLOOKUP('OPĆI DIO'!$C$1,'OPĆI DIO'!$N$4:$W$137,10,FALSE))","v":"08006"},{"$f":"IF(C12=\"\",\"\",VLOOKUP('OPĆI DIO'!$C$1,'OPĆI DIO'!$N$4:$W$137,9,FALSE))","v":"Sveučilišta i veleučilišta u Republici Hrvatskoj"},11,11,"Opći prihodi i primici",3225,"Sitni inventar i autogume","A679134","'PROGRAMSKO FINANCIRANJE JAVNIH VISOKIH UČILIŠTA 2025. - 2029.","0942",{"v":1803,"d":"1,803"},{"v":1860,"d":"1,860"},{"v":1977,"d":"1,977"},null,{"$f":"IF(C12=\"\",\"\",'OPĆI DIO'!$C$1)","v":"1812 Sveučilište u Zagrebu FAKULTET PROMETNIH ZNANOSTI"},"322","32","11","94","3",11,5012,"5012 Pomoći iz državnog proračuna kroz nacionalno sufinanciranje EU projekata",50,3212,"Naknade za prijevoz, za rad na terenu i odvojeni život",null,"32","321",null,"A557041","PREUZIMANJE OBVEZA ZA PROJEKTE JAVNO PRIVATNOG PARTNERSTVA U VARAŽDINSKOJ I KOPRIVNIČKO-KRIŽEVAČKOJ ŽUPANIJI","0912","Osnovno obrazovanje","09","091"]
[{"$f":"IF(C13=\"\",\"\",VLOOKUP('OPĆI DIO'!$C$1,'OPĆI DIO'!$N$4:$W$137,10,FALSE))","v":"08006"},{"$f":"IF(C13=\"\",\"\",VLOOKUP('OPĆI DIO'!$C$1,'OPĆI DIO'!$N$4:$W$137,9,FALSE))","v":"Sveučilišta i veleučilišta u Republici Hrvatskoj"},11,11,"Opći prihodi i primici",3299,"Ostali nespomenuti rashodi poslovanja","A679134","'PROGRAMSKO FINANCIRANJE JAVNIH VISOKIH UČILIŠTA 2025. - 2029.","0942",{"v":47319,"d":"47,319"},{"v":49727,"d":"49,727"},{"v":52227,"d":"52,227"},null,{"$f":"IF(C13=\"\",\"\",'OPĆI DIO'!$C$1)","v":"1812 Sveučilište u Zagrebu FAKULTET PROMETNIH ZNANOSTI"},"329","32","11","94","3",11,5051,"5041 Pomoći iz državnog proračuna kroz prihode od igara na sreću",50,3213,"Stručno usavršavanje zaposlenika",null,"32","321",null,"A557042","PROGRAM DOKTORANADA I POSLIJEDOKTORANADA HRVATSKE ZAKLADE ZA ZNANOST","0150","Istraživanje i razvoj: Opće javne usluge","01","015"]
[{"$f":"IF(C14=\"\",\"\",VLOOKUP('OPĆI DIO'!$C$1,'OPĆI DIO'!$N$4:$W$137,10,FALSE))","v":"08006"},{"$f":"IF(C14=\"\",\"\",VLOOKUP('OPĆI DIO'!$C$1,'OPĆI DIO'!$N$4:$W$137,9,FALSE))","v":"Sveučilišta i veleučilišta u Republici Hrvatskoj"},11,11,"Opći prihodi i primici",3211,"Službena putovanja","A679134","'PROGRAMSKO FINANCIRANJE JAVNIH VISOKIH UČILIŠTA 2025. - 2029.","0942",{"v":7899,"d":"7,899"},{"v":8298,"d":"8,298"},{"v":8701,"d":"8,701"},null,{"$f":"IF(C14=\"\",\"\",'OPĆI DIO'!$C$1)","v":"1812 Sveučilište u Zagrebu FAKULTET PROMETNIH ZNANOSTI"},"321","32","11","94","3",11,5043,"5043 Pomoći iz državnog proračuna kroz ostale prihode za posebne namjene",50,3214,"Ostale naknade troškova zaposlenima",null,"32","321",null,"A557043","NACIONALNO VIJEĆE ZA ODGOJ I OBRAZOVANJE","0970","Istraživanje i razvoj obrazovanja","09","097"]
[{"$f":"IF(C15=\"\",\"\",VLOOKUP('OPĆI DIO'!$C$1,'OPĆI DIO'!$N$4:$W$137,10,FALSE))","v":"08006"},{"$f":"IF(C15=\"\",\"\",VLOOKUP('OPĆI DIO'!$C$1,'OPĆI DIO'!$N$4:$W$137,9,FALSE))","v":"Sveučilišta i veleučilišta u Republici Hrvatskoj"},11,11,"Opći prihodi i primici",3292,"Premije osiguranja","A679134","'PROGRAMSKO FINANCIRANJE JAVNIH VISOKIH UČILIŠTA 2025. - 2029.","0942",{"v":12624,"d":"12,624"},{"v":13217,"d":"13,217"},{"v":13877,"d":"13,877"},null,{"$f":"IF(C15=\"\",\"\",'OPĆI DIO'!$C$1)","v":"1812 Sveučilište u Zagrebu FAKULTET PROMETNIH ZNANOSTI"},"329","32","11","94","3",11,5052,"5052 Pomoći iz državnog proračuna kroz ostale pomoći",50,3221,"Uredski materijal i ostali materijalni rashodi",null,"32","322",null,"A558047","POLITIKA ZA MLADE","1040","Obitelj i djeca","10","104"]
[{"$f":"IF(C16=\"\",\"\",VLOOKUP('OPĆI DIO'!$C$1,'OPĆI DIO'!$N$4:$W$137,10,FALSE))","v":"08006"},{"$f":"IF(C16=\"\",\"\",VLOOKUP('OPĆI DIO'!$C$1,'OPĆI DIO'!$N$4:$W$137,9,FALSE))","v":"Sveučilišta i veleučilišta u Republici Hrvatskoj"},11,11,"Opći prihodi i primici",3231,"Usluge telefona, interneta, pošte i prijevoza","A679134","'PROGRAMSKO FINANCIRANJE JAVNIH VISOKIH UČILIŠTA 2025. - 2029.","0942",{"v":20288,"d":"20,288"},{"v":21275,"d":"21,275"},{"v":22334,"d":"22,334"},null,{"$f":"IF(C16=\"\",\"\",'OPĆI DIO'!$C$1)","v":"1812 Sveučilište u Zagrebu FAKULTET PROMETNIH ZNANOSTI"},"323","32","11","94","3",11,50810,"50810 Pomoći iz državnog proračuna kroz namjenske primitke od zaduživanja – ostali",50,3222,"Materijal i sirovine",null,"32","322",null,"A558053","POTPORA ZA PROGRAME USMJERENE MLADIMA","1040","Obitelj i djeca","10","104"]
[{"$f":"IF(C17=\"\",\"\",VLOOKUP('OPĆI DIO'!$C$1,'OPĆI DIO'!$N$4:$W$137,10,FALSE))","v":"08006"},{"$f":"IF(C17=\"\",\"\",VLOOKUP('OPĆI DIO'!$C$1,'OPĆI DIO'!$N$4:$W$137,9,FALSE))","v":"Sveučilišta i veleučilišta u Republici Hrvatskoj"},11,11,"Opći prihodi i primici",3212,"Naknade za prijevoz, za rad na terenu i odvojeni život","A679134","'PROGRAMSKO FINANCIRANJE JAVNIH VISOKIH UČILIŠTA 2025. - 2029.","0942",{"v":1019,"d":"1,019"},{"v":1060,"d":"1,060"},{"v":1141,"d":"1,141"},null,{"$f":"IF(C17=\"\",\"\",'OPĆI DIO'!$C$1)","v":"1812 Sveučilište u Zagrebu FAKULTET PROMETNIH ZNANOSTI"},"321","32","11","94","3",11,50815,"50815 Pomoći iz državnog proračuna kroz namjenske primitke od zaduživanja – NPOO",50,3223,"Energija",null,"32","322",null,"A577000","ADMINISTRACIJA I UPRAVLJANJE","0970","Istraživanje i razvoj obrazovanja","09","097"]
[{"$f":"IF(C18=\"\",\"\",VLOOKUP('OPĆI DIO'!$C$1,'OPĆI DIO'!$N$4:$W$137,10,FALSE))","v":"08006"},{"$f":"IF(C18=\"\",\"\",VLOOKUP('OPĆI DIO'!$C$1,'OPĆI DIO'!$N$4:$W$137,9,FALSE))","v":"Sveučilišta i veleučilišta u Republici Hrvatskoj"},11,11,"Opći prihodi i primici",3238,"Računalne usluge","A679134","'PROGRAMSKO FINANCIRANJE JAVNIH VISOKIH UČILIŠTA 2025. - 2029.","0942",{"v":46201,"d":"46,201"},{"v":48508,"d":"48,508"},{"v":50923,"d":"50,923"},null,{"$f":"IF(C18=\"\",\"\",'OPĆI DIO'!$C$1)","v":"1812 Sveučilište u Zagrebu FAKULTET PROMETNIH ZNANOSTI"},"323","32","11","94","3",11,51000,"51000 Programi Unije – raspoloživ predujam",51,3224,"Materijal i dijelovi za tekuće i investicijsko održavanje",null,"32","322",null,"A577004","POTPORA UNAPREĐENJU SUSTAVA","0970","Istraživanje i razvoj obrazovanja","09","097"]
[{"$f":"IF(C19=\"\",\"\",VLOOKUP('OPĆI DIO'!$C$1,'OPĆI DIO'!$N$4:$W$137,10,FALSE))","v":"08006"},{"$f":"IF(C19=\"\",\"\",VLOOKUP('OPĆI DIO'!$C$1,'OPĆI DIO'!$N$4:$W$137,9,FALSE))","v":"Sveučilišta i veleučilišta u Republici Hrvatskoj"},11,11,"Opći prihodi i primici",3232,"Usluge tekućeg i investicijskog održavanja","A679134","'PROGRAMSKO FINANCIRANJE JAVNIH VISOKIH UČILIŠTA 2025. - 2029.","0942",{"v":44319.50237518289,"d":"44,320"},{"v":46568.14483069793,"d":"46,568"},{"v":48864.9534687015,"d":"48,865"},null,{"$f":"IF(C19=\"\",\"\",'OPĆI DIO'!$C$1)","v":"1812 Sveučilište u Zagrebu FAKULTET PROMETNIH ZNANOSTI"},"323","32","11","94","3",11,51011,"51011 Programi Unije – predfinanciranje iz izvora 11 Opći prihodi i primici",11,3225,"Sitni inventar i autogume",null,"32","322",null,"A577012","OBRAZOVANJE DJECE HRVATSKIH GRAĐANA U INOZEMSTVU","0970","Istraživanje i razvoj obrazovanja","09","097"]
[{"$f":"IF(C20=\"\",\"\",VLOOKUP('OPĆI DIO'!$C$1,'OPĆI DIO'!$N$4:$W$137,10,FALSE))","v":"08006"},{"$f":"IF(C20=\"\",\"\",VLOOKUP('OPĆI DIO'!$C$1,'OPĆI DIO'!$N$4:$W$137,9,FALSE))","v":"Sveučilišta i veleučilišta u Republici Hrvatskoj"},11,11,"Opći prihodi i primici",3234,"Komunalne usluge","A679134","'PROGRAMSKO FINANCIRANJE JAVNIH VISOKIH UČILIŠTA 2025. - 2029.","0942",{"v":11761,"d":"11,761"},{"v":12335,"d":"12,335"},{"v":12980,"d":"12,980"},null,{"$f":"IF(C20=\"\",\"\",'OPĆI DIO'!$C$1)","v":"1812 Sveučilište u Zagrebu FAKULTET PROMETNIH ZNANOSTI"},"323","32","11","94","3",11,51031,"51031 Programi Unije – predfinanciranje iz izvora 31 Vlastiti prihodi",31,3226,"Vojna sredstva za jednokratnu upotrebu",null,"32","322",null,"A577015","DRŽAVNE NAGRADE ZA IZUZETNE REZULTATE U OBRAZOVANJU I TEHNIČKOJ KULTURI","0942","Drugi stupanj visoke naobrazbe","09","094"]
[{"$f":"IF(C21=\"\",\"\",VLOOKUP('OPĆI DIO'!$C$1,'OPĆI DIO'!$N$4:$W$137,10,FALSE))","v":"08006"},{"$f":"IF(C21=\"\",\"\",VLOOKUP('OPĆI DIO'!$C$1,'OPĆI DIO'!$N$4:$W$137,9,FALSE))","v":"Sveučilišta i veleučilišta u Republici Hrvatskoj"},11,11,"Opći prihodi i primici",3431,"Bankarske usluge i usluge platnog prometa","A679134","'PROGRAMSKO FINANCIRANJE JAVNIH VISOKIH UČILIŠTA 2025. - 2029.","0942",{"v":8919,"d":"8,919"},{"v":9358,"d":"9,358"},{"v":9842,"d":"9,842"},null,{"$f":"IF(C21=\"\",\"\",'OPĆI DIO'!$C$1)","v":"1812 Sveučilište u Zagrebu FAKULTET PROMETNIH ZNANOSTI"},"343","34","11","94","3",11,51043,"51043 Programi Unije – predfinanciranje iz izvora 43 Ostali prihodi za posebne namjene",43,3227,"Službena, radna i zaštitna odjeća i obuća",null,"32","322",null,"A577016","PREVENCIJA NASILJA I OVISNOSTI","0912","Osnovno obrazovanje","09","091"]
[{"$f":"IF(C22=\"\",\"\",VLOOKUP('OPĆI DIO'!$C$1,'OPĆI DIO'!$N$4:$W$137,10,FALSE))","v":"08006"},{"$f":"IF(C22=\"\",\"\",VLOOKUP('OPĆI DIO'!$C$1,'OPĆI DIO'!$N$4:$W$137,9,FALSE))","v":"Sveučilišta i veleučilišta u Republici Hrvatskoj"},11,11,"Opći prihodi i primici",3237,"Intelektualne i osobne usluge","A679134","'PROGRAMSKO FINANCIRANJE JAVNIH VISOKIH UČILIŠTA 2025. - 2029.","0942",{"v":79152,"d":"79,152"},{"v":83159,"d":"83,159"},{"v":87297,"d":"87,297"},null,{"$f":"IF(C22=\"\",\"\",'OPĆI DIO'!$C$1)","v":"1812 Sveučilište u Zagrebu FAKULTET PROMETNIH ZNANOSTI"},"323","32","11","94","3",11,51081,"51081 Programi Unije – predfinanciranje iz izvora 81 Namjenski primici od zaduživanja",81,3231,"Usluge telefona, interneta, pošte i prijevoza",null,"32","323",null,"A577028","POTICAJI HRVATSKOJ ZAJEDNICI TEHNIČKE KULTURE","0820","Službe kulture","08","082"]
[{"$f":"IF(C23=\"\",\"\",VLOOKUP('OPĆI DIO'!$C$1,'OPĆI DIO'!$N$4:$W$137,10,FALSE))","v":"08006"},{"$f":"IF(C23=\"\",\"\",VLOOKUP('OPĆI DIO'!$C$1,'OPĆI DIO'!$N$4:$W$137,9,FALSE))","v":"Sveučilišta i veleučilišta u Republici Hrvatskoj"},11,11,"Opći prihodi i primici",3222,"Materijal i sirovine","A679134","'PROGRAMSKO FINANCIRANJE JAVNIH VISOKIH UČILIŠTA 2025. - 2029.","0942",{"v":41320,"d":"41,320"},{"v":43429,"d":"43,429"},{"v":45564,"d":"45,564"},null,{"$f":"IF(C23=\"\",\"\",'OPĆI DIO'!$C$1)","v":"1812 Sveučilište u Zagrebu FAKULTET PROMETNIH ZNANOSTI"},"322","32","11","94","3",11,52,"Ostale pomoći",52,3232,"Usluge tekućeg i investicijskog održavanja",null,"32","323",null,"A577124","HRVATSKA NASTAVA U INOZEMSTVU","0970","Istraživanje i razvoj obrazovanja","09","097"]
[{"$f":"IF(C24=\"\",\"\",VLOOKUP('OPĆI DIO'!$C$1,'OPĆI DIO'!$N$4:$W$137,10,FALSE))","v":"08006"},{"$f":"IF(C24=\"\",\"\",VLOOKUP('OPĆI DIO'!$C$1,'OPĆI DIO'!$N$4:$W$137,9,FALSE))","v":"Sveučilišta i veleučilišta u Republici Hrvatskoj"},11,11,"Opći prihodi i primici",3211,"Službena putovanja","A679134","'PROGRAMSKO FINANCIRANJE JAVNIH VISOKIH UČILIŠTA 2025. - 2029.","0942",{"v":30637,"d":"30,637"},{"v":32152,"d":"32,152"},{"v":33765,"d":"33,765"},null,{"$f":"IF(C24=\"\",\"\",'OPĆI DIO'!$C$1)","v":"1812 Sveučilište u Zagrebu FAKULTET PROMETNIH ZNANOSTI"},"321","32","11","94","3",11,531,"Švicarsko - hrvatski program suradnje",53,3233,"Usluge promidžbe i informiranja",null,"32","323",null,"A577130","POTICAJI UDRUGAMA ZA IZVANINSTITUCIONALNI ODGOJ I OBRAZOVANJE DJECE I MLADIH","0970","Istraživanje i razvoj obrazovanja","09","097"]
[{"$f":"IF(C25=\"\",\"\",VLOOKUP('OPĆI DIO'!$C$1,'OPĆI DIO'!$N$4:$W$137,10,FALSE))","v":"08006"},{"$f":"IF(C25=\"\",\"\",VLOOKUP('OPĆI DIO'!$C$1,'OPĆI DIO'!$N$4:$W$137,9,FALSE))","v":"Sveučilišta i veleučilišta u Republici Hrvatskoj"},11,11,"Opći prihodi i primici",3213,"Stručno usavršavanje zaposlenika","A679134","'PROGRAMSKO FINANCIRANJE JAVNIH VISOKIH UČILIŠTA 2025. - 2029.","0942",{"v":51651,"d":"51,651"},{"v":54226,"d":"54,226"},{"v":56894,"d":"56,894"},null,{"$f":"IF(C25=\"\",\"\",'OPĆI DIO'!$C$1)","v":"1812 Sveučilište u Zagrebu FAKULTET PROMETNIH ZNANOSTI"},"321","32","11","94","3",11,532,"Financijski mehanizam Europskog gospodarskog prostora i Norveški financijski mehanizam",53,3234,"Komunalne usluge",null,"32","323",null,"A577131","POTICAJI OBRAZOVANJA NACIONALNIH MANJINA","0970","Istraživanje i razvoj obrazovanja","09","097"]
[{"$f":"IF(C26=\"\",\"\",VLOOKUP('OPĆI DIO'!$C$1,'OPĆI DIO'!$N$4:$W$137,10,FALSE))","v":"08006"},{"$f":"IF(C26=\"\",\"\",VLOOKUP('OPĆI DIO'!$C$1,'OPĆI DIO'!$N$4:$W$137,9,FALSE))","v":"Sveučilišta i veleučilišta u Republici Hrvatskoj"},11,11,"Opći prihodi i primici",3239,"Ostale usluge","A679134","'PROGRAMSKO FINANCIRANJE JAVNIH VISOKIH UČILIŠTA 2025. - 2029.","0942",{"v":137095,"d":"137,095"},{"v":143943,"d":"143,943"},{"v":151200,"d":"151,200"},null,{"$f":"IF(C26=\"\",\"\",'OPĆI DIO'!$C$1)","v":"1812 Sveučilište u Zagrebu FAKULTET PROMETNIH ZNANOSTI"},"323","32","11","94","3",11,533,"Ostale darovnice",53,3235,"Zakupnine i najamnine",null,"32","323",null,"A577132","POTICANJE MEĐUNARODNE OBRAZOVNE SURADNJE ŠKOLA","0970","Istraživanje i razvoj obrazovanja","09","097"]
[{"$f":"IF(C27=\"\",\"\",VLOOKUP('OPĆI DIO'!$C$1,'OPĆI DIO'!$N$4:$W$137,10,FALSE))","v":""},{"$f":"IF(C27=\"\",\"\",VLOOKUP('OPĆI DIO'!$C$1,'OPĆI DIO'!$N$4:$W$137,9,FALSE))","v":""},"",null,"",null,"",null,"","",{"$nulls":4},{"$f":"IF(C27=\"\",\"\",'OPĆI DIO'!$C$1)","v":""},"","","","","","",54,"Europski poljoprivredni jamstveni fond (EAGF)",54,3236,"Zdravstvene i veterinarske usluge",null,"32","323",null,"A577133","POTICANJE PROGRAMA RADA S DAROVITIM UČENICIMA I STUDENTIMA","0912","Osnovno obrazovanje","09","091"]
[{"$f":"IF(C28=\"\",\"\",VLOOKUP('OPĆI DIO'!$C$1,'OPĆI DIO'!$N$4:$W$137,10,FALSE))","v":"08006"},{"$f":"IF(C28=\"\",\"\",VLOOKUP('OPĆI DIO'!$C$1,'OPĆI DIO'!$N$4:$W$137,9,FALSE))","v":"Sveučilišta i veleučilišta u Republici Hrvatskoj"},11,11,"Opći prihodi i primici",3235,"Zakupnine i najamnine","A679134","'PROGRAMSKO FINANCIRANJE JAVNIH VISOKIH UČILIŠTA 2025. - 2029.","0942",{"v":5000,"d":"5,000"},{"v":5000,"d":"5,000"},{"v":5000,"d":"5,000"},null,{"$f":"IF(C28=\"\",\"\",'OPĆI DIO'!$C$1)","v":"1812 Sveučilište u Zagrebu FAKULTET PROMETNIH ZNANOSTI"},"323","32","11","94","3",11,561,"Europski socijalni fond plus – predfinanciranje iz izvora 11 Opći prihodi i primici",561,3237,"Intelektualne i osobne usluge",null,"32","323",null,"A577137","POSEBNI PROGRAMI OBRAZOVANJA ZA PROVOĐENJE PROGRAMA NACIONALNIH MANJINA","0970","Istraživanje i razvoj obrazovanja","09","097"]
[{"$f":"IF(C29=\"\",\"\",VLOOKUP('OPĆI DIO'!$C$1,'OPĆI DIO'!$N$4:$W$137,10,FALSE))","v":"08006"},{"$f":"IF(C29=\"\",\"\",VLOOKUP('OPĆI DIO'!$C$1,'OPĆI DIO'!$N$4:$W$137,9,FALSE))","v":"Sveučilišta i veleučilišta u Republici Hrvatskoj"},11,11,"Opći prihodi i primici",3237,"Intelektualne i osobne usluge","A679134","'PROGRAMSKO FINANCIRANJE JAVNIH VISOKIH UČILIŠTA 2025. - 2029.","0942",{"v":7500,"d":"7,500"},{"v":10000,"d":"10,000"},{"v":10000,"d":"10,000"},null,{"$f":"IF(C29=\"\",\"\",'OPĆI DIO'!$C$1)","v":"1812 Sveučilište u Zagrebu FAKULTET PROMETNIH ZNANOSTI"},"323","32","11","94","3",11,562,"Kohezijski fond",562,3238,"Računalne usluge",null,"32","323",null,"A577143","RAZVOJ I ODRŽAVANJE INFORMACIJSKE INFRASTRUKTURE MINISTARSTVA","0980","Usluge obrazovanja koje nisu drugdje svrstane","09","098"]
[{"$f":"IF(C30=\"\",\"\",VLOOKUP('OPĆI DIO'!$C$1,'OPĆI DIO'!$N$4:$W$137,10,FALSE))","v":"08006"},{"$f":"IF(C30=\"\",\"\",VLOOKUP('OPĆI DIO'!$C$1,'OPĆI DIO'!$N$4:$W$137,9,FALSE))","v":"Sveučilišta i veleučilišta u Republici Hrvatskoj"},11,11,"Opći prihodi i primici",3239,"Ostale usluge","A679134","'PROGRAMSKO FINANCIRANJE JAVNIH VISOKIH UČILIŠTA 2025. - 2029.","0942",{"v":1793,"d":"1,793"},{"v":1733,"d":"1,733"},{"v":5219,"d":"5,219"},null,{"$f":"IF(C30=\"\",\"\",'OPĆI DIO'!$C$1)","v":"1812 Sveučilište u Zagrebu FAKULTET PROMETNIH ZNANOSTI"},"323","32","11","94","3",11,563,"Europski fond za regionalni razvoj – predfinanciranje iz izvora 11 Opći prihodi i primici",563,3239,"Ostale usluge",null,"32","323",null,"A578003","ODGOJ I NAOBRAZBA DJECE PRIPADNIKA NACIONALNIH MANJINA","0911","Predškolsko obrazovanje","09","091"]
[{"$f":"IF(C31=\"\",\"\",VLOOKUP('OPĆI DIO'!$C$1,'OPĆI DIO'!$N$4:$W$137,10,FALSE))","v":"08006"},{"$f":"IF(C31=\"\",\"\",VLOOKUP('OPĆI DIO'!$C$1,'OPĆI DIO'!$N$4:$W$137,9,FALSE))","v":"Sveučilišta i veleučilišta u Republici Hrvatskoj"},11,11,"Opći prihodi i primici",4225,"Instrumenti i uređaji","A679134","'PROGRAMSKO FINANCIRANJE JAVNIH VISOKIH UČILIŠTA 2025. - 2029.","0942",{"v":4000,"d":"4,000"},{"v":2500,"d":"2,500"},0,null,{"$f":"IF(C31=\"\",\"\",'OPĆI DIO'!$C$1)","v":"1812 Sveučilište u Zagrebu FAKULTET PROMETNIH ZNANOSTI"},"422","42","11","94","4",11,564,"Fond za pomorstvo, ribarstvo i akvakulturu",564,3241,"Naknade troškova osobama izvan radnog odnosa",null,"32","324",null,"A578004","PREDŠKOLSKI ODGOJ I OBRAZOVANJE DJECE S TEŠKOĆAMA U RAZVOJU (SUFINANCIRANJE)","0911","Predškolsko obrazovanje","09","091"]
[{"$f":"IF(C32=\"\",\"\",VLOOKUP('OPĆI DIO'!$C$1,'OPĆI DIO'!$N$4:$W$137,10,FALSE))","v":"08006"},{"$f":"IF(C32=\"\",\"\",VLOOKUP('OPĆI DIO'!$C$1,'OPĆI DIO'!$N$4:$W$137,9,FALSE))","v":"Sveučilišta i veleučilišta u Republici Hrvatskoj"},11,11,"Opći prihodi i primici",3225,"Sitni inventar i autogume","A679134","'PROGRAMSKO FINANCIRANJE JAVNIH VISOKIH UČILIŠTA 2025. - 2029.","0942",500,500,500,null,{"$f":"IF(C32=\"\",\"\",'OPĆI DIO'!$C$1)","v":"1812 Sveučilište u Zagrebu FAKULTET PROMETNIH ZNANOSTI"},"322","32","11","94","3",11,565,"Europski poljoprivredni fond za ruralni razvoj",565,3291,"Naknade za rad predstavničkih i izvršnih tijela, povjerensta",null,"32","329",null,"A578008","ODGOJ I NAOBRAZBA DJECE U PROGRAMIMA PREDŠKOLE","0911","Predškolsko obrazovanje","09","091"]
[{"$f":"IF(C33=\"\",\"\",VLOOKUP('OPĆI DIO'!$C$1,'OPĆI DIO'!$N$4:$W$137,10,FALSE))","v":""},{"$f":"IF(C33=\"\",\"\",VLOOKUP('OPĆI DIO'!$C$1,'OPĆI DIO'!$N$4:$W$137,9,FALSE))","v":""},"",null,"",null,"",null,"","",{"$nulls":4},{"$f":"IF(C33=\"\",\"\",'OPĆI DIO'!$C$1)","v":""},"","","","","","",566,"Modernizacijski fond",566,3292,"Premije osiguranja",null,"32","329",null,"A578009","ODGOJ I OBRAZOVANJE DAROVITE DJECE PREDŠKOLSKE DOBI U DJEČJIM VRTIĆIMA","0911","Predškolsko obrazovanje","09","091"]
[{"$f":"IF(C34=\"\",\"\",VLOOKUP('OPĆI DIO'!$C$1,'OPĆI DIO'!$N$4:$W$137,10,FALSE))","v":"08006"},{"$f":"IF(C34=\"\",\"\",VLOOKUP('OPĆI DIO'!$C$1,'OPĆI DIO'!$N$4:$W$137,9,FALSE))","v":"Sveučilišta i veleučilišta u Republici Hrvatskoj"},11,11,"Opći prihodi i primici",3237,"Intelektualne i osobne usluge","A679134","'PROGRAMSKO FINANCIRANJE JAVNIH VISOKIH UČILIŠTA 2025. - 2029.","0942",{"v":12000,"d":"12,000"},{"v":12000,"d":"12,000"},{"v":12000,"d":"12,000"},null,{"$f":"IF(C34=\"\",\"\",'OPĆI DIO'!$C$1)","v":"1812 Sveučilište u Zagrebu FAKULTET PROMETNIH ZNANOSTI"},"323","32","11","94","3",11,567,"Socijalni fond za klimatsku politiku",567,3293,"Reprezentacija",null,"32","329",null,"A578041","POMOĆNICI U NASTAVI ZA DJECU S TEŠKOĆAMA U RAZVOJU","0970","Istraživanje i razvoj obrazovanja","09","097"]
[{"$f":"IF(C35=\"\",\"\",VLOOKUP('OPĆI DIO'!$C$1,'OPĆI DIO'!$N$4:$W$137,10,FALSE))","v":"08006"},{"$f":"IF(C35=\"\",\"\",VLOOKUP('OPĆI DIO'!$C$1,'OPĆI DIO'!$N$4:$W$137,9,FALSE))","v":"Sveučilišta i veleučilišta u Republici Hrvatskoj"},11,11,"Opći prihodi i primici",4225,"Instrumenti i uređaji","A679134","'PROGRAMSKO FINANCIRANJE JAVNIH VISOKIH UČILIŠTA 2025. - 2029.","0942",{"v":35000,"d":"35,000"},{"v":35000,"d":"35,000"},{"v":35000,"d":"35,000"},null,{"$f":"IF(C35=\"\",\"\",'OPĆI DIO'!$C$1)","v":"1812 Sveučilište u Zagrebu FAKULTET PROMETNIH ZNANOSTI"},"422","42","11","94","4",11,575,"Fond za azil, migracije i integraciju – predfinanciranje iz izvora 11 Opći prihodi i primici",575,3293,"  Reprezentacija",null,"32","329",null,"A578042","OSIGURANJE UČENIKA I STUDENATA NA PRAKTIČNOJ NASTAVI I STRUČNOJ PRAKSI","0980","Usluge obrazovanja koje nisu drugdje svrstane","09","098"]
[{"$f":"IF(C36=\"\",\"\",VLOOKUP('OPĆI DIO'!$C$1,'OPĆI DIO'!$N$4:$W$137,10,FALSE))","v":"08006"},{"$f":"IF(C36=\"\",\"\",VLOOKUP('OPĆI DIO'!$C$1,'OPĆI DIO'!$N$4:$W$137,9,FALSE))","v":"Sveučilišta i veleučilišta u Republici Hrvatskoj"},11,11,"Opći prihodi i primici",4221,"Uredska oprema i namještaj","A679134","'PROGRAMSKO FINANCIRANJE JAVNIH VISOKIH UČILIŠTA 2025. - 2029.","0942",{"v":35000,"d":"35,000"},{"v":35000,"d":"35,000"},{"v":35000,"d":"35,000"},null,{"$f":"IF(C36=\"\",\"\",'OPĆI DIO'!$C$1)","v":"1812 Sveučilište u Zagrebu FAKULTET PROMETNIH ZNANOSTI"},"422","42","11","94","4",11,577,"Fond za pravednu tranziciju",577,3294,"Članarine i norme",null,"32","329",null,"A578045","SUFINANCIRANJE NASTAVNIH MATERIJALA I OPREME ZA UČENIKE OSNOVNIH I SREDNJIH ŠKOLA","0970","Istraživanje i razvoj obrazovanja","09","097"]
[{"$f":"IF(C37=\"\",\"\",VLOOKUP('OPĆI DIO'!$C$1,'OPĆI DIO'!$N$4:$W$137,10,FALSE))","v":"08006"},{"$f":"IF(C37=\"\",\"\",VLOOKUP('OPĆI DIO'!$C$1,'OPĆI DIO'!$N$4:$W$137,9,FALSE))","v":"Sveučilišta i veleučilišta u Republici Hrvatskoj"},11,11,"Opći prihodi i primici",3239,"Ostale usluge","A679134","'PROGRAMSKO FINANCIRANJE JAVNIH VISOKIH UČILIŠTA 2025. - 2029.","0942",{"v":4110,"d":"4,110"},{"v":9396,"d":"9,396"},{"v":14946,"d":"14,946"},null,{"$f":"IF(C37=\"\",\"\",'OPĆI DIO'!$C$1)","v":"1812 Sveučilište u Zagrebu FAKULTET PROMETNIH ZNANOSTI"},"323","32","11","94","3",11,578,"Fond za unutarnju sigurnost",578,3295,"Pristojbe i naknade",null,"32","329",null,"A578050","POTPORA INOVACIJSKIM PROCESIMA","0150","Istraživanje i razvoj: Opće javne usluge","01","015"]
[{"$f":"IF(C38=\"\",\"\",VLOOKUP('OPĆI DIO'!$C$1,'OPĆI DIO'!$N$4:$W$137,10,FALSE))","v":"08006"},{"$f":"IF(C38=\"\",\"\",VLOOKUP('OPĆI DIO'!$C$1,'OPĆI DIO'!$N$4:$W$137,9,FALSE))","v":"Sveučilišta i veleučilišta u Republici Hrvatskoj"},11,11,"Opći prihodi i primici",3235,"Zakupnine i najamnine","A679134","'PROGRAMSKO FINANCIRANJE JAVNIH VISOKIH UČILIŠTA 2025. - 2029.","0942",{"v":19600,"d":"19,600"},{"v":19600,"d":"19,600"},{"v":19600,"d":"19,600"},null,{"$f":"IF(C38=\"\",\"\",'OPĆI DIO'!$C$1)","v":"1812 Sveučilište u Zagrebu FAKULTET PROMETNIH ZNANOSTI"},"323","32","11","94","3",11,579,"Fond za integrirano upravljanje granicama",579,3296,"Troškovi sudskih postupaka",null,"32","329",null,"A578055","HRVATSKO-ŠVICARSKI ISTRAŽIVAČKI PROGRAM","0150","Istraživanje i razvoj: Opće javne usluge","01","015"]
[{"$f":"IF(C39=\"\",\"\",VLOOKUP('OPĆI DIO'!$C$1,'OPĆI DIO'!$N$4:$W$137,10,FALSE))","v":""},{"$f":"IF(C39=\"\",\"\",VLOOKUP('OPĆI DIO'!$C$1,'OPĆI DIO'!$N$4:$W$137,9,FALSE))","v":""},"",null,"",null,"",null,"","",{"$nulls":4},{"$f":"IF(C39=\"\",\"\",'OPĆI DIO'!$C$1)","v":""},"","","","","","",581,"Mehanizam za oporavak i otpornost – bespovratna sredstva – raspoloživ predujam ili unaprijed naplaćen prihod",581,3299,"Ostali nespomenuti rashodi poslovanja",null,"32","329",null,"A578059","EUROPSKA MREŽA ŠKOLA - EUROPEAN SCHOOLNET","0970","Istraživanje i razvoj obrazovanja","09","097"]
[{"$f":"IF(C40=\"\",\"\",VLOOKUP('OPĆI DIO'!$C$1,'OPĆI DIO'!$N$4:$W$137,10,FALSE))","v":"08006"},{"$f":"IF(C40=\"\",\"\",VLOOKUP('OPĆI DIO'!$C$1,'OPĆI DIO'!$N$4:$W$137,9,FALSE))","v":"Sveučilišta i veleučilišta u Republici Hrvatskoj"},11,11,"Opći prihodi i primici",4225,"Instrumenti i uređaji","A679134","'PROGRAMSKO FINANCIRANJE JAVNIH VISOKIH UČILIŠTA 2025. - 2029.","0942",{"v":10000,"d":"10,000"},{"v":10000,"d":"10,000"},{"v":10000,"d":"10,000"},null,{"$f":"IF(C40=\"\",\"\",'OPĆI DIO'!$C$1)","v":"1812 Sveučilište u Zagrebu FAKULTET PROMETNIH ZNANOSTI"},"422","42","11","94","4",11,61,"Donacije",61,3411,"Kamate za izdane trezorske zapise",null,"34","341",null,"A578061","OBZOR 2020. - PROGRAM POTICANJA ISTRAŽIVANJA I RAZVOJA U PERSONALIZIRANOJ MEDICINI – ERA PERMED","0150","Istraživanje i razvoj: Opće javne usluge","01","015"]
[{"$f":"IF(C41=\"\",\"\",VLOOKUP('OPĆI DIO'!$C$1,'OPĆI DIO'!$N$4:$W$137,10,FALSE))","v":"08006"},{"$f":"IF(C41=\"\",\"\",VLOOKUP('OPĆI DIO'!$C$1,'OPĆI DIO'!$N$4:$W$137,9,FALSE))","v":"Sveučilišta i veleučilišta u Republici Hrvatskoj"},11,11,"Opći prihodi i primici",3235,"Zakupnine i najamnine","A679134","'PROGRAMSKO FINANCIRANJE JAVNIH VISOKIH UČILIŠTA 2025. - 2029.","0942",{"v":12000,"d":"12,000"},{"v":12000,"d":"12,000"},{"v":12000,"d":"12,000"},null,{"$f":"IF(C41=\"\",\"\",'OPĆI DIO'!$C$1)","v":"1812 Sveučilište u Zagrebu FAKULTET PROMETNIH ZNANOSTI"},"323","32","11","94","3",11,71,"Prihodi od nefin. imovine i nadoknade štete s osnova osig.",71,3422,"Kamate za primljene kredite i zajmove od kreditnih i ostalih",null,"34","342",null,"A578069","ADMINISTRACIJA I UPRAVLJANJE HRVATSKE ZAKLADE ZA ZNANOST","0150","Istraživanje i razvoj: Opće javne usluge","01","015"]
[{"$f":"IF(C42=\"\",\"\",VLOOKUP('OPĆI DIO'!$C$1,'OPĆI DIO'!$N$4:$W$137,10,FALSE))","v":"08006"},{"$f":"IF(C42=\"\",\"\",VLOOKUP('OPĆI DIO'!$C$1,'OPĆI DIO'!$N$4:$W$137,9,FALSE))","v":"Sveučilišta i veleučilišta u Republici Hrvatskoj"},11,11,"Opći prihodi i primici",4222,"Komunikacijska oprema","A679134","'PROGRAMSKO FINANCIRANJE JAVNIH VISOKIH UČILIŠTA 2025. - 2029.","0942",{"v":12062,"d":"12,062"},{"v":13765,"d":"13,765"},{"v":15554,"d":"15,554"},null,{"$f":"IF(C42=\"\",\"\",'OPĆI DIO'!$C$1)","v":"1812 Sveučilište u Zagrebu FAKULTET PROMETNIH ZNANOSTI"},"422","42","11","94","4",11,810,"Namjenski primici od zaduživanja – ostali",810,3423,"Kamate za primljene kredite i zajmove od kreditnih i ostalih",null,{"$f":"LEFT(Y42,2)","v":"34"},{"$f":"LEFT(Y42,3)","v":"342"},null,"A578072","OBZOR ERA-NET CHANSE","0150","Istraživanje i razvoj: Opće javne usluge","01","015"]
[{"$f":"IF(C43=\"\",\"\",VLOOKUP('OPĆI DIO'!$C$1,'OPĆI DIO'!$N$4:$W$137,10,FALSE))","v":""},{"$f":"IF(C43=\"\",\"\",VLOOKUP('OPĆI DIO'!$C$1,'OPĆI DIO'!$N$4:$W$137,9,FALSE))","v":""},"",null,"",null,"",null,"","",{"$nulls":4},{"$f":"IF(C43=\"\",\"\",'OPĆI DIO'!$C$1)","v":""},"","","","","","",815,"Mehanizam za oporavak i otpornost (NPOO – zajam)",815,3427,"Kamate za primljene zajmove od trgovačkih društava i obrtnik",null,"34","342",null,"A578073","PROGRAM MOBILNOSTI - NPOO (C3.2. R2-I1 )","0150","Istraživanje i razvoj: Opće javne usluge","01","015"]
[{"$f":"IF(C44=\"\",\"\",VLOOKUP('OPĆI DIO'!$C$1,'OPĆI DIO'!$N$4:$W$137,10,FALSE))","v":"08006"},{"$f":"IF(C44=\"\",\"\",VLOOKUP('OPĆI DIO'!$C$1,'OPĆI DIO'!$N$4:$W$137,9,FALSE))","v":"Sveučilišta i veleučilišta u Republici Hrvatskoj"},11,11,"Opći prihodi i primici",3238,"Računalne usluge","A679134","'PROGRAMSKO FINANCIRANJE JAVNIH VISOKIH UČILIŠTA 2025. - 2029.","0942",{"v":10000,"d":"10,000"},{"v":10000,"d":"10,000"},{"v":10000,"d":"10,000"},null,{"$f":"IF(C44=\"\",\"\",'OPĆI DIO'!$C$1)","v":"1812 Sveučilište u Zagrebu FAKULTET PROMETNIH ZNANOSTI"},"323","32","11","94","3",11,{"$nulls":3},3431,"Bankarske usluge i usluge platnog prometa",null,"34","343",null,"A578074","DRUGI ŠVICARSKI DOPRINOS - MULTILATERALNI POZIVI ZA ZAJEDNIČKE ISTRAŽIVAČKE PROJEKTE (MCJRP)","0150","Istraživanje i razvoj: Opće javne usluge","01","015"]
[{"$f":"IF(C45=\"\",\"\",VLOOKUP('OPĆI DIO'!$C$1,'OPĆI DIO'!$N$4:$W$137,10,FALSE))","v":"08006"},{"$f":"IF(C45=\"\",\"\",VLOOKUP('OPĆI DIO'!$C$1,'OPĆI DIO'!$N$4:$W$137,9,FALSE))","v":"Sveučilišta i veleučilišta u Republici Hrvatskoj"},11,11,"Opći prihodi i primici",3233,"Usluge promidžbe i informiranja","A679134","'PROGRAMSKO FINANCIRANJE JAVNIH VISOKIH UČILIŠTA 2025. - 2029.","0942",{"v":5000,"d":"5,000"},{"v":5000,"d":"5,000"},{"v":5000,"d":"5,000"},null,{"$f":"IF(C45=\"\",\"\",'OPĆI DIO'!$C$1)","v":"1812 Sveučilište u Zagrebu FAKULTET PROMETNIH ZNANOSTI"},"323","32","11","94","3",11,{"$nulls":3},3432,"Negativne tečajne razlike i razlike zbog primjene valutne kl",null,"34","343",null,"A579000","OSNOVNOŠKOLSKO OBRAZOVANJE","0180","Prijenosi općeg karaktera između različitih državnih razina","01","018"]
[{"$f":"IF(C46=\"\",\"\",VLOOKUP('OPĆI DIO'!$C$1,'OPĆI DIO'!$N$4:$W$137,10,FALSE))","v":"08006"},{"$f":"IF(C46=\"\",\"\",VLOOKUP('OPĆI DIO'!$C$1,'OPĆI DIO'!$N$4:$W$137,9,FALSE))","v":"Sveučilišta i veleučilišta u Republici Hrvatskoj"},11,11,"Opći prihodi i primici",3237,"Intelektualne i osobne usluge","A679134","'PROGRAMSKO FINANCIRANJE JAVNIH VISOKIH UČILIŠTA 2025. - 2029.","0942",{"v":6250,"d":"6,250"},{"v":6250,"d":"6,250"},{"v":6250,"d":"6,250"},null,{"$f":"IF(C46=\"\",\"\",'OPĆI DIO'!$C$1)","v":"1812 Sveučilište u Zagrebu FAKULTET PROMETNIH ZNANOSTI"},"323","32","11","94","3",11,{"$nulls":3},3433,"Zatezne kamate",null,"34","343",null,"A579003","ODGOJ I NAOBRAZBA UČENIKA S TEŠKOĆAMA U RAZVOJU U OSNOVNIM ŠKOLAMA","0912","Osnovno obrazovanje","09","091"]
[{"$f":"IF(C47=\"\",\"\",VLOOKUP('OPĆI DIO'!$C$1,'OPĆI DIO'!$N$4:$W$137,10,FALSE))","v":"08006"},{"$f":"IF(C47=\"\",\"\",VLOOKUP('OPĆI DIO'!$C$1,'OPĆI DIO'!$N$4:$W$137,9,FALSE))","v":"Sveučilišta i veleučilišta u Republici Hrvatskoj"},11,11,"Opći prihodi i primici",3239,"Ostale usluge","A679134","'PROGRAMSKO FINANCIRANJE JAVNIH VISOKIH UČILIŠTA 2025. - 2029.","0942",{"v":17765,"d":"17,765"},{"v":19716,"d":"19,716"},{"v":21764,"d":"21,764"},null,{"$f":"IF(C47=\"\",\"\",'OPĆI DIO'!$C$1)","v":"1812 Sveučilište u Zagrebu FAKULTET PROMETNIH ZNANOSTI"},"323","32","11","94","3",11,{"$nulls":3},3434,"Ostali nespomenuti financijski rashodi",null,"34","343",null,"A579004","POTICANJE IZVANNASTAVNIH AKTIVNOSTI U OŠ","0970","Istraživanje i razvoj obrazovanja","09","097"]
[{"$f":"IF(C48=\"\",\"\",VLOOKUP('OPĆI DIO'!$C$1,'OPĆI DIO'!$N$4:$W$137,10,FALSE))","v":""},{"$f":"IF(C48=\"\",\"\",VLOOKUP('OPĆI DIO'!$C$1,'OPĆI DIO'!$N$4:$W$137,9,FALSE))","v":""},"",null,"",null,"",null,"","",{"$nulls":4},{"$f":"IF(C48=\"\",\"\",'OPĆI DIO'!$C$1)","v":""},"","","","","","",{"$nulls":3},3511,"Subvencije kreditnim i ostalim financijskim institucijama u",null,"35","351",null,"A579007","PRAVOMOĆNE SUDSKE PRESUDE","0180","Prijenosi općeg karaktera između različitih državnih razina","01","018"]
[{"$f":"IF(C49=\"\",\"\",VLOOKUP('OPĆI DIO'!$C$1,'OPĆI DIO'!$N$4:$W$137,10,FALSE))","v":""},{"$f":"IF(C49=\"\",\"\",VLOOKUP('OPĆI DIO'!$C$1,'OPĆI DIO'!$N$4:$W$137,9,FALSE))","v":""},"",581,"",3213,"Stručno usavršavanje zaposlenika","A679136","RAZVOJ SUSTAVA PROGRAMSKIH SPORAZUMA ZA FINANCIRANJE SVEUČILIŠTA I ZNANSTVENIH INSTITUTA USMJERENIH NA INOVACIJE, ISTRAŽIVANJE I RAZVOJ - NPOO (C3.2. R1-I1 )","0942",{"v":55373,"d":"55,373"},{"v":55373,"d":"55,373"},{"v":55373,"d":"55,373"},null,{"$f":"IF(C49=\"\",\"\",'OPĆI DIO'!$C$1)","v":""},"321","32","","94","3","",{"$nulls":3},3512,"Subvencije trgovačkim društvima u javnom sektoru",null,"35","351",null,"A579069","RAZVOJ PREDŠKOLSKOG I OSNOVNOŠKOLSKOG SUSTAVA ODGOJA I OBRAZOVANJA","0912","Osnovno obrazovanje","09","091"]
[{"$f":"IF(C50=\"\",\"\",VLOOKUP('OPĆI DIO'!$C$1,'OPĆI DIO'!$N$4:$W$137,10,FALSE))","v":""},{"$f":"IF(C50=\"\",\"\",VLOOKUP('OPĆI DIO'!$C$1,'OPĆI DIO'!$N$4:$W$137,9,FALSE))","v":""},"",581,"",4225,"Instrumenti i uređaji","A679136","RAZVOJ SUSTAVA PROGRAMSKIH SPORAZUMA ZA FINANCIRANJE SVEUČILIŠTA I ZNANSTVENIH INSTITUTA USMJERENIH NA INOVACIJE, ISTRAŽIVANJE I RAZVOJ - NPOO (C3.2. R1-I1 )","0942",{"v":105622,"d":"105,622"},{"v":105622,"d":"105,622"},{"v":105622,"d":"105,622"},null,{"$f":"IF(C50=\"\",\"\",'OPĆI DIO'!$C$1)","v":""},"422","42","","94","4","",{"$nulls":3},3522,"Subvencije trgovačkim društvima izvan javnog sektora",null,"35","352",null,"A579072","POTPORA UČENICIMA RASELJENIMA IZ UKRAJINE","0970","Istraživanje i razvoj obrazovanja","09","097"]
[{"$f":"IF(C51=\"\",\"\",VLOOKUP('OPĆI DIO'!$C$1,'OPĆI DIO'!$N$4:$W$137,10,FALSE))","v":""},{"$f":"IF(C51=\"\",\"\",VLOOKUP('OPĆI DIO'!$C$1,'OPĆI DIO'!$N$4:$W$137,9,FALSE))","v":""},"",581,"",3239,"Ostale usluge","A679136","RAZVOJ SUSTAVA PROGRAMSKIH SPORAZUMA ZA FINANCIRANJE SVEUČILIŠTA I ZNANSTVENIH INSTITUTA USMJERENIH NA INOVACIJE, ISTRAŽIVANJE I RAZVOJ - NPOO (C3.2. R1-I1 )","0942",{"v":9490,"d":"9,490"},{"v":9490,"d":"9,490"},{"v":9490,"d":"9,490"},null,{"$f":"IF(C51=\"\",\"\",'OPĆI DIO'!$C$1)","v":""},"323","32","","94","3","",{"$nulls":3},3531,"Subvencije trgovačkim društvima, zadrugama, poljoprivrednici",null,"35","353",null,"A579073","UČIMO PODUZETNIŠTVO 5.0","0970","Istraživanje i razvoj obrazovanja","09","097"]
[{"$f":"IF(C52=\"\",\"\",VLOOKUP('OPĆI DIO'!$C$1,'OPĆI DIO'!$N$4:$W$137,10,FALSE))","v":""},{"$f":"IF(C52=\"\",\"\",VLOOKUP('OPĆI DIO'!$C$1,'OPĆI DIO'!$N$4:$W$137,9,FALSE))","v":""},"",581,"",3237,"Intelektualne i osobne usluge","A679136","RAZVOJ SUSTAVA PROGRAMSKIH SPORAZUMA ZA FINANCIRANJE SVEUČILIŠTA I ZNANSTVENIH INSTITUTA USMJERENIH NA INOVACIJE, ISTRAŽIVANJE I RAZVOJ - NPOO (C3.2. R1-I1 )","0942",{"v":60460,"d":"60,460"},{"v":60460,"d":"60,460"},{"v":60460,"d":"60,460"},null,{"$f":"IF(C52=\"\",\"\",'OPĆI DIO'!$C$1)","v":""},"323","32","","94","3","",{"$nulls":3},3611,"Tekuće pomoći inozemnim vladama",null,"36","361",null,"A580000","SREDNJOŠKOLSKO OBRAZOVANJE","0180","Prijenosi općeg karaktera između različitih državnih razina","01","018"]
[{"$f":"IF(C53=\"\",\"\",VLOOKUP('OPĆI DIO'!$C$1,'OPĆI DIO'!$N$4:$W$137,10,FALSE))","v":""},{"$f":"IF(C53=\"\",\"\",VLOOKUP('OPĆI DIO'!$C$1,'OPĆI DIO'!$N$4:$W$137,9,FALSE))","v":""},"",581,"",3235,"Zakupnine i najamnine","A679136","RAZVOJ SUSTAVA PROGRAMSKIH SPORAZUMA ZA FINANCIRANJE SVEUČILIŠTA I ZNANSTVENIH INSTITUTA USMJERENIH NA INOVACIJE, ISTRAŽIVANJE I RAZVOJ - NPOO (C3.2. R1-I1 )","0942",{"v":25100,"d":"25,100"},{"v":25100,"d":"25,100"},{"v":25100,"d":"25,100"},null,{"$f":"IF(C53=\"\",\"\",'OPĆI DIO'!$C$1)","v":""},"323","32","","94","3","",{"$nulls":3},3621,"Tekuće pomoći međunarodnim organizacijama te institucijama i",null,"36","362",null,"A580003","POTICANJE IZVANNASTAVNIH AKTIVNOSTI U SREDNJIM ŠKOLAMA I VISOKOŠKOLSKOM OBRAZOVANJU","0922","Više srednjoškolsko obrazovanje","09","092"]
[{"$f":"IF(C54=\"\",\"\",VLOOKUP('OPĆI DIO'!$C$1,'OPĆI DIO'!$N$4:$W$137,10,FALSE))","v":""},{"$f":"IF(C54=\"\",\"\",VLOOKUP('OPĆI DIO'!$C$1,'OPĆI DIO'!$N$4:$W$137,9,FALSE))","v":""},"",581,"",3211,"Službena putovanja","A679136","RAZVOJ SUSTAVA PROGRAMSKIH SPORAZUMA ZA FINANCIRANJE SVEUČILIŠTA I ZNANSTVENIH INSTITUTA USMJERENIH NA INOVACIJE, ISTRAŽIVANJE I RAZVOJ - NPOO (C3.2. R1-I1 )","0942",{"v":40326,"d":"40,326"},{"v":40326,"d":"40,326"},{"v":40326,"d":"40,326"},null,{"$f":"IF(C54=\"\",\"\",'OPĆI DIO'!$C$1)","v":""},"321","32","","94","3","",{"$nulls":3},3631,"Tekuće pomoći unutar općeg proračuna",null,"36","363",null,"A580004","STANDARD UČENIKA S POSEBNIM POTREBAMA","0922","Više srednjoškolsko obrazovanje","09","092"]
[{"$f":"IF(C55=\"\",\"\",VLOOKUP('OPĆI DIO'!$C$1,'OPĆI DIO'!$N$4:$W$137,10,FALSE))","v":""},{"$f":"IF(C55=\"\",\"\",VLOOKUP('OPĆI DIO'!$C$1,'OPĆI DIO'!$N$4:$W$137,9,FALSE))","v":""},"",null,"",null,"",null,"","",{"$nulls":4},{"$f":"IF(C55=\"\",\"\",'OPĆI DIO'!$C$1)","v":""},"","","","","","",{"$nulls":3},3632,"Kapitalne pomoći unutar općeg proračuna",null,"36","363",null,"A580006","STRUČNO USAVRŠAVANJE U OKVIRU ŽUPANIJSKIH STRUČNIH VIJEĆA SREDNJE ŠKOLE","0970","Istraživanje i razvoj obrazovanja","09","097"]
[{"$f":"IF(C56=\"\",\"\",VLOOKUP('OPĆI DIO'!$C$1,'OPĆI DIO'!$N$4:$W$137,10,FALSE))","v":"08006"},{"$f":"IF(C56=\"\",\"\",VLOOKUP('OPĆI DIO'!$C$1,'OPĆI DIO'!$N$4:$W$137,9,FALSE))","v":"Sveučilišta i veleučilišta u Republici Hrvatskoj"},51,51000,"51000 Programi Unije – raspoloživ predujam",3211,"Službena putovanja","A679135","PROGRAMSKO I OSTALO FINANCIRANJE JAVNIH VISOKIH UČILIŠTA - IZ EVIDENCIJSKIH PRIHODA","0942",{"v":43118,"d":"43,118"},{"v":111150,"d":"111,150"},{"v":124175,"d":"124,175"},null,{"$f":"IF(C56=\"\",\"\",'OPĆI DIO'!$C$1)","v":"1812 Sveučilište u Zagrebu FAKULTET PROMETNIH ZNANOSTI"},"321","32","51","94","3","",{"$nulls":3},3661,"Tekuće pomoći proračunskim korisnicima drugih proračuna",null,"36","366",null,"A580007","PRAVOMOĆNE SUDSKE PRESUDE","0180","Prijenosi općeg karaktera između različitih državnih razina","01","018"]
[{"$f":"IF(C57=\"\",\"\",VLOOKUP('OPĆI DIO'!$C$1,'OPĆI DIO'!$N$4:$W$137,10,FALSE))","v":"08006"},{"$f":"IF(C57=\"\",\"\",VLOOKUP('OPĆI DIO'!$C$1,'OPĆI DIO'!$N$4:$W$137,9,FALSE))","v":"Sveučilišta i veleučilišta u Republici Hrvatskoj"},51,51000,"51000 Programi Unije – raspoloživ predujam",3213,"Stručno usavršavanje zaposlenika","A679135","PROGRAMSKO I OSTALO FINANCIRANJE JAVNIH VISOKIH UČILIŠTA - IZ EVIDENCIJSKIH PRIHODA","0942",{"v":5116,"d":"5,116"},{"v":13187,"d":"13,187"},{"v":14733,"d":"14,733"},null,{"$f":"IF(C57=\"\",\"\",'OPĆI DIO'!$C$1)","v":"1812 Sveučilište u Zagrebu FAKULTET PROMETNIH ZNANOSTI"},"321","32","51","94","3","",{"$nulls":3},3662,"Kapitalne pomoći proračunskim korisnicima drugih proračuna",null,"36","366",null,"A580014","RAZVOJ SUSTAVA OBRAZOVANJA ODRASLIH","0922","Više srednjoškolsko obrazovanje","09","092"]
[{"$f":"IF(C58=\"\",\"\",VLOOKUP('OPĆI DIO'!$C$1,'OPĆI DIO'!$N$4:$W$137,10,FALSE))","v":"08006"},{"$f":"IF(C58=\"\",\"\",VLOOKUP('OPĆI DIO'!$C$1,'OPĆI DIO'!$N$4:$W$137,9,FALSE))","v":"Sveučilišta i veleučilišta u Republici Hrvatskoj"},51,51000,"51000 Programi Unije – raspoloživ predujam",3293,"Reprezentacija","A679135","PROGRAMSKO I OSTALO FINANCIRANJE JAVNIH VISOKIH UČILIŠTA - IZ EVIDENCIJSKIH PRIHODA","0942",731,{"v":1884,"d":"1,884"},{"v":2105,"d":"2,105"},null,{"$f":"IF(C58=\"\",\"\",'OPĆI DIO'!$C$1)","v":"1812 Sveučilište u Zagrebu FAKULTET PROMETNIH ZNANOSTI"},"329","32","51","94","3","",{"$nulls":3},3681,"Tekuće pomoći temeljem prijenosa EU sredstava",null,"36","368",null,"A580037","JAVNI MEĐUMJESNI PRIJEVOZ ZA UČENIKE","0922","Više srednjoškolsko obrazovanje","09","092"]
[{"$f":"IF(C59=\"\",\"\",VLOOKUP('OPĆI DIO'!$C$1,'OPĆI DIO'!$N$4:$W$137,10,FALSE))","v":"08006"},{"$f":"IF(C59=\"\",\"\",VLOOKUP('OPĆI DIO'!$C$1,'OPĆI DIO'!$N$4:$W$137,9,FALSE))","v":"Sveučilišta i veleučilišta u Republici Hrvatskoj"},51,51000,"51000 Programi Unije – raspoloživ predujam",3431,"Bankarske usluge i usluge platnog prometa","A679135","PROGRAMSKO I OSTALO FINANCIRANJE JAVNIH VISOKIH UČILIŠTA - IZ EVIDENCIJSKIH PRIHODA","0942",73,188,210,null,{"$f":"IF(C59=\"\",\"\",'OPĆI DIO'!$C$1)","v":"1812 Sveučilište u Zagrebu FAKULTET PROMETNIH ZNANOSTI"},"343","34","51","94","3","",{"$nulls":3},3682,"Kapitalne pomoći temeljem prijenosa EU sredstava",null,"36","368",null,"A580044","RAZVOJ SUSTAVA SREDNJOŠKOLSKOG ODGOJA I OBRAZOVANJA","0922","Više srednjoškolsko obrazovanje","09","092"]
[{"$f":"IF(C60=\"\",\"\",VLOOKUP('OPĆI DIO'!$C$1,'OPĆI DIO'!$N$4:$W$137,10,FALSE))","v":"08006"},{"$f":"IF(C60=\"\",\"\",VLOOKUP('OPĆI DIO'!$C$1,'OPĆI DIO'!$N$4:$W$137,9,FALSE))","v":"Sveučilišta i veleučilišta u Republici Hrvatskoj"},51,51000,"51000 Programi Unije – raspoloživ predujam",3299,"Ostali nespomenuti rashodi poslovanja","A679135","PROGRAMSKO I OSTALO FINANCIRANJE JAVNIH VISOKIH UČILIŠTA - IZ EVIDENCIJSKIH PRIHODA","0942",{"v":3425,"d":"3,425"},{"v":8828,"d":"8,828"},{"v":9862,"d":"9,862"},null,{"$f":"IF(C60=\"\",\"\",'OPĆI DIO'!$C$1)","v":"1812 Sveučilište u Zagrebu FAKULTET PROMETNIH ZNANOSTI"},"329","32","51","94","3","",{"$nulls":3},3691,"Tekući prijenosi između proračunskih korisnika istog proraču",null,"36","369",null,"A580046","ADMINISTRACIJA I UPRAVLJANJE NACIONALNOG CENTRA ZA VANJSKO VREDNOVANJE OBRAZOVANJA","0970","Istraživanje i razvoj obrazovanja","09","097"]
[{"$f":"IF(C61=\"\",\"\",VLOOKUP('OPĆI DIO'!$C$1,'OPĆI DIO'!$N$4:$W$137,10,FALSE))","v":"08006"},{"$f":"IF(C61=\"\",\"\",VLOOKUP('OPĆI DIO'!$C$1,'OPĆI DIO'!$N$4:$W$137,9,FALSE))","v":"Sveučilišta i veleučilišta u Republici Hrvatskoj"},51,51000,"51000 Programi Unije – raspoloživ predujam",4221,"Uredska oprema i namještaj","A679135","PROGRAMSKO I OSTALO FINANCIRANJE JAVNIH VISOKIH UČILIŠTA - IZ EVIDENCIJSKIH PRIHODA","0942",731,{"v":1884,"d":"1,884"},{"v":2105,"d":"2,105"},null,{"$f":"IF(C61=\"\",\"\",'OPĆI DIO'!$C$1)","v":"1812 Sveučilište u Zagrebu FAKULTET PROMETNIH ZNANOSTI"},"422","42","51","94","4","",{"$nulls":3},3692,"Kapitalni prijenosi između proračunskih korisnika istog pror",null,"36","369",null,"A580072","ERASMUS PLUS - PROJEKTI","0970","Istraživanje i razvoj obrazovanja","09","097"]
[{"$f":"IF(C62=\"\",\"\",VLOOKUP('OPĆI DIO'!$C$1,'OPĆI DIO'!$N$4:$W$137,10,FALSE))","v":"08006"},{"$f":"IF(C62=\"\",\"\",VLOOKUP('OPĆI DIO'!$C$1,'OPĆI DIO'!$N$4:$W$137,9,FALSE))","v":"Sveučilišta i veleučilišta u Republici Hrvatskoj"},51,51000,"51000 Programi Unije – raspoloživ predujam",3214,"Ostale naknade troškova zaposlenima","A679135","PROGRAMSKO I OSTALO FINANCIRANJE JAVNIH VISOKIH UČILIŠTA - IZ EVIDENCIJSKIH PRIHODA","0942",731,{"v":1884,"d":"1,884"},{"v":2105,"d":"2,105"},null,{"$f":"IF(C62=\"\",\"\",'OPĆI DIO'!$C$1)","v":"1812 Sveučilište u Zagrebu FAKULTET PROMETNIH ZNANOSTI"},"321","32","51","94","3","",{"$nulls":3},3693,"Tekući prijenosi između proračunskih korisnika istog proraču",null,"36","369",null,"A589088","ADMINISTRACIJA I UPRAVLJANJE AGENCIJE ZA MOBILNOST I EU PROGRAME","0970","Istraživanje i razvoj obrazovanja","09","097"]
[{"$f":"IF(C63=\"\",\"\",VLOOKUP('OPĆI DIO'!$C$1,'OPĆI DIO'!$N$4:$W$137,10,FALSE))","v":"08006"},{"$f":"IF(C63=\"\",\"\",VLOOKUP('OPĆI DIO'!$C$1,'OPĆI DIO'!$N$4:$W$137,9,FALSE))","v":"Sveučilišta i veleučilišta u Republici Hrvatskoj"},51,51000,"51000 Programi Unije – raspoloživ predujam",3294,"Članarine i norme","A679135","PROGRAMSKO I OSTALO FINANCIRANJE JAVNIH VISOKIH UČILIŠTA - IZ EVIDENCIJSKIH PRIHODA","0942",731,{"v":1884,"d":"1,884"},{"v":2105,"d":"2,105"},null,{"$f":"IF(C63=\"\",\"\",'OPĆI DIO'!$C$1)","v":"1812 Sveučilište u Zagrebu FAKULTET PROMETNIH ZNANOSTI"},"329","32","51","94","3","",{"$nulls":3},3694,"Kapitalni prijenosi između proračunskih korisnika istog pror",null,"36","369",null,"A589091","PROVEDBA MREŽNIH PROJEKATA FINANCIRANIH IZ OKVIRNIH PROGRAMA EU-A","0970","Istraživanje i razvoj obrazovanja","09","097"]
[{"$f":"IF(C64=\"\",\"\",VLOOKUP('OPĆI DIO'!$C$1,'OPĆI DIO'!$N$4:$W$137,10,FALSE))","v":"08006"},{"$f":"IF(C64=\"\",\"\",VLOOKUP('OPĆI DIO'!$C$1,'OPĆI DIO'!$N$4:$W$137,9,FALSE))","v":"Sveučilišta i veleučilišta u Republici Hrvatskoj"},51,51000,"51000 Programi Unije – raspoloživ predujam",3299,"Ostali nespomenuti rashodi poslovanja","A679135","PROGRAMSKO I OSTALO FINANCIRANJE JAVNIH VISOKIH UČILIŠTA - IZ EVIDENCIJSKIH PRIHODA","0942",{"v":15300,"d":"15,300"},{"v":39441,"d":"39,441"},{"v":44062,"d":"44,062"},null,{"$f":"IF(C64=\"\",\"\",'OPĆI DIO'!$C$1)","v":"1812 Sveučilište u Zagrebu FAKULTET PROMETNIH ZNANOSTI"},"329","32","51","94","3","",{"$nulls":3},3711,"Naknade građ. i kuć. u novcu-neposr. ili putem ust.izvan js",null,"37","371",null,"A621021","SMJEŠTAJ I PREHRANA STUDENATA STUDENTSKOG CENTRA ZAGREB - SUFINANCIRANJE","0960","Dodatne usluge u obrazovanju","09","096"]
[{"$f":"IF(C65=\"\",\"\",VLOOKUP('OPĆI DIO'!$C$1,'OPĆI DIO'!$N$4:$W$137,10,FALSE))","v":"08006"},{"$f":"IF(C65=\"\",\"\",VLOOKUP('OPĆI DIO'!$C$1,'OPĆI DIO'!$N$4:$W$137,9,FALSE))","v":"Sveučilišta i veleučilišta u Republici Hrvatskoj"},51,51000,"51000 Programi Unije – raspoloživ predujam",4222,"Komunikacijska oprema","A679135","PROGRAMSKO I OSTALO FINANCIRANJE JAVNIH VISOKIH UČILIŠTA - IZ EVIDENCIJSKIH PRIHODA","0942",730,{"v":1884,"d":"1,884"},{"v":2105,"d":"2,105"},null,{"$f":"IF(C65=\"\",\"\",'OPĆI DIO'!$C$1)","v":"1812 Sveučilište u Zagrebu FAKULTET PROMETNIH ZNANOSTI"},"422","42","51","94","4","",{"$nulls":3},3712,"Naknade građ. i kuć. u naravi-neposr. ili putem ust.izvan js",null,"37","371",null,"A621022","SMJEŠTAJ I PREHRANA STUDENATA STUDENTSKOG CENTRA OSIJEK - SUFINANCIRANJE","0960","Dodatne usluge u obrazovanju","09","096"]
[{"$f":"IF(C66=\"\",\"\",VLOOKUP('OPĆI DIO'!$C$1,'OPĆI DIO'!$N$4:$W$137,10,FALSE))","v":"08006"},{"$f":"IF(C66=\"\",\"\",VLOOKUP('OPĆI DIO'!$C$1,'OPĆI DIO'!$N$4:$W$137,9,FALSE))","v":"Sveučilišta i veleučilišta u Republici Hrvatskoj"},51,51000,"51000 Programi Unije – raspoloživ predujam",3111,"Plaće za redovan rad","A679135","PROGRAMSKO I OSTALO FINANCIRANJE JAVNIH VISOKIH UČILIŠTA - IZ EVIDENCIJSKIH PRIHODA","0942",{"v":146163,"d":"146,163"},{"v":376779,"d":"376,779"},{"v":420932,"d":"420,932"},null,{"$f":"IF(C66=\"\",\"\",'OPĆI DIO'!$C$1)","v":"1812 Sveučilište u Zagrebu FAKULTET PROMETNIH ZNANOSTI"},"311","31","51","94","3","",{"$nulls":3},3713,"Naknade građanima i kućanstvima u novcu - putem ustanova u j",null,"37","371",null,"A621023","SMJEŠTAJ I PREHRANA STUDENATA STUDENTSKOG CENTRA RIJEKA - SUFINANCIRANJE","0960","Dodatne usluge u obrazovanju","09","096"]
[{"$f":"IF(C67=\"\",\"\",VLOOKUP('OPĆI DIO'!$C$1,'OPĆI DIO'!$N$4:$W$137,10,FALSE))","v":"08006"},{"$f":"IF(C67=\"\",\"\",VLOOKUP('OPĆI DIO'!$C$1,'OPĆI DIO'!$N$4:$W$137,9,FALSE))","v":"Sveučilišta i veleučilišta u Republici Hrvatskoj"},51,51000,"51000 Programi Unije – raspoloživ predujam",3121,{"$f":"IFERROR(VLOOKUP(F67,$Y$5:$AA$129,2,FALSE),\"\")","v":"Ostali rashodi za zaposlene"},"A679135",{"$f":"IFERROR(VLOOKUP(H67,$AE$6:$AF$353,2,FALSE),\"\")","v":"PROGRAMSKO I OSTALO FINANCIRANJE JAVNIH VISOKIH UČILIŠTA - IZ EVIDENCIJSKIH PRIHODA"},{"$f":"IFERROR(VLOOKUP(H67,$AE$6:$AI$353,3,FALSE),\"\")","v":"0942"},{"v":7308,"d":"7,308"},{"v":18839,"d":"18,839"},{"v":21047,"d":"21,047"},null,{"$f":"IF(C67=\"\",\"\",'OPĆI DIO'!$C$1)","v":"1812 Sveučilište u Zagrebu FAKULTET PROMETNIH ZNANOSTI"},"312","31","51","94","3","",{"$nulls":3},3714,"Naknade građanima i kućanstvima u naravi - putem ustanova u",null,"37","371",null,"A621024","SMJEŠTAJ I PREHRANA STUDENATA STUDENTSKOG CENTRA SPLIT - SUFINANCIRANJE","0960","Dodatne usluge u obrazovanju","09","096"]
[{"$f":"IF(C68=\"\",\"\",VLOOKUP('OPĆI DIO'!$C$1,'OPĆI DIO'!$N$4:$W$137,10,FALSE))","v":"08006"},{"$f":"IF(C68=\"\",\"\",VLOOKUP('OPĆI DIO'!$C$1,'OPĆI DIO'!$N$4:$W$137,9,FALSE))","v":"Sveučilišta i veleučilišta u Republici Hrvatskoj"},{"$f":"IFERROR(VLOOKUP(D68,$V$6:$X$34,3,FALSE),\"\")","v":51},51000,{"$f":"IFERROR(VLOOKUP(D68,$V$6:$W$34,2,FALSE),\"\")","v":"51000 Programi Unije – raspoloživ predujam"},3132,"Doprinosi za obvezno zdravstveno osiguranje","A679135","PROGRAMSKO I OSTALO FINANCIRANJE JAVNIH VISOKIH UČILIŠTA - IZ EVIDENCIJSKIH PRIHODA","0942",{"v":24117,"d":"24,117"},{"v":62168,"d":"62,168"},{"v":69454,"d":"69,454"},null,{"$f":"IF(C68=\"\",\"\",'OPĆI DIO'!$C$1)","v":"1812 Sveučilište u Zagrebu FAKULTET PROMETNIH ZNANOSTI"},{"$f":"LEFT(F68,3)","v":"313"},{"$f":"LEFT(F68,2)","v":"31"},{"$f":"LEFT(C68,3)","v":"51"},{"$f":"MID(J68,2,2)","v":"94"},{"$f":"LEFT(F68,1)","v":"3"},{"$f":"IFERROR(VLOOKUP(C68,$V$6:$X$34,3,FALSE),\"\")","v":""},{"$nulls":3},3715,"Naknade građanima i kućanstvima na temelju osiguranja iz EU",null,"37","371",null,"A621026","SMJEŠTAJ I PREHRANA STUDENATA STUDENTSKOG CENTRA ŠIBENIK - SUFINANCIRANJE","0960","Dodatne usluge u obrazovanju","09","096"]
[{"$f":"IF(C69=\"\",\"\",VLOOKUP('OPĆI DIO'!$C$1,'OPĆI DIO'!$N$4:$W$137,10,FALSE))","v":""},{"$f":"IF(C69=\"\",\"\",VLOOKUP('OPĆI DIO'!$C$1,'OPĆI DIO'!$N$4:$W$137,9,FALSE))","v":""},"",null,"",null,"",null,"","",{"$nulls":4},{"$f":"IF(C69=\"\",\"\",'OPĆI DIO'!$C$1)","v":""},"","","","","","",{"$nulls":3},3721,"Naknade građanima i kućanstvima u novcu",null,"37","372",null,"A621028","SMJEŠTAJ I PREHRANA STUDENATA STUDENTSKOG CENTRA VARAŽDIN - SUFINANCIRANJE","0960","Dodatne usluge u obrazovanju","09","096"]
[{"$f":"IF(C70=\"\",\"\",VLOOKUP('OPĆI DIO'!$C$1,'OPĆI DIO'!$N$4:$W$137,10,FALSE))","v":""},{"$f":"IF(C70=\"\",\"\",VLOOKUP('OPĆI DIO'!$C$1,'OPĆI DIO'!$N$4:$W$137,9,FALSE))","v":""},"",null,"",null,{"$f":"IFERROR(VLOOKUP(#REF!,$Y$5:$AA$129,2,FALSE),\"\")","v":""},null,"","",{"$nulls":4},{"$f":"IF(C70=\"\",\"\",'OPĆI DIO'!$C$1)","v":""},{"$f":"LEFT(#REF!,3)","v":{"$error":"#REF!"}},{"$f":"LEFT(#REF!,2)","v":{"$error":"#REF!"}},"","",{"$f":"LEFT(#REF!,1)","v":{"$error":"#REF!"}},"",{"$nulls":3},3722,"Naknade građanima i kućanstvima u naravi",null,"37","372",null,"A621029","SMJEŠTAJ I PREHRANA STUDENATA STUDENTSKOG CENTRA SLAVONSKI BROD - SUFINANCIRANJE","0960","Dodatne usluge u obrazovanju","09","096"]
[{"$f":"IF(C71=\"\",\"\",VLOOKUP('OPĆI DIO'!$C$1,'OPĆI DIO'!$N$4:$W$137,10,FALSE))","v":""},{"$f":"IF(C71=\"\",\"\",VLOOKUP('OPĆI DIO'!$C$1,'OPĆI DIO'!$N$4:$W$137,9,FALSE))","v":""},"",null,"",null,{"$f":"IFERROR(VLOOKUP(F70,$Y$5:$AA$129,2,FALSE),\"\")","v":""},null,"","",{"$nulls":4},{"$f":"IF(C71=\"\",\"\",'OPĆI DIO'!$C$1)","v":""},{"$f":"LEFT(F70,3)","v":""},{"$f":"LEFT(F70,2)","v":""},"","",{"$f":"LEFT(F70,1)","v":""},"",{"$nulls":3},3723,"Naknade građanima i kućanstvima iz EU sredstava",null,"37","372",null,"A621030","SMJEŠTAJ I PREHRANA STUDENATA STUDENTSKOG CENTRA POŽEGA - SUFINANCIRANJE","0960","Dodatne usluge u obrazovanju",{"$f":"LEFT(AG71,2)","v":"09"},{"$f":"LEFT(AG71,3)","v":"096"}]
[{"$f":"IF(C72=\"\",\"\",VLOOKUP('OPĆI DIO'!$C$1,'OPĆI DIO'!$N$4:$W$137,10,FALSE))","v":"08006"},{"$f":"IF(C72=\"\",\"\",VLOOKUP('OPĆI DIO'!$C$1,'OPĆI DIO'!$N$4:$W$137,9,FALSE))","v":"Sveučilišta i veleučilišta u Republici Hrvatskoj"},31,31,"Vlastiti prihodi",3111,"Plaće za redovan rad","A679135","PROGRAMSKO I OSTALO FINANCIRANJE JAVNIH VISOKIH UČILIŠTA - IZ EVIDENCIJSKIH PRIHODA","0942",{"v":1022017,"d":"1,022,017"},{"v":1050486,"d":"1,050,486"},{"v":1078954,"d":"1,078,954"},null,{"$f":"IF(C72=\"\",\"\",'OPĆI DIO'!$C$1)","v":"1812 Sveučilište u Zagrebu FAKULTET PROMETNIH ZNANOSTI"},"311","31","31","94","3",31,{"$nulls":3},3811,"Tekuće donacije u novcu",null,"38","381",null,"A621031","SMJEŠTAJ I PREHRANA STUDENATA STUDENTSKOG CENTRA KARLOVAC - SUFINANCIRANJE","0960","Dodatne usluge u obrazovanju","09","096"]
[{"$f":"IF(C73=\"\",\"\",VLOOKUP('OPĆI DIO'!$C$1,'OPĆI DIO'!$N$4:$W$137,10,FALSE))","v":"08006"},{"$f":"IF(C73=\"\",\"\",VLOOKUP('OPĆI DIO'!$C$1,'OPĆI DIO'!$N$4:$W$137,9,FALSE))","v":"Sveučilišta i veleučilišta u Republici Hrvatskoj"},31,31,"Vlastiti prihodi",3121,"Ostali rashodi za zaposlene","A679135","PROGRAMSKO I OSTALO FINANCIRANJE JAVNIH VISOKIH UČILIŠTA - IZ EVIDENCIJSKIH PRIHODA","0942",{"v":113545,"d":"113,545"},{"v":116708,"d":"116,708"},{"v":119871,"d":"119,871"},null,{"$f":"IF(C73=\"\",\"\",'OPĆI DIO'!$C$1)","v":"1812 Sveučilište u Zagrebu FAKULTET PROMETNIH ZNANOSTI"},"312","31","31","94","3",31,{"$nulls":3},3812,"Tekuće donacije u naravi",null,"38","381",null,"A621047","DRŽAVNE, AKADEMSKE NAGRADE I POTPORE U ZNANOSTI I VISOKOM ŠKOLSTVU","0942","Drugi stupanj visoke naobrazbe","09","094"]
[{"$f":"IF(C74=\"\",\"\",VLOOKUP('OPĆI DIO'!$C$1,'OPĆI DIO'!$N$4:$W$137,10,FALSE))","v":"08006"},{"$f":"IF(C74=\"\",\"\",VLOOKUP('OPĆI DIO'!$C$1,'OPĆI DIO'!$N$4:$W$137,9,FALSE))","v":"Sveučilišta i veleučilišta u Republici Hrvatskoj"},31,31,"Vlastiti prihodi",3132,"Doprinosi za obvezno zdravstveno osiguranje","A679135","PROGRAMSKO I OSTALO FINANCIRANJE JAVNIH VISOKIH UČILIŠTA - IZ EVIDENCIJSKIH PRIHODA","0942",{"v":65820,"d":"65,820"},{"v":67653,"d":"67,653"},{"v":69487,"d":"69,487"},null,{"$f":"IF(C74=\"\",\"\",'OPĆI DIO'!$C$1)","v":"1812 Sveučilište u Zagrebu FAKULTET PROMETNIH ZNANOSTI"},"313","31","31","94","3",31,{"$nulls":3},3813,"Tekuće donacije iz EU sredstava",null,{"$f":"LEFT(Y74,2)","v":"38"},{"$f":"LEFT(Y74,3)","v":"381"},null,"A621048","PROJEKTNO FINANCIRANJE ZNANSTVENE DJELATNOSTI","0150","Istraživanje i razvoj: Opće javne usluge","01","015"]
[{"$f":"IF(C75=\"\",\"\",VLOOKUP('OPĆI DIO'!$C$1,'OPĆI DIO'!$N$4:$W$137,10,FALSE))","v":"08006"},{"$f":"IF(C75=\"\",\"\",VLOOKUP('OPĆI DIO'!$C$1,'OPĆI DIO'!$N$4:$W$137,9,FALSE))","v":"Sveučilišta i veleučilišta u Republici Hrvatskoj"},31,31,"Vlastiti prihodi",3211,"Službena putovanja","A679135","PROGRAMSKO I OSTALO FINANCIRANJE JAVNIH VISOKIH UČILIŠTA - IZ EVIDENCIJSKIH PRIHODA","0942",{"v":106509,"d":"106,509"},{"v":109475,"d":"109,475"},{"v":112442,"d":"112,442"},null,{"$f":"IF(C75=\"\",\"\",'OPĆI DIO'!$C$1)","v":"1812 Sveučilište u Zagrebu FAKULTET PROMETNIH ZNANOSTI"},"321","32","31","94","3",31,{"$nulls":3},3821,"Kapitalne donacije neprofitnim organizacijama",null,"38","382",null,"A621049","KAMATE ZA STANOVE ZNANSTVENIH NOVAKA I ASISTENATA","0942","Drugi stupanj visoke naobrazbe","09","094"]
[{"$f":"IF(C76=\"\",\"\",VLOOKUP('OPĆI DIO'!$C$1,'OPĆI DIO'!$N$4:$W$137,10,FALSE))","v":"08006"},{"$f":"IF(C76=\"\",\"\",VLOOKUP('OPĆI DIO'!$C$1,'OPĆI DIO'!$N$4:$W$137,9,FALSE))","v":"Sveučilišta i veleučilišta u Republici Hrvatskoj"},31,31,"Vlastiti prihodi",3212,"Naknade za prijevoz, za rad na terenu i odvojeni život","A679135","PROGRAMSKO I OSTALO FINANCIRANJE JAVNIH VISOKIH UČILIŠTA - IZ EVIDENCIJSKIH PRIHODA","0942",{"v":6984,"d":"6,984"},{"v":7179,"d":"7,179"},{"v":7373,"d":"7,373"},null,{"$f":"IF(C76=\"\",\"\",'OPĆI DIO'!$C$1)","v":"1812 Sveučilište u Zagrebu FAKULTET PROMETNIH ZNANOSTI"},"321","32","31","94","3",31,{"$nulls":3},3831,"Naknade šteta pravnim i fizičkim osobama",null,"38","383",null,"A621058","PROGRAMI POBOLJŠANJA STUDENTSKOG STANDARDA","0960","Dodatne usluge u obrazovanju","09","096"]
[{"$f":"IF(C77=\"\",\"\",VLOOKUP('OPĆI DIO'!$C$1,'OPĆI DIO'!$N$4:$W$137,10,FALSE))","v":"08006"},{"$f":"IF(C77=\"\",\"\",VLOOKUP('OPĆI DIO'!$C$1,'OPĆI DIO'!$N$4:$W$137,9,FALSE))","v":"Sveučilišta i veleučilišta u Republici Hrvatskoj"},31,31,"Vlastiti prihodi",3213,"Stručno usavršavanje zaposlenika","A679135","PROGRAMSKO I OSTALO FINANCIRANJE JAVNIH VISOKIH UČILIŠTA - IZ EVIDENCIJSKIH PRIHODA","0942",{"v":108144,"d":"108,144"},{"v":111156,"d":"111,156"},{"v":114169,"d":"114,169"},null,{"$f":"IF(C77=\"\",\"\",'OPĆI DIO'!$C$1)","v":"1812 Sveučilište u Zagrebu FAKULTET PROMETNIH ZNANOSTI"},"321","32","31","94","3",31,{"$nulls":3},3832,"Penali, ležarine i drugo",null,"38","383",null,"A621155","ADMINISTRACIJA I UPRAVLJANJE AGENCIJE ZA ZNANOST I VISOKO OBRAZOVANJE","0942","Drugi stupanj visoke naobrazbe","09","094"]
[{"$f":"IF(C78=\"\",\"\",VLOOKUP('OPĆI DIO'!$C$1,'OPĆI DIO'!$N$4:$W$137,10,FALSE))","v":"08006"},{"$f":"IF(C78=\"\",\"\",VLOOKUP('OPĆI DIO'!$C$1,'OPĆI DIO'!$N$4:$W$137,9,FALSE))","v":"Sveučilišta i veleučilišta u Republici Hrvatskoj"},31,31,"Vlastiti prihodi",3214,"Ostale naknade troškova zaposlenima","A679135","PROGRAMSKO I OSTALO FINANCIRANJE JAVNIH VISOKIH UČILIŠTA - IZ EVIDENCIJSKIH PRIHODA","0942",{"v":111111,"d":"111,111"},{"v":114206,"d":"114,206"},{"v":117301,"d":"117,301"},null,{"$f":"IF(C78=\"\",\"\",'OPĆI DIO'!$C$1)","v":"1812 Sveučilište u Zagrebu FAKULTET PROMETNIH ZNANOSTI"},"321","32","31","94","3",31,{"$nulls":3},3833,"Naknade šteta zaposlenicima",null,"38","383",null,"A621179","TROŠKOVI NACIONALNOG VIJEĆA ZA VISOKO OBRAZOVANJE, ZNANOST I TEHNOLOŠKI RAZVOJ","0150","Istraživanje i razvoj: Opće javne usluge","01","015"]
[{"$f":"IF(C79=\"\",\"\",VLOOKUP('OPĆI DIO'!$C$1,'OPĆI DIO'!$N$4:$W$137,10,FALSE))","v":"08006"},{"$f":"IF(C79=\"\",\"\",VLOOKUP('OPĆI DIO'!$C$1,'OPĆI DIO'!$N$4:$W$137,9,FALSE))","v":"Sveučilišta i veleučilišta u Republici Hrvatskoj"},31,31,"Vlastiti prihodi",3221,"Uredski materijal i ostali materijalni rashodi","A679135","PROGRAMSKO I OSTALO FINANCIRANJE JAVNIH VISOKIH UČILIŠTA - IZ EVIDENCIJSKIH PRIHODA","0942",{"v":69842,"d":"69,842"},{"v":71787,"d":"71,787"},{"v":73733,"d":"73,733"},null,{"$f":"IF(C79=\"\",\"\",'OPĆI DIO'!$C$1)","v":"1812 Sveučilište u Zagrebu FAKULTET PROMETNIH ZNANOSTI"},"322","32","31","94","3",31,{"$nulls":3},3834,"Ugovorene kazne i ostale naknade šteta",null,"38","383",null,"A621180","REKTORSKI ZBOR","0942","Drugi stupanj visoke naobrazbe","09","094"]
[{"$f":"IF(C80=\"\",\"\",VLOOKUP('OPĆI DIO'!$C$1,'OPĆI DIO'!$N$4:$W$137,10,FALSE))","v":"08006"},{"$f":"IF(C80=\"\",\"\",VLOOKUP('OPĆI DIO'!$C$1,'OPĆI DIO'!$N$4:$W$137,9,FALSE))","v":"Sveučilišta i veleučilišta u Republici Hrvatskoj"},31,31,"Vlastiti prihodi",3222,"Materijal i sirovine","A679135","PROGRAMSKO I OSTALO FINANCIRANJE JAVNIH VISOKIH UČILIŠTA - IZ EVIDENCIJSKIH PRIHODA","0942",{"v":7724,"d":"7,724"},{"v":7940,"d":"7,940"},{"v":8155,"d":"8,155"},null,{"$f":"IF(C80=\"\",\"\",'OPĆI DIO'!$C$1)","v":"1812 Sveučilište u Zagrebu FAKULTET PROMETNIH ZNANOSTI"},"322","32","31","94","3",31,{"$nulls":3},3835,"Ostale kazne",null,"38","383",null,"A621181","PRAVOMOĆNE SUDSKE PRESUDE","0942","Drugi stupanj visoke naobrazbe","09","094"]
[{"$f":"IF(C81=\"\",\"\",VLOOKUP('OPĆI DIO'!$C$1,'OPĆI DIO'!$N$4:$W$137,10,FALSE))","v":"08006"},{"$f":"IF(C81=\"\",\"\",VLOOKUP('OPĆI DIO'!$C$1,'OPĆI DIO'!$N$4:$W$137,9,FALSE))","v":"Sveučilišta i veleučilišta u Republici Hrvatskoj"},31,31,"Vlastiti prihodi",3223,"Energija","A679135","PROGRAMSKO I OSTALO FINANCIRANJE JAVNIH VISOKIH UČILIŠTA - IZ EVIDENCIJSKIH PRIHODA","0942",{"v":7724,"d":"7,724"},{"v":7940,"d":"7,940"},{"v":8155,"d":"8,155"},null,{"$f":"IF(C81=\"\",\"\",'OPĆI DIO'!$C$1)","v":"1812 Sveučilište u Zagrebu FAKULTET PROMETNIH ZNANOSTI"},"322","32","31","94","3",31,{"$nulls":3},3861,"Kapitalne pomoći kreditnim i ostalim financijskim institucijama te trgovačkim društvima u javnom sektoru",null,{"$f":"LEFT(Y81,2)","v":"38"},{"$f":"LEFT(Y81,3)","v":"386"},null,"A621182","ZBOR VELEUČILIŠTA","0942","Drugi stupanj visoke naobrazbe","09","094"]
[{"$f":"IF(C82=\"\",\"\",VLOOKUP('OPĆI DIO'!$C$1,'OPĆI DIO'!$N$4:$W$137,10,FALSE))","v":"08006"},{"$f":"IF(C82=\"\",\"\",VLOOKUP('OPĆI DIO'!$C$1,'OPĆI DIO'!$N$4:$W$137,9,FALSE))","v":"Sveučilišta i veleučilišta u Republici Hrvatskoj"},31,31,"Vlastiti prihodi",3224,"Materijal i dijelovi za tekuće i investicijsko održavanje","A679135","PROGRAMSKO I OSTALO FINANCIRANJE JAVNIH VISOKIH UČILIŠTA - IZ EVIDENCIJSKIH PRIHODA","0942",{"v":30898,"d":"30,898"},{"v":31759,"d":"31,759"},{"v":32619,"d":"32,619"},null,{"$f":"IF(C82=\"\",\"\",'OPĆI DIO'!$C$1)","v":"1812 Sveučilište u Zagrebu FAKULTET PROMETNIH ZNANOSTI"},"322","32","31","94","3",31,{"$nulls":3},3862,"Kapitalne pomoći kreditnim i ostalim financijskim institucijama te trgovačkim društvima i zadrugama izvan javnog sektora",null,{"$f":"LEFT(Y82,2)","v":"38"},{"$f":"LEFT(Y82,3)","v":"386"},null,"A621183","STIPENDIJE I ŠKOLARINE ZA DOKTORSKI STUDIJ","0942","Drugi stupanj visoke naobrazbe","09","094"]
[{"$f":"IF(C83=\"\",\"\",VLOOKUP('OPĆI DIO'!$C$1,'OPĆI DIO'!$N$4:$W$137,10,FALSE))","v":"08006"},{"$f":"IF(C83=\"\",\"\",VLOOKUP('OPĆI DIO'!$C$1,'OPĆI DIO'!$N$4:$W$137,9,FALSE))","v":"Sveučilišta i veleučilišta u Republici Hrvatskoj"},31,31,"Vlastiti prihodi",3225,"Sitni inventar i autogume","A679135","PROGRAMSKO I OSTALO FINANCIRANJE JAVNIH VISOKIH UČILIŠTA - IZ EVIDENCIJSKIH PRIHODA","0942",{"v":2114,"d":"2,114"},{"v":2173,"d":"2,173"},{"v":2232,"d":"2,232"},null,{"$f":"IF(C83=\"\",\"\",'OPĆI DIO'!$C$1)","v":"1812 Sveučilište u Zagrebu FAKULTET PROMETNIH ZNANOSTI"},"322","32","31","94","3",31,{"$nulls":3},3863,"Kapitalne pomoći poljoprivrednicima i obrtnicima",null,{"$f":"LEFT(Y83,2)","v":"38"},{"$f":"LEFT(Y83,3)","v":"386"},null,"A621185","POTPORA HRVATSKOM KATOLIČKOM SVEUČILIŠTU U ZAGREBU","0942","Drugi stupanj visoke naobrazbe","09","094"]
[{"$f":"IF(C84=\"\",\"\",VLOOKUP('OPĆI DIO'!$C$1,'OPĆI DIO'!$N$4:$W$137,10,FALSE))","v":"08006"},{"$f":"IF(C84=\"\",\"\",VLOOKUP('OPĆI DIO'!$C$1,'OPĆI DIO'!$N$4:$W$137,9,FALSE))","v":"Sveučilišta i veleučilišta u Republici Hrvatskoj"},31,31,"Vlastiti prihodi",3227,"Službena, radna i zaštitna odjeća i obuća","A679135","PROGRAMSKO I OSTALO FINANCIRANJE JAVNIH VISOKIH UČILIŠTA - IZ EVIDENCIJSKIH PRIHODA","0942",{"v":4656,"d":"4,656"},{"v":4786,"d":"4,786"},{"v":4916,"d":"4,916"},null,{"$f":"IF(C84=\"\",\"\",'OPĆI DIO'!$C$1)","v":"1812 Sveučilište u Zagrebu FAKULTET PROMETNIH ZNANOSTI"},"322","32","31","94","3",31,{"$nulls":3},3865,"Kapitalne pomoći trgovačkim društvima i obrtnicima po protestiranim jamstvima u tuzemstvu i inozemstvu",null,{"$f":"LEFT(Y84,2)","v":"38"},{"$f":"LEFT(Y84,3)","v":"386"},null,"A621186","VREDNOVANJE ZNANSTVENIH ORGANIZACIJA","0942","Drugi stupanj visoke naobrazbe","09","094"]
[{"$f":"IF(C85=\"\",\"\",VLOOKUP('OPĆI DIO'!$C$1,'OPĆI DIO'!$N$4:$W$137,10,FALSE))","v":"08006"},{"$f":"IF(C85=\"\",\"\",VLOOKUP('OPĆI DIO'!$C$1,'OPĆI DIO'!$N$4:$W$137,9,FALSE))","v":"Sveučilišta i veleučilišta u Republici Hrvatskoj"},31,31,"Vlastiti prihodi",3231,"Usluge telefona, interneta, pošte i prijevoza","A679135","PROGRAMSKO I OSTALO FINANCIRANJE JAVNIH VISOKIH UČILIŠTA - IZ EVIDENCIJSKIH PRIHODA","0942",{"v":58201,"d":"58,201"},{"v":59823,"d":"59,823"},{"v":61444,"d":"61,444"},null,{"$f":"IF(C85=\"\",\"\",'OPĆI DIO'!$C$1)","v":"1812 Sveučilište u Zagrebu FAKULTET PROMETNIH ZNANOSTI"},"323","32","31","94","3",31,{"$nulls":3},4111,"Zemljište",null,{"$f":"LEFT(Y85,2)","v":"41"},{"$f":"LEFT(Y85,3)","v":"411"},null,"A621187","VREDNOVANJE VISOKIH UČILIŠTA","0942","Drugi stupanj visoke naobrazbe","09","094"]
[{"$f":"IF(C86=\"\",\"\",VLOOKUP('OPĆI DIO'!$C$1,'OPĆI DIO'!$N$4:$W$137,10,FALSE))","v":"08006"},{"$f":"IF(C86=\"\",\"\",VLOOKUP('OPĆI DIO'!$C$1,'OPĆI DIO'!$N$4:$W$137,9,FALSE))","v":"Sveučilišta i veleučilišta u Republici Hrvatskoj"},31,31,"Vlastiti prihodi",3232,"Usluge tekućeg i investicijskog održavanja","A679135","PROGRAMSKO I OSTALO FINANCIRANJE JAVNIH VISOKIH UČILIŠTA - IZ EVIDENCIJSKIH PRIHODA","0942",{"v":108144,"d":"108,144"},{"v":111156,"d":"111,156"},{"v":114169,"d":"114,169"},null,{"$f":"IF(C86=\"\",\"\",'OPĆI DIO'!$C$1)","v":"1812 Sveučilište u Zagrebu FAKULTET PROMETNIH ZNANOSTI"},"323","32","31","94","3",31,{"$nulls":3},4113,"Ostala prirodna materijalna imovina",null,"41","411",null,"A621190","VANJSKA PROSUDBA SUSTAVA OSIGURANJA KVALITETE VISOKIH UČILIŠTA I ZNANSTVENIH ORGANIZACIJA (VP)","0942","Drugi stupanj visoke naobrazbe","09","094"]
[{"$f":"IF(C87=\"\",\"\",VLOOKUP('OPĆI DIO'!$C$1,'OPĆI DIO'!$N$4:$W$137,10,FALSE))","v":"08006"},{"$f":"IF(C87=\"\",\"\",VLOOKUP('OPĆI DIO'!$C$1,'OPĆI DIO'!$N$4:$W$137,9,FALSE))","v":"Sveučilišta i veleučilišta u Republici Hrvatskoj"},31,31,"Vlastiti prihodi",3233,"Usluge promidžbe i informiranja","A679135","PROGRAMSKO I OSTALO FINANCIRANJE JAVNIH VISOKIH UČILIŠTA - IZ EVIDENCIJSKIH PRIHODA","0942",{"v":69522,"d":"69,522"},{"v":71458,"d":"71,458"},{"v":73395,"d":"73,395"},null,{"$f":"IF(C87=\"\",\"\",'OPĆI DIO'!$C$1)","v":"1812 Sveučilište u Zagrebu FAKULTET PROMETNIH ZNANOSTI"},"323","32","31","94","3",31,{"$nulls":3},4122,"Koncesije",null,"41","412",null,"A621191","PRAĆENJE ZAPOŠLJAVANJA DIPLOMIRANIH STUDENATA","0942","Drugi stupanj visoke naobrazbe","09","094"]
[{"$f":"IF(C88=\"\",\"\",VLOOKUP('OPĆI DIO'!$C$1,'OPĆI DIO'!$N$4:$W$137,10,FALSE))","v":"08006"},{"$f":"IF(C88=\"\",\"\",VLOOKUP('OPĆI DIO'!$C$1,'OPĆI DIO'!$N$4:$W$137,9,FALSE))","v":"Sveučilišta i veleučilišta u Republici Hrvatskoj"},31,31,"Vlastiti prihodi",3234,"Komunalne usluge","A679135","PROGRAMSKO I OSTALO FINANCIRANJE JAVNIH VISOKIH UČILIŠTA - IZ EVIDENCIJSKIH PRIHODA","0942",{"v":116403,"d":"116,403"},{"v":119645,"d":"119,645"},{"v":122888,"d":"122,888"},null,{"$f":"IF(C88=\"\",\"\",'OPĆI DIO'!$C$1)","v":"1812 Sveučilište u Zagrebu FAKULTET PROMETNIH ZNANOSTI"},"323","32","31","94","3",31,{"$nulls":3},4123,"Licence",null,"41","412",null,"A621192","TROŠKOVI SREDIŠNJEG PRIJAVNOG UREDA","0942","Drugi stupanj visoke naobrazbe","09","094"]
[{"$f":"IF(C89=\"\",\"\",VLOOKUP('OPĆI DIO'!$C$1,'OPĆI DIO'!$N$4:$W$137,10,FALSE))","v":"08006"},{"$f":"IF(C89=\"\",\"\",VLOOKUP('OPĆI DIO'!$C$1,'OPĆI DIO'!$N$4:$W$137,9,FALSE))","v":"Sveučilišta i veleučilišta u Republici Hrvatskoj"},31,31,"Vlastiti prihodi",3235,"Zakupnine i najamnine","A679135","PROGRAMSKO I OSTALO FINANCIRANJE JAVNIH VISOKIH UČILIŠTA - IZ EVIDENCIJSKIH PRIHODA","0942",{"v":20083,"d":"20,083"},{"v":20642,"d":"20,642"},{"v":21202,"d":"21,202"},null,{"$f":"IF(C89=\"\",\"\",'OPĆI DIO'!$C$1)","v":"1812 Sveučilište u Zagrebu FAKULTET PROMETNIH ZNANOSTI"},"323","32","31","94","3",31,{"$nulls":3},4124,"Ostala prava",null,"41","412",null,"A622004","IZDAVANJE DOMAĆIH ZNANSTVENIH ČASOPISA","0150","Istraživanje i razvoj: Opće javne usluge","01","015"]
[{"$f":"IF(C90=\"\",\"\",VLOOKUP('OPĆI DIO'!$C$1,'OPĆI DIO'!$N$4:$W$137,10,FALSE))","v":"08006"},{"$f":"IF(C90=\"\",\"\",VLOOKUP('OPĆI DIO'!$C$1,'OPĆI DIO'!$N$4:$W$137,9,FALSE))","v":"Sveučilišta i veleučilišta u Republici Hrvatskoj"},31,31,"Vlastiti prihodi",3236,"Zdravstvene i veterinarske usluge","A679135","PROGRAMSKO I OSTALO FINANCIRANJE JAVNIH VISOKIH UČILIŠTA - IZ EVIDENCIJSKIH PRIHODA","0942",{"v":13904,"d":"13,904"},{"v":14292,"d":"14,292"},{"v":14679,"d":"14,679"},null,{"$f":"IF(C90=\"\",\"\",'OPĆI DIO'!$C$1)","v":"1812 Sveučilište u Zagrebu FAKULTET PROMETNIH ZNANOSTI"},"323","32","31","94","3",31,{"$nulls":3},4126,"Ostala nematerijalna imovina",null,"41","412",null,"A622005","ORGANIZIRANJE I ODRŽAVANJE ZNANSTVENIH SKUPOVA","0150","Istraživanje i razvoj: Opće javne usluge","01","015"]
[{"$f":"IF(C91=\"\",\"\",VLOOKUP('OPĆI DIO'!$C$1,'OPĆI DIO'!$N$4:$W$137,10,FALSE))","v":"08006"},{"$f":"IF(C91=\"\",\"\",VLOOKUP('OPĆI DIO'!$C$1,'OPĆI DIO'!$N$4:$W$137,9,FALSE))","v":"Sveučilišta i veleučilišta u Republici Hrvatskoj"},31,31,"Vlastiti prihodi",3237,"Intelektualne i osobne usluge","A679135","PROGRAMSKO I OSTALO FINANCIRANJE JAVNIH VISOKIH UČILIŠTA - IZ EVIDENCIJSKIH PRIHODA","0942",{"v":1158699,"d":"1,158,699"},{"v":1190974,"d":"1,190,974"},{"v":1223250,"d":"1,223,250"},null,{"$f":"IF(C91=\"\",\"\",'OPĆI DIO'!$C$1)","v":"1812 Sveučilište u Zagrebu FAKULTET PROMETNIH ZNANOSTI"},"323","32","31","94","3",31,{"$nulls":3},4211,"Stambeni objekti",null,"42","421",null,"A622006","IZDAVANJE  ZNANSTVENIH KNJIGA I UDŽBENIKA","0150","Istraživanje i razvoj: Opće javne usluge","01","015"]
[{"$f":"IF(C92=\"\",\"\",VLOOKUP('OPĆI DIO'!$C$1,'OPĆI DIO'!$N$4:$W$137,10,FALSE))","v":"08006"},{"$f":"IF(C92=\"\",\"\",VLOOKUP('OPĆI DIO'!$C$1,'OPĆI DIO'!$N$4:$W$137,9,FALSE))","v":"Sveučilišta i veleučilišta u Republici Hrvatskoj"},31,31,"Vlastiti prihodi",3238,"Računalne usluge","A679135","PROGRAMSKO I OSTALO FINANCIRANJE JAVNIH VISOKIH UČILIŠTA - IZ EVIDENCIJSKIH PRIHODA","0942",{"v":46561,"d":"46,561"},{"v":47858,"d":"47,858"},{"v":49155,"d":"49,155"},null,{"$f":"IF(C92=\"\",\"\",'OPĆI DIO'!$C$1)","v":"1812 Sveučilište u Zagrebu FAKULTET PROMETNIH ZNANOSTI"},"323","32","31","94","3",31,{"$nulls":3},4212,"Poslovni objekti",null,"42","421",null,"A622007","FINANCIJSKA POTPORA ZNANSTVENIM UDRUGAMA","0150","Istraživanje i razvoj: Opće javne usluge","01","015"]
[{"$f":"IF(C93=\"\",\"\",VLOOKUP('OPĆI DIO'!$C$1,'OPĆI DIO'!$N$4:$W$137,10,FALSE))","v":"08006"},{"$f":"IF(C93=\"\",\"\",VLOOKUP('OPĆI DIO'!$C$1,'OPĆI DIO'!$N$4:$W$137,9,FALSE))","v":"Sveučilišta i veleučilišta u Republici Hrvatskoj"},31,31,"Vlastiti prihodi",3239,"Ostale usluge","A679135","PROGRAMSKO I OSTALO FINANCIRANJE JAVNIH VISOKIH UČILIŠTA - IZ EVIDENCIJSKIH PRIHODA","0942",{"v":58201,"d":"58,201"},{"v":59823,"d":"59,823"},{"v":61444,"d":"61,444"},null,{"$f":"IF(C93=\"\",\"\",'OPĆI DIO'!$C$1)","v":"1812 Sveučilište u Zagrebu FAKULTET PROMETNIH ZNANOSTI"},"323","32","31","94","3",31,{"$nulls":3},4213,"Ceste, željeznice i ostali prometni objekti",null,"42","421",null,"A622011","REDOVNA DJELATNOST GEOLOŠKE SLUŽBE","0150","Istraživanje i razvoj: Opće javne usluge","01","015"]
[{"$f":"IF(C94=\"\",\"\",VLOOKUP('OPĆI DIO'!$C$1,'OPĆI DIO'!$N$4:$W$137,10,FALSE))","v":"08006"},{"$f":"IF(C94=\"\",\"\",VLOOKUP('OPĆI DIO'!$C$1,'OPĆI DIO'!$N$4:$W$137,9,FALSE))","v":"Sveučilišta i veleučilišta u Republici Hrvatskoj"},31,31,"Vlastiti prihodi",3241,"Naknade troškova osobama izvan radnog odnosa","A679135","PROGRAMSKO I OSTALO FINANCIRANJE JAVNIH VISOKIH UČILIŠTA - IZ EVIDENCIJSKIH PRIHODA","0942",{"v":3089,"d":"3,089"},{"v":3175,"d":"3,175"},{"v":3261,"d":"3,261"},null,{"$f":"IF(C94=\"\",\"\",'OPĆI DIO'!$C$1)","v":"1812 Sveučilište u Zagrebu FAKULTET PROMETNIH ZNANOSTI"},"324","32","31","94","3",31,{"$nulls":3},4214,"Ostali građevinski objekti",null,"42","421",null,"A622017","ADMINISTRACIJA I UPRAVLJANJE NACIONALNE SVEUČILIŠNE KNJIŽNICE","0820","Službe kulture","08","082"]
[{"$f":"IF(C95=\"\",\"\",VLOOKUP('OPĆI DIO'!$C$1,'OPĆI DIO'!$N$4:$W$137,10,FALSE))","v":"08006"},{"$f":"IF(C95=\"\",\"\",VLOOKUP('OPĆI DIO'!$C$1,'OPĆI DIO'!$N$4:$W$137,9,FALSE))","v":"Sveučilišta i veleučilišta u Republici Hrvatskoj"},31,31,"Vlastiti prihodi",3292,"Premije osiguranja","A679135","PROGRAMSKO I OSTALO FINANCIRANJE JAVNIH VISOKIH UČILIŠTA - IZ EVIDENCIJSKIH PRIHODA","0942",{"v":46347,"d":"46,347"},{"v":47638,"d":"47,638"},{"v":48929,"d":"48,929"},null,{"$f":"IF(C95=\"\",\"\",'OPĆI DIO'!$C$1)","v":"1812 Sveučilište u Zagrebu FAKULTET PROMETNIH ZNANOSTI"},"329","32","31","94","3",31,{"$nulls":3},4221,"Uredska oprema i namještaj",null,"42","422",null,"A622107","ADMINISTRACIJA I UPRAVLJANJE LEKSIKOGRAFSKOG ZAVODA MIROSLAV KRLEŽA","0150","Istraživanje i razvoj: Opće javne usluge","01","015"]
[{"$f":"IF(C96=\"\",\"\",VLOOKUP('OPĆI DIO'!$C$1,'OPĆI DIO'!$N$4:$W$137,10,FALSE))","v":"08006"},{"$f":"IF(C96=\"\",\"\",VLOOKUP('OPĆI DIO'!$C$1,'OPĆI DIO'!$N$4:$W$137,9,FALSE))","v":"Sveučilišta i veleučilišta u Republici Hrvatskoj"},31,31,"Vlastiti prihodi",3293,"Reprezentacija","A679135","PROGRAMSKO I OSTALO FINANCIRANJE JAVNIH VISOKIH UČILIŠTA - IZ EVIDENCIJSKIH PRIHODA","0942",{"v":116403,"d":"116,403"},{"v":119645,"d":"119,645"},{"v":122888,"d":"122,888"},null,{"$f":"IF(C96=\"\",\"\",'OPĆI DIO'!$C$1)","v":"1812 Sveučilište u Zagrebu FAKULTET PROMETNIH ZNANOSTI"},"329","32","31","94","3",31,{"$nulls":3},4222,"Komunikacijska oprema",null,"42","422",null,"A622120","PRAVOMOĆNE SUDSKE PRESUDE","0150","Istraživanje i razvoj: Opće javne usluge","01","015"]
[{"$f":"IF(C97=\"\",\"\",VLOOKUP('OPĆI DIO'!$C$1,'OPĆI DIO'!$N$4:$W$137,10,FALSE))","v":"08006"},{"$f":"IF(C97=\"\",\"\",VLOOKUP('OPĆI DIO'!$C$1,'OPĆI DIO'!$N$4:$W$137,9,FALSE))","v":"Sveučilišta i veleučilišta u Republici Hrvatskoj"},31,31,"Vlastiti prihodi",3294,"Članarine i norme","A679135","PROGRAMSKO I OSTALO FINANCIRANJE JAVNIH VISOKIH UČILIŠTA - IZ EVIDENCIJSKIH PRIHODA","0942",{"v":23173,"d":"23,173"},{"v":23819,"d":"23,819"},{"v":24464,"d":"24,464"},null,{"$f":"IF(C97=\"\",\"\",'OPĆI DIO'!$C$1)","v":"1812 Sveučilište u Zagrebu FAKULTET PROMETNIH ZNANOSTI"},"329","32","31","94","3",31,{"$nulls":3},4223,"Oprema za održavanje i zaštitu",null,"42","422",null,"A622131","NABAVA INOZEMNIH ZNANSTVENIH ČASOPISA","0820","Službe kulture","08","082"]
[{"$f":"IF(C98=\"\",\"\",VLOOKUP('OPĆI DIO'!$C$1,'OPĆI DIO'!$N$4:$W$137,10,FALSE))","v":"08006"},{"$f":"IF(C98=\"\",\"\",VLOOKUP('OPĆI DIO'!$C$1,'OPĆI DIO'!$N$4:$W$137,9,FALSE))","v":"Sveučilišta i veleučilišta u Republici Hrvatskoj"},31,31,"Vlastiti prihodi",3295,"Pristojbe i naknade","A679135","PROGRAMSKO I OSTALO FINANCIRANJE JAVNIH VISOKIH UČILIŠTA - IZ EVIDENCIJSKIH PRIHODA","0942",{"v":11640,"d":"11,640"},{"v":11965,"d":"11,965"},{"v":12289,"d":"12,289"},null,{"$f":"IF(C98=\"\",\"\",'OPĆI DIO'!$C$1)","v":"1812 Sveučilište u Zagrebu FAKULTET PROMETNIH ZNANOSTI"},"329","32","31","94","3",31,{"$nulls":3},4224,"Medicinska i laboratorijska oprema",null,"42","422",null,"A622134","ADMINISTRACIJA I UPRAVLJANJE NACIONALNE SVEUČILIŠNE KNJIŽNICE (IZ EVIDENCIJSKIH PRIHODA)","0820","Službe kulture","08","082"]
[{"$f":"IF(C99=\"\",\"\",VLOOKUP('OPĆI DIO'!$C$1,'OPĆI DIO'!$N$4:$W$137,10,FALSE))","v":"08006"},{"$f":"IF(C99=\"\",\"\",VLOOKUP('OPĆI DIO'!$C$1,'OPĆI DIO'!$N$4:$W$137,9,FALSE))","v":"Sveučilišta i veleučilišta u Republici Hrvatskoj"},31,31,"Vlastiti prihodi",3299,"Ostali nespomenuti rashodi poslovanja","A679135","PROGRAMSKO I OSTALO FINANCIRANJE JAVNIH VISOKIH UČILIŠTA - IZ EVIDENCIJSKIH PRIHODA","0942",{"v":15449,"d":"15,449"},{"v":15879,"d":"15,879"},{"v":16310,"d":"16,310"},null,{"$f":"IF(C99=\"\",\"\",'OPĆI DIO'!$C$1)","v":"1812 Sveučilište u Zagrebu FAKULTET PROMETNIH ZNANOSTI"},"329","32","31","94","3",31,{"$nulls":3},4225,"Instrumenti i uređaji",null,"42","422",null,"A622136","ADMINISTRACIJA I UPRAVLJANJE LEKSIKOGRAFSKOG ZAVODA MIROSLAV KRLEŽA (IZ EVIDENCIJSKIH PRIHODA)","0150","Istraživanje i razvoj: Opće javne usluge","01","015"]
[{"$f":"IF(C100=\"\",\"\",VLOOKUP('OPĆI DIO'!$C$1,'OPĆI DIO'!$N$4:$W$137,10,FALSE))","v":"08006"},{"$f":"IF(C100=\"\",\"\",VLOOKUP('OPĆI DIO'!$C$1,'OPĆI DIO'!$N$4:$W$137,9,FALSE))","v":"Sveučilišta i veleučilišta u Republici Hrvatskoj"},31,31,"Vlastiti prihodi",3431,"Bankarske usluge i usluge platnog prometa","A679135","PROGRAMSKO I OSTALO FINANCIRANJE JAVNIH VISOKIH UČILIŠTA - IZ EVIDENCIJSKIH PRIHODA","0942",{"v":17460,"d":"17,460"},{"v":17947,"d":"17,947"},{"v":18433,"d":"18,433"},null,{"$f":"IF(C100=\"\",\"\",'OPĆI DIO'!$C$1)","v":"1812 Sveučilište u Zagrebu FAKULTET PROMETNIH ZNANOSTI"},"343","34","31","94","3",31,{"$nulls":3},4226,"Sportska i glazbena oprema",null,"42","422",null,"A622145","PRAVOMOĆNE SUDSKE PRESUDE","0820","Službe kulture","08","082"]
[{"$f":"IF(C101=\"\",\"\",VLOOKUP('OPĆI DIO'!$C$1,'OPĆI DIO'!$N$4:$W$137,10,FALSE))","v":"08006"},{"$f":"IF(C101=\"\",\"\",VLOOKUP('OPĆI DIO'!$C$1,'OPĆI DIO'!$N$4:$W$137,9,FALSE))","v":"Sveučilišta i veleučilišta u Republici Hrvatskoj"},31,31,"Vlastiti prihodi",3434,"Ostali nespomenuti financijski rashodi","A679135","PROGRAMSKO I OSTALO FINANCIRANJE JAVNIH VISOKIH UČILIŠTA - IZ EVIDENCIJSKIH PRIHODA","0942",{"v":7724,"d":"7,724"},{"v":7940,"d":"7,940"},{"v":8155,"d":"8,155"},null,{"$f":"IF(C101=\"\",\"\",'OPĆI DIO'!$C$1)","v":"1812 Sveučilište u Zagrebu FAKULTET PROMETNIH ZNANOSTI"},"343","34","31","94","3",31,{"$nulls":3},4227,"Uređaji, strojevi i oprema za ostale namjene",null,"42","422",null,"A622146","PRAVOMOĆNE SUDSKE PRESUDE","0150","Istraživanje i razvoj: Opće javne usluge","01","015"]
[{"$f":"IF(C102=\"\",\"\",VLOOKUP('OPĆI DIO'!$C$1,'OPĆI DIO'!$N$4:$W$137,10,FALSE))","v":"08006"},{"$f":"IF(C102=\"\",\"\",VLOOKUP('OPĆI DIO'!$C$1,'OPĆI DIO'!$N$4:$W$137,9,FALSE))","v":"Sveučilišta i veleučilišta u Republici Hrvatskoj"},31,31,"Vlastiti prihodi",3721,"Naknade građanima i kućanstvima u novcu","A679135","PROGRAMSKO I OSTALO FINANCIRANJE JAVNIH VISOKIH UČILIŠTA - IZ EVIDENCIJSKIH PRIHODA","0942",{"v":1164,"d":"1,164"},{"v":1196,"d":"1,196"},{"v":1229,"d":"1,229"},null,{"$f":"IF(C102=\"\",\"\",'OPĆI DIO'!$C$1)","v":"1812 Sveučilište u Zagrebu FAKULTET PROMETNIH ZNANOSTI"},"372","37","31","94","3",31,{"$nulls":3},4231,"Prijevozna sredstva u cestovnom prometu",null,"42","423",null,"A622150","PROGRAMSKO FINANCIRANJE JAVNIH INSTITUTA","0150","Istraživanje i razvoj: Opće javne usluge","01","015"]
[{"$f":"IF(C103=\"\",\"\",VLOOKUP('OPĆI DIO'!$C$1,'OPĆI DIO'!$N$4:$W$137,10,FALSE))","v":"08006"},{"$f":"IF(C103=\"\",\"\",VLOOKUP('OPĆI DIO'!$C$1,'OPĆI DIO'!$N$4:$W$137,9,FALSE))","v":"Sveučilišta i veleučilišta u Republici Hrvatskoj"},31,31,"Vlastiti prihodi",4221,"Uredska oprema i namještaj","A679135","PROGRAMSKO I OSTALO FINANCIRANJE JAVNIH VISOKIH UČILIŠTA - IZ EVIDENCIJSKIH PRIHODA","0942",{"v":29105,"d":"29,105"},{"v":29912,"d":"29,912"},{"v":30720,"d":"30,720"},null,{"$f":"IF(C103=\"\",\"\",'OPĆI DIO'!$C$1)","v":"1812 Sveučilište u Zagrebu FAKULTET PROMETNIH ZNANOSTI"},"422","42","31","94","4",31,{"$nulls":3},4233,"Prijevozna sredstva u pomorskom i riječnom prometu",null,{"$f":"LEFT(Y103,2)","v":"42"},"423",null,"A622151","PROGRAMSKO I OSTALO FINANCIRANJE JAVNIH INSTITUTA – IZ EVIDENCIJSKIH PRIHODA","0150","Istraživanje i razvoj: Opće javne usluge","01","015"]
[{"$f":"IF(C104=\"\",\"\",VLOOKUP('OPĆI DIO'!$C$1,'OPĆI DIO'!$N$4:$W$137,10,FALSE))","v":"08006"},{"$f":"IF(C104=\"\",\"\",VLOOKUP('OPĆI DIO'!$C$1,'OPĆI DIO'!$N$4:$W$137,9,FALSE))","v":"Sveučilišta i veleučilišta u Republici Hrvatskoj"},31,31,"Vlastiti prihodi",4225,"Instrumenti i uređaji","A679135","PROGRAMSKO I OSTALO FINANCIRANJE JAVNIH VISOKIH UČILIŠTA - IZ EVIDENCIJSKIH PRIHODA","0942",{"v":11640,"d":"11,640"},{"v":11965,"d":"11,965"},{"v":12289,"d":"12,289"},null,{"$f":"IF(C104=\"\",\"\",'OPĆI DIO'!$C$1)","v":"1812 Sveučilište u Zagrebu FAKULTET PROMETNIH ZNANOSTI"},"422","42","31","94","4",31,{"$nulls":3},4241,"Knjige",null,"42","424",null,"A622152","PROGRAMSKO FINANCIRANJE JAVNIH INSTITUTA  - IZ STRUKTURNIH I INVESTICIJSKIH FONDOVA EU","0150","Istraživanje i razvoj: Opće javne usluge","01","015"]
[{"$f":"IF(C105=\"\",\"\",VLOOKUP('OPĆI DIO'!$C$1,'OPĆI DIO'!$N$4:$W$137,10,FALSE))","v":""},{"$f":"IF(C105=\"\",\"\",VLOOKUP('OPĆI DIO'!$C$1,'OPĆI DIO'!$N$4:$W$137,9,FALSE))","v":""},"",null,"",null,"",null,"","",{"$nulls":4},{"$f":"IF(C105=\"\",\"\",'OPĆI DIO'!$C$1)","v":""},"","","","","","",{"$nulls":3},4242,"Umjetnička djela (izložena u galerijama, muzejima i slično)",null,"42","424",null,"A628003","PROJEKTI PRIMJENE INFORMACIJSKE TEHNOLOGIJE","0150","Istraživanje i razvoj: Opće javne usluge","01","015"]
[{"$f":"IF(C106=\"\",\"\",VLOOKUP('OPĆI DIO'!$C$1,'OPĆI DIO'!$N$4:$W$137,10,FALSE))","v":"08006"},{"$f":"IF(C106=\"\",\"\",VLOOKUP('OPĆI DIO'!$C$1,'OPĆI DIO'!$N$4:$W$137,9,FALSE))","v":"Sveučilišta i veleučilišta u Republici Hrvatskoj"},43,43,"Ostali prihodi za posebne namjene",3213,"Stručno usavršavanje zaposlenika","A679135","PROGRAMSKO I OSTALO FINANCIRANJE JAVNIH VISOKIH UČILIŠTA - IZ EVIDENCIJSKIH PRIHODA","0942",{"v":11016,"d":"11,016"},{"v":11346,"d":"11,346"},{"v":11686,"d":"11,686"},null,{"$f":"IF(C106=\"\",\"\",'OPĆI DIO'!$C$1)","v":"1812 Sveučilište u Zagrebu FAKULTET PROMETNIH ZNANOSTI"},"321","32","43","94","3",43,{"$nulls":3},4244,"Ostale nespomenute izložbene vrijednosti",null,"42","424",null,"A628009","ADMINISTRACIJA I UPRAVLJANJE HRVATSKE AKADEMSKE I ISTRAŽIVAČKE MREŽE CARNET","0133","Ostale opće usluge","01","013"]
[{"$f":"IF(C107=\"\",\"\",VLOOKUP('OPĆI DIO'!$C$1,'OPĆI DIO'!$N$4:$W$137,10,FALSE))","v":"08006"},{"$f":"IF(C107=\"\",\"\",VLOOKUP('OPĆI DIO'!$C$1,'OPĆI DIO'!$N$4:$W$137,9,FALSE))","v":"Sveučilišta i veleučilišta u Republici Hrvatskoj"},43,43,"Ostali prihodi za posebne namjene",3214,"Ostale naknade troškova zaposlenima","A679135","PROGRAMSKO I OSTALO FINANCIRANJE JAVNIH VISOKIH UČILIŠTA - IZ EVIDENCIJSKIH PRIHODA","0942",{"v":1520,"d":"1,520"},{"v":1566,"d":"1,566"},{"v":1613,"d":"1,613"},null,{"$f":"IF(C107=\"\",\"\",'OPĆI DIO'!$C$1)","v":"1812 Sveučilište u Zagrebu FAKULTET PROMETNIH ZNANOSTI"},"321","32","43","94","3",43,{"$nulls":3},4251,"Višegodišnji nasadi",null,"42","425",null,"A628011","PROGRAM TELEKOMUNIKACIJSKIH KAPACITETA ZA MREŽU CARNET","0133","Ostale opće usluge","01","013"]
[{"$f":"IF(C108=\"\",\"\",VLOOKUP('OPĆI DIO'!$C$1,'OPĆI DIO'!$N$4:$W$137,10,FALSE))","v":"08006"},{"$f":"IF(C108=\"\",\"\",VLOOKUP('OPĆI DIO'!$C$1,'OPĆI DIO'!$N$4:$W$137,9,FALSE))","v":"Sveučilišta i veleučilišta u Republici Hrvatskoj"},43,43,"Ostali prihodi za posebne namjene",3221,"Uredski materijal i ostali materijalni rashodi","A679135","PROGRAMSKO I OSTALO FINANCIRANJE JAVNIH VISOKIH UČILIŠTA - IZ EVIDENCIJSKIH PRIHODA","0942",{"v":7601,"d":"7,601"},{"v":7829,"d":"7,829"},{"v":8064,"d":"8,064"},null,{"$f":"IF(C108=\"\",\"\",'OPĆI DIO'!$C$1)","v":"1812 Sveučilište u Zagrebu FAKULTET PROMETNIH ZNANOSTI"},"322","32","43","94","3",43,{"$nulls":3},4252,"Osnovno stado",null,"42","425",null,"A628015","UKLJUČIVANJE MREŽE CARNET U PAN-EUROPSKE AKADEMSKE I ISTRAŽIVAČKE MREŽE","0460","Komunikacije","04","046"]
[{"$f":"IF(C109=\"\",\"\",VLOOKUP('OPĆI DIO'!$C$1,'OPĆI DIO'!$N$4:$W$137,10,FALSE))","v":"08006"},{"$f":"IF(C109=\"\",\"\",VLOOKUP('OPĆI DIO'!$C$1,'OPĆI DIO'!$N$4:$W$137,9,FALSE))","v":"Sveučilišta i veleučilišta u Republici Hrvatskoj"},43,43,"Ostali prihodi za posebne namjene",3222,"Materijal i sirovine","A679135","PROGRAMSKO I OSTALO FINANCIRANJE JAVNIH VISOKIH UČILIŠTA - IZ EVIDENCIJSKIH PRIHODA","0942",{"v":7601,"d":"7,601"},{"v":7829,"d":"7,829"},{"v":8064,"d":"8,064"},null,{"$f":"IF(C109=\"\",\"\",'OPĆI DIO'!$C$1)","v":"1812 Sveučilište u Zagrebu FAKULTET PROMETNIH ZNANOSTI"},"322","32","43","94","3",43,{"$nulls":3},4262,"Ulaganja u računalne programe",null,"42","426",null,"A628018","ADMINISTRACIJA I UPRAVLJANJE SVEUČILIŠNOG RAČUNSKOG CENTRA SRCE","0133","Ostale opće usluge","01","013"]
[{"$f":"IF(C110=\"\",\"\",VLOOKUP('OPĆI DIO'!$C$1,'OPĆI DIO'!$N$4:$W$137,10,FALSE))","v":"08006"},{"$f":"IF(C110=\"\",\"\",VLOOKUP('OPĆI DIO'!$C$1,'OPĆI DIO'!$N$4:$W$137,9,FALSE))","v":"Sveučilišta i veleučilišta u Republici Hrvatskoj"},43,43,"Ostali prihodi za posebne namjene",3224,"Materijal i dijelovi za tekuće i investicijsko održavanje","A679135","PROGRAMSKO I OSTALO FINANCIRANJE JAVNIH VISOKIH UČILIŠTA - IZ EVIDENCIJSKIH PRIHODA","0942",{"v":51545,"d":"51,545"},{"v":53091,"d":"53,091"},{"v":54684,"d":"54,684"},null,{"$f":"IF(C110=\"\",\"\",'OPĆI DIO'!$C$1)","v":"1812 Sveučilište u Zagrebu FAKULTET PROMETNIH ZNANOSTI"},"322","32","43","94","3",43,{"$nulls":3},4263,"Umjetnička, literarna i znanstvena djela",null,"42","426",null,"A628068","SUDJELOVANJE NA IZGRADNJI, TESTIRANJU I RAZVOJU OKOSNICE PAN-EUROPSKE RAČUNALNO KOMUNIKACIJSKE MREŽE","0133","Ostale opće usluge","01","013"]
[{"$f":"IF(C111=\"\",\"\",VLOOKUP('OPĆI DIO'!$C$1,'OPĆI DIO'!$N$4:$W$137,10,FALSE))","v":"08006"},{"$f":"IF(C111=\"\",\"\",VLOOKUP('OPĆI DIO'!$C$1,'OPĆI DIO'!$N$4:$W$137,9,FALSE))","v":"Sveučilišta i veleučilišta u Republici Hrvatskoj"},43,43,"Ostali prihodi za posebne namjene",3227,"Službena, radna i zaštitna odjeća i obuća","A679135","PROGRAMSKO I OSTALO FINANCIRANJE JAVNIH VISOKIH UČILIŠTA - IZ EVIDENCIJSKIH PRIHODA","0942",{"v":7601,"d":"7,601"},{"v":7829,"d":"7,829"},{"v":8064,"d":"8,064"},null,{"$f":"IF(C111=\"\",\"\",'OPĆI DIO'!$C$1)","v":"1812 Sveučilište u Zagrebu FAKULTET PROMETNIH ZNANOSTI"},"322","32","43","94","3",43,{"$nulls":3},4264,"Ostala nematerijalna proizvedena imovina",null,"42","426",null,"A628070","PROGRAM OBJEDINJAVANJA I ODRŽAVANJA NACIONALNIH INFORMACIJSKIH SERVISA I E-ŠKOLA","0133","Ostale opće usluge","01","013"]
[{"$f":"IF(C112=\"\",\"\",VLOOKUP('OPĆI DIO'!$C$1,'OPĆI DIO'!$N$4:$W$137,10,FALSE))","v":"08006"},{"$f":"IF(C112=\"\",\"\",VLOOKUP('OPĆI DIO'!$C$1,'OPĆI DIO'!$N$4:$W$137,9,FALSE))","v":"Sveučilišta i veleučilišta u Republici Hrvatskoj"},43,43,"Ostali prihodi za posebne namjene",3231,"Usluge telefona, interneta, pošte i prijevoza","A679135","PROGRAMSKO I OSTALO FINANCIRANJE JAVNIH VISOKIH UČILIŠTA - IZ EVIDENCIJSKIH PRIHODA","0942",{"v":3748,"d":"3,748"},{"v":3860,"d":"3,860"},{"v":3976,"d":"3,976"},null,{"$f":"IF(C112=\"\",\"\",'OPĆI DIO'!$C$1)","v":"1812 Sveučilište u Zagrebu FAKULTET PROMETNIH ZNANOSTI"},"323","32","43","94","3",43,{"$nulls":3},4312,"Pohranjene knjige, umjetnička djela i slične vrijednosti",null,"43","431",null,"A628074","PROGRAMI ZAJEDNICE","0133","Ostale opće usluge","01","013"]
[{"$f":"IF(C113=\"\",\"\",VLOOKUP('OPĆI DIO'!$C$1,'OPĆI DIO'!$N$4:$W$137,10,FALSE))","v":"08006"},{"$f":"IF(C113=\"\",\"\",VLOOKUP('OPĆI DIO'!$C$1,'OPĆI DIO'!$N$4:$W$137,9,FALSE))","v":"Sveučilišta i veleučilišta u Republici Hrvatskoj"},43,43,"Ostali prihodi za posebne namjene",3232,"Usluge tekućeg i investicijskog održavanja","A679135","PROGRAMSKO I OSTALO FINANCIRANJE JAVNIH VISOKIH UČILIŠTA - IZ EVIDENCIJSKIH PRIHODA","0942",{"v":57272,"d":"57,272"},{"v":58990,"d":"58,990"},{"v":60760,"d":"60,760"},null,{"$f":"IF(C113=\"\",\"\",'OPĆI DIO'!$C$1)","v":"1812 Sveučilište u Zagrebu FAKULTET PROMETNIH ZNANOSTI"},"323","32","43","94","3",43,{"$nulls":3},4411,"Strateške zalihe",null,"44","441",null,"A628084","ADMINISTRACIJA I UPRAVLJANJE SVEUČILIŠNOG RAČUNSKOG CENTRA SRCE  (IZ EVIDENCIJSKIH PRIHODA)","0133","Ostale opće usluge","01","013"]
[{"$f":"IF(C114=\"\",\"\",VLOOKUP('OPĆI DIO'!$C$1,'OPĆI DIO'!$N$4:$W$137,10,FALSE))","v":"08006"},{"$f":"IF(C114=\"\",\"\",VLOOKUP('OPĆI DIO'!$C$1,'OPĆI DIO'!$N$4:$W$137,9,FALSE))","v":"Sveučilišta i veleučilišta u Republici Hrvatskoj"},43,43,"Ostali prihodi za posebne namjene",3233,"Usluge promidžbe i informiranja","A679135","PROGRAMSKO I OSTALO FINANCIRANJE JAVNIH VISOKIH UČILIŠTA - IZ EVIDENCIJSKIH PRIHODA","0942",{"v":15202,"d":"15,202"},{"v":15658,"d":"15,658"},{"v":16128,"d":"16,128"},null,{"$f":"IF(C114=\"\",\"\",'OPĆI DIO'!$C$1)","v":"1812 Sveučilište u Zagrebu FAKULTET PROMETNIH ZNANOSTI"},"323","32","43","94","3",43,{"$nulls":3},4511,"Dodatna ulaganja na građevinskim objektima",null,"45","451",null,"A628090","UNAPRJEĐENJE JEDNAKIH MOGUĆNOSTI U OBRAZOVANJU ZA UČENIKE S TEŠKOĆAMA U RAZVOJU","0133","Ostale opće usluge","01","013"]
[{"$f":"IF(C115=\"\",\"\",VLOOKUP('OPĆI DIO'!$C$1,'OPĆI DIO'!$N$4:$W$137,10,FALSE))","v":"08006"},{"$f":"IF(C115=\"\",\"\",VLOOKUP('OPĆI DIO'!$C$1,'OPĆI DIO'!$N$4:$W$137,9,FALSE))","v":"Sveučilišta i veleučilišta u Republici Hrvatskoj"},43,43,"Ostali prihodi za posebne namjene",3235,"Zakupnine i najamnine","A679135","PROGRAMSKO I OSTALO FINANCIRANJE JAVNIH VISOKIH UČILIŠTA - IZ EVIDENCIJSKIH PRIHODA","0942",{"v":15202,"d":"15,202"},{"v":15658,"d":"15,658"},{"v":16128,"d":"16,128"},null,{"$f":"IF(C115=\"\",\"\",'OPĆI DIO'!$C$1)","v":"1812 Sveučilište u Zagrebu FAKULTET PROMETNIH ZNANOSTI"},"323","32","43","94","3",43,{"$nulls":3},4521,"Dodatna ulaganja na postrojenjima i opremi",null,"45","452",null,"A628091","OBRAZOVANJE U RURALNIM PODRUČJIMA - LEARNING FROM THE EXTREMES, A RURAL SCHOOLS INNOVATION ROADMAP","0133","Ostale opće usluge","01","013"]
[{"$f":"IF(C116=\"\",\"\",VLOOKUP('OPĆI DIO'!$C$1,'OPĆI DIO'!$N$4:$W$137,10,FALSE))","v":"08006"},{"$f":"IF(C116=\"\",\"\",VLOOKUP('OPĆI DIO'!$C$1,'OPĆI DIO'!$N$4:$W$137,9,FALSE))","v":"Sveučilišta i veleučilišta u Republici Hrvatskoj"},43,43,"Ostali prihodi za posebne namjene",3236,"Zdravstvene i veterinarske usluge","A679135","PROGRAMSKO I OSTALO FINANCIRANJE JAVNIH VISOKIH UČILIŠTA - IZ EVIDENCIJSKIH PRIHODA","0942",{"v":9121,"d":"9,121"},{"v":9395,"d":"9,395"},{"v":9677,"d":"9,677"},null,{"$f":"IF(C116=\"\",\"\",'OPĆI DIO'!$C$1)","v":"1812 Sveučilište u Zagrebu FAKULTET PROMETNIH ZNANOSTI"},"323","32","43","94","3",43,{"$nulls":3},4531,"Dodatna ulaganja na prijevoznim sredstvima",null,"45","453",null,"A628098","PRAVOMOĆNE SUDSKE PRESUDE","0133","Ostale opće usluge","01","013"]
[{"$f":"IF(C117=\"\",\"\",VLOOKUP('OPĆI DIO'!$C$1,'OPĆI DIO'!$N$4:$W$137,10,FALSE))","v":"08006"},{"$f":"IF(C117=\"\",\"\",VLOOKUP('OPĆI DIO'!$C$1,'OPĆI DIO'!$N$4:$W$137,9,FALSE))","v":"Sveučilišta i veleučilišta u Republici Hrvatskoj"},43,43,"Ostali prihodi za posebne namjene",3237,"Intelektualne i osobne usluge","A679135","PROGRAMSKO I OSTALO FINANCIRANJE JAVNIH VISOKIH UČILIŠTA - IZ EVIDENCIJSKIH PRIHODA","0942",{"v":6873,"d":"6,873"},{"v":7079,"d":"7,079"},{"v":7291,"d":"7,291"},null,{"$f":"IF(C117=\"\",\"\",'OPĆI DIO'!$C$1)","v":"1812 Sveučilište u Zagrebu FAKULTET PROMETNIH ZNANOSTI"},"323","32","43","94","3",43,{"$nulls":3},4541,"Dodatna ulaganja za ostalu nefinancijsku imovinu",null,"45","454",null,"A666666","PROGRAM PREKOGRANIČNE SURADNJE UPRAVLJAČKO TIJELO IZ INOZEMSTVA","0150","Istraživanje i razvoj: Opće javne usluge","01","015"]
[{"$f":"IF(C118=\"\",\"\",VLOOKUP('OPĆI DIO'!$C$1,'OPĆI DIO'!$N$4:$W$137,10,FALSE))","v":"08006"},{"$f":"IF(C118=\"\",\"\",VLOOKUP('OPĆI DIO'!$C$1,'OPĆI DIO'!$N$4:$W$137,9,FALSE))","v":"Sveučilišta i veleučilišta u Republici Hrvatskoj"},43,43,"Ostali prihodi za posebne namjene",3431,"Bankarske usluge i usluge platnog prometa","A679135","PROGRAMSKO I OSTALO FINANCIRANJE JAVNIH VISOKIH UČILIŠTA - IZ EVIDENCIJSKIH PRIHODA","0942",{"v":1145,"d":"1,145"},{"v":1180,"d":"1,180"},{"v":1214,"d":"1,214"},null,{"$f":"IF(C118=\"\",\"\",'OPĆI DIO'!$C$1)","v":"1812 Sveučilište u Zagrebu FAKULTET PROMETNIH ZNANOSTI"},"343","34","43","94","3",43,{"$nulls":3},5422,"Otplata glavnice primljenih kredita od kreditnih institucija u javnom sektoru",null,{"$f":"LEFT(Y118,2)","v":"54"},{"$f":"LEFT(Y118,3)","v":"542"},null,"A676072","ERASMUS PLUS - PROJEKTI","0970","Istraživanje i razvoj obrazovanja","09","097"]
[{"$f":"IF(C119=\"\",\"\",VLOOKUP('OPĆI DIO'!$C$1,'OPĆI DIO'!$N$4:$W$137,10,FALSE))","v":"08006"},{"$f":"IF(C119=\"\",\"\",VLOOKUP('OPĆI DIO'!$C$1,'OPĆI DIO'!$N$4:$W$137,9,FALSE))","v":"Sveučilišta i veleučilišta u Republici Hrvatskoj"},43,43,"Ostali prihodi za posebne namjene",3434,"Ostali nespomenuti financijski rashodi","A679135","PROGRAMSKO I OSTALO FINANCIRANJE JAVNIH VISOKIH UČILIŠTA - IZ EVIDENCIJSKIH PRIHODA","0942",{"v":7601,"d":"7,601"},{"v":7829,"d":"7,829"},{"v":8064,"d":"8,064"},null,{"$f":"IF(C119=\"\",\"\",'OPĆI DIO'!$C$1)","v":"1812 Sveučilište u Zagrebu FAKULTET PROMETNIH ZNANOSTI"},"343","34","43","94","3",43,{"$nulls":3},5443,"Otplata glavnice primljenih kredita od tuzemnih kreditnih institucija izvan javnog sektora",null,{"$f":"LEFT(Y119,2)","v":"54"},{"$f":"LEFT(Y119,3)","v":"544"},null,"A679005","ČLANSTVO U MEĐUNARODNIM UDRUGAMA","0150","Istraživanje i razvoj: Opće javne usluge","01","015"]
[{"$f":"IF(C120=\"\",\"\",VLOOKUP('OPĆI DIO'!$C$1,'OPĆI DIO'!$N$4:$W$137,10,FALSE))","v":"08006"},{"$f":"IF(C120=\"\",\"\",VLOOKUP('OPĆI DIO'!$C$1,'OPĆI DIO'!$N$4:$W$137,9,FALSE))","v":"Sveučilišta i veleučilišta u Republici Hrvatskoj"},43,43,"Ostali prihodi za posebne namjene",4221,"Uredska oprema i namještaj","A679135","PROGRAMSKO I OSTALO FINANCIRANJE JAVNIH VISOKIH UČILIŠTA - IZ EVIDENCIJSKIH PRIHODA","0942",{"v":22909,"d":"22,909"},{"v":23596,"d":"23,596"},{"v":24304,"d":"24,304"},null,{"$f":"IF(C120=\"\",\"\",'OPĆI DIO'!$C$1)","v":"1812 Sveučilište u Zagrebu FAKULTET PROMETNIH ZNANOSTI"},"422","42","43","94","4",43,{"$nulls":3},5183,"Izdaci za jamčevne pologe ",null,{"$f":"LEFT(Y120,2)","v":"51"},{"$f":"LEFT(Y120,3)","v":"518"},null,"A679008","PROGRAM RAZVOJNE SURADNJE","0970","Istraživanje i razvoj obrazovanja","09","097"]
[{"$f":"IF(C121=\"\",\"\",VLOOKUP('OPĆI DIO'!$C$1,'OPĆI DIO'!$N$4:$W$137,10,FALSE))","v":"08006"},{"$f":"IF(C121=\"\",\"\",VLOOKUP('OPĆI DIO'!$C$1,'OPĆI DIO'!$N$4:$W$137,9,FALSE))","v":"Sveučilišta i veleučilišta u Republici Hrvatskoj"},43,43,"Ostali prihodi za posebne namjene",4225,"Instrumenti i uređaji","A679135","PROGRAMSKO I OSTALO FINANCIRANJE JAVNIH VISOKIH UČILIŠTA - IZ EVIDENCIJSKIH PRIHODA","0942",{"v":45607,"d":"45,607"},{"v":46975,"d":"46,975"},{"v":48384,"d":"48,384"},null,{"$f":"IF(C121=\"\",\"\",'OPĆI DIO'!$C$1)","v":"1812 Sveučilište u Zagrebu FAKULTET PROMETNIH ZNANOSTI"},"422","42","43","94","4",43,{"$nulls":9},"A679009","REDOVNA DJELATNOST LEKTORATA","0970","Istraživanje i razvoj obrazovanja","09","097"]
[{"$f":"IF(C122=\"\",\"\",VLOOKUP('OPĆI DIO'!$C$1,'OPĆI DIO'!$N$4:$W$137,10,FALSE))","v":"08006"},{"$f":"IF(C122=\"\",\"\",VLOOKUP('OPĆI DIO'!$C$1,'OPĆI DIO'!$N$4:$W$137,9,FALSE))","v":"Sveučilišta i veleučilišta u Republici Hrvatskoj"},43,43,"Ostali prihodi za posebne namjene",4241,"Knjige","A679135","PROGRAMSKO I OSTALO FINANCIRANJE JAVNIH VISOKIH UČILIŠTA - IZ EVIDENCIJSKIH PRIHODA","0942",{"v":3436,"d":"3,436"},{"v":3539,"d":"3,539"},{"v":3645,"d":"3,645"},null,{"$f":"IF(C122=\"\",\"\",'OPĆI DIO'!$C$1)","v":"1812 Sveučilište u Zagrebu FAKULTET PROMETNIH ZNANOSTI"},"424","42","43","94","4",43,{"$nulls":9},"A679047","MEĐUNARODNA SURADNJA I EUROPSKI POSLOVI","0150","Istraživanje i razvoj: Opće javne usluge","01","015"]
[{"$f":"IF(C123=\"\",\"\",VLOOKUP('OPĆI DIO'!$C$1,'OPĆI DIO'!$N$4:$W$137,10,FALSE))","v":"08006"},{"$f":"IF(C123=\"\",\"\",VLOOKUP('OPĆI DIO'!$C$1,'OPĆI DIO'!$N$4:$W$137,9,FALSE))","v":"Sveučilišta i veleučilišta u Republici Hrvatskoj"},43,43,"Ostali prihodi za posebne namjene",3111,"Plaće za redovan rad","A679135","PROGRAMSKO I OSTALO FINANCIRANJE JAVNIH VISOKIH UČILIŠTA - IZ EVIDENCIJSKIH PRIHODA","0942",{"v":437619,"d":"437,619"},{"v":450948,"d":"450,948"},{"v":464079,"d":"464,079"},null,{"$f":"IF(C123=\"\",\"\",'OPĆI DIO'!$C$1)","v":"1812 Sveučilište u Zagrebu FAKULTET PROMETNIH ZNANOSTI"},"311","31","43","94","3",43,{"$nulls":9},"A679049","POMOĆI BIH U SUSTAVU ZNANOSTI I OBRAZOVANJA","0970","Istraživanje i razvoj obrazovanja","09","097"]
[{"$f":"IF(C124=\"\",\"\",VLOOKUP('OPĆI DIO'!$C$1,'OPĆI DIO'!$N$4:$W$137,10,FALSE))","v":"08006"},{"$f":"IF(C124=\"\",\"\",VLOOKUP('OPĆI DIO'!$C$1,'OPĆI DIO'!$N$4:$W$137,9,FALSE))","v":"Sveučilišta i veleučilišta u Republici Hrvatskoj"},43,43,"Ostali prihodi za posebne namjene",3121,"Ostali rashodi za zaposlene","A679135","PROGRAMSKO I OSTALO FINANCIRANJE JAVNIH VISOKIH UČILIŠTA - IZ EVIDENCIJSKIH PRIHODA","0942",{"v":72164,"d":"72,164"},{"v":74362,"d":"74,362"},{"v":76527,"d":"76,527"},null,{"$f":"IF(C124=\"\",\"\",'OPĆI DIO'!$C$1)","v":"1812 Sveučilište u Zagrebu FAKULTET PROMETNIH ZNANOSTI"},"312","31","43","94","3",43,{"$nulls":9},"A679064","ZNANSTVENO-UČILIŠNI KAMPUS BORONGAJ","0942","Drugi stupanj visoke naobrazbe","09","094"]
[{"$f":"IF(C125=\"\",\"\",VLOOKUP('OPĆI DIO'!$C$1,'OPĆI DIO'!$N$4:$W$137,10,FALSE))","v":"08006"},{"$f":"IF(C125=\"\",\"\",VLOOKUP('OPĆI DIO'!$C$1,'OPĆI DIO'!$N$4:$W$137,9,FALSE))","v":"Sveučilišta i veleučilišta u Republici Hrvatskoj"},43,43,"Ostali prihodi za posebne namjene",3132,"Doprinosi za obvezno zdravstveno osiguranje","A679135","PROGRAMSKO I OSTALO FINANCIRANJE JAVNIH VISOKIH UČILIŠTA - IZ EVIDENCIJSKIH PRIHODA","0942",{"v":40217,"d":"40,217"},{"v":41441,"d":"41,441"},{"v":42648,"d":"42,648"},null,{"$f":"IF(C125=\"\",\"\",'OPĆI DIO'!$C$1)","v":"1812 Sveučilište u Zagrebu FAKULTET PROMETNIH ZNANOSTI"},"313","31","43","94","3",43,{"$nulls":9},"A679065","SMJEŠTAJ I PREHRANA STUDENATA STUDENTSKOG CENTRA PULA - SUFINANCIRANJE","0942","Drugi stupanj visoke naobrazbe","09","094"]
[{"$f":"IF(C126=\"\",\"\",VLOOKUP('OPĆI DIO'!$C$1,'OPĆI DIO'!$N$4:$W$137,10,FALSE))","v":""},{"$f":"IF(C126=\"\",\"\",VLOOKUP('OPĆI DIO'!$C$1,'OPĆI DIO'!$N$4:$W$137,9,FALSE))","v":""},"",null,"",null,"",null,"","",{"$nulls":4},{"$f":"IF(C126=\"\",\"\",'OPĆI DIO'!$C$1)","v":""},"","","","","","",{"$nulls":9},"A679066","POTPORE ROMSKIM STUDIJIMA I STUDENTIMA ROMIMA","0942","Drugi stupanj visoke naobrazbe","09","094"]
[{"$f":"IF(C127=\"\",\"\",VLOOKUP('OPĆI DIO'!$C$1,'OPĆI DIO'!$N$4:$W$137,10,FALSE))","v":""},{"$f":"IF(C127=\"\",\"\",VLOOKUP('OPĆI DIO'!$C$1,'OPĆI DIO'!$N$4:$W$137,9,FALSE))","v":""},"",61,"",3222,"Materijal i sirovine","A679135","PROGRAMSKO I OSTALO FINANCIRANJE JAVNIH VISOKIH UČILIŠTA - IZ EVIDENCIJSKIH PRIHODA","0942",{"v":1000,"d":"1,000"},{"v":1000,"d":"1,000"},{"v":1000,"d":"1,000"},null,{"$f":"IF(C127=\"\",\"\",'OPĆI DIO'!$C$1)","v":""},"322","32","","94","3","",{"$nulls":9},"A679067","DRŽAVNE STIPENDIJE ZA STUDENTE","0942","Drugi stupanj visoke naobrazbe","09","094"]
[{"$f":"IF(C128=\"\",\"\",VLOOKUP('OPĆI DIO'!$C$1,'OPĆI DIO'!$N$4:$W$137,10,FALSE))","v":""},{"$f":"IF(C128=\"\",\"\",VLOOKUP('OPĆI DIO'!$C$1,'OPĆI DIO'!$N$4:$W$137,9,FALSE))","v":""},"",61,"",3233,"Usluge promidžbe i informiranja","A679135","PROGRAMSKO I OSTALO FINANCIRANJE JAVNIH VISOKIH UČILIŠTA - IZ EVIDENCIJSKIH PRIHODA","0942",{"v":7500,"d":"7,500"},{"v":7500,"d":"7,500"},{"v":7500,"d":"7,500"},null,{"$f":"IF(C128=\"\",\"\",'OPĆI DIO'!$C$1)","v":""},"323","32","","94","3","",{"$nulls":9},"A679069","SMJEŠTAJ I PREHRANA STUDENATA STUDENTSKOG CENTRA SISAK - SUFINANCIRANJE","0942","Drugi stupanj visoke naobrazbe","09","094"]
[{"$f":"IF(C129=\"\",\"\",VLOOKUP('OPĆI DIO'!$C$1,'OPĆI DIO'!$N$4:$W$137,10,FALSE))","v":""},{"$f":"IF(C129=\"\",\"\",VLOOKUP('OPĆI DIO'!$C$1,'OPĆI DIO'!$N$4:$W$137,9,FALSE))","v":""},"",61,"",3235,"Zakupnine i najamnine","A679135","PROGRAMSKO I OSTALO FINANCIRANJE JAVNIH VISOKIH UČILIŠTA - IZ EVIDENCIJSKIH PRIHODA","0942",{"v":1000,"d":"1,000"},{"v":1000,"d":"1,000"},{"v":1000,"d":"1,000"},null,{"$f":"IF(C129=\"\",\"\",'OPĆI DIO'!$C$1)","v":""},"323","32","","94","3","",{"$nulls":9},"A733001","ADMINISTRACIJA I UPRAVLJANJE AGENCIJE ZA ODGOJ I OBRAZOVANJE","0970","Istraživanje i razvoj obrazovanja","09","097"]
[{"$f":"IF(C130=\"\",\"\",VLOOKUP('OPĆI DIO'!$C$1,'OPĆI DIO'!$N$4:$W$137,10,FALSE))","v":""},{"$f":"IF(C130=\"\",\"\",VLOOKUP('OPĆI DIO'!$C$1,'OPĆI DIO'!$N$4:$W$137,9,FALSE))","v":""},"",61,"",3238,"Računalne usluge","A679135","PROGRAMSKO I OSTALO FINANCIRANJE JAVNIH VISOKIH UČILIŠTA - IZ EVIDENCIJSKIH PRIHODA","0942",{"v":1000,"d":"1,000"},{"v":1000,"d":"1,000"},{"v":1000,"d":"1,000"},null,{"$f":"IF(C130=\"\",\"\",'OPĆI DIO'!$C$1)","v":""},"323","32","","94","3","",{"$nulls":9},"A733027","STRUČNO USAVRŠAVANJE U OKVIRU ŽUPANIJSKIH STRUČNIH VIJEĆA OSNOVNE ŠKOLE","0970","Istraživanje i razvoj obrazovanja","09","097"]
[{"$f":"IF(C131=\"\",\"\",VLOOKUP('OPĆI DIO'!$C$1,'OPĆI DIO'!$N$4:$W$137,10,FALSE))","v":""},{"$f":"IF(C131=\"\",\"\",VLOOKUP('OPĆI DIO'!$C$1,'OPĆI DIO'!$N$4:$W$137,9,FALSE))","v":""},"",61,"",3239,{"$f":"IFERROR(VLOOKUP(F131,$Y$5:$AA$129,2,FALSE),\"\")","v":"Ostale usluge"},"A679135",{"$f":"IFERROR(VLOOKUP(H131,$AE$6:$AF$353,2,FALSE),\"\")","v":"PROGRAMSKO I OSTALO FINANCIRANJE JAVNIH VISOKIH UČILIŠTA - IZ EVIDENCIJSKIH PRIHODA"},{"$f":"IFERROR(VLOOKUP(H131,$AE$6:$AI$353,3,FALSE),\"\")","v":"0942"},{"v":2000,"d":"2,000"},{"v":2000,"d":"2,000"},{"v":2000,"d":"2,000"},null,{"$f":"IF(C131=\"\",\"\",'OPĆI DIO'!$C$1)","v":""},"323","32","","94","3","",{"$nulls":9},"A733032","IZVANNASTAVNE AKTIVNOSTI U OSNOVNIM I SREDNJIM ŠKOLAMA-NATJECANJE","0970","Istraživanje i razvoj obrazovanja","09","097"]
[{"$f":"IF(C132=\"\",\"\",VLOOKUP('OPĆI DIO'!$C$1,'OPĆI DIO'!$N$4:$W$137,10,FALSE))","v":""},{"$f":"IF(C132=\"\",\"\",VLOOKUP('OPĆI DIO'!$C$1,'OPĆI DIO'!$N$4:$W$137,9,FALSE))","v":""},{"$f":"IFERROR(VLOOKUP(D132,$V$6:$X$34,3,FALSE),\"\")","v":""},61,{"$f":"IFERROR(VLOOKUP(D132,$V$6:$W$34,2,FALSE),\"\")","v":""},3241,"Naknade troškova osobama izvan radnog odnosa","A679135","PROGRAMSKO I OSTALO FINANCIRANJE JAVNIH VISOKIH UČILIŠTA - IZ EVIDENCIJSKIH PRIHODA","0942",{"v":2000,"d":"2,000"},{"v":2000,"d":"2,000"},{"v":2000,"d":"2,000"},null,{"$f":"IF(C132=\"\",\"\",'OPĆI DIO'!$C$1)","v":""},{"$f":"LEFT(F132,3)","v":"324"},{"$f":"LEFT(F132,2)","v":"32"},{"$f":"LEFT(C132,3)","v":""},{"$f":"MID(J132,2,2)","v":"94"},{"$f":"LEFT(F132,1)","v":"3"},{"$f":"IFERROR(VLOOKUP(C132,$V$6:$X$34,3,FALSE),\"\")","v":""},{"$nulls":9},"A733049","EUROPSKA AGENCIJA ZA POSEBNE POTREBE I INKLUZIVNO OBRAZOVANJE","0970","Istraživanje i razvoj obrazovanja","09","097"]
[{"$f":"IF(C133=\"\",\"\",VLOOKUP('OPĆI DIO'!$C$1,'OPĆI DIO'!$N$4:$W$137,10,FALSE))","v":""},{"$f":"IF(C133=\"\",\"\",VLOOKUP('OPĆI DIO'!$C$1,'OPĆI DIO'!$N$4:$W$137,9,FALSE))","v":""},"",61,"",3293,"Reprezentacija","A679135","PROGRAMSKO I OSTALO FINANCIRANJE JAVNIH VISOKIH UČILIŠTA - IZ EVIDENCIJSKIH PRIHODA","0942",{"v":5500,"d":"5,500"},{"v":5500,"d":"5,500"},{"v":5500,"d":"5,500"},null,{"$f":"IF(C133=\"\",\"\",'OPĆI DIO'!$C$1)","v":""},"329","32","","94","3","",{"$nulls":9},"A733050","PRAĆENJE I IMPLEMENTACIJA POLITIKA EUROPSKOG ISTRAŽIVAČKOG PROSTORA (ERA)","0150","Istraživanje i razvoj: Opće javne usluge","01","015"]
[{"$f":"IF(C134=\"\",\"\",VLOOKUP('OPĆI DIO'!$C$1,'OPĆI DIO'!$N$4:$W$137,10,FALSE))","v":""},{"$f":"IF(C134=\"\",\"\",VLOOKUP('OPĆI DIO'!$C$1,'OPĆI DIO'!$N$4:$W$137,9,FALSE))","v":""},"",null,"",null,"",null,"","",{"$nulls":4},{"$f":"IF(C134=\"\",\"\",'OPĆI DIO'!$C$1)","v":""},"","","","","","",{"$nulls":9},"A733051","PROGRAMI IZRADE UDŽBENIKA ZA SLIJEPE I SLABOVIDNE UČENIKE I STUDENTE","0970","Istraživanje i razvoj obrazovanja","09","097"]
[{"$f":"IF(C135=\"\",\"\",VLOOKUP('OPĆI DIO'!$C$1,'OPĆI DIO'!$N$4:$W$137,10,FALSE))","v":"08006"},{"$f":"IF(C135=\"\",\"\",VLOOKUP('OPĆI DIO'!$C$1,'OPĆI DIO'!$N$4:$W$137,9,FALSE))","v":"Sveučilišta i veleučilišta u Republici Hrvatskoj"},51,51000,"51000 Programi Unije – raspoloživ predujam",3111,"Plaće za redovan rad","A679135","PROGRAMSKO I OSTALO FINANCIRANJE JAVNIH VISOKIH UČILIŠTA - IZ EVIDENCIJSKIH PRIHODA","0942",{"v":33077,"d":"33,077"},0,0,null,{"$f":"IF(C135=\"\",\"\",'OPĆI DIO'!$C$1)","v":"1812 Sveučilište u Zagrebu FAKULTET PROMETNIH ZNANOSTI"},"311","31","51","94","3","",{"$nulls":9},"A733055","PROGRAM IZVRSNOSTI U VISOKOM OBRAZOVANJU - TENURE-TRACK","0150","Istraživanje i razvoj: Opće javne usluge",{"$f":"LEFT(AG135,2)","v":"01"},{"$f":"LEFT(AG135,3)","v":"015"}]
[{"$f":"IF(C136=\"\",\"\",VLOOKUP('OPĆI DIO'!$C$1,'OPĆI DIO'!$N$4:$W$137,10,FALSE))","v":"08006"},{"$f":"IF(C136=\"\",\"\",VLOOKUP('OPĆI DIO'!$C$1,'OPĆI DIO'!$N$4:$W$137,9,FALSE))","v":"Sveučilišta i veleučilišta u Republici Hrvatskoj"},51,51000,"51000 Programi Unije – raspoloživ predujam",3132,"Doprinosi za obvezno zdravstveno osiguranje","A679135","PROGRAMSKO I OSTALO FINANCIRANJE JAVNIH VISOKIH UČILIŠTA - IZ EVIDENCIJSKIH PRIHODA","0942",{"v":5458,"d":"5,458"},0,0,null,{"$f":"IF(C136=\"\",\"\",'OPĆI DIO'!$C$1)","v":"1812 Sveučilište u Zagrebu FAKULTET PROMETNIH ZNANOSTI"},"313","31","51","94","3","",{"$nulls":9},"A733056","EUROPSKI ZNANSTVENI PROJEKTI","0150","Istraživanje i razvoj: Opće javne usluge","01","015"]
[{"$f":"IF(C137=\"\",\"\",VLOOKUP('OPĆI DIO'!$C$1,'OPĆI DIO'!$N$4:$W$137,10,FALSE))","v":""},{"$f":"IF(C137=\"\",\"\",VLOOKUP('OPĆI DIO'!$C$1,'OPĆI DIO'!$N$4:$W$137,9,FALSE))","v":""},"",null,"",null,"",null,"","",{"$nulls":4},{"$f":"IF(C137=\"\",\"\",'OPĆI DIO'!$C$1)","v":""},"","","","","","",{"$nulls":9},"A733070","OBZOR ERA-NET QUANTERA II","0150","Istraživanje i razvoj: Opće javne usluge","01","015"]
[{"$f":"IF(C138=\"\",\"\",VLOOKUP('OPĆI DIO'!$C$1,'OPĆI DIO'!$N$4:$W$137,10,FALSE))","v":""},{"$f":"IF(C138=\"\",\"\",VLOOKUP('OPĆI DIO'!$C$1,'OPĆI DIO'!$N$4:$W$137,9,FALSE))","v":""},"",581,"",3111,"Plaće za redovan rad","A679135","PROGRAMSKO I OSTALO FINANCIRANJE JAVNIH VISOKIH UČILIŠTA - IZ EVIDENCIJSKIH PRIHODA","0942",{"v":33077,"d":"33,077"},0,0,null,{"$f":"IF(C138=\"\",\"\",'OPĆI DIO'!$C$1)","v":""},"311","31","","94","3","",{"$nulls":9},"A733071","OBZOR ERA-NET BLUEBIOECONOMY","0150","Istraživanje i razvoj: Opće javne usluge","01","015"]
[{"$f":"IF(C139=\"\",\"\",VLOOKUP('OPĆI DIO'!$C$1,'OPĆI DIO'!$N$4:$W$137,10,FALSE))","v":""},{"$f":"IF(C139=\"\",\"\",VLOOKUP('OPĆI DIO'!$C$1,'OPĆI DIO'!$N$4:$W$137,9,FALSE))","v":""},"",581,"",3132,"Doprinosi za obvezno zdravstveno osiguranje","A679135","PROGRAMSKO I OSTALO FINANCIRANJE JAVNIH VISOKIH UČILIŠTA - IZ EVIDENCIJSKIH PRIHODA","0942",{"v":5458,"d":"5,458"},0,0,null,{"$f":"IF(C139=\"\",\"\",'OPĆI DIO'!$C$1)","v":""},"313","31","","94","3","",{"$nulls":9},"A733073","PROGRAM RAZVOJA KARIJERA MLADIH ISTRAŽIVAČA - IZOBRAZBA NOVIH DOKTORA ZNANOSTI - NPOO (C3.2. R2-I1 )","0150","Istraživanje i razvoj: Opće javne usluge","01","015"]
[{"$f":"IF(C140=\"\",\"\",VLOOKUP('OPĆI DIO'!$C$1,'OPĆI DIO'!$N$4:$W$137,10,FALSE))","v":""},{"$f":"IF(C140=\"\",\"\",VLOOKUP('OPĆI DIO'!$C$1,'OPĆI DIO'!$N$4:$W$137,9,FALSE))","v":""},"",null,"",null,"",null,"","",{"$nulls":4},{"$f":"IF(C140=\"\",\"\",'OPĆI DIO'!$C$1)","v":""},"","","","","","",{"$nulls":9},"A733075","POKRETANJE URBANIH TRANZICIJA CO-FUND PROJEKT","0150","Istraživanje i razvoj: Opće javne usluge","01","015"]
[{"$f":"IF(C141=\"\",\"\",VLOOKUP('OPĆI DIO'!$C$1,'OPĆI DIO'!$N$4:$W$137,10,FALSE))","v":"08006"},{"$f":"IF(C141=\"\",\"\",VLOOKUP('OPĆI DIO'!$C$1,'OPĆI DIO'!$N$4:$W$137,9,FALSE))","v":"Sveučilišta i veleučilišta u Republici Hrvatskoj"},563,563,"Europski fond za regionalni razvoj – predfinanciranje iz izvora 11 Opći prihodi i primici",3693,"Tekući prijenosi između proračunskih korisnika istog proraču","A679135","PROGRAMSKO I OSTALO FINANCIRANJE JAVNIH VISOKIH UČILIŠTA - IZ EVIDENCIJSKIH PRIHODA","0942",{"v":34252,"d":"34,252"},0,0,"24141 SVEUČILIŠTE U DUBROVNIKU",{"$f":"IF(C141=\"\",\"\",'OPĆI DIO'!$C$1)","v":"1812 Sveučilište u Zagrebu FAKULTET PROMETNIH ZNANOSTI"},"369","36","563","94","3",563,{"$nulls":9},"A733076","ATTRACTADRIA - OSNAŽIVANJE KAPACITETA ZA ZNANSTVENA ISTRAŽIVANJA","0150","Istraživanje i razvoj: Opće javne usluge","01","015"]
[{"$f":"IF(C142=\"\",\"\",VLOOKUP('OPĆI DIO'!$C$1,'OPĆI DIO'!$N$4:$W$137,10,FALSE))","v":"08006"},{"$f":"IF(C142=\"\",\"\",VLOOKUP('OPĆI DIO'!$C$1,'OPĆI DIO'!$N$4:$W$137,9,FALSE))","v":"Sveučilišta i veleučilišta u Republici Hrvatskoj"},563,563,"Europski fond za regionalni razvoj – predfinanciranje iz izvora 11 Opći prihodi i primici",3111,"Plaće za redovan rad","A679135","PROGRAMSKO I OSTALO FINANCIRANJE JAVNIH VISOKIH UČILIŠTA - IZ EVIDENCIJSKIH PRIHODA","0942",{"v":32532,"d":"32,532"},0,0,null,{"$f":"IF(C142=\"\",\"\",'OPĆI DIO'!$C$1)","v":"1812 Sveučilište u Zagrebu FAKULTET PROMETNIH ZNANOSTI"},"311","31","563","94","3",563,{"$nulls":9},"A763000","ADMINISTRACIJA I UPRAVLJANJE DRŽAVNOG ZAVODA ZA INTELEKTUALNO VLASNIŠTVO","0150","Istraživanje i razvoj: Opće javne usluge","01","015"]
[{"$f":"IF(C143=\"\",\"\",VLOOKUP('OPĆI DIO'!$C$1,'OPĆI DIO'!$N$4:$W$137,10,FALSE))","v":"08006"},{"$f":"IF(C143=\"\",\"\",VLOOKUP('OPĆI DIO'!$C$1,'OPĆI DIO'!$N$4:$W$137,9,FALSE))","v":"Sveučilišta i veleučilišta u Republici Hrvatskoj"},563,563,"Europski fond za regionalni razvoj – predfinanciranje iz izvora 11 Opći prihodi i primici",3132,"Doprinosi za obvezno zdravstveno osiguranje","A679135","PROGRAMSKO I OSTALO FINANCIRANJE JAVNIH VISOKIH UČILIŠTA - IZ EVIDENCIJSKIH PRIHODA","0942",{"v":5367,"d":"5,367"},0,0,null,{"$f":"IF(C143=\"\",\"\",'OPĆI DIO'!$C$1)","v":"1812 Sveučilište u Zagrebu FAKULTET PROMETNIH ZNANOSTI"},"313","31","563","94","3",563,{"$nulls":9},"A767002","IZRADA DEFICITARNIH UDŽBENIKA U ŠKOLSTVU","0970","Istraživanje i razvoj obrazovanja","09","097"]
[{"$f":"IF(C144=\"\",\"\",VLOOKUP('OPĆI DIO'!$C$1,'OPĆI DIO'!$N$4:$W$137,10,FALSE))","v":"08006"},{"$f":"IF(C144=\"\",\"\",VLOOKUP('OPĆI DIO'!$C$1,'OPĆI DIO'!$N$4:$W$137,9,FALSE))","v":"Sveučilišta i veleučilišta u Republici Hrvatskoj"},563,563,"Europski fond za regionalni razvoj – predfinanciranje iz izvora 11 Opći prihodi i primici",3431,"Bankarske usluge i usluge platnog prometa","A679135","PROGRAMSKO I OSTALO FINANCIRANJE JAVNIH VISOKIH UČILIŠTA - IZ EVIDENCIJSKIH PRIHODA","0942",240,0,0,null,{"$f":"IF(C144=\"\",\"\",'OPĆI DIO'!$C$1)","v":"1812 Sveučilište u Zagrebu FAKULTET PROMETNIH ZNANOSTI"},"343","34","563","94","3",563,{"$nulls":9},"A767003","SREDNJOŠKOLSKE STIPENDIJE ZA UČENIKE ROME","0970","Istraživanje i razvoj obrazovanja","09","097"]
[{"$f":"IF(C145=\"\",\"\",VLOOKUP('OPĆI DIO'!$C$1,'OPĆI DIO'!$N$4:$W$137,10,FALSE))","v":"08006"},{"$f":"IF(C145=\"\",\"\",VLOOKUP('OPĆI DIO'!$C$1,'OPĆI DIO'!$N$4:$W$137,9,FALSE))","v":"Sveučilišta i veleučilišta u Republici Hrvatskoj"},563,563,"Europski fond za regionalni razvoj – predfinanciranje iz izvora 11 Opći prihodi i primici",3237,"Intelektualne i osobne usluge","A679135","PROGRAMSKO I OSTALO FINANCIRANJE JAVNIH VISOKIH UČILIŠTA - IZ EVIDENCIJSKIH PRIHODA","0942",{"v":84130,"d":"84,130"},0,0,null,{"$f":"IF(C145=\"\",\"\",'OPĆI DIO'!$C$1)","v":"1812 Sveučilište u Zagrebu FAKULTET PROMETNIH ZNANOSTI"},"323","32","563","94","3",563,{"$nulls":9},"A767004","NAOBRAZBA DJECE U ALTERNATIVNIM ŠKOLAMA","0970","Istraživanje i razvoj obrazovanja","09","097"]
[{"$f":"IF(C146=\"\",\"\",VLOOKUP('OPĆI DIO'!$C$1,'OPĆI DIO'!$N$4:$W$137,10,FALSE))","v":"08006"},{"$f":"IF(C146=\"\",\"\",VLOOKUP('OPĆI DIO'!$C$1,'OPĆI DIO'!$N$4:$W$137,9,FALSE))","v":"Sveučilišta i veleučilišta u Republici Hrvatskoj"},563,563,"Europski fond za regionalni razvoj – predfinanciranje iz izvora 11 Opći prihodi i primici",3235,"Zakupnine i najamnine","A679135","PROGRAMSKO I OSTALO FINANCIRANJE JAVNIH VISOKIH UČILIŠTA - IZ EVIDENCIJSKIH PRIHODA","0942",950,0,0,null,{"$f":"IF(C146=\"\",\"\",'OPĆI DIO'!$C$1)","v":"1812 Sveučilište u Zagrebu FAKULTET PROMETNIH ZNANOSTI"},"323","32","563","94","3",563,{"$nulls":9},"A767008","SUBVENCIONIRANJE KAMATA ZA STANOVE UČITELJA","0970","Istraživanje i razvoj obrazovanja","09","097"]
[{"$f":"IF(C147=\"\",\"\",VLOOKUP('OPĆI DIO'!$C$1,'OPĆI DIO'!$N$4:$W$137,10,FALSE))","v":"08006"},{"$f":"IF(C147=\"\",\"\",VLOOKUP('OPĆI DIO'!$C$1,'OPĆI DIO'!$N$4:$W$137,9,FALSE))","v":"Sveučilišta i veleučilišta u Republici Hrvatskoj"},563,563,"Europski fond za regionalni razvoj – predfinanciranje iz izvora 11 Opći prihodi i primici",3211,"Službena putovanja","A679135","PROGRAMSKO I OSTALO FINANCIRANJE JAVNIH VISOKIH UČILIŠTA - IZ EVIDENCIJSKIH PRIHODA","0942",{"v":29524,"d":"29,524"},0,0,null,{"$f":"IF(C147=\"\",\"\",'OPĆI DIO'!$C$1)","v":"1812 Sveučilište u Zagrebu FAKULTET PROMETNIH ZNANOSTI"},"321","32","563","94","3",563,{"$nulls":9},"A767009","ZNANSTVENI CENTRI IZVRSNOSTI - DRUŠTVENO HUMANISTIČKO PODRUČJE","0150","Istraživanje i razvoj: Opće javne usluge","01","015"]
[{"$f":"IF(C148=\"\",\"\",VLOOKUP('OPĆI DIO'!$C$1,'OPĆI DIO'!$N$4:$W$137,10,FALSE))","v":""},{"$f":"IF(C148=\"\",\"\",VLOOKUP('OPĆI DIO'!$C$1,'OPĆI DIO'!$N$4:$W$137,9,FALSE))","v":""},"",null,"",null,"",null,"","",{"$nulls":4},{"$f":"IF(C148=\"\",\"\",'OPĆI DIO'!$C$1)","v":""},"","","","","","",{"$nulls":9},"A767013","RAZVOJ SUSTAVA OSIGURANJA KVALITETE","0922","Više srednjoškolsko obrazovanje","09","092"]
[{"$f":"IF(C149=\"\",\"\",VLOOKUP('OPĆI DIO'!$C$1,'OPĆI DIO'!$N$4:$W$137,10,FALSE))","v":"08006"},{"$f":"IF(C149=\"\",\"\",VLOOKUP('OPĆI DIO'!$C$1,'OPĆI DIO'!$N$4:$W$137,9,FALSE))","v":"Sveučilišta i veleučilišta u Republici Hrvatskoj"},53,533,"Ostale darovnice",3111,"Plaće za redovan rad","A679135","PROGRAMSKO I OSTALO FINANCIRANJE JAVNIH VISOKIH UČILIŠTA - IZ EVIDENCIJSKIH PRIHODA","0942",{"v":48900,"d":"48,900"},0,0,null,{"$f":"IF(C149=\"\",\"\",'OPĆI DIO'!$C$1)","v":"1812 Sveučilište u Zagrebu FAKULTET PROMETNIH ZNANOSTI"},"311","31","53","94","3","",{"$nulls":9},"A767015","PROVEDBA PROGRAMA ZA UKLJUČIVANJE ROMA","0970","Istraživanje i razvoj obrazovanja","09","097"]
[{"$f":"IF(C150=\"\",\"\",VLOOKUP('OPĆI DIO'!$C$1,'OPĆI DIO'!$N$4:$W$137,10,FALSE))","v":"08006"},{"$f":"IF(C150=\"\",\"\",VLOOKUP('OPĆI DIO'!$C$1,'OPĆI DIO'!$N$4:$W$137,9,FALSE))","v":"Sveučilišta i veleučilišta u Republici Hrvatskoj"},53,533,"Ostale darovnice",3121,"Ostali rashodi za zaposlene","A679135","PROGRAMSKO I OSTALO FINANCIRANJE JAVNIH VISOKIH UČILIŠTA - IZ EVIDENCIJSKIH PRIHODA","0942",{"v":1310,"d":"1,310"},0,0,null,{"$f":"IF(C150=\"\",\"\",'OPĆI DIO'!$C$1)","v":"1812 Sveučilište u Zagrebu FAKULTET PROMETNIH ZNANOSTI"},"312","31","53","94","3","",{"$nulls":9},"A767022","STRUČNO USAVRŠAVANJE ODGOJNO-OBRAZOVNIH DJELATNIKA U SUSTAVU OSNOVNOG I SREDNJEG ŠKOLSTVA","0970","Istraživanje i razvoj obrazovanja","09","097"]
[{"$f":"IF(C151=\"\",\"\",VLOOKUP('OPĆI DIO'!$C$1,'OPĆI DIO'!$N$4:$W$137,10,FALSE))","v":"08006"},{"$f":"IF(C151=\"\",\"\",VLOOKUP('OPĆI DIO'!$C$1,'OPĆI DIO'!$N$4:$W$137,9,FALSE))","v":"Sveučilišta i veleučilišta u Republici Hrvatskoj"},53,533,"Ostale darovnice",3132,"Doprinosi za obvezno zdravstveno osiguranje","A679135","PROGRAMSKO I OSTALO FINANCIRANJE JAVNIH VISOKIH UČILIŠTA - IZ EVIDENCIJSKIH PRIHODA","0942",{"v":8150,"d":"8,150"},0,0,null,{"$f":"IF(C151=\"\",\"\",'OPĆI DIO'!$C$1)","v":"1812 Sveučilište u Zagrebu FAKULTET PROMETNIH ZNANOSTI"},"313","31","53","94","3","",{"$nulls":9},"A767035","MEĐUNARODNA SURADNJA","0150","Istraživanje i razvoj: Opće javne usluge","01","015"]
[{"$f":"IF(C152=\"\",\"\",VLOOKUP('OPĆI DIO'!$C$1,'OPĆI DIO'!$N$4:$W$137,10,FALSE))","v":"08006"},{"$f":"IF(C152=\"\",\"\",VLOOKUP('OPĆI DIO'!$C$1,'OPĆI DIO'!$N$4:$W$137,9,FALSE))","v":"Sveučilišta i veleučilišta u Republici Hrvatskoj"},53,533,"Ostale darovnice",3212,"Naknade za prijevoz, za rad na terenu i odvojeni život","A679135","PROGRAMSKO I OSTALO FINANCIRANJE JAVNIH VISOKIH UČILIŠTA - IZ EVIDENCIJSKIH PRIHODA","0942",{"v":1000,"d":"1,000"},0,0,null,{"$f":"IF(C152=\"\",\"\",'OPĆI DIO'!$C$1)","v":"1812 Sveučilište u Zagrebu FAKULTET PROMETNIH ZNANOSTI"},"321","32","53","94","3","",{"$nulls":9},"A767038","OBZOR 2020. - PROGRAM MEĐUNARODNE MOBILNOSTI ZA ISTRAŽIVAČE - NEWFELPRO","0150","Istraživanje i razvoj: Opće javne usluge","01","015"]
[{"$f":"IF(C153=\"\",\"\",VLOOKUP('OPĆI DIO'!$C$1,'OPĆI DIO'!$N$4:$W$137,10,FALSE))","v":""},{"$f":"IF(C153=\"\",\"\",VLOOKUP('OPĆI DIO'!$C$1,'OPĆI DIO'!$N$4:$W$137,9,FALSE))","v":""},"",null,"",null,"",null,"","",{"$nulls":4},{"$f":"IF(C153=\"\",\"\",'OPĆI DIO'!$C$1)","v":""},"","","","","","",{"$nulls":9},"A767042","OBRAZOVANJE OSOBA BEZ HRVATSKOG DRŽAVLJANSTVA","0970","Istraživanje i razvoj obrazovanja","09","097"]
[{"$f":"IF(C154=\"\",\"\",VLOOKUP('OPĆI DIO'!$C$1,'OPĆI DIO'!$N$4:$W$137,10,FALSE))","v":"08006"},{"$f":"IF(C154=\"\",\"\",VLOOKUP('OPĆI DIO'!$C$1,'OPĆI DIO'!$N$4:$W$137,9,FALSE))","v":"Sveučilišta i veleučilišta u Republici Hrvatskoj"},50,5011,"5011 Pomoći iz državnog proračuna kroz opće prihode i primitke",3111,"Plaće za redovan rad","A679135","PROGRAMSKO I OSTALO FINANCIRANJE JAVNIH VISOKIH UČILIŠTA - IZ EVIDENCIJSKIH PRIHODA","0942",{"v":77253,"d":"77,253"},{"v":77253,"d":"77,253"},{"v":77253,"d":"77,253"},null,{"$f":"IF(C154=\"\",\"\",'OPĆI DIO'!$C$1)","v":"1812 Sveučilište u Zagrebu FAKULTET PROMETNIH ZNANOSTI"},"311","31","50","94","3","",{"$nulls":9},"A767043","RAZVOJ VISOKOG OBRAZOVANJA","0942","Drugi stupanj visoke naobrazbe","09","094"]
[{"$f":"IF(C155=\"\",\"\",VLOOKUP('OPĆI DIO'!$C$1,'OPĆI DIO'!$N$4:$W$137,10,FALSE))","v":"08006"},{"$f":"IF(C155=\"\",\"\",VLOOKUP('OPĆI DIO'!$C$1,'OPĆI DIO'!$N$4:$W$137,9,FALSE))","v":"Sveučilišta i veleučilišta u Republici Hrvatskoj"},50,5011,"5011 Pomoći iz državnog proračuna kroz opće prihode i primitke",3132,"Doprinosi za obvezno zdravstveno osiguranje","A679135","PROGRAMSKO I OSTALO FINANCIRANJE JAVNIH VISOKIH UČILIŠTA - IZ EVIDENCIJSKIH PRIHODA","0942",{"v":12747,"d":"12,747"},{"v":12747,"d":"12,747"},{"v":12747,"d":"12,747"},null,{"$f":"IF(C155=\"\",\"\",'OPĆI DIO'!$C$1)","v":"1812 Sveučilište u Zagrebu FAKULTET PROMETNIH ZNANOSTI"},"313","31","50","94","3","",{"$nulls":9},"A767056","OBZOR 2020. - PARTNERSTVO ZA ISTRAŽIVANJA I INOVACIJE NA MEDITERANSKOM PODRUČJU - PRIMA","0150","Istraživanje i razvoj: Opće javne usluge","01","015"]
[{"$f":"IF(C156=\"\",\"\",VLOOKUP('OPĆI DIO'!$C$1,'OPĆI DIO'!$N$4:$W$137,10,FALSE))","v":""},{"$f":"IF(C156=\"\",\"\",VLOOKUP('OPĆI DIO'!$C$1,'OPĆI DIO'!$N$4:$W$137,9,FALSE))","v":""},"",null,"",null,"",null,"","",{"$nulls":4},{"$f":"IF(C156=\"\",\"\",'OPĆI DIO'!$C$1)","v":""},"","","","","","",{"$nulls":9},"A768053","EUROPSKE ŠKOLE","0970","Istraživanje i razvoj obrazovanja","09","097"]
[{"$f":"IF(C157=\"\",\"\",VLOOKUP('OPĆI DIO'!$C$1,'OPĆI DIO'!$N$4:$W$137,10,FALSE))","v":"08006"},{"$f":"IF(C157=\"\",\"\",VLOOKUP('OPĆI DIO'!$C$1,'OPĆI DIO'!$N$4:$W$137,9,FALSE))","v":"Sveučilišta i veleučilišta u Republici Hrvatskoj"},563,563,"Europski fond za regionalni razvoj – predfinanciranje iz izvora 11 Opći prihodi i primici",3237,"Intelektualne i osobne usluge","A679135","PROGRAMSKO I OSTALO FINANCIRANJE JAVNIH VISOKIH UČILIŠTA - IZ EVIDENCIJSKIH PRIHODA","0942",{"v":30618,"d":"30,618"},0,0,null,{"$f":"IF(C157=\"\",\"\",'OPĆI DIO'!$C$1)","v":"1812 Sveučilište u Zagrebu FAKULTET PROMETNIH ZNANOSTI"},"323","32","563","94","3",563,{"$nulls":9},"A768054","DODATNA SREDSTVA IZRAVNANJA ZA DECENTRALIZIRANE FUNKCIJE","0970","Istraživanje i razvoj obrazovanja","09","097"]
[{"$f":"IF(C158=\"\",\"\",VLOOKUP('OPĆI DIO'!$C$1,'OPĆI DIO'!$N$4:$W$137,10,FALSE))","v":""},{"$f":"IF(C158=\"\",\"\",VLOOKUP('OPĆI DIO'!$C$1,'OPĆI DIO'!$N$4:$W$137,9,FALSE))","v":""},"",null,"",null,"",null,"","",{"$nulls":4},{"$f":"IF(C158=\"\",\"\",'OPĆI DIO'!$C$1)","v":""},"","","","","","",{"$nulls":9},"A768058","PREUZETE OBVEZE PO MEĐUNARODNIM UGOVORIMA","0970","Istraživanje i razvoj obrazovanja","09","097"]
[{"$f":"IF(C159=\"\",\"\",VLOOKUP('OPĆI DIO'!$C$1,'OPĆI DIO'!$N$4:$W$137,10,FALSE))","v":""},{"$f":"IF(C159=\"\",\"\",VLOOKUP('OPĆI DIO'!$C$1,'OPĆI DIO'!$N$4:$W$137,9,FALSE))","v":""},"",null,"",null,"",null,"","",{"$nulls":4},{"$f":"IF(C159=\"\",\"\",'OPĆI DIO'!$C$1)","v":""},"","","","","","",{"$nulls":9},"A768063","VELEUČILIŠTE HRVATSKO ZAGORJE KRAPINA","0942","Drugi stupanj visoke naobrazbe","09","094"]
[{"$f":"IF(C160=\"\",\"\",VLOOKUP('OPĆI DIO'!$C$1,'OPĆI DIO'!$N$4:$W$137,10,FALSE))","v":""},{"$f":"IF(C160=\"\",\"\",VLOOKUP('OPĆI DIO'!$C$1,'OPĆI DIO'!$N$4:$W$137,9,FALSE))","v":""},"",null,"",null,"",null,"","",{"$nulls":4},{"$f":"IF(C160=\"\",\"\",'OPĆI DIO'!$C$1)","v":""},"","","","","","",{"$nulls":9},"A768065","OBZOR 2020 - MENTORSTVO ZA UNAPRJEĐENJE ŠKOLE - MENSI","0970","Istraživanje i razvoj obrazovanja","09","097"]
[{"$f":"IF(C161=\"\",\"\",VLOOKUP('OPĆI DIO'!$C$1,'OPĆI DIO'!$N$4:$W$137,10,FALSE))","v":""},{"$f":"IF(C161=\"\",\"\",VLOOKUP('OPĆI DIO'!$C$1,'OPĆI DIO'!$N$4:$W$137,9,FALSE))","v":""},"",null,"",null,"",null,"","",{"$nulls":4},{"$f":"IF(C161=\"\",\"\",'OPĆI DIO'!$C$1)","v":""},"","","","","","",{"$nulls":9},"A768068","OTKUP ZNANSTVENIH KNJIGA I VISOKOŠKOLSKIH UDŽBENIKA","0150","Istraživanje i razvoj: Opće javne usluge","01","015"]
[{"$f":"IF(C162=\"\",\"\",VLOOKUP('OPĆI DIO'!$C$1,'OPĆI DIO'!$N$4:$W$137,10,FALSE))","v":""},{"$f":"IF(C162=\"\",\"\",VLOOKUP('OPĆI DIO'!$C$1,'OPĆI DIO'!$N$4:$W$137,9,FALSE))","v":""},"",null,"",null,"",null,"","",{"$nulls":4},{"$f":"IF(C162=\"\",\"\",'OPĆI DIO'!$C$1)","v":""},"","","","","","",{"$nulls":9},"A768072","PREHRANA ZA UČENIKE U OSNOVNIM ŠKOLAMA","0912","Osnovno obrazovanje","09","091"]
[{"$f":"IF(C163=\"\",\"\",VLOOKUP('OPĆI DIO'!$C$1,'OPĆI DIO'!$N$4:$W$137,10,FALSE))","v":""},{"$f":"IF(C163=\"\",\"\",VLOOKUP('OPĆI DIO'!$C$1,'OPĆI DIO'!$N$4:$W$137,9,FALSE))","v":""},"",null,"",null,"",null,"","",{"$nulls":4},{"$f":"IF(C163=\"\",\"\",'OPĆI DIO'!$C$1)","v":""},"","","","","","",{"$nulls":9},"A768073","ZAŠTITA I PROMICANJE MENTALNOG ZDRAVLJA","0970","Istraživanje i razvoj obrazovanja","09","097"]
[{"$f":"IF(C164=\"\",\"\",VLOOKUP('OPĆI DIO'!$C$1,'OPĆI DIO'!$N$4:$W$137,10,FALSE))","v":""},{"$f":"IF(C164=\"\",\"\",VLOOKUP('OPĆI DIO'!$C$1,'OPĆI DIO'!$N$4:$W$137,9,FALSE))","v":""},"",null,"",null,"",null,"","",{"$nulls":4},{"$f":"IF(C164=\"\",\"\",'OPĆI DIO'!$C$1)","v":""},"","","","","","",{"$nulls":9},"A792009","PREVENCIJA NASILJA NAD I MEĐU MLADIMA","1040","Obitelj i djeca","10","104"]
[{"$f":"IF(C165=\"\",\"\",VLOOKUP('OPĆI DIO'!$C$1,'OPĆI DIO'!$N$4:$W$137,10,FALSE))","v":""},{"$f":"IF(C165=\"\",\"\",VLOOKUP('OPĆI DIO'!$C$1,'OPĆI DIO'!$N$4:$W$137,9,FALSE))","v":""},"",null,"",null,"",null,"","",{"$nulls":4},{"$f":"IF(C165=\"\",\"\",'OPĆI DIO'!$C$1)","v":""},"","","","","","",{"$nulls":9},"A792019","PRAVOMOĆNE SUDSKE PRESUDE","0970","Istraživanje i razvoj obrazovanja","09","097"]
[{"$f":"IF(C166=\"\",\"\",VLOOKUP('OPĆI DIO'!$C$1,'OPĆI DIO'!$N$4:$W$137,10,FALSE))","v":""},{"$f":"IF(C166=\"\",\"\",VLOOKUP('OPĆI DIO'!$C$1,'OPĆI DIO'!$N$4:$W$137,9,FALSE))","v":""},"",null,"",null,"",null,"","",{"$nulls":4},{"$f":"IF(C166=\"\",\"\",'OPĆI DIO'!$C$1)","v":""},"","","","","","",{"$nulls":9},"A814000","MEĐUNARODNI PROJEKTI VREDNOVANJA ZNANJA I VJEŠTINA (IEA: ICCS, ICILS, PIRLS, TIMSS - OECD: PISA, TALIS)","0970","Istraživanje i razvoj obrazovanja","09","097"]
[{"$f":"IF(C167=\"\",\"\",VLOOKUP('OPĆI DIO'!$C$1,'OPĆI DIO'!$N$4:$W$137,10,FALSE))","v":""},{"$f":"IF(C167=\"\",\"\",VLOOKUP('OPĆI DIO'!$C$1,'OPĆI DIO'!$N$4:$W$137,9,FALSE))","v":""},"",null,"",null,"",null,"","",{"$nulls":4},{"$f":"IF(C167=\"\",\"\",'OPĆI DIO'!$C$1)","v":""},"","","","","","",{"$nulls":9},"A814001","DRŽAVNA MATURA","0970","Istraživanje i razvoj obrazovanja","09","097"]
[{"$f":"IF(C168=\"\",\"\",VLOOKUP('OPĆI DIO'!$C$1,'OPĆI DIO'!$N$4:$W$137,10,FALSE))","v":""},{"$f":"IF(C168=\"\",\"\",VLOOKUP('OPĆI DIO'!$C$1,'OPĆI DIO'!$N$4:$W$137,9,FALSE))","v":""},"",null,"",null,"",null,"","",{"$nulls":4},{"$f":"IF(C168=\"\",\"\",'OPĆI DIO'!$C$1)","v":""},"","","","","","",{"$nulls":9},"A814003","NACIONALNI ISPITI","0970","Istraživanje i razvoj obrazovanja","09","097"]
[{"$f":"IF(C169=\"\",\"\",VLOOKUP('OPĆI DIO'!$C$1,'OPĆI DIO'!$N$4:$W$137,10,FALSE))","v":""},{"$f":"IF(C169=\"\",\"\",VLOOKUP('OPĆI DIO'!$C$1,'OPĆI DIO'!$N$4:$W$137,9,FALSE))","v":""},"",null,"",null,"",null,"","",{"$nulls":4},{"$f":"IF(C169=\"\",\"\",'OPĆI DIO'!$C$1)","v":""},"","","","","","",{"$nulls":9},"A814007","UNAPREĐENJE KVALITETE OBRAZOVNOG SUSTAVA","0970","Istraživanje i razvoj obrazovanja","09","097"]
[{"$f":"IF(C170=\"\",\"\",VLOOKUP('OPĆI DIO'!$C$1,'OPĆI DIO'!$N$4:$W$137,10,FALSE))","v":""},{"$f":"IF(C170=\"\",\"\",VLOOKUP('OPĆI DIO'!$C$1,'OPĆI DIO'!$N$4:$W$137,9,FALSE))","v":""},"",null,"",null,"",null,"","",{"$nulls":4},{"$f":"IF(C170=\"\",\"\",'OPĆI DIO'!$C$1)","v":""},"","","","","","",{"$nulls":9},"A818021","PRIMJENA UDŽBENIČKOG STANDARDA","0912","Osnovno obrazovanje","09","091"]
[{"$f":"IF(C171=\"\",\"\",VLOOKUP('OPĆI DIO'!$C$1,'OPĆI DIO'!$N$4:$W$137,10,FALSE))","v":""},{"$f":"IF(C171=\"\",\"\",VLOOKUP('OPĆI DIO'!$C$1,'OPĆI DIO'!$N$4:$W$137,9,FALSE))","v":""},"",null,"",null,"",null,"","",{"$nulls":4},{"$f":"IF(C171=\"\",\"\",'OPĆI DIO'!$C$1)","v":""},"","","","","","",{"$nulls":9},"A818023","PROVEDBA EURODESK MREŽE","0970","Istraživanje i razvoj obrazovanja","09","097"]
[{"$f":"IF(C172=\"\",\"\",VLOOKUP('OPĆI DIO'!$C$1,'OPĆI DIO'!$N$4:$W$137,10,FALSE))","v":""},{"$f":"IF(C172=\"\",\"\",VLOOKUP('OPĆI DIO'!$C$1,'OPĆI DIO'!$N$4:$W$137,9,FALSE))","v":""},"",null,"",null,"",null,"","",{"$nulls":4},{"$f":"IF(C172=\"\",\"\",'OPĆI DIO'!$C$1)","v":""},"","","","","","",{"$nulls":9},"A818024","PROVEDBA E-TWINNING MREŽE","0970","Istraživanje i razvoj obrazovanja","09","097"]
[{"$f":"IF(C173=\"\",\"\",VLOOKUP('OPĆI DIO'!$C$1,'OPĆI DIO'!$N$4:$W$137,10,FALSE))","v":""},{"$f":"IF(C173=\"\",\"\",VLOOKUP('OPĆI DIO'!$C$1,'OPĆI DIO'!$N$4:$W$137,9,FALSE))","v":""},"",null,"",null,"",null,"","",{"$nulls":4},{"$f":"IF(C173=\"\",\"\",'OPĆI DIO'!$C$1)","v":""},"","","","","","",{"$nulls":9},"A818033","ZNANSTVENA I VISOKOŠKOLSKA MOBILNOST","0970","Istraživanje i razvoj obrazovanja","09","097"]
[{"$f":"IF(C174=\"\",\"\",VLOOKUP('OPĆI DIO'!$C$1,'OPĆI DIO'!$N$4:$W$137,10,FALSE))","v":""},{"$f":"IF(C174=\"\",\"\",VLOOKUP('OPĆI DIO'!$C$1,'OPĆI DIO'!$N$4:$W$137,9,FALSE))","v":""},"",null,"",null,"",null,"","",{"$nulls":4},{"$f":"IF(C174=\"\",\"\",'OPĆI DIO'!$C$1)","v":""},"","","","","","",{"$nulls":9},"A818034","PROJEKT POVEZIVANJA S EUROPSKIM KVALIFIKACIJSKIM OKVIROM - EQF NCP GRANT","0970","Istraživanje i razvoj obrazovanja","09","097"]
[{"$f":"IF(C175=\"\",\"\",VLOOKUP('OPĆI DIO'!$C$1,'OPĆI DIO'!$N$4:$W$137,10,FALSE))","v":""},{"$f":"IF(C175=\"\",\"\",VLOOKUP('OPĆI DIO'!$C$1,'OPĆI DIO'!$N$4:$W$137,9,FALSE))","v":""},"",null,"",null,"",null,"","",{"$nulls":4},{"$f":"IF(C175=\"\",\"\",'OPĆI DIO'!$C$1)","v":""},"","","","","","",{"$nulls":9},"A818035","MENTORI I STRUČNI ISPITI U OSNOVNIM I SREDNJIM ŠKOLAMA","0970","Istraživanje i razvoj obrazovanja","09","097"]
[{"$f":"IF(C176=\"\",\"\",VLOOKUP('OPĆI DIO'!$C$1,'OPĆI DIO'!$N$4:$W$137,10,FALSE))","v":""},{"$f":"IF(C176=\"\",\"\",VLOOKUP('OPĆI DIO'!$C$1,'OPĆI DIO'!$N$4:$W$137,9,FALSE))","v":""},"",null,"",null,"",null,"","",{"$nulls":4},{"$f":"IF(C176=\"\",\"\",'OPĆI DIO'!$C$1)","v":""},"","","","","","",{"$nulls":9},"A818042","OBZOR EUROPA I MOBILNOST ISTRAŽIVAČA","0970","Istraživanje i razvoj obrazovanja","09","097"]
[{"$f":"IF(C177=\"\",\"\",VLOOKUP('OPĆI DIO'!$C$1,'OPĆI DIO'!$N$4:$W$137,10,FALSE))","v":""},{"$f":"IF(C177=\"\",\"\",VLOOKUP('OPĆI DIO'!$C$1,'OPĆI DIO'!$N$4:$W$137,9,FALSE))","v":""},"",null,"",null,"",null,"","",{"$nulls":4},{"$f":"IF(C177=\"\",\"\",'OPĆI DIO'!$C$1)","v":""},"","","","","","",{"$nulls":9},"A818043","ERASMUS PLUS PROVEDBA PROGRAMA OD 2014. DO 2020.","0970","Istraživanje i razvoj obrazovanja","09","097"]
[{"$f":"IF(C178=\"\",\"\",VLOOKUP('OPĆI DIO'!$C$1,'OPĆI DIO'!$N$4:$W$137,10,FALSE))","v":""},{"$f":"IF(C178=\"\",\"\",VLOOKUP('OPĆI DIO'!$C$1,'OPĆI DIO'!$N$4:$W$137,9,FALSE))","v":""},"",null,"",null,"",null,"","",{"$nulls":4},{"$f":"IF(C178=\"\",\"\",'OPĆI DIO'!$C$1)","v":""},"","","","","","",{"$nulls":9},"A818044","ERASMUS PLUS – PROJEKTI ZA KORISNIKE OBRAZOVANJE OD 2014. DO 2020.","0970","Istraživanje i razvoj obrazovanja","09","097"]
[{"$f":"IF(C179=\"\",\"\",VLOOKUP('OPĆI DIO'!$C$1,'OPĆI DIO'!$N$4:$W$137,10,FALSE))","v":""},{"$f":"IF(C179=\"\",\"\",VLOOKUP('OPĆI DIO'!$C$1,'OPĆI DIO'!$N$4:$W$137,9,FALSE))","v":""},"",null,"",null,"",null,"","",{"$nulls":4},{"$f":"IF(C179=\"\",\"\",'OPĆI DIO'!$C$1)","v":""},"","","","","","",{"$nulls":9},"A818045","ERASMUS PLUS – PROJEKTI ZA KORISNIKE MLADI OD 2014. DO 2020.","0970","Istraživanje i razvoj obrazovanja","09","097"]
[{"$f":"IF(C180=\"\",\"\",VLOOKUP('OPĆI DIO'!$C$1,'OPĆI DIO'!$N$4:$W$137,10,FALSE))","v":""},{"$f":"IF(C180=\"\",\"\",VLOOKUP('OPĆI DIO'!$C$1,'OPĆI DIO'!$N$4:$W$137,9,FALSE))","v":""},"",null,"",null,"",null,"","",{"$nulls":4},{"$f":"IF(C180=\"\",\"\",'OPĆI DIO'!$C$1)","v":""},"","","","","","",{"$nulls":9},"A818055","PORTAL STUDY IN CROATIA","0970","Istraživanje i razvoj obrazovanja","09","097"]
[{"$f":"IF(C181=\"\",\"\",VLOOKUP('OPĆI DIO'!$C$1,'OPĆI DIO'!$N$4:$W$137,10,FALSE))","v":""},{"$f":"IF(C181=\"\",\"\",VLOOKUP('OPĆI DIO'!$C$1,'OPĆI DIO'!$N$4:$W$137,9,FALSE))","v":""},"",null,"",null,"",null,"","",{"$nulls":4},{"$f":"IF(C181=\"\",\"\",'OPĆI DIO'!$C$1)","v":""},"","","","","","",{"$nulls":9},"A818058","EUROPSKE SNAGE SOLIDARNOSTI PROVEDBA PROGRAMA","0970","Istraživanje i razvoj obrazovanja","09","097"]
[{"$f":"IF(C182=\"\",\"\",VLOOKUP('OPĆI DIO'!$C$1,'OPĆI DIO'!$N$4:$W$137,10,FALSE))","v":""},{"$f":"IF(C182=\"\",\"\",VLOOKUP('OPĆI DIO'!$C$1,'OPĆI DIO'!$N$4:$W$137,9,FALSE))","v":""},"",null,"",null,"",null,"","",{"$nulls":4},{"$f":"IF(C182=\"\",\"\",'OPĆI DIO'!$C$1)","v":""},"","","","","","",{"$nulls":9},"A818059","EUROPSKE SNAGE SOLIDARNOSTI - PROJEKTI ZA KORISNIKE OD 2018. DO 2020.","0970","Istraživanje i razvoj obrazovanja","09","097"]
[{"$f":"IF(C183=\"\",\"\",VLOOKUP('OPĆI DIO'!$C$1,'OPĆI DIO'!$N$4:$W$137,10,FALSE))","v":""},{"$f":"IF(C183=\"\",\"\",VLOOKUP('OPĆI DIO'!$C$1,'OPĆI DIO'!$N$4:$W$137,9,FALSE))","v":""},"",null,"",null,"",null,"","",{"$nulls":4},{"$f":"IF(C183=\"\",\"\",'OPĆI DIO'!$C$1)","v":""},"","","","","","",{"$nulls":9},"A818060","EURYDICE EUROPSKA MREŽA ZA PODATKE I ANALIZE O SUSTAVIMA OBRAZOVANJA","0970","Istraživanje i razvoj obrazovanja","09","097"]
[{"$f":"IF(C184=\"\",\"\",VLOOKUP('OPĆI DIO'!$C$1,'OPĆI DIO'!$N$4:$W$137,10,FALSE))","v":""},{"$f":"IF(C184=\"\",\"\",VLOOKUP('OPĆI DIO'!$C$1,'OPĆI DIO'!$N$4:$W$137,9,FALSE))","v":""},"",null,"",null,"",null,"","",{"$nulls":4},{"$f":"IF(C184=\"\",\"\",'OPĆI DIO'!$C$1)","v":""},"","","","","","",{"$nulls":9},"A818061","ERASMUS PLUS - SUFINANCIRANJE – DIO PROVEDBE MLADI","0970","Istraživanje i razvoj obrazovanja","09","097"]
[{"$f":"IF(C185=\"\",\"\",VLOOKUP('OPĆI DIO'!$C$1,'OPĆI DIO'!$N$4:$W$137,10,FALSE))","v":""},{"$f":"IF(C185=\"\",\"\",VLOOKUP('OPĆI DIO'!$C$1,'OPĆI DIO'!$N$4:$W$137,9,FALSE))","v":""},"",null,"",null,"",null,"","",{"$nulls":4},{"$f":"IF(C185=\"\",\"\",'OPĆI DIO'!$C$1)","v":""},"","","","","","",{"$nulls":9},"A818063","EUROPSKE SNAGE SOLIDARNOSTI - PROJEKTI ZA KORISNIKE OD 2021. DO 2027.","0970","Istraživanje i razvoj obrazovanja","09","097"]
[{"$f":"IF(C186=\"\",\"\",VLOOKUP('OPĆI DIO'!$C$1,'OPĆI DIO'!$N$4:$W$137,10,FALSE))","v":""},{"$f":"IF(C186=\"\",\"\",VLOOKUP('OPĆI DIO'!$C$1,'OPĆI DIO'!$N$4:$W$137,9,FALSE))","v":""},"",null,"",null,"",null,"","",{"$nulls":4},{"$f":"IF(C186=\"\",\"\",'OPĆI DIO'!$C$1)","v":""},"","","","","","",{"$nulls":9},"A818064","ERASMUS - PROJEKTI  ZA KORISNIKE OBRAZOVANJE OD 2021. DO 2027.","0970","Istraživanje i razvoj obrazovanja","09","097"]
[{"$f":"IF(C187=\"\",\"\",VLOOKUP('OPĆI DIO'!$C$1,'OPĆI DIO'!$N$4:$W$137,10,FALSE))","v":""},{"$f":"IF(C187=\"\",\"\",VLOOKUP('OPĆI DIO'!$C$1,'OPĆI DIO'!$N$4:$W$137,9,FALSE))","v":""},"",null,"",null,"",null,"","",{"$nulls":4},{"$f":"IF(C187=\"\",\"\",'OPĆI DIO'!$C$1)","v":""},"","","","","","",{"$nulls":9},"A818065","ERASMUS - PROJEKTI ZA KORISNIKE MLADI OD 2021. DO 2027.","0970","Istraživanje i razvoj obrazovanja","09","097"]
[{"$f":"IF(C188=\"\",\"\",VLOOKUP('OPĆI DIO'!$C$1,'OPĆI DIO'!$N$4:$W$137,10,FALSE))","v":""},{"$f":"IF(C188=\"\",\"\",VLOOKUP('OPĆI DIO'!$C$1,'OPĆI DIO'!$N$4:$W$137,9,FALSE))","v":""},"",null,"",null,"",null,"","",{"$nulls":4},{"$f":"IF(C188=\"\",\"\",'OPĆI DIO'!$C$1)","v":""},"","","","","","",{"$nulls":9},"A818070","PROVEDBA EUROPASS I EUROGUIDANCE","0970","Istraživanje i razvoj obrazovanja","09","097"]
[{"$f":"IF(C189=\"\",\"\",VLOOKUP('OPĆI DIO'!$C$1,'OPĆI DIO'!$N$4:$W$137,10,FALSE))","v":""},{"$f":"IF(C189=\"\",\"\",VLOOKUP('OPĆI DIO'!$C$1,'OPĆI DIO'!$N$4:$W$137,9,FALSE))","v":""},"",null,"",null,"",null,"","",{"$nulls":4},{"$f":"IF(C189=\"\",\"\",'OPĆI DIO'!$C$1)","v":""},"","","","","","",{"$nulls":9},"A818071","VET RADNA SKUPINA","0970","Istraživanje i razvoj obrazovanja","09","097"]
[{"$f":"IF(C190=\"\",\"\",VLOOKUP('OPĆI DIO'!$C$1,'OPĆI DIO'!$N$4:$W$137,10,FALSE))","v":""},{"$f":"IF(C190=\"\",\"\",VLOOKUP('OPĆI DIO'!$C$1,'OPĆI DIO'!$N$4:$W$137,9,FALSE))","v":""},"",null,"",null,"",null,"","",{"$nulls":4},{"$f":"IF(C190=\"\",\"\",'OPĆI DIO'!$C$1)","v":""},"","","","","","",{"$nulls":9},"A818073","SALTO - REFERENTNI CENTAR ZA TEMU UKLJUČIVOSTI U PODRUČJU OBRAZOVANJA NA EUROPSKOJ RAZINI","0970","Istraživanje i razvoj obrazovanja","09","097"]
[{"$f":"IF(C191=\"\",\"\",VLOOKUP('OPĆI DIO'!$C$1,'OPĆI DIO'!$N$4:$W$137,10,FALSE))","v":""},{"$f":"IF(C191=\"\",\"\",VLOOKUP('OPĆI DIO'!$C$1,'OPĆI DIO'!$N$4:$W$137,9,FALSE))","v":""},"",null,"",null,"",null,"","",{"$nulls":4},{"$f":"IF(C191=\"\",\"\",'OPĆI DIO'!$C$1)","v":""},"","","","","","",{"$nulls":9},"A818075","ERASMUS - PROJEKTI ZA KORISNIKE PODRUČJA SPORT OD 2021. DO 2027.","0970","Istraživanje i razvoj obrazovanja","09","097"]
[{"$f":"IF(C192=\"\",\"\",VLOOKUP('OPĆI DIO'!$C$1,'OPĆI DIO'!$N$4:$W$137,10,FALSE))","v":""},{"$f":"IF(C192=\"\",\"\",VLOOKUP('OPĆI DIO'!$C$1,'OPĆI DIO'!$N$4:$W$137,9,FALSE))","v":""},"",null,"",null,"",null,"","",{"$nulls":4},{"$f":"IF(C192=\"\",\"\",'OPĆI DIO'!$C$1)","v":""},"","","","","","",{"$nulls":9},"A848001","ADMINISTRACIJA I UPRAVLJANJE AGENCIJE ZA STRUKOVNO OBRAZOVANJE I  OBRAZOVANJE ODRASLIH","0950","Obrazovanje koje se ne može definirati po stupnju","09","095"]
[{"$f":"IF(C193=\"\",\"\",VLOOKUP('OPĆI DIO'!$C$1,'OPĆI DIO'!$N$4:$W$137,10,FALSE))","v":""},{"$f":"IF(C193=\"\",\"\",VLOOKUP('OPĆI DIO'!$C$1,'OPĆI DIO'!$N$4:$W$137,9,FALSE))","v":""},"",null,"",null,"",null,"","",{"$nulls":4},{"$f":"IF(C193=\"\",\"\",'OPĆI DIO'!$C$1)","v":""},"","","","","","",{"$nulls":9},"A848009","PROMICANJE KULTURE UČENJA: TJEDAN CJELOŽIVOTNOG UČENJA","0970","Istraživanje i razvoj obrazovanja","09","097"]
[{"$f":"IF(C194=\"\",\"\",VLOOKUP('OPĆI DIO'!$C$1,'OPĆI DIO'!$N$4:$W$137,10,FALSE))","v":""},{"$f":"IF(C194=\"\",\"\",VLOOKUP('OPĆI DIO'!$C$1,'OPĆI DIO'!$N$4:$W$137,9,FALSE))","v":""},"",null,"",null,"",null,"","",{"$nulls":4},{"$f":"IF(C194=\"\",\"\",'OPĆI DIO'!$C$1)","v":""},"","","","","","",{"$nulls":9},"A848010","STRUČNO SAVJETODAVNA DJELATNOST","0970","Istraživanje i razvoj obrazovanja","09","097"]
[{"$f":"IF(C195=\"\",\"\",VLOOKUP('OPĆI DIO'!$C$1,'OPĆI DIO'!$N$4:$W$137,10,FALSE))","v":""},{"$f":"IF(C195=\"\",\"\",VLOOKUP('OPĆI DIO'!$C$1,'OPĆI DIO'!$N$4:$W$137,9,FALSE))","v":""},"",null,"",null,{"$f":"IFERROR(VLOOKUP(F195,$Y$5:$AA$129,2,FALSE),\"\")","v":""},null,{"$f":"IFERROR(VLOOKUP(H195,$AE$6:$AF$353,2,FALSE),\"\")","v":""},{"$f":"IFERROR(VLOOKUP(H195,$AE$6:$AI$353,3,FALSE),\"\")","v":""},{"$nulls":4},{"$f":"IF(C195=\"\",\"\",'OPĆI DIO'!$C$1)","v":""},"","","","","","",{"$nulls":9},"A848014","RAZVOJ SUSTAVA STRUKOVNOG OBRAZOVANJA","0970","Istraživanje i razvoj obrazovanja","09","097"]
[{"$f":"IF(C196=\"\",\"\",VLOOKUP('OPĆI DIO'!$C$1,'OPĆI DIO'!$N$4:$W$137,10,FALSE))","v":""},{"$f":"IF(C196=\"\",\"\",VLOOKUP('OPĆI DIO'!$C$1,'OPĆI DIO'!$N$4:$W$137,9,FALSE))","v":""},{"$f":"IFERROR(VLOOKUP(D196,$V$6:$X$34,3,FALSE),\"\")","v":""},null,{"$f":"IFERROR(VLOOKUP(D196,$V$6:$W$34,2,FALSE),\"\")","v":""},null,"",null,"","",{"$nulls":4},{"$f":"IF(C196=\"\",\"\",'OPĆI DIO'!$C$1)","v":""},{"$f":"LEFT(F196,3)","v":""},{"$f":"LEFT(F196,2)","v":""},{"$f":"LEFT(C196,3)","v":""},{"$f":"MID(J196,2,2)","v":""},{"$f":"LEFT(F196,1)","v":""},{"$f":"IFERROR(VLOOKUP(C196,$V$6:$X$34,3,FALSE),\"\")","v":""},{"$nulls":9},"A848018","DRŽAVNA NATJECANJA","0970","Istraživanje i razvoj obrazovanja","09","097"]
[{"$f":"IF(C197=\"\",\"\",VLOOKUP('OPĆI DIO'!$C$1,'OPĆI DIO'!$N$4:$W$137,10,FALSE))","v":""},{"$f":"IF(C197=\"\",\"\",VLOOKUP('OPĆI DIO'!$C$1,'OPĆI DIO'!$N$4:$W$137,9,FALSE))","v":""},"",null,"",null,"",null,"","",{"$nulls":4},{"$f":"IF(C197=\"\",\"\",'OPĆI DIO'!$C$1)","v":""},"","","","","","",{"$nulls":9},"A848020","RAZVOJ SUSTAVA OBRAZOVANJA ODRASLIH","0970","Istraživanje i razvoj obrazovanja","09","097"]
[{"$f":"IF(C198=\"\",\"\",VLOOKUP('OPĆI DIO'!$C$1,'OPĆI DIO'!$N$4:$W$137,10,FALSE))","v":""},{"$f":"IF(C198=\"\",\"\",VLOOKUP('OPĆI DIO'!$C$1,'OPĆI DIO'!$N$4:$W$137,9,FALSE))","v":""},"",null,"",null,"",null,"","",{"$nulls":4},{"$f":"IF(C198=\"\",\"\",'OPĆI DIO'!$C$1)","v":""},"","","","","","",{"$nulls":9},"A848023","REFERNET U REPUBLICI HRVATSKOJ","0970","Istraživanje i razvoj obrazovanja","09","097"]
[{"$f":"IF(C199=\"\",\"\",VLOOKUP('OPĆI DIO'!$C$1,'OPĆI DIO'!$N$4:$W$137,10,FALSE))","v":""},{"$f":"IF(C199=\"\",\"\",VLOOKUP('OPĆI DIO'!$C$1,'OPĆI DIO'!$N$4:$W$137,9,FALSE))","v":""},"",null,"",null,"",null,"","",{"$nulls":4},{"$f":"IF(C199=\"\",\"\",'OPĆI DIO'!$C$1)","v":""},"","","","","","",{"$nulls":9},"A848051","ERASMUS PLUS - PROJEKTI","0970","Istraživanje i razvoj obrazovanja",{"$f":"LEFT(AG199,2)","v":"09"},{"$f":"LEFT(AG199,3)","v":"097"}]
[{"$f":"IF(C200=\"\",\"\",VLOOKUP('OPĆI DIO'!$C$1,'OPĆI DIO'!$N$4:$W$137,10,FALSE))","v":""},{"$f":"IF(C200=\"\",\"\",VLOOKUP('OPĆI DIO'!$C$1,'OPĆI DIO'!$N$4:$W$137,9,FALSE))","v":""},"",null,"",null,"",null,"","",{"$nulls":4},{"$f":"IF(C200=\"\",\"\",'OPĆI DIO'!$C$1)","v":""},"","","","","","",{"$nulls":9},"A867018","PRIMJENA HRVATSKOG KVALIFIKACIJSKOG OKVIRA U VISOKOM OBRAZOVANJU","0942","Drugi stupanj visoke naobrazbe","09","094"]
[{"$f":"IF(C201=\"\",\"\",VLOOKUP('OPĆI DIO'!$C$1,'OPĆI DIO'!$N$4:$W$137,10,FALSE))","v":""},{"$f":"IF(C201=\"\",\"\",VLOOKUP('OPĆI DIO'!$C$1,'OPĆI DIO'!$N$4:$W$137,9,FALSE))","v":""},"",null,"",null,"",null,"","",{"$nulls":4},{"$f":"IF(C201=\"\",\"\",'OPĆI DIO'!$C$1)","v":""},"","","","","","",{"$nulls":9},"A867019","DIGITALNA PREOBRAZBA VISOKOG OBRAZOVANJA – e-SVEUČILIŠTA - NPOO (C3.1.R2)","0942","Drugi stupanj visoke naobrazbe","09","094"]
[{"$f":"IF(C202=\"\",\"\",VLOOKUP('OPĆI DIO'!$C$1,'OPĆI DIO'!$N$4:$W$137,10,FALSE))","v":""},{"$f":"IF(C202=\"\",\"\",VLOOKUP('OPĆI DIO'!$C$1,'OPĆI DIO'!$N$4:$W$137,9,FALSE))","v":""},"",null,"",null,"",null,"","",{"$nulls":4},{"$f":"IF(C202=\"\",\"\",'OPĆI DIO'!$C$1)","v":""},"","","","","","",{"$nulls":9},"A867021","ERASMUS PLUS - PROJEKTI","0942","Drugi stupanj visoke naobrazbe","09","094"]
[{"$f":"IF(C203=\"\",\"\",VLOOKUP('OPĆI DIO'!$C$1,'OPĆI DIO'!$N$4:$W$137,10,FALSE))","v":""},{"$f":"IF(C203=\"\",\"\",VLOOKUP('OPĆI DIO'!$C$1,'OPĆI DIO'!$N$4:$W$137,9,FALSE))","v":""},"",null,"",null,"",null,"","",{"$nulls":4},{"$f":"IF(C203=\"\",\"\",'OPĆI DIO'!$C$1)","v":""},"","","","","","",{"$nulls":9},"A867023","USPOSTAVA SREDIŠNJEG SUSTAVA INTEROPERABILNOSTI - NPOO (C2.3.R2-I1)","0942","Drugi stupanj visoke naobrazbe","09","094"]
[{"$f":"IF(C204=\"\",\"\",VLOOKUP('OPĆI DIO'!$C$1,'OPĆI DIO'!$N$4:$W$137,10,FALSE))","v":""},{"$f":"IF(C204=\"\",\"\",VLOOKUP('OPĆI DIO'!$C$1,'OPĆI DIO'!$N$4:$W$137,9,FALSE))","v":""},"",null,"",null,"",null,"","",{"$nulls":4},{"$f":"IF(C204=\"\",\"\",'OPĆI DIO'!$C$1)","v":""},"","","","","","",{"$nulls":9},"K110283","OPREMANJE OSNOVNOŠKOLSKIH KNJIŽNICA OBVEZNOM LEKTIROM I STRUČNOM LITERATUROM","0912","Osnovno obrazovanje","09","091"]
[{"$f":"IF(C205=\"\",\"\",VLOOKUP('OPĆI DIO'!$C$1,'OPĆI DIO'!$N$4:$W$137,10,FALSE))","v":""},{"$f":"IF(C205=\"\",\"\",VLOOKUP('OPĆI DIO'!$C$1,'OPĆI DIO'!$N$4:$W$137,9,FALSE))","v":""},"",null,"",null,"",null,"","",{"$nulls":4},{"$f":"IF(C205=\"\",\"\",'OPĆI DIO'!$C$1)","v":""},"","","","","","",{"$nulls":9},"K110291","OPREMANJE SREDNJOŠKOLSKIH KNJIŽNICA LEKTIROM I STRUČNOM LITERATUROM","0922","Više srednjoškolsko obrazovanje","09","092"]
[{"$f":"IF(C206=\"\",\"\",VLOOKUP('OPĆI DIO'!$C$1,'OPĆI DIO'!$N$4:$W$137,10,FALSE))","v":""},{"$f":"IF(C206=\"\",\"\",VLOOKUP('OPĆI DIO'!$C$1,'OPĆI DIO'!$N$4:$W$137,9,FALSE))","v":""},"",null,"",null,"",null,"","",{"$nulls":4},{"$f":"IF(C206=\"\",\"\",'OPĆI DIO'!$C$1)","v":""},"","","","","","",{"$nulls":9},"K252755","RAČUNALNO KOMUNIKACIJSKA INFRASTRUKTURA U OSNOVNIM I SREDNJIM ŠKOLAMA","0980","Usluge obrazovanja koje nisu drugdje svrstane","09","098"]
[{"$f":"IF(C207=\"\",\"\",VLOOKUP('OPĆI DIO'!$C$1,'OPĆI DIO'!$N$4:$W$137,10,FALSE))","v":""},{"$f":"IF(C207=\"\",\"\",VLOOKUP('OPĆI DIO'!$C$1,'OPĆI DIO'!$N$4:$W$137,9,FALSE))","v":""},"",null,"",null,"",null,"","",{"$nulls":4},{"$f":"IF(C207=\"\",\"\",'OPĆI DIO'!$C$1)","v":""},"","","","","","",{"$nulls":9},"K406669","CARNET - ZAJEDNIČKA RK INFRASTRUKTURA","0133","Ostale opće usluge","01","013"]
[{"$f":"IF(C208=\"\",\"\",VLOOKUP('OPĆI DIO'!$C$1,'OPĆI DIO'!$N$4:$W$137,10,FALSE))","v":""},{"$f":"IF(C208=\"\",\"\",VLOOKUP('OPĆI DIO'!$C$1,'OPĆI DIO'!$N$4:$W$137,9,FALSE))","v":""},"",null,"",null,"",null,"","",{"$nulls":4},{"$f":"IF(C208=\"\",\"\",'OPĆI DIO'!$C$1)","v":""},"","","","","","",{"$nulls":9},"K578063","PROJEKT \"HRVATSKA: USUSRET ODRŽIVOM, PRAVEDNOM I UČINKOVITOM OBRAZOVANJU\"","0970","Istraživanje i razvoj obrazovanja","09","097"]
[{"$f":"IF(C209=\"\",\"\",VLOOKUP('OPĆI DIO'!$C$1,'OPĆI DIO'!$N$4:$W$137,10,FALSE))","v":""},{"$f":"IF(C209=\"\",\"\",VLOOKUP('OPĆI DIO'!$C$1,'OPĆI DIO'!$N$4:$W$137,9,FALSE))","v":""},"",null,"",null,"",null,"","",{"$nulls":4},{"$f":"IF(C209=\"\",\"\",'OPĆI DIO'!$C$1)","v":""},"","","","","","",{"$nulls":9},"K578064","CENTAR ZA ODGOJ I OBRAZOVANJE ČAKOVEC","0912","Osnovno obrazovanje","09","091"]
[{"$f":"IF(C210=\"\",\"\",VLOOKUP('OPĆI DIO'!$C$1,'OPĆI DIO'!$N$4:$W$137,10,FALSE))","v":""},{"$f":"IF(C210=\"\",\"\",VLOOKUP('OPĆI DIO'!$C$1,'OPĆI DIO'!$N$4:$W$137,9,FALSE))","v":""},"",null,"",null,"",null,"","",{"$nulls":4},{"$f":"IF(C210=\"\",\"\",'OPĆI DIO'!$C$1)","v":""},"","","","","","",{"$nulls":9},"K578068","IZGRADNJA, DOGRADNJA, REKONSTRUKCIJA I OPREMANJE SREDNJIH ŠKOLA - NPOO (C3.1.R1-I3)","0922","Više srednjoškolsko obrazovanje","09","092"]
[{"$f":"IF(C211=\"\",\"\",VLOOKUP('OPĆI DIO'!$C$1,'OPĆI DIO'!$N$4:$W$137,10,FALSE))","v":""},{"$f":"IF(C211=\"\",\"\",VLOOKUP('OPĆI DIO'!$C$1,'OPĆI DIO'!$N$4:$W$137,9,FALSE))","v":""},"",null,"",null,"",null,"","",{"$nulls":4},{"$f":"IF(C211=\"\",\"\",'OPĆI DIO'!$C$1)","v":""},"","","","","","",{"$nulls":9},"K578070","POBOLJŠANJE UČINKOVITOSTI JAVNIH ULAGANJA NA PODRUČJU ISTRAŽIVANJA, RAZVOJA I INOVACIJA - NPOO (C3.2.R3)","0150","Istraživanje i razvoj: Opće javne usluge","01","015"]
[{"$f":"IF(C212=\"\",\"\",VLOOKUP('OPĆI DIO'!$C$1,'OPĆI DIO'!$N$4:$W$137,10,FALSE))","v":""},{"$f":"IF(C212=\"\",\"\",VLOOKUP('OPĆI DIO'!$C$1,'OPĆI DIO'!$N$4:$W$137,9,FALSE))","v":""},"",null,"",null,"",null,"","",{"$nulls":4},{"$f":"IF(C212=\"\",\"\",'OPĆI DIO'!$C$1)","v":""},"","","","","","",{"$nulls":9},"K579064","KAPITALNE INVESTICIJE U OSNOVNOM I SREDNJEM ŠKOLSTVU","0970","Istraživanje i razvoj obrazovanja","09","097"]
[{"$f":"IF(C213=\"\",\"\",VLOOKUP('OPĆI DIO'!$C$1,'OPĆI DIO'!$N$4:$W$137,10,FALSE))","v":""},{"$f":"IF(C213=\"\",\"\",VLOOKUP('OPĆI DIO'!$C$1,'OPĆI DIO'!$N$4:$W$137,9,FALSE))","v":""},"",null,"",null,"",null,"","",{"$nulls":4},{"$f":"IF(C213=\"\",\"\",'OPĆI DIO'!$C$1)","v":""},"","","","","","",{"$nulls":9},"K579074","PROGRAM UČINKOVITI LJUDSKI POTENCIJALI 2021.-2027.","0970","Istraživanje i razvoj obrazovanja","09","097"]
[{"$f":"IF(C214=\"\",\"\",VLOOKUP('OPĆI DIO'!$C$1,'OPĆI DIO'!$N$4:$W$137,10,FALSE))","v":""},{"$f":"IF(C214=\"\",\"\",VLOOKUP('OPĆI DIO'!$C$1,'OPĆI DIO'!$N$4:$W$137,9,FALSE))","v":""},"",null,"",null,"",null,"","",{"$nulls":4},{"$f":"IF(C214=\"\",\"\",'OPĆI DIO'!$C$1)","v":""},"","","","","","",{"$nulls":9},"K580071","KAPITALNE POMOĆI OSNIVAČIMA PREDŠKOLSKIH USTANOVA","0911","Predškolsko obrazovanje","09","091"]
[{"$f":"IF(C215=\"\",\"\",VLOOKUP('OPĆI DIO'!$C$1,'OPĆI DIO'!$N$4:$W$137,10,FALSE))","v":""},{"$f":"IF(C215=\"\",\"\",VLOOKUP('OPĆI DIO'!$C$1,'OPĆI DIO'!$N$4:$W$137,9,FALSE))","v":""},"",null,"",null,"",null,"","",{"$nulls":4},{"$f":"IF(C215=\"\",\"\",'OPĆI DIO'!$C$1)","v":""},"","","","","","",{"$nulls":9},"K580073","IZGRADNJA ŠKOLSKE SPORTSKE DVORANE SREDNJE ŠKOLE ZABOK","0922","Više srednjoškolsko obrazovanje","09","092"]
[{"$f":"IF(C216=\"\",\"\",VLOOKUP('OPĆI DIO'!$C$1,'OPĆI DIO'!$N$4:$W$137,10,FALSE))","v":""},{"$f":"IF(C216=\"\",\"\",VLOOKUP('OPĆI DIO'!$C$1,'OPĆI DIO'!$N$4:$W$137,9,FALSE))","v":""},"",null,"",null,"",null,"","",{"$nulls":4},{"$f":"IF(C216=\"\",\"\",'OPĆI DIO'!$C$1)","v":""},"","","","","","",{"$nulls":9},"K580074","POTPORA PROVOĐENJU PROGRAMA I PROJEKATA EU","0150","Istraživanje i razvoj: Opće javne usluge","01","015"]
[{"$f":"IF(C217=\"\",\"\",VLOOKUP('OPĆI DIO'!$C$1,'OPĆI DIO'!$N$4:$W$137,10,FALSE))","v":""},{"$f":"IF(C217=\"\",\"\",VLOOKUP('OPĆI DIO'!$C$1,'OPĆI DIO'!$N$4:$W$137,9,FALSE))","v":""},"",null,"",null,"",null,"","",{"$nulls":4},{"$f":"IF(C217=\"\",\"\",'OPĆI DIO'!$C$1)","v":""},"","","","","","",{"$nulls":9},"K621061","INFRASTRUKTURA VISOKOOBRAZOVNIH USTANOVA","0942","Drugi stupanj visoke naobrazbe","09","094"]
[{"$f":"IF(C218=\"\",\"\",VLOOKUP('OPĆI DIO'!$C$1,'OPĆI DIO'!$N$4:$W$137,10,FALSE))","v":""},{"$f":"IF(C218=\"\",\"\",VLOOKUP('OPĆI DIO'!$C$1,'OPĆI DIO'!$N$4:$W$137,9,FALSE))","v":""},"",null,"",null,"",null,"","",{"$nulls":4},{"$f":"IF(C218=\"\",\"\",'OPĆI DIO'!$C$1)","v":""},"","","","","","",{"$nulls":9},"K621173","INFORMACIJSKA INFRASTRUKTURA SUSTAVA VISOKOG OBRAZOVANJA","0942","Drugi stupanj visoke naobrazbe","09","094"]
[{"$f":"IF(C219=\"\",\"\",VLOOKUP('OPĆI DIO'!$C$1,'OPĆI DIO'!$N$4:$W$137,10,FALSE))","v":""},{"$f":"IF(C219=\"\",\"\",VLOOKUP('OPĆI DIO'!$C$1,'OPĆI DIO'!$N$4:$W$137,9,FALSE))","v":""},"",null,"",null,"",null,"","",{"$nulls":4},{"$f":"IF(C219=\"\",\"\",'OPĆI DIO'!$C$1)","v":""},"","","","","","",{"$nulls":9},"K621178","OPREMANJE I UREĐENJE AGENCIJE ZA ZNANOST I VISOKO OBRAZOVANJE","0942","Drugi stupanj visoke naobrazbe","09","094"]
[{"$f":"IF(C220=\"\",\"\",VLOOKUP('OPĆI DIO'!$C$1,'OPĆI DIO'!$N$4:$W$137,10,FALSE))","v":""},{"$f":"IF(C220=\"\",\"\",VLOOKUP('OPĆI DIO'!$C$1,'OPĆI DIO'!$N$4:$W$137,9,FALSE))","v":""},"",null,"",null,"",null,"","",{"$nulls":4},{"$f":"IF(C220=\"\",\"\",'OPĆI DIO'!$C$1)","v":""},"","","","","","",{"$nulls":9},"K621194","NACIONALNI INFORMACIJSKI SUSTAV PRIJAVA NA VISOKA UČILIŠTA - NISpVU","0942","Drugi stupanj visoke naobrazbe","09","094"]
[{"$f":"IF(C221=\"\",\"\",VLOOKUP('OPĆI DIO'!$C$1,'OPĆI DIO'!$N$4:$W$137,10,FALSE))","v":""},{"$f":"IF(C221=\"\",\"\",VLOOKUP('OPĆI DIO'!$C$1,'OPĆI DIO'!$N$4:$W$137,9,FALSE))","v":""},"",null,"",null,"",null,"","",{"$nulls":4},{"$f":"IF(C221=\"\",\"\",'OPĆI DIO'!$C$1)","v":""},"","","","","","",{"$nulls":9},"K622116","KNJIGE, UMJETNIČKA DJELA I OSTALE IZLOŽBENE VRIJEDNOSTI","0820","Službe kulture","08","082"]
[{"$f":"IF(C222=\"\",\"\",VLOOKUP('OPĆI DIO'!$C$1,'OPĆI DIO'!$N$4:$W$137,10,FALSE))","v":""},{"$f":"IF(C222=\"\",\"\",VLOOKUP('OPĆI DIO'!$C$1,'OPĆI DIO'!$N$4:$W$137,9,FALSE))","v":""},"",null,"",null,"",null,"","",{"$nulls":4},{"$f":"IF(C222=\"\",\"\",'OPĆI DIO'!$C$1)","v":""},"","","","","","",{"$nulls":9},"K622138","OBNOVA INFRASTRUKTURE I OPREME U PODRUČJU OBRAZOVANJA OŠTEĆENE POTRESOM","0150","Istraživanje i razvoj: Opće javne usluge","01","015"]
[{"$f":"IF(C223=\"\",\"\",VLOOKUP('OPĆI DIO'!$C$1,'OPĆI DIO'!$N$4:$W$137,10,FALSE))","v":""},{"$f":"IF(C223=\"\",\"\",VLOOKUP('OPĆI DIO'!$C$1,'OPĆI DIO'!$N$4:$W$137,9,FALSE))","v":""},"",null,"",null,"",null,"","",{"$nulls":4},{"$f":"IF(C223=\"\",\"\",'OPĆI DIO'!$C$1)","v":""},"","","","","","",{"$nulls":9},"K622139","OBNOVA ZGRADA OŠTEĆENIH U POTRESU S ENERGETSKOM OBNOVOM - NPOO (C6.1.R1-I2)","0150","Istraživanje i razvoj: Opće javne usluge","01","015"]
[{"$f":"IF(C224=\"\",\"\",VLOOKUP('OPĆI DIO'!$C$1,'OPĆI DIO'!$N$4:$W$137,10,FALSE))","v":""},{"$f":"IF(C224=\"\",\"\",VLOOKUP('OPĆI DIO'!$C$1,'OPĆI DIO'!$N$4:$W$137,9,FALSE))","v":""},"",null,"",null,"",null,"","",{"$nulls":4},{"$f":"IF(C224=\"\",\"\",'OPĆI DIO'!$C$1)","v":""},"","","","","","",{"$nulls":9},"K622142","RAZVOJ ODRŽIVOG, INOVATIVNOG I OTPORNOG TURIZMA  (C1.6 R1) - NPOO","0150","Istraživanje i razvoj: Opće javne usluge","01","015"]
[{"$f":"IF(C225=\"\",\"\",VLOOKUP('OPĆI DIO'!$C$1,'OPĆI DIO'!$N$4:$W$137,10,FALSE))","v":""},{"$f":"IF(C225=\"\",\"\",VLOOKUP('OPĆI DIO'!$C$1,'OPĆI DIO'!$N$4:$W$137,9,FALSE))","v":""},"",null,"",null,"",null,"","",{"$nulls":4},{"$f":"IF(C225=\"\",\"\",'OPĆI DIO'!$C$1)","v":""},"","","","","","",{"$nulls":9},"K622144","OBNOVA INFRASTRUKTURE U PODRUČJU OBRAZOVANJA OŠTEĆENE POTRESOM FSEU.2022.MZO","0150","Istraživanje i razvoj: Opće javne usluge","01","015"]
[{"$f":"IF(C226=\"\",\"\",VLOOKUP('OPĆI DIO'!$C$1,'OPĆI DIO'!$N$4:$W$137,10,FALSE))","v":""},{"$f":"IF(C226=\"\",\"\",VLOOKUP('OPĆI DIO'!$C$1,'OPĆI DIO'!$N$4:$W$137,9,FALSE))","v":""},"",null,"",null,"",null,"","",{"$nulls":4},{"$f":"IF(C226=\"\",\"\",'OPĆI DIO'!$C$1)","v":""},"","","","","","",{"$nulls":9},"K622147","PROJEKT E-SVEUČILIŠTA - NPOO (C.3.1. R2-I1)","0820","Službe kulture","08","082"]
[{"$f":"IF(C227=\"\",\"\",VLOOKUP('OPĆI DIO'!$C$1,'OPĆI DIO'!$N$4:$W$137,10,FALSE))","v":""},{"$f":"IF(C227=\"\",\"\",VLOOKUP('OPĆI DIO'!$C$1,'OPĆI DIO'!$N$4:$W$137,9,FALSE))","v":""},"",null,"",null,"",null,"","",{"$nulls":4},{"$f":"IF(C227=\"\",\"\",'OPĆI DIO'!$C$1)","v":""},"","","","","","",{"$nulls":9},"K622149","REFORMA I JAČANJE KAPACITETA JAVNOG ZNANSTVENO-ISTRAŽIVAČKOG SEKTORA ZA ISTRAŽIVNJE I RAZVOJ - NPOO (C3.2.R1)","0150","Istraživanje i razvoj: Opće javne usluge","01","015"]
[{"$f":"IF(C228=\"\",\"\",VLOOKUP('OPĆI DIO'!$C$1,'OPĆI DIO'!$N$4:$W$137,10,FALSE))","v":""},{"$f":"IF(C228=\"\",\"\",VLOOKUP('OPĆI DIO'!$C$1,'OPĆI DIO'!$N$4:$W$137,9,FALSE))","v":""},"",null,"",null,"",null,"","",{"$nulls":4},{"$f":"IF(C228=\"\",\"\",'OPĆI DIO'!$C$1)","v":""},"","","","","","",{"$nulls":9},"K622154","PROJEKT DIGITALNE, INOVATIVNE I ZELENE TEHNOLOGIJE - DIGIT","0150","Istraživanje i razvoj: Opće javne usluge","01","015"]
[{"$f":"IF(C229=\"\",\"\",VLOOKUP('OPĆI DIO'!$C$1,'OPĆI DIO'!$N$4:$W$137,10,FALSE))","v":""},{"$f":"IF(C229=\"\",\"\",VLOOKUP('OPĆI DIO'!$C$1,'OPĆI DIO'!$N$4:$W$137,9,FALSE))","v":""},"",null,"",null,"",null,"","",{"$nulls":4},{"$f":"IF(C229=\"\",\"\",'OPĆI DIO'!$C$1)","v":""},"","","","","","",{"$nulls":9},"K628055","SRCE -IZRAVNA KAPITALNA ULAGANJA","0133","Ostale opće usluge","01","013"]
[{"$f":"IF(C230=\"\",\"\",VLOOKUP('OPĆI DIO'!$C$1,'OPĆI DIO'!$N$4:$W$137,10,FALSE))","v":""},{"$f":"IF(C230=\"\",\"\",VLOOKUP('OPĆI DIO'!$C$1,'OPĆI DIO'!$N$4:$W$137,9,FALSE))","v":""},"",null,"",null,"",null,"","",{"$nulls":4},{"$f":"IF(C230=\"\",\"\",'OPĆI DIO'!$C$1)","v":""},"","","","","","",{"$nulls":9},"K628069","ULAGANJE U OPREMU ZA ODRŽAVANJE NACIONALNIH I INFORMACIJSKIH SERVISA","0133","Ostale opće usluge","01","013"]
[{"$f":"IF(C231=\"\",\"\",VLOOKUP('OPĆI DIO'!$C$1,'OPĆI DIO'!$N$4:$W$137,10,FALSE))","v":""},{"$f":"IF(C231=\"\",\"\",VLOOKUP('OPĆI DIO'!$C$1,'OPĆI DIO'!$N$4:$W$137,9,FALSE))","v":""},"",null,"",null,"",null,"","",{"$nulls":4},{"$f":"IF(C231=\"\",\"\",'OPĆI DIO'!$C$1)","v":""},"","","","","","",{"$nulls":9},"K628093","DIGITALNA PREOBRAZBA VISOKOG OBRAZOVANJA E-SVEUČILIŠTA - NPOO (C3.2.R2)","0133","Ostale opće usluge","01","013"]
[{"$f":"IF(C232=\"\",\"\",VLOOKUP('OPĆI DIO'!$C$1,'OPĆI DIO'!$N$4:$W$137,10,FALSE))","v":""},{"$f":"IF(C232=\"\",\"\",VLOOKUP('OPĆI DIO'!$C$1,'OPĆI DIO'!$N$4:$W$137,9,FALSE))","v":""},"",null,"",null,"",null,"","",{"$nulls":4},{"$f":"IF(C232=\"\",\"\",'OPĆI DIO'!$C$1)","v":""},"","","","","","",{"$nulls":9},"K628094","INFORMACIJSKI SUSTAVI EVIDENCIJA U VISOKOM OBRAZOVANJU - ISEVO - NPOO (C3.1.R2-I1)","0133","Ostale opće usluge","01","013"]
[{"$f":"IF(C233=\"\",\"\",VLOOKUP('OPĆI DIO'!$C$1,'OPĆI DIO'!$N$4:$W$137,10,FALSE))","v":""},{"$f":"IF(C233=\"\",\"\",VLOOKUP('OPĆI DIO'!$C$1,'OPĆI DIO'!$N$4:$W$137,9,FALSE))","v":""},"",null,"",null,"",null,"","",{"$nulls":4},{"$f":"IF(C233=\"\",\"\",'OPĆI DIO'!$C$1)","v":""},"","","","","","",{"$nulls":9},"K628095","HRVATSKA KVANTNA KOMUNIKACIJSKA INFRASTRUKTURA - CRO QCI - NPOO (C3.2.R2-I2)","0133","Ostale opće usluge","01","013"]
[{"$f":"IF(C234=\"\",\"\",VLOOKUP('OPĆI DIO'!$C$1,'OPĆI DIO'!$N$4:$W$137,10,FALSE))","v":""},{"$f":"IF(C234=\"\",\"\",VLOOKUP('OPĆI DIO'!$C$1,'OPĆI DIO'!$N$4:$W$137,9,FALSE))","v":""},"",null,"",null,"",null,"","",{"$nulls":4},{"$f":"IF(C234=\"\",\"\",'OPĆI DIO'!$C$1)","v":""},"","","","","","",{"$nulls":9},"K628097","HRVATSKA KVANTNA KOMUNIKACIJSKA INFRASTRUKTURA - CRO QCI - NPOO (C3.2.R2-I2)","0133","Ostale opće usluge","01","013"]
[{"$f":"IF(C235=\"\",\"\",VLOOKUP('OPĆI DIO'!$C$1,'OPĆI DIO'!$N$4:$W$137,10,FALSE))","v":""},{"$f":"IF(C235=\"\",\"\",VLOOKUP('OPĆI DIO'!$C$1,'OPĆI DIO'!$N$4:$W$137,9,FALSE))","v":""},"",null,"",null,"",null,"","",{"$nulls":4},{"$f":"IF(C235=\"\",\"\",'OPĆI DIO'!$C$1)","v":""},"","","","","","",{"$nulls":9},"K628100","PROGRAM UČINKOVITI LJUDSKI POTENCIJALI 2021.-2027., PRIORITET 2","0133","Ostale opće usluge","01","013"]
[{"$f":"IF(C236=\"\",\"\",VLOOKUP('OPĆI DIO'!$C$1,'OPĆI DIO'!$N$4:$W$137,10,FALSE))","v":""},{"$f":"IF(C236=\"\",\"\",VLOOKUP('OPĆI DIO'!$C$1,'OPĆI DIO'!$N$4:$W$137,9,FALSE))","v":""},"",null,"",null,"",null,"","",{"$nulls":4},{"$f":"IF(C236=\"\",\"\",'OPĆI DIO'!$C$1)","v":""},"","","","","","",{"$nulls":9},"K628101","USPOSTAVA NACIONALNOG KOORDINACIJSKOG SREDIŠTA ZA INDUSTRIJU, TEHNOLOGIJU I ISTRAŽIVANJA U PODRUČJU KIBERNETIČKE SIGURNOSTI","0133","Ostale opće usluge","01","013"]
[{"$f":"IF(C237=\"\",\"\",VLOOKUP('OPĆI DIO'!$C$1,'OPĆI DIO'!$N$4:$W$137,10,FALSE))","v":""},{"$f":"IF(C237=\"\",\"\",VLOOKUP('OPĆI DIO'!$C$1,'OPĆI DIO'!$N$4:$W$137,9,FALSE))","v":""},"",null,"",null,"",null,"","",{"$nulls":4},{"$f":"IF(C237=\"\",\"\",'OPĆI DIO'!$C$1)","v":""},"","","","","","",{"$nulls":9},"K676058","PROSVJETNO-KULTURNI CENTAR MAĐARA-DODATNO ULAGANJE U INFRASTRUKTURU","0922","Više srednjoškolsko obrazovanje","09","092"]
[{"$f":"IF(C238=\"\",\"\",VLOOKUP('OPĆI DIO'!$C$1,'OPĆI DIO'!$N$4:$W$137,10,FALSE))","v":""},{"$f":"IF(C238=\"\",\"\",VLOOKUP('OPĆI DIO'!$C$1,'OPĆI DIO'!$N$4:$W$137,9,FALSE))","v":""},"",null,"",null,"",null,"","",{"$nulls":4},{"$f":"IF(C238=\"\",\"\",'OPĆI DIO'!$C$1)","v":""},"","","","","","",{"$nulls":9},"K676066","OBNOVA ZGRADA OŠTEĆENIH U POTRESU S ENERGETSKOM OBNOVOM - NPOO (C6.1.R1-I2)","0150","Istraživanje i razvoj: Opće javne usluge","01","015"]
[{"$f":"IF(C239=\"\",\"\",VLOOKUP('OPĆI DIO'!$C$1,'OPĆI DIO'!$N$4:$W$137,10,FALSE))","v":""},{"$f":"IF(C239=\"\",\"\",VLOOKUP('OPĆI DIO'!$C$1,'OPĆI DIO'!$N$4:$W$137,9,FALSE))","v":""},"",null,"",null,"",null,"","",{"$nulls":4},{"$f":"IF(C239=\"\",\"\",'OPĆI DIO'!$C$1)","v":""},"","","","","","",{"$nulls":9},"K676067","IZGRADNJA, DOGRADNJA, REKONSTRUKCIJA I OPREMANJE PREDŠKOLSKIH USTANOVA - NPOO (C3.1.R1-I1)","0911","Predškolsko obrazovanje","09","091"]
[{"$f":"IF(C240=\"\",\"\",VLOOKUP('OPĆI DIO'!$C$1,'OPĆI DIO'!$N$4:$W$137,10,FALSE))","v":""},{"$f":"IF(C240=\"\",\"\",VLOOKUP('OPĆI DIO'!$C$1,'OPĆI DIO'!$N$4:$W$137,9,FALSE))","v":""},"",null,"",null,"",null,"","",{"$nulls":4},{"$f":"IF(C240=\"\",\"\",'OPĆI DIO'!$C$1)","v":""},"","","","","","",{"$nulls":9},"K676068","PROGRAM KONKURENTNOST I KOHEZIJA 2021.-2027., PRIORITET 1","0150","Istraživanje i razvoj: Opće javne usluge","01","015"]
[{"$f":"IF(C241=\"\",\"\",VLOOKUP('OPĆI DIO'!$C$1,'OPĆI DIO'!$N$4:$W$137,10,FALSE))","v":""},{"$f":"IF(C241=\"\",\"\",VLOOKUP('OPĆI DIO'!$C$1,'OPĆI DIO'!$N$4:$W$137,9,FALSE))","v":""},"",null,"",null,"",null,"","",{"$nulls":4},{"$f":"IF(C241=\"\",\"\",'OPĆI DIO'!$C$1)","v":""},"","","","","","",{"$nulls":9},"K676069","STVARANJE OKVIRA ZA PRIVLAČENJE STUDENATA I ISTRAŽIVAČA U STEM I ICT PODRUČJIMA - NPOO (C3.2.R2)","0150","Istraživanje i razvoj: Opće javne usluge","01","015"]
[{"$f":"IF(C242=\"\",\"\",VLOOKUP('OPĆI DIO'!$C$1,'OPĆI DIO'!$N$4:$W$137,10,FALSE))","v":""},{"$f":"IF(C242=\"\",\"\",VLOOKUP('OPĆI DIO'!$C$1,'OPĆI DIO'!$N$4:$W$137,9,FALSE))","v":""},"",null,"",null,"",null,"","",{"$nulls":4},{"$f":"IF(C242=\"\",\"\",'OPĆI DIO'!$C$1)","v":""},"","","","","","",{"$nulls":9},"K676071","FISKALNA ODRŽIVOST DJEČJIH VRTIĆA","0911","Predškolsko obrazovanje","09","091"]
[{"$f":"IF(C243=\"\",\"\",VLOOKUP('OPĆI DIO'!$C$1,'OPĆI DIO'!$N$4:$W$137,10,FALSE))","v":""},{"$f":"IF(C243=\"\",\"\",VLOOKUP('OPĆI DIO'!$C$1,'OPĆI DIO'!$N$4:$W$137,9,FALSE))","v":""},"",null,"",null,"",null,"","",{"$nulls":4},{"$f":"IF(C243=\"\",\"\",'OPĆI DIO'!$C$1)","v":""},"","","","","","",{"$nulls":9},"K676073","PROJEKT DIGITALNE, INOVATIVNE I ZELENE TEHNOLOGIJE - DIGIT","0150","Istraživanje i razvoj: Opće javne usluge","01","015"]
[{"$f":"IF(C244=\"\",\"\",VLOOKUP('OPĆI DIO'!$C$1,'OPĆI DIO'!$N$4:$W$137,10,FALSE))","v":""},{"$f":"IF(C244=\"\",\"\",VLOOKUP('OPĆI DIO'!$C$1,'OPĆI DIO'!$N$4:$W$137,9,FALSE))","v":""},"",null,"",null,"",null,"","",{"$nulls":4},{"$f":"IF(C244=\"\",\"\",'OPĆI DIO'!$C$1)","v":""},"","","","","","",{"$nulls":9},"K676074","IZGRADNJA UČENIČKOG DOMA  U DARUVARU","0922","Više srednjoškolsko obrazovanje","09","092"]
[{"$f":"IF(C245=\"\",\"\",VLOOKUP('OPĆI DIO'!$C$1,'OPĆI DIO'!$N$4:$W$137,10,FALSE))","v":""},{"$f":"IF(C245=\"\",\"\",VLOOKUP('OPĆI DIO'!$C$1,'OPĆI DIO'!$N$4:$W$137,9,FALSE))","v":""},"",null,"",null,"",null,"","",{"$nulls":4},{"$f":"IF(C245=\"\",\"\",'OPĆI DIO'!$C$1)","v":""},"","","","","","",{"$nulls":9},"K679116","OBNOVA INFRASTRUKTURE I OPREME U PODRUČJU OBRAZOVANJA OŠTEĆENE POTRESOM","0942","Drugi stupanj visoke naobrazbe","09","094"]
[{"$f":"IF(C246=\"\",\"\",VLOOKUP('OPĆI DIO'!$C$1,'OPĆI DIO'!$N$4:$W$137,10,FALSE))","v":""},{"$f":"IF(C246=\"\",\"\",VLOOKUP('OPĆI DIO'!$C$1,'OPĆI DIO'!$N$4:$W$137,9,FALSE))","v":""},"",null,"",null,"",null,"","",{"$nulls":4},{"$f":"IF(C246=\"\",\"\",'OPĆI DIO'!$C$1)","v":""},"","","","","","",{"$nulls":9},"K679119","OBNOVA ZGRADA OŠTEĆENIH U POTRESU S ENERGETSKOM OBNOVOM - NPOO (C6.1.R1-I2)","0942","Drugi stupanj visoke naobrazbe","09","094"]
[{"$f":"IF(C247=\"\",\"\",VLOOKUP('OPĆI DIO'!$C$1,'OPĆI DIO'!$N$4:$W$137,10,FALSE))","v":""},{"$f":"IF(C247=\"\",\"\",VLOOKUP('OPĆI DIO'!$C$1,'OPĆI DIO'!$N$4:$W$137,9,FALSE))","v":""},"",null,"",null,"",null,"","",{"$nulls":4},{"$f":"IF(C247=\"\",\"\",'OPĆI DIO'!$C$1)","v":""},"","","","","","",{"$nulls":9},"K679122","RAZVOJ MREŽE SEIZMOLOŠKIH PODATAKA - NPOO (C6.1.R4-I1)","0942","Drugi stupanj visoke naobrazbe","09","094"]
[{"$f":"IF(C248=\"\",\"\",VLOOKUP('OPĆI DIO'!$C$1,'OPĆI DIO'!$N$4:$W$137,10,FALSE))","v":""},{"$f":"IF(C248=\"\",\"\",VLOOKUP('OPĆI DIO'!$C$1,'OPĆI DIO'!$N$4:$W$137,9,FALSE))","v":""},"",null,"",null,"",null,"","",{"$nulls":4},{"$f":"IF(C248=\"\",\"\",'OPĆI DIO'!$C$1)","v":""},"","","","","","",{"$nulls":9},"K679124","PROGRAM UČINKOVITI LJUDSKI POTENCIJALI 2021.-2027., PRIORITET 2","0942","Drugi stupanj visoke naobrazbe","09","094"]
[{"$f":"IF(C249=\"\",\"\",VLOOKUP('OPĆI DIO'!$C$1,'OPĆI DIO'!$N$4:$W$137,10,FALSE))","v":""},{"$f":"IF(C249=\"\",\"\",VLOOKUP('OPĆI DIO'!$C$1,'OPĆI DIO'!$N$4:$W$137,9,FALSE))","v":""},"",null,"",null,"",null,"","",{"$nulls":4},{"$f":"IF(C249=\"\",\"\",'OPĆI DIO'!$C$1)","v":""},"","","","","","",{"$nulls":9},"K679126","PROGRAM KONKURENTNOST I KOHEZIJA 2021.-2027., PRIORITET 1","0942","Drugi stupanj visoke naobrazbe","09","094"]
[{"$f":"IF(C250=\"\",\"\",VLOOKUP('OPĆI DIO'!$C$1,'OPĆI DIO'!$N$4:$W$137,10,FALSE))","v":""},{"$f":"IF(C250=\"\",\"\",VLOOKUP('OPĆI DIO'!$C$1,'OPĆI DIO'!$N$4:$W$137,9,FALSE))","v":""},"",null,"",null,"",null,"","",{"$nulls":4},{"$f":"IF(C250=\"\",\"\",'OPĆI DIO'!$C$1)","v":""},"","","","","","",{"$nulls":9},"K679128","POBOLJŠANJE UČINKOVITOSTI JAVNIH ULAGANJA NA PODRUČJU ISTRAŽIVANJA, RAZVOJA I INOVACIJA - NPOO (C3.2.R3)","0942","Drugi stupanj visoke naobrazbe","09","094"]
[{"$f":"IF(C251=\"\",\"\",VLOOKUP('OPĆI DIO'!$C$1,'OPĆI DIO'!$N$4:$W$137,10,FALSE))","v":""},{"$f":"IF(C251=\"\",\"\",VLOOKUP('OPĆI DIO'!$C$1,'OPĆI DIO'!$N$4:$W$137,9,FALSE))","v":""},"",null,"",null,"",null,"","",{"$nulls":4},{"$f":"IF(C251=\"\",\"\",'OPĆI DIO'!$C$1)","v":""},"","","","","","",{"$nulls":9},"K679129","STVARANJE OKVIRA ZA PRIVLAČENJE STUDENATA I ISTRAŽIVAČA NA STEM I ICT PODRUČJIMA - NPOO (C3.2.R2)","0942","Drugi stupanj visoke naobrazbe","09","094"]
[{"$f":"IF(C252=\"\",\"\",VLOOKUP('OPĆI DIO'!$C$1,'OPĆI DIO'!$N$4:$W$137,10,FALSE))","v":""},{"$f":"IF(C252=\"\",\"\",VLOOKUP('OPĆI DIO'!$C$1,'OPĆI DIO'!$N$4:$W$137,9,FALSE))","v":""},"",null,"",null,"",null,"","",{"$nulls":4},{"$f":"IF(C252=\"\",\"\",'OPĆI DIO'!$C$1)","v":""},"","","","","","",{"$nulls":9},"K679130","PROJEKT DIGITALNE, INOVATIVNE I ZELENE TEHNOLOGIJE - DIGIT","0942","Drugi stupanj visoke naobrazbe","09","094"]
[{"$f":"IF(C253=\"\",\"\",VLOOKUP('OPĆI DIO'!$C$1,'OPĆI DIO'!$N$4:$W$137,10,FALSE))","v":""},{"$f":"IF(C253=\"\",\"\",VLOOKUP('OPĆI DIO'!$C$1,'OPĆI DIO'!$N$4:$W$137,9,FALSE))","v":""},"",null,"",null,"",null,"","",{"$nulls":4},{"$f":"IF(C253=\"\",\"\",'OPĆI DIO'!$C$1)","v":""},"","","","","","",{"$nulls":9},"K679131","RAZVOJ VJEŠTINA ZA OBNOVU NAKON POTRESA iz NPOO-a (C6.1.R2)","0942","Drugi stupanj visoke naobrazbe","09","094"]
[{"$f":"IF(C254=\"\",\"\",VLOOKUP('OPĆI DIO'!$C$1,'OPĆI DIO'!$N$4:$W$137,10,FALSE))","v":""},{"$f":"IF(C254=\"\",\"\",VLOOKUP('OPĆI DIO'!$C$1,'OPĆI DIO'!$N$4:$W$137,9,FALSE))","v":""},"",null,"",null,"",null,"","",{"$nulls":4},{"$f":"IF(C254=\"\",\"\",'OPĆI DIO'!$C$1)","v":""},"","","","","","",{"$nulls":9},"K733061","OSNOVNA ŠKOLA MILAN AMRUŠ SLAVONSKI BROD","0912","Osnovno obrazovanje","09","091"]
[{"$f":"IF(C255=\"\",\"\",VLOOKUP('OPĆI DIO'!$C$1,'OPĆI DIO'!$N$4:$W$137,10,FALSE))","v":""},{"$f":"IF(C255=\"\",\"\",VLOOKUP('OPĆI DIO'!$C$1,'OPĆI DIO'!$N$4:$W$137,9,FALSE))","v":""},"",null,"",null,"",null,"","",{"$nulls":4},{"$f":"IF(C255=\"\",\"\",'OPĆI DIO'!$C$1)","v":""},"","","","","","",{"$nulls":9},"K733067","PROGRAM UČINKOVITI LJUDSKI POTENCIJALI 2021.-2027., PRIORITET 2","0950","Obrazovanje koje se ne može definirati po stupnju","09","095"]
[{"$f":"IF(C256=\"\",\"\",VLOOKUP('OPĆI DIO'!$C$1,'OPĆI DIO'!$N$4:$W$137,10,FALSE))","v":""},{"$f":"IF(C256=\"\",\"\",VLOOKUP('OPĆI DIO'!$C$1,'OPĆI DIO'!$N$4:$W$137,9,FALSE))","v":""},"",null,"",null,"",null,"","",{"$nulls":4},{"$f":"IF(C256=\"\",\"\",'OPĆI DIO'!$C$1)","v":""},"","","","","","",{"$nulls":9},"K733074","IZGRADNJA STUDENTSKOG DOMA U KOPRIVNICI","0942","Drugi stupanj visoke naobrazbe","09","094"]
[{"$f":"IF(C257=\"\",\"\",VLOOKUP('OPĆI DIO'!$C$1,'OPĆI DIO'!$N$4:$W$137,10,FALSE))","v":""},{"$f":"IF(C257=\"\",\"\",VLOOKUP('OPĆI DIO'!$C$1,'OPĆI DIO'!$N$4:$W$137,9,FALSE))","v":""},"",null,"",null,"",null,"","",{"$nulls":4},{"$f":"IF(C257=\"\",\"\",'OPĆI DIO'!$C$1)","v":""},"","","","","","",{"$nulls":9},"K767031","OŠ MIJATA STOJANOVIĆA U BABINOJ GREDI","0912","Osnovno obrazovanje","09","091"]
[{"$f":"IF(C258=\"\",\"\",VLOOKUP('OPĆI DIO'!$C$1,'OPĆI DIO'!$N$4:$W$137,10,FALSE))","v":""},{"$f":"IF(C258=\"\",\"\",VLOOKUP('OPĆI DIO'!$C$1,'OPĆI DIO'!$N$4:$W$137,9,FALSE))","v":""},"",null,"",null,"",null,"","",{"$nulls":4},{"$f":"IF(C258=\"\",\"\",'OPĆI DIO'!$C$1)","v":""},"","","","","","",{"$nulls":9},"K768066","OBNOVA INFRASTRUKTURE I OPREME U PODRUČJU OBRAZOVANJA OŠTEĆENE POTRESOM","0970","Istraživanje i razvoj obrazovanja","09","097"]
[{"$f":"IF(C259=\"\",\"\",VLOOKUP('OPĆI DIO'!$C$1,'OPĆI DIO'!$N$4:$W$137,10,FALSE))","v":""},{"$f":"IF(C259=\"\",\"\",VLOOKUP('OPĆI DIO'!$C$1,'OPĆI DIO'!$N$4:$W$137,9,FALSE))","v":""},"",null,"",null,{"$f":"IFERROR(VLOOKUP(F259,$Y$5:$AA$129,2,FALSE),\"\")","v":""},null,{"$f":"IFERROR(VLOOKUP(H259,$AE$6:$AF$353,2,FALSE),\"\")","v":""},{"$f":"IFERROR(VLOOKUP(H259,$AE$6:$AI$353,3,FALSE),\"\")","v":""},{"$nulls":4},{"$f":"IF(C259=\"\",\"\",'OPĆI DIO'!$C$1)","v":""},"","","","","","",{"$nulls":9},"K768067","IZGRADNJA, DOGRADNJA, REKONSTRUKCIJA I OPREMANJE OSNOVNIH ŠKOLA ZA POTREBE JEDNOSMJENSKOG RADA I CJELODNEVNE NASTAVE - NPOO (C3.1.R1-I2)","0912","Osnovno obrazovanje","09","091"]
[{"$f":"IF(C260=\"\",\"\",VLOOKUP('OPĆI DIO'!$C$1,'OPĆI DIO'!$N$4:$W$137,10,FALSE))","v":""},{"$f":"IF(C260=\"\",\"\",VLOOKUP('OPĆI DIO'!$C$1,'OPĆI DIO'!$N$4:$W$137,9,FALSE))","v":""},{"$f":"IFERROR(VLOOKUP(D260,$V$6:$X$34,3,FALSE),\"\")","v":""},null,{"$f":"IFERROR(VLOOKUP(D260,$V$6:$W$34,2,FALSE),\"\")","v":""},null,"",null,"","",{"$nulls":4},{"$f":"IF(C260=\"\",\"\",'OPĆI DIO'!$C$1)","v":""},{"$f":"LEFT(F260,3)","v":""},{"$f":"LEFT(F260,2)","v":""},{"$f":"LEFT(C260,3)","v":""},{"$f":"MID(J260,2,2)","v":""},{"$f":"LEFT(F260,1)","v":""},{"$f":"IFERROR(VLOOKUP(C260,$V$6:$X$34,3,FALSE),\"\")","v":""},{"$nulls":9},"K768069","REFORMA I JAČANJE KAPACITETA JAVNOG ZNANSTVENO-ISTRAIŽIVAČKOG SEKTORA ZA ISTRAŽIVANJE I RAZVOJ - NPOO (C3.2.R1)","0150","Istraživanje i razvoj: Opće javne usluge","01","015"]
[{"$f":"IF(C261=\"\",\"\",VLOOKUP('OPĆI DIO'!$C$1,'OPĆI DIO'!$N$4:$W$137,10,FALSE))","v":""},{"$f":"IF(C261=\"\",\"\",VLOOKUP('OPĆI DIO'!$C$1,'OPĆI DIO'!$N$4:$W$137,9,FALSE))","v":""},"",null,"",null,"",null,"","",{"$nulls":4},{"$f":"IF(C261=\"\",\"\",'OPĆI DIO'!$C$1)","v":""},"","","","","","",{"$nulls":9},"K768070","OBNOVA INFRASTRUKTURE U PODRUČJU OBRAZOVANJA OŠTEĆENE POTRESOM FSEU.2022.MZO","0970","Istraživanje i razvoj obrazovanja","09","097"]
[{"$f":"IF(C262=\"\",\"\",VLOOKUP('OPĆI DIO'!$C$1,'OPĆI DIO'!$N$4:$W$137,10,FALSE))","v":""},{"$f":"IF(C262=\"\",\"\",VLOOKUP('OPĆI DIO'!$C$1,'OPĆI DIO'!$N$4:$W$137,9,FALSE))","v":""},"",null,"",null,"",null,"","",{"$nulls":4},{"$f":"IF(C262=\"\",\"\",'OPĆI DIO'!$C$1)","v":""},"","","","","","",{"$nulls":9},"K768074","UČENIČKI DOM U KOPRIVNICI","0970","Istraživanje i razvoj obrazovanja","09","097"]
[{"$f":"IF(C263=\"\",\"\",VLOOKUP('OPĆI DIO'!$C$1,'OPĆI DIO'!$N$4:$W$137,10,FALSE))","v":""},{"$f":"IF(C263=\"\",\"\",VLOOKUP('OPĆI DIO'!$C$1,'OPĆI DIO'!$N$4:$W$137,9,FALSE))","v":""},"",null,"",null,"",null,"","",{"$nulls":4},{"$f":"IF(C263=\"\",\"\",'OPĆI DIO'!$C$1)","v":""},"","","","","","",{"$nulls":9},"K792020","CENTAR ZA ODGOJ I OBRAZOVANJE KRAPINSKE TOPLICE","0912","Osnovno obrazovanje",{"$f":"LEFT(AG263,2)","v":"09"},{"$f":"LEFT(AG263,3)","v":"091"}]
[{"$f":"IF(C264=\"\",\"\",VLOOKUP('OPĆI DIO'!$C$1,'OPĆI DIO'!$N$4:$W$137,10,FALSE))","v":""},{"$f":"IF(C264=\"\",\"\",VLOOKUP('OPĆI DIO'!$C$1,'OPĆI DIO'!$N$4:$W$137,9,FALSE))","v":""},"",null,"",null,"",null,"","",{"$nulls":4},{"$f":"IF(C264=\"\",\"\",'OPĆI DIO'!$C$1)","v":""},"","","","","","",{"$nulls":9},"K792021","RAZVOJ VJEŠTINA ZA OBNOVU NAKON POTRESA (C6.1.R2)","0150","Istraživanje i razvoj: Opće javne usluge","01","015"]
[{"$f":"IF(C265=\"\",\"\",VLOOKUP('OPĆI DIO'!$C$1,'OPĆI DIO'!$N$4:$W$137,10,FALSE))","v":""},{"$f":"IF(C265=\"\",\"\",VLOOKUP('OPĆI DIO'!$C$1,'OPĆI DIO'!$N$4:$W$137,9,FALSE))","v":""},"",null,"",null,"",null,"","",{"$nulls":4},{"$f":"IF(C265=\"\",\"\",'OPĆI DIO'!$C$1)","v":""},"","","","","","",{"$nulls":9},"K792022","KOMPLEKS DVORCA ŠAULOVEC EUROPSKI TALENT CENTAR","0970","Istraživanje i razvoj obrazovanja","09","097"]
[{"$f":"IF(C266=\"\",\"\",VLOOKUP('OPĆI DIO'!$C$1,'OPĆI DIO'!$N$4:$W$137,10,FALSE))","v":""},{"$f":"IF(C266=\"\",\"\",VLOOKUP('OPĆI DIO'!$C$1,'OPĆI DIO'!$N$4:$W$137,9,FALSE))","v":""},"",null,"",null,"",null,"","",{"$nulls":4},{"$f":"IF(C266=\"\",\"\",'OPĆI DIO'!$C$1)","v":""},"","","","","","",{"$nulls":9},"K792023","UČENIČKI DOM U VARAŽDINU","0912","Osnovno obrazovanje","09","091"]
[{"$f":"IF(C267=\"\",\"\",VLOOKUP('OPĆI DIO'!$C$1,'OPĆI DIO'!$N$4:$W$137,10,FALSE))","v":""},{"$f":"IF(C267=\"\",\"\",VLOOKUP('OPĆI DIO'!$C$1,'OPĆI DIO'!$N$4:$W$137,9,FALSE))","v":""},"",null,"",null,"",null,"","",{"$nulls":4},{"$f":"IF(C267=\"\",\"\",'OPĆI DIO'!$C$1)","v":""},"","","","","","",{"$nulls":9},"K814013","PROGRAM UČINKOVITI LJUDSKI POTENCIJALI 2021.-2027.., PRIORITET 2 - OBRAZOVANJE I CJELOŽIVOTNO UČENJE","0970","Istraživanje i razvoj obrazovanja","09","097"]
[{"$f":"IF(C268=\"\",\"\",VLOOKUP('OPĆI DIO'!$C$1,'OPĆI DIO'!$N$4:$W$137,10,FALSE))","v":""},{"$f":"IF(C268=\"\",\"\",VLOOKUP('OPĆI DIO'!$C$1,'OPĆI DIO'!$N$4:$W$137,9,FALSE))","v":""},"",null,"",null,"",null,"","",{"$nulls":4},{"$f":"IF(C268=\"\",\"\",'OPĆI DIO'!$C$1)","v":""},"","","","","","",{"$nulls":9},"K848038","OP UČINKOVITI LJUDSKI POTENCIJALI 2014.-2020., PRIORITET 3","0950","Obrazovanje koje se ne može definirati po stupnju","09","095"]
[{"$f":"IF(C269=\"\",\"\",VLOOKUP('OPĆI DIO'!$C$1,'OPĆI DIO'!$N$4:$W$137,10,FALSE))","v":""},{"$f":"IF(C269=\"\",\"\",VLOOKUP('OPĆI DIO'!$C$1,'OPĆI DIO'!$N$4:$W$137,9,FALSE))","v":""},"",null,"",null,"",null,"","",{"$nulls":4},{"$f":"IF(C269=\"\",\"\",'OPĆI DIO'!$C$1)","v":""},"","","","","","",{"$nulls":9},"K848049","PROGRAM UČINKOVITI LJUDSKI POTENCIJALI 2021.-2027., PRIORITET 5 - TEHNIČKA POMOĆ","0950","Obrazovanje koje se ne može definirati po stupnju","09","095"]
[{"$f":"IF(C270=\"\",\"\",VLOOKUP('OPĆI DIO'!$C$1,'OPĆI DIO'!$N$4:$W$137,10,FALSE))","v":""},{"$f":"IF(C270=\"\",\"\",VLOOKUP('OPĆI DIO'!$C$1,'OPĆI DIO'!$N$4:$W$137,9,FALSE))","v":""},"",null,"",null,"",null,"","",{"$nulls":4},{"$f":"IF(C270=\"\",\"\",'OPĆI DIO'!$C$1)","v":""},"","","","","","",{"$nulls":9},"K848050","PROGRAM UČINKOVITI LJUDSKI POTENCIJALI 2021.-2027., PRIORITET 3","0950","Obrazovanje koje se ne može definirati po stupnju","09","095"]
[{"$f":"IF(C271=\"\",\"\",VLOOKUP('OPĆI DIO'!$C$1,'OPĆI DIO'!$N$4:$W$137,10,FALSE))","v":""},{"$f":"IF(C271=\"\",\"\",VLOOKUP('OPĆI DIO'!$C$1,'OPĆI DIO'!$N$4:$W$137,9,FALSE))","v":""},"",null,"",null,"",null,"","",{"$nulls":4},{"$f":"IF(C271=\"\",\"\",'OPĆI DIO'!$C$1)","v":""},"","","","","","",{"$nulls":9},"K867020","PROGRAM UČINKOVITI LJUDSKI POTENCIJALI 2021.-2027.., PRIORITET 2 - OSIGURAVANJE KVALITETE U VISOKOM OBRAZOVANJU","0942","Drugi stupanj visoke naobrazbe","09","094"]
[{"$f":"IF(C272=\"\",\"\",VLOOKUP('OPĆI DIO'!$C$1,'OPĆI DIO'!$N$4:$W$137,10,FALSE))","v":""},{"$f":"IF(C272=\"\",\"\",VLOOKUP('OPĆI DIO'!$C$1,'OPĆI DIO'!$N$4:$W$137,9,FALSE))","v":""},"",null,"",null,"",null,"","",{"$nulls":4},{"$f":"IF(C272=\"\",\"\",'OPĆI DIO'!$C$1)","v":""},"","","","","","",{"$nulls":9},"K867022","PROGRAM UČINKOVITI LJUDSKI POTENCIJALI 2021.-2027., PRIORITET 2 - OBRAZOVANJE I CJELOŽIVOTNO UČENJE","0942","Drugi stupanj visoke naobrazbe","09","094"]
[{"$f":"IF(C273=\"\",\"\",VLOOKUP('OPĆI DIO'!$C$1,'OPĆI DIO'!$N$4:$W$137,10,FALSE))","v":""},{"$f":"IF(C273=\"\",\"\",VLOOKUP('OPĆI DIO'!$C$1,'OPĆI DIO'!$N$4:$W$137,9,FALSE))","v":""},"",null,"",null,"",null,"","",{"$nulls":4},{"$f":"IF(C273=\"\",\"\",'OPĆI DIO'!$C$1)","v":""},"","","","","","",{"$nulls":9},"T763005","SURADNJA DZIV-a S UREDOM EUROPSKE UNIJE ZA INTELEKTUALNO VLASNIŠTVO (EUIPO)","0150","Istraživanje i razvoj: Opće javne usluge","01","015"]
[{"$f":"IF(C274=\"\",\"\",VLOOKUP('OPĆI DIO'!$C$1,'OPĆI DIO'!$N$4:$W$137,10,FALSE))","v":""},{"$f":"IF(C274=\"\",\"\",VLOOKUP('OPĆI DIO'!$C$1,'OPĆI DIO'!$N$4:$W$137,9,FALSE))","v":""},"",null,"",null,"",null,"","",{"$nulls":4},{"$f":"IF(C274=\"\",\"\",'OPĆI DIO'!$C$1)","v":""},"","","","","","",{"$nulls":9},"T848027","OP UČINKOVITI LJUDSKI POTENCIJALI 2014. - 2020., PRIORITET 5","0950","Obrazovanje koje se ne može definirati po stupnju","09","095"]
[{"$f":"IF(C275=\"\",\"\",VLOOKUP('OPĆI DIO'!$C$1,'OPĆI DIO'!$N$4:$W$137,10,FALSE))","v":""},{"$f":"IF(C275=\"\",\"\",VLOOKUP('OPĆI DIO'!$C$1,'OPĆI DIO'!$N$4:$W$137,9,FALSE))","v":""},"",null,"",null,"",null,"","",{"$nulls":4},{"$f":"IF(C275=\"\",\"\",'OPĆI DIO'!$C$1)","v":""},"","","","","","",{"$nulls":9},"A679134","'PROGRAMSKO FINANCIRANJE JAVNIH VISOKIH UČILIŠTA 2025. - 2029.","0942","Drugi stupanj visoke naobrazbe",null,"094"]
[{"$f":"IF(C276=\"\",\"\",VLOOKUP('OPĆI DIO'!$C$1,'OPĆI DIO'!$N$4:$W$137,10,FALSE))","v":""},{"$f":"IF(C276=\"\",\"\",VLOOKUP('OPĆI DIO'!$C$1,'OPĆI DIO'!$N$4:$W$137,9,FALSE))","v":""},"",null,"",null,"",null,"","",{"$nulls":4},{"$f":"IF(C276=\"\",\"\",'OPĆI DIO'!$C$1)","v":""},"","","","","","",{"$nulls":9},"A679136","RAZVOJ SUSTAVA PROGRAMSKIH SPORAZUMA ZA FINANCIRANJE SVEUČILIŠTA I ZNANSTVENIH INSTITUTA USMJERENIH NA INOVACIJE, ISTRAŽIVANJE I RAZVOJ - NPOO (C3.2. R1-I1 )","0942","Drugi stupanj visoke naobrazbe",null,"094"]
[{"$f":"IF(C277=\"\",\"\",VLOOKUP('OPĆI DIO'!$C$1,'OPĆI DIO'!$N$4:$W$137,10,FALSE))","v":""},{"$f":"IF(C277=\"\",\"\",VLOOKUP('OPĆI DIO'!$C$1,'OPĆI DIO'!$N$4:$W$137,9,FALSE))","v":""},"",null,"",null,"",null,"","",{"$nulls":4},{"$f":"IF(C277=\"\",\"\",'OPĆI DIO'!$C$1)","v":""},"","","","","","",{"$nulls":9},"A679135","PROGRAMSKO I OSTALO FINANCIRANJE JAVNIH VISOKIH UČILIŠTA - IZ EVIDENCIJSKIH PRIHODA","0942","Drugi stupanj visoke naobrazbe",null,"094"]
[{"$f":"IF(C278=\"\",\"\",VLOOKUP('OPĆI DIO'!$C$1,'OPĆI DIO'!$N$4:$W$137,10,FALSE))","v":""},{"$f":"IF(C278=\"\",\"\",VLOOKUP('OPĆI DIO'!$C$1,'OPĆI DIO'!$N$4:$W$137,9,FALSE))","v":""},"",null,"",null,"",null,"","",{"$nulls":4},{"$f":"IF(C278=\"\",\"\",'OPĆI DIO'!$C$1)","v":""},"","","","","","",{"$nulls":9},"A679132","PROGRAM PREKOGRANIČNE SURADNJE - IZ EVIDENCIJSKIH PRIHODA","0942","Drugi stupanj visoke naobrazbe",null,"094"]
[{"$f":"IF(C279=\"\",\"\",VLOOKUP('OPĆI DIO'!$C$1,'OPĆI DIO'!$N$4:$W$137,10,FALSE))","v":""},{"$f":"IF(C279=\"\",\"\",VLOOKUP('OPĆI DIO'!$C$1,'OPĆI DIO'!$N$4:$W$137,9,FALSE))","v":""},"",null,"",null,"",null,"","",{"$nulls":4},{"$f":"IF(C279=\"\",\"\",'OPĆI DIO'!$C$1)","v":""},"","","","","","",{"$nulls":9},"A679133","PROGRAM PREKOGRANIČNE SURADNJE UPRAVLJAČKO TIJELO IZ INOZEMSTVA - IZ EVIDENCIJSKIH PRIHODA","0942","Drugi stupanj visoke naobrazbe",null,"094"]
[{"$f":"IF(C280=\"\",\"\",VLOOKUP('OPĆI DIO'!$C$1,'OPĆI DIO'!$N$4:$W$137,10,FALSE))","v":""},{"$f":"IF(C280=\"\",\"\",VLOOKUP('OPĆI DIO'!$C$1,'OPĆI DIO'!$N$4:$W$137,9,FALSE))","v":""},"",null,"",null,"",null,"","",{"$nulls":4},{"$f":"IF(C280=\"\",\"\",'OPĆI DIO'!$C$1)","v":""},"","","","","","",{"$nulls":9},"A622151","PROGRAMSKO I OSTALO FINANCIRANJE JAVNIH INSTITUTA – IZ EVIDENCIJSKIH PRIHODA","0150","Istraživanje i razvoj: Opće javne usluge",null,"015"]
[{"$f":"IF(C281=\"\",\"\",VLOOKUP('OPĆI DIO'!$C$1,'OPĆI DIO'!$N$4:$W$137,10,FALSE))","v":""},{"$f":"IF(C281=\"\",\"\",VLOOKUP('OPĆI DIO'!$C$1,'OPĆI DIO'!$N$4:$W$137,9,FALSE))","v":""},"",null,"",null,"",null,"","",{"$nulls":4},{"$f":"IF(C281=\"\",\"\",'OPĆI DIO'!$C$1)","v":""},"","","","","","",{"$nulls":9},"A622155","PROGRAM PREKOGRANIČNE SURADNJE - IZ EVIDENCIJSKIH PRIHODA","0150","Istraživanje i razvoj: Opće javne usluge",null,"015"]
[{"$f":"IF(C282=\"\",\"\",VLOOKUP('OPĆI DIO'!$C$1,'OPĆI DIO'!$N$4:$W$137,10,FALSE))","v":""},{"$f":"IF(C282=\"\",\"\",VLOOKUP('OPĆI DIO'!$C$1,'OPĆI DIO'!$N$4:$W$137,9,FALSE))","v":""},"",null,"",null,"",null,"","",{"$nulls":4},{"$f":"IF(C282=\"\",\"\",'OPĆI DIO'!$C$1)","v":""},"","","","","","",{"$nulls":9},"A622156","PROGRAM PREKOGRANIČNE SURADNJE UPRAVLJAČKO TIJELO IZ INOZEMSTVA - IZ EVIDENCIJSKIH PRIHODA","0150","Istraživanje i razvoj: Opće javne usluge",null,"015"]
[{"$f":"IF(C283=\"\",\"\",VLOOKUP('OPĆI DIO'!$C$1,'OPĆI DIO'!$N$4:$W$137,10,FALSE))","v":""},{"$f":"IF(C283=\"\",\"\",VLOOKUP('OPĆI DIO'!$C$1,'OPĆI DIO'!$N$4:$W$137,9,FALSE))","v":""},"",null,"",null,"",null,"","",{"$nulls":4},{"$f":"IF(C283=\"\",\"\",'OPĆI DIO'!$C$1)","v":""},"","","","","",""]
[{"$f":"IF(C284=\"\",\"\",VLOOKUP('OPĆI DIO'!$C$1,'OPĆI DIO'!$N$4:$W$137,10,FALSE))","v":""},{"$f":"IF(C284=\"\",\"\",VLOOKUP('OPĆI DIO'!$C$1,'OPĆI DIO'!$N$4:$W$137,9,FALSE))","v":""},"",null,"",null,"",null,"","",{"$nulls":4},{"$f":"IF(C284=\"\",\"\",'OPĆI DIO'!$C$1)","v":""},"","","","","",""]
[{"$f":"IF(C285=\"\",\"\",VLOOKUP('OPĆI DIO'!$C$1,'OPĆI DIO'!$N$4:$W$137,10,FALSE))","v":""},{"$f":"IF(C285=\"\",\"\",VLOOKUP('OPĆI DIO'!$C$1,'OPĆI DIO'!$N$4:$W$137,9,FALSE))","v":""},"",null,"",null,"",null,"","",{"$nulls":4},{"$f":"IF(C285=\"\",\"\",'OPĆI DIO'!$C$1)","v":""},"","","","","",""]
[{"$f":"IF(C286=\"\",\"\",VLOOKUP('OPĆI DIO'!$C$1,'OPĆI DIO'!$N$4:$W$137,10,FALSE))","v":""},{"$f":"IF(C286=\"\",\"\",VLOOKUP('OPĆI DIO'!$C$1,'OPĆI DIO'!$N$4:$W$137,9,FALSE))","v":""},"",null,"",null,"",null,"","",{"$nulls":4},{"$f":"IF(C286=\"\",\"\",'OPĆI DIO'!$C$1)","v":""},"","","","","",""]
[{"$f":"IF(C287=\"\",\"\",VLOOKUP('OPĆI DIO'!$C$1,'OPĆI DIO'!$N$4:$W$137,10,FALSE))","v":""},{"$f":"IF(C287=\"\",\"\",VLOOKUP('OPĆI DIO'!$C$1,'OPĆI DIO'!$N$4:$W$137,9,FALSE))","v":""},"",null,"",null,"",null,"","",{"$nulls":4},{"$f":"IF(C287=\"\",\"\",'OPĆI DIO'!$C$1)","v":""},"","","","","",""]
[{"$f":"IF(C288=\"\",\"\",VLOOKUP('OPĆI DIO'!$C$1,'OPĆI DIO'!$N$4:$W$137,10,FALSE))","v":""},{"$f":"IF(C288=\"\",\"\",VLOOKUP('OPĆI DIO'!$C$1,'OPĆI DIO'!$N$4:$W$137,9,FALSE))","v":""},"",null,"",null,"",null,"","",{"$nulls":4},{"$f":"IF(C288=\"\",\"\",'OPĆI DIO'!$C$1)","v":""},"","","","","",""]
[{"$f":"IF(C289=\"\",\"\",VLOOKUP('OPĆI DIO'!$C$1,'OPĆI DIO'!$N$4:$W$137,10,FALSE))","v":""},{"$f":"IF(C289=\"\",\"\",VLOOKUP('OPĆI DIO'!$C$1,'OPĆI DIO'!$N$4:$W$137,9,FALSE))","v":""},"",null,"",null,"",null,"","",{"$nulls":4},{"$f":"IF(C289=\"\",\"\",'OPĆI DIO'!$C$1)","v":""},"","","","","",""]
[{"$f":"IF(C290=\"\",\"\",VLOOKUP('OPĆI DIO'!$C$1,'OPĆI DIO'!$N$4:$W$137,10,FALSE))","v":""},{"$f":"IF(C290=\"\",\"\",VLOOKUP('OPĆI DIO'!$C$1,'OPĆI DIO'!$N$4:$W$137,9,FALSE))","v":""},"",null,"",null,"",null,"","",{"$nulls":4},{"$f":"IF(C290=\"\",\"\",'OPĆI DIO'!$C$1)","v":""},"","","","","",""]
[{"$f":"IF(C291=\"\",\"\",VLOOKUP('OPĆI DIO'!$C$1,'OPĆI DIO'!$N$4:$W$137,10,FALSE))","v":""},{"$f":"IF(C291=\"\",\"\",VLOOKUP('OPĆI DIO'!$C$1,'OPĆI DIO'!$N$4:$W$137,9,FALSE))","v":""},"",null,"",null,"",null,"","",{"$nulls":4},{"$f":"IF(C291=\"\",\"\",'OPĆI DIO'!$C$1)","v":""},"","","","","",""]
[{"$f":"IF(C292=\"\",\"\",VLOOKUP('OPĆI DIO'!$C$1,'OPĆI DIO'!$N$4:$W$137,10,FALSE))","v":""},{"$f":"IF(C292=\"\",\"\",VLOOKUP('OPĆI DIO'!$C$1,'OPĆI DIO'!$N$4:$W$137,9,FALSE))","v":""},"",null,"",null,"",null,"","",{"$nulls":4},{"$f":"IF(C292=\"\",\"\",'OPĆI DIO'!$C$1)","v":""},"","","","","",""]
[{"$f":"IF(C293=\"\",\"\",VLOOKUP('OPĆI DIO'!$C$1,'OPĆI DIO'!$N$4:$W$137,10,FALSE))","v":""},{"$f":"IF(C293=\"\",\"\",VLOOKUP('OPĆI DIO'!$C$1,'OPĆI DIO'!$N$4:$W$137,9,FALSE))","v":""},"",null,"",null,"",null,"","",{"$nulls":4},{"$f":"IF(C293=\"\",\"\",'OPĆI DIO'!$C$1)","v":""},"","","","","",""]
[{"$f":"IF(C294=\"\",\"\",VLOOKUP('OPĆI DIO'!$C$1,'OPĆI DIO'!$N$4:$W$137,10,FALSE))","v":""},{"$f":"IF(C294=\"\",\"\",VLOOKUP('OPĆI DIO'!$C$1,'OPĆI DIO'!$N$4:$W$137,9,FALSE))","v":""},"",null,"",null,"",null,"","",{"$nulls":4},{"$f":"IF(C294=\"\",\"\",'OPĆI DIO'!$C$1)","v":""},"","","","","",""]
[{"$f":"IF(C295=\"\",\"\",VLOOKUP('OPĆI DIO'!$C$1,'OPĆI DIO'!$N$4:$W$137,10,FALSE))","v":""},{"$f":"IF(C295=\"\",\"\",VLOOKUP('OPĆI DIO'!$C$1,'OPĆI DIO'!$N$4:$W$137,9,FALSE))","v":""},"",null,"",null,"",null,"","",{"$nulls":4},{"$f":"IF(C295=\"\",\"\",'OPĆI DIO'!$C$1)","v":""},"","","","","",""]
[{"$f":"IF(C296=\"\",\"\",VLOOKUP('OPĆI DIO'!$C$1,'OPĆI DIO'!$N$4:$W$137,10,FALSE))","v":""},{"$f":"IF(C296=\"\",\"\",VLOOKUP('OPĆI DIO'!$C$1,'OPĆI DIO'!$N$4:$W$137,9,FALSE))","v":""},"",null,"",null,"",null,"","",{"$nulls":4},{"$f":"IF(C296=\"\",\"\",'OPĆI DIO'!$C$1)","v":""},"","","","","",""]
[{"$f":"IF(C297=\"\",\"\",VLOOKUP('OPĆI DIO'!$C$1,'OPĆI DIO'!$N$4:$W$137,10,FALSE))","v":""},{"$f":"IF(C297=\"\",\"\",VLOOKUP('OPĆI DIO'!$C$1,'OPĆI DIO'!$N$4:$W$137,9,FALSE))","v":""},"",null,"",null,"",null,"","",{"$nulls":4},{"$f":"IF(C297=\"\",\"\",'OPĆI DIO'!$C$1)","v":""},"","","","","",""]
[{"$f":"IF(C298=\"\",\"\",VLOOKUP('OPĆI DIO'!$C$1,'OPĆI DIO'!$N$4:$W$137,10,FALSE))","v":""},{"$f":"IF(C298=\"\",\"\",VLOOKUP('OPĆI DIO'!$C$1,'OPĆI DIO'!$N$4:$W$137,9,FALSE))","v":""},"",null,"",null,"",null,"","",{"$nulls":4},{"$f":"IF(C298=\"\",\"\",'OPĆI DIO'!$C$1)","v":""},"","","","","",""]
[{"$f":"IF(C299=\"\",\"\",VLOOKUP('OPĆI DIO'!$C$1,'OPĆI DIO'!$N$4:$W$137,10,FALSE))","v":""},{"$f":"IF(C299=\"\",\"\",VLOOKUP('OPĆI DIO'!$C$1,'OPĆI DIO'!$N$4:$W$137,9,FALSE))","v":""},"",null,"",null,"",null,"","",{"$nulls":4},{"$f":"IF(C299=\"\",\"\",'OPĆI DIO'!$C$1)","v":""},"","","","","",""]
[{"$f":"IF(C300=\"\",\"\",VLOOKUP('OPĆI DIO'!$C$1,'OPĆI DIO'!$N$4:$W$137,10,FALSE))","v":""},{"$f":"IF(C300=\"\",\"\",VLOOKUP('OPĆI DIO'!$C$1,'OPĆI DIO'!$N$4:$W$137,9,FALSE))","v":""},"",null,"",null,"",null,"","",{"$nulls":4},{"$f":"IF(C300=\"\",\"\",'OPĆI DIO'!$C$1)","v":""},"","","","","",""]
[{"$f":"IF(C301=\"\",\"\",VLOOKUP('OPĆI DIO'!$C$1,'OPĆI DIO'!$N$4:$W$137,10,FALSE))","v":""},{"$f":"IF(C301=\"\",\"\",VLOOKUP('OPĆI DIO'!$C$1,'OPĆI DIO'!$N$4:$W$137,9,FALSE))","v":""},"",null,"",null,"",null,"","",{"$nulls":4},{"$f":"IF(C301=\"\",\"\",'OPĆI DIO'!$C$1)","v":""},"","","","","",""]
[{"$f":"IF(C302=\"\",\"\",VLOOKUP('OPĆI DIO'!$C$1,'OPĆI DIO'!$N$4:$W$137,10,FALSE))","v":""},{"$f":"IF(C302=\"\",\"\",VLOOKUP('OPĆI DIO'!$C$1,'OPĆI DIO'!$N$4:$W$137,9,FALSE))","v":""},"",null,"",null,"",null,"","",{"$nulls":4},{"$f":"IF(C302=\"\",\"\",'OPĆI DIO'!$C$1)","v":""},"","","","","",""]
[{"$f":"IF(C303=\"\",\"\",VLOOKUP('OPĆI DIO'!$C$1,'OPĆI DIO'!$N$4:$W$137,10,FALSE))","v":""},{"$f":"IF(C303=\"\",\"\",VLOOKUP('OPĆI DIO'!$C$1,'OPĆI DIO'!$N$4:$W$137,9,FALSE))","v":""},"",null,"",null,"",null,"","",{"$nulls":4},{"$f":"IF(C303=\"\",\"\",'OPĆI DIO'!$C$1)","v":""},"","","","","",""]
[{"$f":"IF(C304=\"\",\"\",VLOOKUP('OPĆI DIO'!$C$1,'OPĆI DIO'!$N$4:$W$137,10,FALSE))","v":""},{"$f":"IF(C304=\"\",\"\",VLOOKUP('OPĆI DIO'!$C$1,'OPĆI DIO'!$N$4:$W$137,9,FALSE))","v":""},"",null,"",null,"",null,"","",{"$nulls":4},{"$f":"IF(C304=\"\",\"\",'OPĆI DIO'!$C$1)","v":""},"","","","","",""]
[{"$f":"IF(C305=\"\",\"\",VLOOKUP('OPĆI DIO'!$C$1,'OPĆI DIO'!$N$4:$W$137,10,FALSE))","v":""},{"$f":"IF(C305=\"\",\"\",VLOOKUP('OPĆI DIO'!$C$1,'OPĆI DIO'!$N$4:$W$137,9,FALSE))","v":""},"",null,"",null,"",null,"","",{"$nulls":4},{"$f":"IF(C305=\"\",\"\",'OPĆI DIO'!$C$1)","v":""},"","","","","",""]
[{"$f":"IF(C306=\"\",\"\",VLOOKUP('OPĆI DIO'!$C$1,'OPĆI DIO'!$N$4:$W$137,10,FALSE))","v":""},{"$f":"IF(C306=\"\",\"\",VLOOKUP('OPĆI DIO'!$C$1,'OPĆI DIO'!$N$4:$W$137,9,FALSE))","v":""},"",null,"",null,"",null,"","",{"$nulls":4},{"$f":"IF(C306=\"\",\"\",'OPĆI DIO'!$C$1)","v":""},"","","","","",""]
[{"$f":"IF(C307=\"\",\"\",VLOOKUP('OPĆI DIO'!$C$1,'OPĆI DIO'!$N$4:$W$137,10,FALSE))","v":""},{"$f":"IF(C307=\"\",\"\",VLOOKUP('OPĆI DIO'!$C$1,'OPĆI DIO'!$N$4:$W$137,9,FALSE))","v":""},"",null,"",null,"",null,"","",{"$nulls":4},{"$f":"IF(C307=\"\",\"\",'OPĆI DIO'!$C$1)","v":""},"","","","","",""]
[{"$f":"IF(C308=\"\",\"\",VLOOKUP('OPĆI DIO'!$C$1,'OPĆI DIO'!$N$4:$W$137,10,FALSE))","v":""},{"$f":"IF(C308=\"\",\"\",VLOOKUP('OPĆI DIO'!$C$1,'OPĆI DIO'!$N$4:$W$137,9,FALSE))","v":""},"",null,"",null,"",null,"","",{"$nulls":4},{"$f":"IF(C308=\"\",\"\",'OPĆI DIO'!$C$1)","v":""},"","","","","",""]
[{"$f":"IF(C309=\"\",\"\",VLOOKUP('OPĆI DIO'!$C$1,'OPĆI DIO'!$N$4:$W$137,10,FALSE))","v":""},{"$f":"IF(C309=\"\",\"\",VLOOKUP('OPĆI DIO'!$C$1,'OPĆI DIO'!$N$4:$W$137,9,FALSE))","v":""},"",null,"",null,"",null,"","",{"$nulls":4},{"$f":"IF(C309=\"\",\"\",'OPĆI DIO'!$C$1)","v":""},"","","","","",""]
[{"$f":"IF(C310=\"\",\"\",VLOOKUP('OPĆI DIO'!$C$1,'OPĆI DIO'!$N$4:$W$137,10,FALSE))","v":""},{"$f":"IF(C310=\"\",\"\",VLOOKUP('OPĆI DIO'!$C$1,'OPĆI DIO'!$N$4:$W$137,9,FALSE))","v":""},"",null,"",null,"",null,"","",{"$nulls":4},{"$f":"IF(C310=\"\",\"\",'OPĆI DIO'!$C$1)","v":""},"","","","","",""]
[{"$f":"IF(C311=\"\",\"\",VLOOKUP('OPĆI DIO'!$C$1,'OPĆI DIO'!$N$4:$W$137,10,FALSE))","v":""},{"$f":"IF(C311=\"\",\"\",VLOOKUP('OPĆI DIO'!$C$1,'OPĆI DIO'!$N$4:$W$137,9,FALSE))","v":""},"",null,"",null,"",null,"","",{"$nulls":4},{"$f":"IF(C311=\"\",\"\",'OPĆI DIO'!$C$1)","v":""},"","","","","",""]
[{"$f":"IF(C312=\"\",\"\",VLOOKUP('OPĆI DIO'!$C$1,'OPĆI DIO'!$N$4:$W$137,10,FALSE))","v":""},{"$f":"IF(C312=\"\",\"\",VLOOKUP('OPĆI DIO'!$C$1,'OPĆI DIO'!$N$4:$W$137,9,FALSE))","v":""},"",null,"",null,"",null,"","",{"$nulls":4},{"$f":"IF(C312=\"\",\"\",'OPĆI DIO'!$C$1)","v":""},"","","","","",""]
[{"$f":"IF(C313=\"\",\"\",VLOOKUP('OPĆI DIO'!$C$1,'OPĆI DIO'!$N$4:$W$137,10,FALSE))","v":""},{"$f":"IF(C313=\"\",\"\",VLOOKUP('OPĆI DIO'!$C$1,'OPĆI DIO'!$N$4:$W$137,9,FALSE))","v":""},"",null,"",null,"",null,"","",{"$nulls":4},{"$f":"IF(C313=\"\",\"\",'OPĆI DIO'!$C$1)","v":""},"","","","","",""]
[{"$f":"IF(C314=\"\",\"\",VLOOKUP('OPĆI DIO'!$C$1,'OPĆI DIO'!$N$4:$W$137,10,FALSE))","v":""},{"$f":"IF(C314=\"\",\"\",VLOOKUP('OPĆI DIO'!$C$1,'OPĆI DIO'!$N$4:$W$137,9,FALSE))","v":""},"",null,"",null,"",null,"","",{"$nulls":4},{"$f":"IF(C314=\"\",\"\",'OPĆI DIO'!$C$1)","v":""},"","","","","",""]
[{"$f":"IF(C315=\"\",\"\",VLOOKUP('OPĆI DIO'!$C$1,'OPĆI DIO'!$N$4:$W$137,10,FALSE))","v":""},{"$f":"IF(C315=\"\",\"\",VLOOKUP('OPĆI DIO'!$C$1,'OPĆI DIO'!$N$4:$W$137,9,FALSE))","v":""},"",null,"",null,"",null,"","",{"$nulls":4},{"$f":"IF(C315=\"\",\"\",'OPĆI DIO'!$C$1)","v":""},"","","","","",""]
[{"$f":"IF(C316=\"\",\"\",VLOOKUP('OPĆI DIO'!$C$1,'OPĆI DIO'!$N$4:$W$137,10,FALSE))","v":""},{"$f":"IF(C316=\"\",\"\",VLOOKUP('OPĆI DIO'!$C$1,'OPĆI DIO'!$N$4:$W$137,9,FALSE))","v":""},"",null,"",null,"",null,"","",{"$nulls":4},{"$f":"IF(C316=\"\",\"\",'OPĆI DIO'!$C$1)","v":""},"","","","","",""]
[{"$f":"IF(C317=\"\",\"\",VLOOKUP('OPĆI DIO'!$C$1,'OPĆI DIO'!$N$4:$W$137,10,FALSE))","v":""},{"$f":"IF(C317=\"\",\"\",VLOOKUP('OPĆI DIO'!$C$1,'OPĆI DIO'!$N$4:$W$137,9,FALSE))","v":""},"",null,"",null,"",null,"","",{"$nulls":4},{"$f":"IF(C317=\"\",\"\",'OPĆI DIO'!$C$1)","v":""},"","","","","",""]
[{"$f":"IF(C318=\"\",\"\",VLOOKUP('OPĆI DIO'!$C$1,'OPĆI DIO'!$N$4:$W$137,10,FALSE))","v":""},{"$f":"IF(C318=\"\",\"\",VLOOKUP('OPĆI DIO'!$C$1,'OPĆI DIO'!$N$4:$W$137,9,FALSE))","v":""},"",null,"",null,"",null,"","",{"$nulls":4},{"$f":"IF(C318=\"\",\"\",'OPĆI DIO'!$C$1)","v":""},"","","","","",""]
[{"$f":"IF(C319=\"\",\"\",VLOOKUP('OPĆI DIO'!$C$1,'OPĆI DIO'!$N$4:$W$137,10,FALSE))","v":""},{"$f":"IF(C319=\"\",\"\",VLOOKUP('OPĆI DIO'!$C$1,'OPĆI DIO'!$N$4:$W$137,9,FALSE))","v":""},"",null,"",null,"",null,"","",{"$nulls":4},{"$f":"IF(C319=\"\",\"\",'OPĆI DIO'!$C$1)","v":""},"","","","","",""]
[{"$f":"IF(C320=\"\",\"\",VLOOKUP('OPĆI DIO'!$C$1,'OPĆI DIO'!$N$4:$W$137,10,FALSE))","v":""},{"$f":"IF(C320=\"\",\"\",VLOOKUP('OPĆI DIO'!$C$1,'OPĆI DIO'!$N$4:$W$137,9,FALSE))","v":""},"",null,"",null,"",null,"","",{"$nulls":4},{"$f":"IF(C320=\"\",\"\",'OPĆI DIO'!$C$1)","v":""},"","","","","",""]
[{"$f":"IF(C321=\"\",\"\",VLOOKUP('OPĆI DIO'!$C$1,'OPĆI DIO'!$N$4:$W$137,10,FALSE))","v":""},{"$f":"IF(C321=\"\",\"\",VLOOKUP('OPĆI DIO'!$C$1,'OPĆI DIO'!$N$4:$W$137,9,FALSE))","v":""},"",null,"",null,"",null,"","",{"$nulls":4},{"$f":"IF(C321=\"\",\"\",'OPĆI DIO'!$C$1)","v":""},"","","","","",""]
[{"$f":"IF(C322=\"\",\"\",VLOOKUP('OPĆI DIO'!$C$1,'OPĆI DIO'!$N$4:$W$137,10,FALSE))","v":""},{"$f":"IF(C322=\"\",\"\",VLOOKUP('OPĆI DIO'!$C$1,'OPĆI DIO'!$N$4:$W$137,9,FALSE))","v":""},"",null,"",null,"",null,"","",{"$nulls":4},{"$f":"IF(C322=\"\",\"\",'OPĆI DIO'!$C$1)","v":""},"","","","","",""]
[{"$f":"IF(C323=\"\",\"\",VLOOKUP('OPĆI DIO'!$C$1,'OPĆI DIO'!$N$4:$W$137,10,FALSE))","v":""},{"$f":"IF(C323=\"\",\"\",VLOOKUP('OPĆI DIO'!$C$1,'OPĆI DIO'!$N$4:$W$137,9,FALSE))","v":""},"",null,"",null,{"$f":"IFERROR(VLOOKUP(F323,$Y$5:$AA$129,2,FALSE),\"\")","v":""},null,{"$f":"IFERROR(VLOOKUP(H323,$AE$6:$AF$353,2,FALSE),\"\")","v":""},{"$f":"IFERROR(VLOOKUP(H323,$AE$6:$AI$353,3,FALSE),\"\")","v":""},{"$nulls":4},{"$f":"IF(C323=\"\",\"\",'OPĆI DIO'!$C$1)","v":""},"","","","","",""]
[{"$f":"IF(C324=\"\",\"\",VLOOKUP('OPĆI DIO'!$C$1,'OPĆI DIO'!$N$4:$W$137,10,FALSE))","v":""},{"$f":"IF(C324=\"\",\"\",VLOOKUP('OPĆI DIO'!$C$1,'OPĆI DIO'!$N$4:$W$137,9,FALSE))","v":""},{"$f":"IFERROR(VLOOKUP(D324,$V$6:$X$34,3,FALSE),\"\")","v":""},null,{"$f":"IFERROR(VLOOKUP(D324,$V$6:$W$34,2,FALSE),\"\")","v":""},null,"",null,"","",{"$nulls":4},{"$f":"IF(C324=\"\",\"\",'OPĆI DIO'!$C$1)","v":""},{"$f":"LEFT(F324,3)","v":""},{"$f":"LEFT(F324,2)","v":""},{"$f":"LEFT(C324,3)","v":""},{"$f":"MID(J324,2,2)","v":""},{"$f":"LEFT(F324,1)","v":""},{"$f":"IFERROR(VLOOKUP(C324,$V$6:$X$34,3,FALSE),\"\")","v":""}]
[{"$f":"IF(C325=\"\",\"\",VLOOKUP('OPĆI DIO'!$C$1,'OPĆI DIO'!$N$4:$W$137,10,FALSE))","v":""},{"$f":"IF(C325=\"\",\"\",VLOOKUP('OPĆI DIO'!$C$1,'OPĆI DIO'!$N$4:$W$137,9,FALSE))","v":""},"",null,"",null,"",null,"","",{"$nulls":4},{"$f":"IF(C325=\"\",\"\",'OPĆI DIO'!$C$1)","v":""},"","","","","",""]
[{"$f":"IF(C326=\"\",\"\",VLOOKUP('OPĆI DIO'!$C$1,'OPĆI DIO'!$N$4:$W$137,10,FALSE))","v":""},{"$f":"IF(C326=\"\",\"\",VLOOKUP('OPĆI DIO'!$C$1,'OPĆI DIO'!$N$4:$W$137,9,FALSE))","v":""},"",null,"",null,"",null,"","",{"$nulls":4},{"$f":"IF(C326=\"\",\"\",'OPĆI DIO'!$C$1)","v":""},"","","","","",""]
[{"$f":"IF(C327=\"\",\"\",VLOOKUP('OPĆI DIO'!$C$1,'OPĆI DIO'!$N$4:$W$137,10,FALSE))","v":""},{"$f":"IF(C327=\"\",\"\",VLOOKUP('OPĆI DIO'!$C$1,'OPĆI DIO'!$N$4:$W$137,9,FALSE))","v":""},"",null,"",null,"",null,"","",{"$nulls":4},{"$f":"IF(C327=\"\",\"\",'OPĆI DIO'!$C$1)","v":""},"","","","","",""]
[{"$f":"IF(C328=\"\",\"\",VLOOKUP('OPĆI DIO'!$C$1,'OPĆI DIO'!$N$4:$W$137,10,FALSE))","v":""},{"$f":"IF(C328=\"\",\"\",VLOOKUP('OPĆI DIO'!$C$1,'OPĆI DIO'!$N$4:$W$137,9,FALSE))","v":""},"",null,"",null,"",null,"","",{"$nulls":4},{"$f":"IF(C328=\"\",\"\",'OPĆI DIO'!$C$1)","v":""},"","","","","",""]
[{"$f":"IF(C329=\"\",\"\",VLOOKUP('OPĆI DIO'!$C$1,'OPĆI DIO'!$N$4:$W$137,10,FALSE))","v":""},{"$f":"IF(C329=\"\",\"\",VLOOKUP('OPĆI DIO'!$C$1,'OPĆI DIO'!$N$4:$W$137,9,FALSE))","v":""},"",null,"",null,"",null,"","",{"$nulls":4},{"$f":"IF(C329=\"\",\"\",'OPĆI DIO'!$C$1)","v":""},"","","","","",""]
[{"$f":"IF(C330=\"\",\"\",VLOOKUP('OPĆI DIO'!$C$1,'OPĆI DIO'!$N$4:$W$137,10,FALSE))","v":""},{"$f":"IF(C330=\"\",\"\",VLOOKUP('OPĆI DIO'!$C$1,'OPĆI DIO'!$N$4:$W$137,9,FALSE))","v":""},"",null,"",null,"",null,"","",{"$nulls":4},{"$f":"IF(C330=\"\",\"\",'OPĆI DIO'!$C$1)","v":""},"","","","","",""]
[{"$f":"IF(C331=\"\",\"\",VLOOKUP('OPĆI DIO'!$C$1,'OPĆI DIO'!$N$4:$W$137,10,FALSE))","v":""},{"$f":"IF(C331=\"\",\"\",VLOOKUP('OPĆI DIO'!$C$1,'OPĆI DIO'!$N$4:$W$137,9,FALSE))","v":""},"",null,"",null,"",null,"","",{"$nulls":4},{"$f":"IF(C331=\"\",\"\",'OPĆI DIO'!$C$1)","v":""},"","","","","",""]
[{"$f":"IF(C332=\"\",\"\",VLOOKUP('OPĆI DIO'!$C$1,'OPĆI DIO'!$N$4:$W$137,10,FALSE))","v":""},{"$f":"IF(C332=\"\",\"\",VLOOKUP('OPĆI DIO'!$C$1,'OPĆI DIO'!$N$4:$W$137,9,FALSE))","v":""},"",null,"",null,"",null,"","",{"$nulls":4},{"$f":"IF(C332=\"\",\"\",'OPĆI DIO'!$C$1)","v":""},"","","","","",""]
[{"$f":"IF(C333=\"\",\"\",VLOOKUP('OPĆI DIO'!$C$1,'OPĆI DIO'!$N$4:$W$137,10,FALSE))","v":""},{"$f":"IF(C333=\"\",\"\",VLOOKUP('OPĆI DIO'!$C$1,'OPĆI DIO'!$N$4:$W$137,9,FALSE))","v":""},"",null,"",null,"",null,"","",{"$nulls":4},{"$f":"IF(C333=\"\",\"\",'OPĆI DIO'!$C$1)","v":""},"","","","","",""]
[{"$f":"IF(C334=\"\",\"\",VLOOKUP('OPĆI DIO'!$C$1,'OPĆI DIO'!$N$4:$W$137,10,FALSE))","v":""},{"$f":"IF(C334=\"\",\"\",VLOOKUP('OPĆI DIO'!$C$1,'OPĆI DIO'!$N$4:$W$137,9,FALSE))","v":""},"",null,"",null,"",null,"","",{"$nulls":4},{"$f":"IF(C334=\"\",\"\",'OPĆI DIO'!$C$1)","v":""},"","","","","",""]
[{"$f":"IF(C335=\"\",\"\",VLOOKUP('OPĆI DIO'!$C$1,'OPĆI DIO'!$N$4:$W$137,10,FALSE))","v":""},{"$f":"IF(C335=\"\",\"\",VLOOKUP('OPĆI DIO'!$C$1,'OPĆI DIO'!$N$4:$W$137,9,FALSE))","v":""},"",null,"",null,"",null,"","",{"$nulls":4},{"$f":"IF(C335=\"\",\"\",'OPĆI DIO'!$C$1)","v":""},"","","","","",""]
[{"$f":"IF(C336=\"\",\"\",VLOOKUP('OPĆI DIO'!$C$1,'OPĆI DIO'!$N$4:$W$137,10,FALSE))","v":""},{"$f":"IF(C336=\"\",\"\",VLOOKUP('OPĆI DIO'!$C$1,'OPĆI DIO'!$N$4:$W$137,9,FALSE))","v":""},"",null,"",null,"",null,"","",{"$nulls":4},{"$f":"IF(C336=\"\",\"\",'OPĆI DIO'!$C$1)","v":""},"","","","","",""]
[{"$f":"IF(C337=\"\",\"\",VLOOKUP('OPĆI DIO'!$C$1,'OPĆI DIO'!$N$4:$W$137,10,FALSE))","v":""},{"$f":"IF(C337=\"\",\"\",VLOOKUP('OPĆI DIO'!$C$1,'OPĆI DIO'!$N$4:$W$137,9,FALSE))","v":""},"",null,"",null,"",null,"","",{"$nulls":4},{"$f":"IF(C337=\"\",\"\",'OPĆI DIO'!$C$1)","v":""},"","","","","",""]
[{"$f":"IF(C338=\"\",\"\",VLOOKUP('OPĆI DIO'!$C$1,'OPĆI DIO'!$N$4:$W$137,10,FALSE))","v":""},{"$f":"IF(C338=\"\",\"\",VLOOKUP('OPĆI DIO'!$C$1,'OPĆI DIO'!$N$4:$W$137,9,FALSE))","v":""},"",null,"",null,"",null,"","",{"$nulls":4},{"$f":"IF(C338=\"\",\"\",'OPĆI DIO'!$C$1)","v":""},"","","","","",""]
[{"$f":"IF(C339=\"\",\"\",VLOOKUP('OPĆI DIO'!$C$1,'OPĆI DIO'!$N$4:$W$137,10,FALSE))","v":""},{"$f":"IF(C339=\"\",\"\",VLOOKUP('OPĆI DIO'!$C$1,'OPĆI DIO'!$N$4:$W$137,9,FALSE))","v":""},"",null,"",null,"",null,"","",{"$nulls":4},{"$f":"IF(C339=\"\",\"\",'OPĆI DIO'!$C$1)","v":""},"","","","","",""]
[{"$f":"IF(C340=\"\",\"\",VLOOKUP('OPĆI DIO'!$C$1,'OPĆI DIO'!$N$4:$W$137,10,FALSE))","v":""},{"$f":"IF(C340=\"\",\"\",VLOOKUP('OPĆI DIO'!$C$1,'OPĆI DIO'!$N$4:$W$137,9,FALSE))","v":""},"",null,"",null,"",null,"","",{"$nulls":4},{"$f":"IF(C340=\"\",\"\",'OPĆI DIO'!$C$1)","v":""},"","","","","",""]
[{"$f":"IF(C341=\"\",\"\",VLOOKUP('OPĆI DIO'!$C$1,'OPĆI DIO'!$N$4:$W$137,10,FALSE))","v":""},{"$f":"IF(C341=\"\",\"\",VLOOKUP('OPĆI DIO'!$C$1,'OPĆI DIO'!$N$4:$W$137,9,FALSE))","v":""},"",null,"",null,"",null,"","",{"$nulls":4},{"$f":"IF(C341=\"\",\"\",'OPĆI DIO'!$C$1)","v":""},"","","","","",""]
[{"$f":"IF(C342=\"\",\"\",VLOOKUP('OPĆI DIO'!$C$1,'OPĆI DIO'!$N$4:$W$137,10,FALSE))","v":""},{"$f":"IF(C342=\"\",\"\",VLOOKUP('OPĆI DIO'!$C$1,'OPĆI DIO'!$N$4:$W$137,9,FALSE))","v":""},"",null,"",null,"",null,"","",{"$nulls":4},{"$f":"IF(C342=\"\",\"\",'OPĆI DIO'!$C$1)","v":""},"","","","","",""]
[{"$f":"IF(C343=\"\",\"\",VLOOKUP('OPĆI DIO'!$C$1,'OPĆI DIO'!$N$4:$W$137,10,FALSE))","v":""},{"$f":"IF(C343=\"\",\"\",VLOOKUP('OPĆI DIO'!$C$1,'OPĆI DIO'!$N$4:$W$137,9,FALSE))","v":""},"",null,"",null,"",null,"","",{"$nulls":4},{"$f":"IF(C343=\"\",\"\",'OPĆI DIO'!$C$1)","v":""},"","","","","",""]
[{"$f":"IF(C344=\"\",\"\",VLOOKUP('OPĆI DIO'!$C$1,'OPĆI DIO'!$N$4:$W$137,10,FALSE))","v":""},{"$f":"IF(C344=\"\",\"\",VLOOKUP('OPĆI DIO'!$C$1,'OPĆI DIO'!$N$4:$W$137,9,FALSE))","v":""},"",null,"",null,"",null,"","",{"$nulls":4},{"$f":"IF(C344=\"\",\"\",'OPĆI DIO'!$C$1)","v":""},"","","","","",""]
[{"$f":"IF(C345=\"\",\"\",VLOOKUP('OPĆI DIO'!$C$1,'OPĆI DIO'!$N$4:$W$137,10,FALSE))","v":""},{"$f":"IF(C345=\"\",\"\",VLOOKUP('OPĆI DIO'!$C$1,'OPĆI DIO'!$N$4:$W$137,9,FALSE))","v":""},"",null,"",null,"",null,{"$f":"IFERROR(VLOOKUP(H345,$AE$6:$AF$353,2,FALSE),\"\")","v":""},{"$f":"IFERROR(VLOOKUP(H345,$AE$6:$AI$353,3,FALSE),\"\")","v":""},{"$nulls":4},{"$f":"IF(C345=\"\",\"\",'OPĆI DIO'!$C$1)","v":""},"","","","","",""]
[{"$f":"IF(C346=\"\",\"\",VLOOKUP('OPĆI DIO'!$C$1,'OPĆI DIO'!$N$4:$W$137,10,FALSE))","v":""},{"$f":"IF(C346=\"\",\"\",VLOOKUP('OPĆI DIO'!$C$1,'OPĆI DIO'!$N$4:$W$137,9,FALSE))","v":""},"",null,"",null,"",null,"","",{"$nulls":4},{"$f":"IF(C346=\"\",\"\",'OPĆI DIO'!$C$1)","v":""},"","","","","",""]
[{"$f":"IF(C347=\"\",\"\",VLOOKUP('OPĆI DIO'!$C$1,'OPĆI DIO'!$N$4:$W$137,10,FALSE))","v":""},{"$f":"IF(C347=\"\",\"\",VLOOKUP('OPĆI DIO'!$C$1,'OPĆI DIO'!$N$4:$W$137,9,FALSE))","v":""},"",null,"",null,"",null,"","",{"$nulls":4},{"$f":"IF(C347=\"\",\"\",'OPĆI DIO'!$C$1)","v":""},"","","","","",""]
[{"$f":"IF(C348=\"\",\"\",VLOOKUP('OPĆI DIO'!$C$1,'OPĆI DIO'!$N$4:$W$137,10,FALSE))","v":""},{"$f":"IF(C348=\"\",\"\",VLOOKUP('OPĆI DIO'!$C$1,'OPĆI DIO'!$N$4:$W$137,9,FALSE))","v":""},"",null,"",null,"",null,"","",{"$nulls":4},{"$f":"IF(C348=\"\",\"\",'OPĆI DIO'!$C$1)","v":""},"","","","","",""]
[{"$f":"IF(C349=\"\",\"\",VLOOKUP('OPĆI DIO'!$C$1,'OPĆI DIO'!$N$4:$W$137,10,FALSE))","v":""},{"$f":"IF(C349=\"\",\"\",VLOOKUP('OPĆI DIO'!$C$1,'OPĆI DIO'!$N$4:$W$137,9,FALSE))","v":""},"",null,"",null,"",null,"","",{"$nulls":4},{"$f":"IF(C349=\"\",\"\",'OPĆI DIO'!$C$1)","v":""},"","","","","",""]
[{"$f":"IF(C350=\"\",\"\",VLOOKUP('OPĆI DIO'!$C$1,'OPĆI DIO'!$N$4:$W$137,10,FALSE))","v":""},{"$f":"IF(C350=\"\",\"\",VLOOKUP('OPĆI DIO'!$C$1,'OPĆI DIO'!$N$4:$W$137,9,FALSE))","v":""},"",null,"",null,"",null,"","",{"$nulls":4},{"$f":"IF(C350=\"\",\"\",'OPĆI DIO'!$C$1)","v":""},"","","","","",""]
[{"$f":"IF(C351=\"\",\"\",VLOOKUP('OPĆI DIO'!$C$1,'OPĆI DIO'!$N$4:$W$137,10,FALSE))","v":""},{"$f":"IF(C351=\"\",\"\",VLOOKUP('OPĆI DIO'!$C$1,'OPĆI DIO'!$N$4:$W$137,9,FALSE))","v":""},"",null,"",null,"",null,"","",{"$nulls":4},{"$f":"IF(C351=\"\",\"\",'OPĆI DIO'!$C$1)","v":""},"","","","","",""]
[{"$f":"IF(C352=\"\",\"\",VLOOKUP('OPĆI DIO'!$C$1,'OPĆI DIO'!$N$4:$W$137,10,FALSE))","v":""},{"$f":"IF(C352=\"\",\"\",VLOOKUP('OPĆI DIO'!$C$1,'OPĆI DIO'!$N$4:$W$137,9,FALSE))","v":""},"",null,"",null,"",null,"","",{"$nulls":4},{"$f":"IF(C352=\"\",\"\",'OPĆI DIO'!$C$1)","v":""},"","","","","",""]
[{"$f":"IF(C353=\"\",\"\",VLOOKUP('OPĆI DIO'!$C$1,'OPĆI DIO'!$N$4:$W$137,10,FALSE))","v":""},{"$f":"IF(C353=\"\",\"\",VLOOKUP('OPĆI DIO'!$C$1,'OPĆI DIO'!$N$4:$W$137,9,FALSE))","v":""},"",null,"",null,"",null,"","",{"$nulls":4},{"$f":"IF(C353=\"\",\"\",'OPĆI DIO'!$C$1)","v":""},"","","","","",""]
[{"$f":"IF(C354=\"\",\"\",VLOOKUP('OPĆI DIO'!$C$1,'OPĆI DIO'!$N$4:$W$137,10,FALSE))","v":""},{"$f":"IF(C354=\"\",\"\",VLOOKUP('OPĆI DIO'!$C$1,'OPĆI DIO'!$N$4:$W$137,9,FALSE))","v":""},"",null,"",null,"",null,{"$f":"IFERROR(VLOOKUP(H354,$AE$6:$AF$353,2,FALSE),\"\")","v":""},{"$f":"IFERROR(VLOOKUP(H354,$AE$6:$AI$353,3,FALSE),\"\")","v":""},{"$nulls":4},{"$f":"IF(C354=\"\",\"\",'OPĆI DIO'!$C$1)","v":""},"","","","","",""]
[{"$f":"IF(C355=\"\",\"\",VLOOKUP('OPĆI DIO'!$C$1,'OPĆI DIO'!$N$4:$W$137,10,FALSE))","v":""},{"$f":"IF(C355=\"\",\"\",VLOOKUP('OPĆI DIO'!$C$1,'OPĆI DIO'!$N$4:$W$137,9,FALSE))","v":""},"",null,"",null,"",null,"","",{"$nulls":4},{"$f":"IF(C355=\"\",\"\",'OPĆI DIO'!$C$1)","v":""},"","","","","",""]
[{"$f":"IF(C356=\"\",\"\",VLOOKUP('OPĆI DIO'!$C$1,'OPĆI DIO'!$N$4:$W$137,10,FALSE))","v":""},{"$f":"IF(C356=\"\",\"\",VLOOKUP('OPĆI DIO'!$C$1,'OPĆI DIO'!$N$4:$W$137,9,FALSE))","v":""},"",null,"",null,"",null,"","",{"$nulls":4},{"$f":"IF(C356=\"\",\"\",'OPĆI DIO'!$C$1)","v":""},"","","","","",""]
[{"$f":"IF(C357=\"\",\"\",VLOOKUP('OPĆI DIO'!$C$1,'OPĆI DIO'!$N$4:$W$137,10,FALSE))","v":""},{"$f":"IF(C357=\"\",\"\",VLOOKUP('OPĆI DIO'!$C$1,'OPĆI DIO'!$N$4:$W$137,9,FALSE))","v":""},"",null,"",null,"",null,"","",{"$nulls":4},{"$f":"IF(C357=\"\",\"\",'OPĆI DIO'!$C$1)","v":""},"","","","","",""]
[{"$f":"IF(C358=\"\",\"\",VLOOKUP('OPĆI DIO'!$C$1,'OPĆI DIO'!$N$4:$W$137,10,FALSE))","v":""},{"$f":"IF(C358=\"\",\"\",VLOOKUP('OPĆI DIO'!$C$1,'OPĆI DIO'!$N$4:$W$137,9,FALSE))","v":""},"",null,"",null,"",null,"","",{"$nulls":4},{"$f":"IF(C358=\"\",\"\",'OPĆI DIO'!$C$1)","v":""},"","","","","",""]
[{"$f":"IF(C359=\"\",\"\",VLOOKUP('OPĆI DIO'!$C$1,'OPĆI DIO'!$N$4:$W$137,10,FALSE))","v":""},{"$f":"IF(C359=\"\",\"\",VLOOKUP('OPĆI DIO'!$C$1,'OPĆI DIO'!$N$4:$W$137,9,FALSE))","v":""},"",null,"",null,"",null,"","",{"$nulls":4},{"$f":"IF(C359=\"\",\"\",'OPĆI DIO'!$C$1)","v":""},"","","","","",""]
[{"$f":"IF(C360=\"\",\"\",VLOOKUP('OPĆI DIO'!$C$1,'OPĆI DIO'!$N$4:$W$137,10,FALSE))","v":""},{"$f":"IF(C360=\"\",\"\",VLOOKUP('OPĆI DIO'!$C$1,'OPĆI DIO'!$N$4:$W$137,9,FALSE))","v":""},"",null,"",null,"",null,"","",{"$nulls":4},{"$f":"IF(C360=\"\",\"\",'OPĆI DIO'!$C$1)","v":""},"","","","","",""]
[{"$f":"IF(C361=\"\",\"\",VLOOKUP('OPĆI DIO'!$C$1,'OPĆI DIO'!$N$4:$W$137,10,FALSE))","v":""},{"$f":"IF(C361=\"\",\"\",VLOOKUP('OPĆI DIO'!$C$1,'OPĆI DIO'!$N$4:$W$137,9,FALSE))","v":""},"",null,"",null,"",null,"","",{"$nulls":4},{"$f":"IF(C361=\"\",\"\",'OPĆI DIO'!$C$1)","v":""},"","","","","",""]
[{"$f":"IF(C362=\"\",\"\",VLOOKUP('OPĆI DIO'!$C$1,'OPĆI DIO'!$N$4:$W$137,10,FALSE))","v":""},{"$f":"IF(C362=\"\",\"\",VLOOKUP('OPĆI DIO'!$C$1,'OPĆI DIO'!$N$4:$W$137,9,FALSE))","v":""},"",null,"",null,"",null,"","",{"$nulls":4},{"$f":"IF(C362=\"\",\"\",'OPĆI DIO'!$C$1)","v":""},"","","","","",""]
[{"$f":"IF(C363=\"\",\"\",VLOOKUP('OPĆI DIO'!$C$1,'OPĆI DIO'!$N$4:$W$137,10,FALSE))","v":""},{"$f":"IF(C363=\"\",\"\",VLOOKUP('OPĆI DIO'!$C$1,'OPĆI DIO'!$N$4:$W$137,9,FALSE))","v":""},"",null,"",null,"",null,"","",{"$nulls":4},{"$f":"IF(C363=\"\",\"\",'OPĆI DIO'!$C$1)","v":""},"","","","","",""]
[{"$f":"IF(C364=\"\",\"\",VLOOKUP('OPĆI DIO'!$C$1,'OPĆI DIO'!$N$4:$W$137,10,FALSE))","v":""},{"$f":"IF(C364=\"\",\"\",VLOOKUP('OPĆI DIO'!$C$1,'OPĆI DIO'!$N$4:$W$137,9,FALSE))","v":""},"",null,"",null,"",null,"","",{"$nulls":4},{"$f":"IF(C364=\"\",\"\",'OPĆI DIO'!$C$1)","v":""},"","","","","",""]
[{"$f":"IF(C365=\"\",\"\",VLOOKUP('OPĆI DIO'!$C$1,'OPĆI DIO'!$N$4:$W$137,10,FALSE))","v":""},{"$f":"IF(C365=\"\",\"\",VLOOKUP('OPĆI DIO'!$C$1,'OPĆI DIO'!$N$4:$W$137,9,FALSE))","v":""},"",null,"",null,"",null,"","",{"$nulls":4},{"$f":"IF(C365=\"\",\"\",'OPĆI DIO'!$C$1)","v":""},"","","","","",""]
[{"$f":"IF(C366=\"\",\"\",VLOOKUP('OPĆI DIO'!$C$1,'OPĆI DIO'!$N$4:$W$137,10,FALSE))","v":""},{"$f":"IF(C366=\"\",\"\",VLOOKUP('OPĆI DIO'!$C$1,'OPĆI DIO'!$N$4:$W$137,9,FALSE))","v":""},"",null,"",null,"",null,"","",{"$nulls":4},{"$f":"IF(C366=\"\",\"\",'OPĆI DIO'!$C$1)","v":""},"","","","","",""]
[{"$f":"IF(C367=\"\",\"\",VLOOKUP('OPĆI DIO'!$C$1,'OPĆI DIO'!$N$4:$W$137,10,FALSE))","v":""},{"$f":"IF(C367=\"\",\"\",VLOOKUP('OPĆI DIO'!$C$1,'OPĆI DIO'!$N$4:$W$137,9,FALSE))","v":""},"",null,"",null,"",null,"","",{"$nulls":4},{"$f":"IF(C367=\"\",\"\",'OPĆI DIO'!$C$1)","v":""},"","","","","",""]
[{"$f":"IF(C368=\"\",\"\",VLOOKUP('OPĆI DIO'!$C$1,'OPĆI DIO'!$N$4:$W$137,10,FALSE))","v":""},{"$f":"IF(C368=\"\",\"\",VLOOKUP('OPĆI DIO'!$C$1,'OPĆI DIO'!$N$4:$W$137,9,FALSE))","v":""},"",null,"",null,"",null,"","",{"$nulls":4},{"$f":"IF(C368=\"\",\"\",'OPĆI DIO'!$C$1)","v":""},"","","","","",""]
[{"$f":"IF(C369=\"\",\"\",VLOOKUP('OPĆI DIO'!$C$1,'OPĆI DIO'!$N$4:$W$137,10,FALSE))","v":""},{"$f":"IF(C369=\"\",\"\",VLOOKUP('OPĆI DIO'!$C$1,'OPĆI DIO'!$N$4:$W$137,9,FALSE))","v":""},"",null,"",null,"",null,"","",{"$nulls":4},{"$f":"IF(C369=\"\",\"\",'OPĆI DIO'!$C$1)","v":""},"","","","","",""]
[{"$f":"IF(C370=\"\",\"\",VLOOKUP('OPĆI DIO'!$C$1,'OPĆI DIO'!$N$4:$W$137,10,FALSE))","v":""},{"$f":"IF(C370=\"\",\"\",VLOOKUP('OPĆI DIO'!$C$1,'OPĆI DIO'!$N$4:$W$137,9,FALSE))","v":""},"",null,"",null,"",null,"","",{"$nulls":4},{"$f":"IF(C370=\"\",\"\",'OPĆI DIO'!$C$1)","v":""},"","","","","",""]
[{"$f":"IF(C371=\"\",\"\",VLOOKUP('OPĆI DIO'!$C$1,'OPĆI DIO'!$N$4:$W$137,10,FALSE))","v":""},{"$f":"IF(C371=\"\",\"\",VLOOKUP('OPĆI DIO'!$C$1,'OPĆI DIO'!$N$4:$W$137,9,FALSE))","v":""},"",null,"",null,"",null,"","",{"$nulls":4},{"$f":"IF(C371=\"\",\"\",'OPĆI DIO'!$C$1)","v":""},"","","","","",""]
[{"$f":"IF(C372=\"\",\"\",VLOOKUP('OPĆI DIO'!$C$1,'OPĆI DIO'!$N$4:$W$137,10,FALSE))","v":""},{"$f":"IF(C372=\"\",\"\",VLOOKUP('OPĆI DIO'!$C$1,'OPĆI DIO'!$N$4:$W$137,9,FALSE))","v":""},"",null,"",null,"",null,"","",{"$nulls":4},{"$f":"IF(C372=\"\",\"\",'OPĆI DIO'!$C$1)","v":""},"","","","","",""]
[{"$f":"IF(C373=\"\",\"\",VLOOKUP('OPĆI DIO'!$C$1,'OPĆI DIO'!$N$4:$W$137,10,FALSE))","v":""},{"$f":"IF(C373=\"\",\"\",VLOOKUP('OPĆI DIO'!$C$1,'OPĆI DIO'!$N$4:$W$137,9,FALSE))","v":""},"",null,"",null,"",null,"","",{"$nulls":4},{"$f":"IF(C373=\"\",\"\",'OPĆI DIO'!$C$1)","v":""},"","","","","",""]
[{"$f":"IF(C374=\"\",\"\",VLOOKUP('OPĆI DIO'!$C$1,'OPĆI DIO'!$N$4:$W$137,10,FALSE))","v":""},{"$f":"IF(C374=\"\",\"\",VLOOKUP('OPĆI DIO'!$C$1,'OPĆI DIO'!$N$4:$W$137,9,FALSE))","v":""},"",null,"",null,"",null,"","",{"$nulls":4},{"$f":"IF(C374=\"\",\"\",'OPĆI DIO'!$C$1)","v":""},"","","","","",""]
[{"$f":"IF(C375=\"\",\"\",VLOOKUP('OPĆI DIO'!$C$1,'OPĆI DIO'!$N$4:$W$137,10,FALSE))","v":""},{"$f":"IF(C375=\"\",\"\",VLOOKUP('OPĆI DIO'!$C$1,'OPĆI DIO'!$N$4:$W$137,9,FALSE))","v":""},"",null,"",null,"",null,"","",{"$nulls":4},{"$f":"IF(C375=\"\",\"\",'OPĆI DIO'!$C$1)","v":""},"","","","","",""]
[{"$f":"IF(C376=\"\",\"\",VLOOKUP('OPĆI DIO'!$C$1,'OPĆI DIO'!$N$4:$W$137,10,FALSE))","v":""},{"$f":"IF(C376=\"\",\"\",VLOOKUP('OPĆI DIO'!$C$1,'OPĆI DIO'!$N$4:$W$137,9,FALSE))","v":""},"",null,"",null,"",null,"","",{"$nulls":4},{"$f":"IF(C376=\"\",\"\",'OPĆI DIO'!$C$1)","v":""},"","","","","",""]
[{"$f":"IF(C377=\"\",\"\",VLOOKUP('OPĆI DIO'!$C$1,'OPĆI DIO'!$N$4:$W$137,10,FALSE))","v":""},{"$f":"IF(C377=\"\",\"\",VLOOKUP('OPĆI DIO'!$C$1,'OPĆI DIO'!$N$4:$W$137,9,FALSE))","v":""},"",null,"",null,"",null,"","",{"$nulls":4},{"$f":"IF(C377=\"\",\"\",'OPĆI DIO'!$C$1)","v":""},"","","","","",""]
[{"$f":"IF(C378=\"\",\"\",VLOOKUP('OPĆI DIO'!$C$1,'OPĆI DIO'!$N$4:$W$137,10,FALSE))","v":""},{"$f":"IF(C378=\"\",\"\",VLOOKUP('OPĆI DIO'!$C$1,'OPĆI DIO'!$N$4:$W$137,9,FALSE))","v":""},"",null,"",null,"",null,"","",{"$nulls":4},{"$f":"IF(C378=\"\",\"\",'OPĆI DIO'!$C$1)","v":""},"","","","","",""]
[{"$f":"IF(C379=\"\",\"\",VLOOKUP('OPĆI DIO'!$C$1,'OPĆI DIO'!$N$4:$W$137,10,FALSE))","v":""},{"$f":"IF(C379=\"\",\"\",VLOOKUP('OPĆI DIO'!$C$1,'OPĆI DIO'!$N$4:$W$137,9,FALSE))","v":""},"",null,"",null,"",null,"","",{"$nulls":4},{"$f":"IF(C379=\"\",\"\",'OPĆI DIO'!$C$1)","v":""},"","","","","",""]
[{"$f":"IF(C380=\"\",\"\",VLOOKUP('OPĆI DIO'!$C$1,'OPĆI DIO'!$N$4:$W$137,10,FALSE))","v":""},{"$f":"IF(C380=\"\",\"\",VLOOKUP('OPĆI DIO'!$C$1,'OPĆI DIO'!$N$4:$W$137,9,FALSE))","v":""},"",null,"",null,"",null,"","",{"$nulls":4},{"$f":"IF(C380=\"\",\"\",'OPĆI DIO'!$C$1)","v":""},"","","","","",""]
[{"$f":"IF(C381=\"\",\"\",VLOOKUP('OPĆI DIO'!$C$1,'OPĆI DIO'!$N$4:$W$137,10,FALSE))","v":""},{"$f":"IF(C381=\"\",\"\",VLOOKUP('OPĆI DIO'!$C$1,'OPĆI DIO'!$N$4:$W$137,9,FALSE))","v":""},"",null,"",null,"",null,"","",{"$nulls":4},{"$f":"IF(C381=\"\",\"\",'OPĆI DIO'!$C$1)","v":""},"","","","","",""]
[{"$f":"IF(C382=\"\",\"\",VLOOKUP('OPĆI DIO'!$C$1,'OPĆI DIO'!$N$4:$W$137,10,FALSE))","v":""},{"$f":"IF(C382=\"\",\"\",VLOOKUP('OPĆI DIO'!$C$1,'OPĆI DIO'!$N$4:$W$137,9,FALSE))","v":""},"",null,"",null,"",null,"","",{"$nulls":4},{"$f":"IF(C382=\"\",\"\",'OPĆI DIO'!$C$1)","v":""},"","","","","",""]
[{"$f":"IF(C383=\"\",\"\",VLOOKUP('OPĆI DIO'!$C$1,'OPĆI DIO'!$N$4:$W$137,10,FALSE))","v":""},{"$f":"IF(C383=\"\",\"\",VLOOKUP('OPĆI DIO'!$C$1,'OPĆI DIO'!$N$4:$W$137,9,FALSE))","v":""},"",null,"",null,"",null,"","",{"$nulls":4},{"$f":"IF(C383=\"\",\"\",'OPĆI DIO'!$C$1)","v":""},"","","","","",""]
[{"$f":"IF(C384=\"\",\"\",VLOOKUP('OPĆI DIO'!$C$1,'OPĆI DIO'!$N$4:$W$137,10,FALSE))","v":""},{"$f":"IF(C384=\"\",\"\",VLOOKUP('OPĆI DIO'!$C$1,'OPĆI DIO'!$N$4:$W$137,9,FALSE))","v":""},"",null,"",null,"",null,"","",{"$nulls":4},{"$f":"IF(C384=\"\",\"\",'OPĆI DIO'!$C$1)","v":""},"","","","","",""]
[{"$f":"IF(C385=\"\",\"\",VLOOKUP('OPĆI DIO'!$C$1,'OPĆI DIO'!$N$4:$W$137,10,FALSE))","v":""},{"$f":"IF(C385=\"\",\"\",VLOOKUP('OPĆI DIO'!$C$1,'OPĆI DIO'!$N$4:$W$137,9,FALSE))","v":""},"",null,"",null,"",null,"","",{"$nulls":4},{"$f":"IF(C385=\"\",\"\",'OPĆI DIO'!$C$1)","v":""},"","","","","",""]
[{"$f":"IF(C386=\"\",\"\",VLOOKUP('OPĆI DIO'!$C$1,'OPĆI DIO'!$N$4:$W$137,10,FALSE))","v":""},{"$f":"IF(C386=\"\",\"\",VLOOKUP('OPĆI DIO'!$C$1,'OPĆI DIO'!$N$4:$W$137,9,FALSE))","v":""},"",null,"",null,"",null,{"$f":"IFERROR(VLOOKUP(H386,$AE$6:$AF$353,2,FALSE),\"\")","v":""},{"$f":"IFERROR(VLOOKUP(H386,$AE$6:$AI$353,3,FALSE),\"\")","v":""},{"$nulls":4},{"$f":"IF(C386=\"\",\"\",'OPĆI DIO'!$C$1)","v":""},"","","","","",""]
[{"$f":"IF(C387=\"\",\"\",VLOOKUP('OPĆI DIO'!$C$1,'OPĆI DIO'!$N$4:$W$137,10,FALSE))","v":""},{"$f":"IF(C387=\"\",\"\",VLOOKUP('OPĆI DIO'!$C$1,'OPĆI DIO'!$N$4:$W$137,9,FALSE))","v":""},"",null,"",null,{"$f":"IFERROR(VLOOKUP(F387,$Y$5:$AA$129,2,FALSE),\"\")","v":""},null,"","",{"$nulls":4},{"$f":"IF(C387=\"\",\"\",'OPĆI DIO'!$C$1)","v":""},"","","","","",""]
[{"$f":"IF(C388=\"\",\"\",VLOOKUP('OPĆI DIO'!$C$1,'OPĆI DIO'!$N$4:$W$137,10,FALSE))","v":""},{"$f":"IF(C388=\"\",\"\",VLOOKUP('OPĆI DIO'!$C$1,'OPĆI DIO'!$N$4:$W$137,9,FALSE))","v":""},{"$f":"IFERROR(VLOOKUP(D388,$V$6:$X$34,3,FALSE),\"\")","v":""},null,{"$f":"IFERROR(VLOOKUP(D388,$V$6:$W$34,2,FALSE),\"\")","v":""},null,"",null,"","",{"$nulls":4},{"$f":"IF(C388=\"\",\"\",'OPĆI DIO'!$C$1)","v":""},{"$f":"LEFT(F388,3)","v":""},{"$f":"LEFT(F388,2)","v":""},{"$f":"LEFT(C388,3)","v":""},{"$f":"MID(J388,2,2)","v":""},{"$f":"LEFT(F388,1)","v":""},{"$f":"IFERROR(VLOOKUP(C388,$V$6:$X$34,3,FALSE),\"\")","v":""}]
[{"$f":"IF(C389=\"\",\"\",VLOOKUP('OPĆI DIO'!$C$1,'OPĆI DIO'!$N$4:$W$137,10,FALSE))","v":""},{"$f":"IF(C389=\"\",\"\",VLOOKUP('OPĆI DIO'!$C$1,'OPĆI DIO'!$N$4:$W$137,9,FALSE))","v":""},"",null,"",null,"",null,"","",{"$nulls":4},{"$f":"IF(C389=\"\",\"\",'OPĆI DIO'!$C$1)","v":""},"","","","","",""]
[{"$f":"IF(C390=\"\",\"\",VLOOKUP('OPĆI DIO'!$C$1,'OPĆI DIO'!$N$4:$W$137,10,FALSE))","v":""},{"$f":"IF(C390=\"\",\"\",VLOOKUP('OPĆI DIO'!$C$1,'OPĆI DIO'!$N$4:$W$137,9,FALSE))","v":""},"",null,"",null,"",null,"","",{"$nulls":4},{"$f":"IF(C390=\"\",\"\",'OPĆI DIO'!$C$1)","v":""},"","","","","",""]
[{"$f":"IF(C391=\"\",\"\",VLOOKUP('OPĆI DIO'!$C$1,'OPĆI DIO'!$N$4:$W$137,10,FALSE))","v":""},{"$f":"IF(C391=\"\",\"\",VLOOKUP('OPĆI DIO'!$C$1,'OPĆI DIO'!$N$4:$W$137,9,FALSE))","v":""},"",null,"",null,"",null,"","",{"$nulls":4},{"$f":"IF(C391=\"\",\"\",'OPĆI DIO'!$C$1)","v":""},"","","","","",""]
[{"$f":"IF(C392=\"\",\"\",VLOOKUP('OPĆI DIO'!$C$1,'OPĆI DIO'!$N$4:$W$137,10,FALSE))","v":""},{"$f":"IF(C392=\"\",\"\",VLOOKUP('OPĆI DIO'!$C$1,'OPĆI DIO'!$N$4:$W$137,9,FALSE))","v":""},"",null,"",null,"",null,"","",{"$nulls":4},{"$f":"IF(C392=\"\",\"\",'OPĆI DIO'!$C$1)","v":""},"","","","","",""]
[{"$f":"IF(C393=\"\",\"\",VLOOKUP('OPĆI DIO'!$C$1,'OPĆI DIO'!$N$4:$W$137,10,FALSE))","v":""},{"$f":"IF(C393=\"\",\"\",VLOOKUP('OPĆI DIO'!$C$1,'OPĆI DIO'!$N$4:$W$137,9,FALSE))","v":""},"",null,"",null,"",null,"","",{"$nulls":4},{"$f":"IF(C393=\"\",\"\",'OPĆI DIO'!$C$1)","v":""},"","","","","",""]
[{"$f":"IF(C394=\"\",\"\",VLOOKUP('OPĆI DIO'!$C$1,'OPĆI DIO'!$N$4:$W$137,10,FALSE))","v":""},{"$f":"IF(C394=\"\",\"\",VLOOKUP('OPĆI DIO'!$C$1,'OPĆI DIO'!$N$4:$W$137,9,FALSE))","v":""},"",null,"",null,"",null,"","",{"$nulls":4},{"$f":"IF(C394=\"\",\"\",'OPĆI DIO'!$C$1)","v":""},"","","","","",""]
[{"$f":"IF(C395=\"\",\"\",VLOOKUP('OPĆI DIO'!$C$1,'OPĆI DIO'!$N$4:$W$137,10,FALSE))","v":""},{"$f":"IF(C395=\"\",\"\",VLOOKUP('OPĆI DIO'!$C$1,'OPĆI DIO'!$N$4:$W$137,9,FALSE))","v":""},"",null,"",null,"",null,"","",{"$nulls":4},{"$f":"IF(C395=\"\",\"\",'OPĆI DIO'!$C$1)","v":""},"","","","","",""]
[{"$f":"IF(C396=\"\",\"\",VLOOKUP('OPĆI DIO'!$C$1,'OPĆI DIO'!$N$4:$W$137,10,FALSE))","v":""},{"$f":"IF(C396=\"\",\"\",VLOOKUP('OPĆI DIO'!$C$1,'OPĆI DIO'!$N$4:$W$137,9,FALSE))","v":""},"",null,"",null,"",null,"","",{"$nulls":4},{"$f":"IF(C396=\"\",\"\",'OPĆI DIO'!$C$1)","v":""},"","","","","",""]
[{"$f":"IF(C397=\"\",\"\",VLOOKUP('OPĆI DIO'!$C$1,'OPĆI DIO'!$N$4:$W$137,10,FALSE))","v":""},{"$f":"IF(C397=\"\",\"\",VLOOKUP('OPĆI DIO'!$C$1,'OPĆI DIO'!$N$4:$W$137,9,FALSE))","v":""},"",null,"",null,"",null,"","",{"$nulls":4},{"$f":"IF(C397=\"\",\"\",'OPĆI DIO'!$C$1)","v":""},"","","","","",""]
[{"$f":"IF(C398=\"\",\"\",VLOOKUP('OPĆI DIO'!$C$1,'OPĆI DIO'!$N$4:$W$137,10,FALSE))","v":""},{"$f":"IF(C398=\"\",\"\",VLOOKUP('OPĆI DIO'!$C$1,'OPĆI DIO'!$N$4:$W$137,9,FALSE))","v":""},"",null,"",null,"",null,"","",{"$nulls":4},{"$f":"IF(C398=\"\",\"\",'OPĆI DIO'!$C$1)","v":""},"","","","","",""]
[{"$f":"IF(C399=\"\",\"\",VLOOKUP('OPĆI DIO'!$C$1,'OPĆI DIO'!$N$4:$W$137,10,FALSE))","v":""},{"$f":"IF(C399=\"\",\"\",VLOOKUP('OPĆI DIO'!$C$1,'OPĆI DIO'!$N$4:$W$137,9,FALSE))","v":""},"",null,"",null,"",null,"","",{"$nulls":4},{"$f":"IF(C399=\"\",\"\",'OPĆI DIO'!$C$1)","v":""},"","","","","",""]
[{"$f":"IF(C400=\"\",\"\",VLOOKUP('OPĆI DIO'!$C$1,'OPĆI DIO'!$N$4:$W$137,10,FALSE))","v":""},{"$f":"IF(C400=\"\",\"\",VLOOKUP('OPĆI DIO'!$C$1,'OPĆI DIO'!$N$4:$W$137,9,FALSE))","v":""},"",null,"",null,"",null,"","",{"$nulls":4},{"$f":"IF(C400=\"\",\"\",'OPĆI DIO'!$C$1)","v":""},"","","","","",""]
[{"$f":"IF(C401=\"\",\"\",VLOOKUP('OPĆI DIO'!$C$1,'OPĆI DIO'!$N$4:$W$137,10,FALSE))","v":""},{"$f":"IF(C401=\"\",\"\",VLOOKUP('OPĆI DIO'!$C$1,'OPĆI DIO'!$N$4:$W$137,9,FALSE))","v":""},"",null,"",null,"",null,"","",{"$nulls":4},{"$f":"IF(C401=\"\",\"\",'OPĆI DIO'!$C$1)","v":""},"","","","","",""]
[{"$f":"IF(C402=\"\",\"\",VLOOKUP('OPĆI DIO'!$C$1,'OPĆI DIO'!$N$4:$W$137,10,FALSE))","v":""},{"$f":"IF(C402=\"\",\"\",VLOOKUP('OPĆI DIO'!$C$1,'OPĆI DIO'!$N$4:$W$137,9,FALSE))","v":""},"",null,"",null,"",null,"","",{"$nulls":4},{"$f":"IF(C402=\"\",\"\",'OPĆI DIO'!$C$1)","v":""},"","","","","",""]
[{"$f":"IF(C403=\"\",\"\",VLOOKUP('OPĆI DIO'!$C$1,'OPĆI DIO'!$N$4:$W$137,10,FALSE))","v":""},{"$f":"IF(C403=\"\",\"\",VLOOKUP('OPĆI DIO'!$C$1,'OPĆI DIO'!$N$4:$W$137,9,FALSE))","v":""},"",null,"",null,"",null,"","",{"$nulls":4},{"$f":"IF(C403=\"\",\"\",'OPĆI DIO'!$C$1)","v":""},"","","","","",""]
[{"$f":"IF(C404=\"\",\"\",VLOOKUP('OPĆI DIO'!$C$1,'OPĆI DIO'!$N$4:$W$137,10,FALSE))","v":""},{"$f":"IF(C404=\"\",\"\",VLOOKUP('OPĆI DIO'!$C$1,'OPĆI DIO'!$N$4:$W$137,9,FALSE))","v":""},"",null,"",null,"",null,"","",{"$nulls":4},{"$f":"IF(C404=\"\",\"\",'OPĆI DIO'!$C$1)","v":""},"","","","","",""]
[{"$f":"IF(C405=\"\",\"\",VLOOKUP('OPĆI DIO'!$C$1,'OPĆI DIO'!$N$4:$W$137,10,FALSE))","v":""},{"$f":"IF(C405=\"\",\"\",VLOOKUP('OPĆI DIO'!$C$1,'OPĆI DIO'!$N$4:$W$137,9,FALSE))","v":""},"",null,"",null,"",null,"","",{"$nulls":4},{"$f":"IF(C405=\"\",\"\",'OPĆI DIO'!$C$1)","v":""},"","","","","",""]
[{"$f":"IF(C406=\"\",\"\",VLOOKUP('OPĆI DIO'!$C$1,'OPĆI DIO'!$N$4:$W$137,10,FALSE))","v":""},{"$f":"IF(C406=\"\",\"\",VLOOKUP('OPĆI DIO'!$C$1,'OPĆI DIO'!$N$4:$W$137,9,FALSE))","v":""},"",null,"",null,"",null,"","",{"$nulls":4},{"$f":"IF(C406=\"\",\"\",'OPĆI DIO'!$C$1)","v":""},"","","","","",""]
[{"$f":"IF(C407=\"\",\"\",VLOOKUP('OPĆI DIO'!$C$1,'OPĆI DIO'!$N$4:$W$137,10,FALSE))","v":""},{"$f":"IF(C407=\"\",\"\",VLOOKUP('OPĆI DIO'!$C$1,'OPĆI DIO'!$N$4:$W$137,9,FALSE))","v":""},"",null,"",null,"",null,"","",{"$nulls":4},{"$f":"IF(C407=\"\",\"\",'OPĆI DIO'!$C$1)","v":""},"","","","","",""]
[{"$f":"IF(C408=\"\",\"\",VLOOKUP('OPĆI DIO'!$C$1,'OPĆI DIO'!$N$4:$W$137,10,FALSE))","v":""},{"$f":"IF(C408=\"\",\"\",VLOOKUP('OPĆI DIO'!$C$1,'OPĆI DIO'!$N$4:$W$137,9,FALSE))","v":""},"",null,"",null,"",null,"","",{"$nulls":4},{"$f":"IF(C408=\"\",\"\",'OPĆI DIO'!$C$1)","v":""},"","","","","",""]
[{"$f":"IF(C409=\"\",\"\",VLOOKUP('OPĆI DIO'!$C$1,'OPĆI DIO'!$N$4:$W$137,10,FALSE))","v":""},{"$f":"IF(C409=\"\",\"\",VLOOKUP('OPĆI DIO'!$C$1,'OPĆI DIO'!$N$4:$W$137,9,FALSE))","v":""},"",null,"",null,"",null,"","",{"$nulls":4},{"$f":"IF(C409=\"\",\"\",'OPĆI DIO'!$C$1)","v":""},"","","","","",""]
[{"$f":"IF(C410=\"\",\"\",VLOOKUP('OPĆI DIO'!$C$1,'OPĆI DIO'!$N$4:$W$137,10,FALSE))","v":""},{"$f":"IF(C410=\"\",\"\",VLOOKUP('OPĆI DIO'!$C$1,'OPĆI DIO'!$N$4:$W$137,9,FALSE))","v":""},"",null,"",null,"",null,"","",{"$nulls":4},{"$f":"IF(C410=\"\",\"\",'OPĆI DIO'!$C$1)","v":""},"","","","","",""]
[{"$f":"IF(C411=\"\",\"\",VLOOKUP('OPĆI DIO'!$C$1,'OPĆI DIO'!$N$4:$W$137,10,FALSE))","v":""},{"$f":"IF(C411=\"\",\"\",VLOOKUP('OPĆI DIO'!$C$1,'OPĆI DIO'!$N$4:$W$137,9,FALSE))","v":""},"",null,"",null,"",null,"","",{"$nulls":4},{"$f":"IF(C411=\"\",\"\",'OPĆI DIO'!$C$1)","v":""},"","","","","",""]
[{"$f":"IF(C412=\"\",\"\",VLOOKUP('OPĆI DIO'!$C$1,'OPĆI DIO'!$N$4:$W$137,10,FALSE))","v":""},{"$f":"IF(C412=\"\",\"\",VLOOKUP('OPĆI DIO'!$C$1,'OPĆI DIO'!$N$4:$W$137,9,FALSE))","v":""},"",null,"",null,"",null,"","",{"$nulls":4},{"$f":"IF(C412=\"\",\"\",'OPĆI DIO'!$C$1)","v":""},"","","","","",""]
[{"$f":"IF(C413=\"\",\"\",VLOOKUP('OPĆI DIO'!$C$1,'OPĆI DIO'!$N$4:$W$137,10,FALSE))","v":""},{"$f":"IF(C413=\"\",\"\",VLOOKUP('OPĆI DIO'!$C$1,'OPĆI DIO'!$N$4:$W$137,9,FALSE))","v":""},"",null,"",null,"",null,"","",{"$nulls":4},{"$f":"IF(C413=\"\",\"\",'OPĆI DIO'!$C$1)","v":""},"","","","","",""]
[{"$f":"IF(C414=\"\",\"\",VLOOKUP('OPĆI DIO'!$C$1,'OPĆI DIO'!$N$4:$W$137,10,FALSE))","v":""},{"$f":"IF(C414=\"\",\"\",VLOOKUP('OPĆI DIO'!$C$1,'OPĆI DIO'!$N$4:$W$137,9,FALSE))","v":""},"",null,"",null,"",null,"","",{"$nulls":4},{"$f":"IF(C414=\"\",\"\",'OPĆI DIO'!$C$1)","v":""},"","","","","",""]
[{"$f":"IF(C415=\"\",\"\",VLOOKUP('OPĆI DIO'!$C$1,'OPĆI DIO'!$N$4:$W$137,10,FALSE))","v":""},{"$f":"IF(C415=\"\",\"\",VLOOKUP('OPĆI DIO'!$C$1,'OPĆI DIO'!$N$4:$W$137,9,FALSE))","v":""},"",null,"",null,"",null,"","",{"$nulls":4},{"$f":"IF(C415=\"\",\"\",'OPĆI DIO'!$C$1)","v":""},"","","","","",""]
[{"$f":"IF(C416=\"\",\"\",VLOOKUP('OPĆI DIO'!$C$1,'OPĆI DIO'!$N$4:$W$137,10,FALSE))","v":""},{"$f":"IF(C416=\"\",\"\",VLOOKUP('OPĆI DIO'!$C$1,'OPĆI DIO'!$N$4:$W$137,9,FALSE))","v":""},"",null,"",null,"",null,"","",{"$nulls":4},{"$f":"IF(C416=\"\",\"\",'OPĆI DIO'!$C$1)","v":""},"","","","","",""]
[{"$f":"IF(C417=\"\",\"\",VLOOKUP('OPĆI DIO'!$C$1,'OPĆI DIO'!$N$4:$W$137,10,FALSE))","v":""},{"$f":"IF(C417=\"\",\"\",VLOOKUP('OPĆI DIO'!$C$1,'OPĆI DIO'!$N$4:$W$137,9,FALSE))","v":""},"",null,"",null,"",null,"","",{"$nulls":4},{"$f":"IF(C417=\"\",\"\",'OPĆI DIO'!$C$1)","v":""},"","","","","",""]
[{"$f":"IF(C418=\"\",\"\",VLOOKUP('OPĆI DIO'!$C$1,'OPĆI DIO'!$N$4:$W$137,10,FALSE))","v":""},{"$f":"IF(C418=\"\",\"\",VLOOKUP('OPĆI DIO'!$C$1,'OPĆI DIO'!$N$4:$W$137,9,FALSE))","v":""},"",null,"",null,"",null,{"$f":"IFERROR(VLOOKUP(H418,$AE$6:$AF$353,2,FALSE),\"\")","v":""},{"$f":"IFERROR(VLOOKUP(H418,$AE$6:$AI$353,3,FALSE),\"\")","v":""},{"$nulls":4},{"$f":"IF(C418=\"\",\"\",'OPĆI DIO'!$C$1)","v":""},"","","","","",""]
[{"$f":"IF(C419=\"\",\"\",VLOOKUP('OPĆI DIO'!$C$1,'OPĆI DIO'!$N$4:$W$137,10,FALSE))","v":""},{"$f":"IF(C419=\"\",\"\",VLOOKUP('OPĆI DIO'!$C$1,'OPĆI DIO'!$N$4:$W$137,9,FALSE))","v":""},"",null,"",null,"",null,"","",{"$nulls":4},{"$f":"IF(C419=\"\",\"\",'OPĆI DIO'!$C$1)","v":""},"","","","","",""]
[{"$f":"IF(C420=\"\",\"\",VLOOKUP('OPĆI DIO'!$C$1,'OPĆI DIO'!$N$4:$W$137,10,FALSE))","v":""},{"$f":"IF(C420=\"\",\"\",VLOOKUP('OPĆI DIO'!$C$1,'OPĆI DIO'!$N$4:$W$137,9,FALSE))","v":""},"",null,"",null,"",null,"","",{"$nulls":4},{"$f":"IF(C420=\"\",\"\",'OPĆI DIO'!$C$1)","v":""},"","","","","",""]
[{"$f":"IF(C421=\"\",\"\",VLOOKUP('OPĆI DIO'!$C$1,'OPĆI DIO'!$N$4:$W$137,10,FALSE))","v":""},{"$f":"IF(C421=\"\",\"\",VLOOKUP('OPĆI DIO'!$C$1,'OPĆI DIO'!$N$4:$W$137,9,FALSE))","v":""},"",null,"",null,"",null,"","",{"$nulls":4},{"$f":"IF(C421=\"\",\"\",'OPĆI DIO'!$C$1)","v":""},"","","","","",""]
[{"$f":"IF(C422=\"\",\"\",VLOOKUP('OPĆI DIO'!$C$1,'OPĆI DIO'!$N$4:$W$137,10,FALSE))","v":""},{"$f":"IF(C422=\"\",\"\",VLOOKUP('OPĆI DIO'!$C$1,'OPĆI DIO'!$N$4:$W$137,9,FALSE))","v":""},"",null,"",null,"",null,"","",{"$nulls":4},{"$f":"IF(C422=\"\",\"\",'OPĆI DIO'!$C$1)","v":""},"","","","","",""]
[{"$f":"IF(C423=\"\",\"\",VLOOKUP('OPĆI DIO'!$C$1,'OPĆI DIO'!$N$4:$W$137,10,FALSE))","v":""},{"$f":"IF(C423=\"\",\"\",VLOOKUP('OPĆI DIO'!$C$1,'OPĆI DIO'!$N$4:$W$137,9,FALSE))","v":""},"",null,"",null,"",null,"","",{"$nulls":4},{"$f":"IF(C423=\"\",\"\",'OPĆI DIO'!$C$1)","v":""},"","","","","",""]
[{"$f":"IF(C424=\"\",\"\",VLOOKUP('OPĆI DIO'!$C$1,'OPĆI DIO'!$N$4:$W$137,10,FALSE))","v":""},{"$f":"IF(C424=\"\",\"\",VLOOKUP('OPĆI DIO'!$C$1,'OPĆI DIO'!$N$4:$W$137,9,FALSE))","v":""},"",null,"",null,"",null,"","",{"$nulls":4},{"$f":"IF(C424=\"\",\"\",'OPĆI DIO'!$C$1)","v":""},"","","","","",""]
[{"$f":"IF(C425=\"\",\"\",VLOOKUP('OPĆI DIO'!$C$1,'OPĆI DIO'!$N$4:$W$137,10,FALSE))","v":""},{"$f":"IF(C425=\"\",\"\",VLOOKUP('OPĆI DIO'!$C$1,'OPĆI DIO'!$N$4:$W$137,9,FALSE))","v":""},"",null,"",null,"",null,"","",{"$nulls":4},{"$f":"IF(C425=\"\",\"\",'OPĆI DIO'!$C$1)","v":""},"","","","","",""]
[{"$f":"IF(C426=\"\",\"\",VLOOKUP('OPĆI DIO'!$C$1,'OPĆI DIO'!$N$4:$W$137,10,FALSE))","v":""},{"$f":"IF(C426=\"\",\"\",VLOOKUP('OPĆI DIO'!$C$1,'OPĆI DIO'!$N$4:$W$137,9,FALSE))","v":""},"",null,"",null,"",null,"","",{"$nulls":4},{"$f":"IF(C426=\"\",\"\",'OPĆI DIO'!$C$1)","v":""},"","","","","",""]
[{"$f":"IF(C427=\"\",\"\",VLOOKUP('OPĆI DIO'!$C$1,'OPĆI DIO'!$N$4:$W$137,10,FALSE))","v":""},{"$f":"IF(C427=\"\",\"\",VLOOKUP('OPĆI DIO'!$C$1,'OPĆI DIO'!$N$4:$W$137,9,FALSE))","v":""},"",null,"",null,"",null,"","",{"$nulls":4},{"$f":"IF(C427=\"\",\"\",'OPĆI DIO'!$C$1)","v":""},"","","","","",""]
[{"$f":"IF(C428=\"\",\"\",VLOOKUP('OPĆI DIO'!$C$1,'OPĆI DIO'!$N$4:$W$137,10,FALSE))","v":""},{"$f":"IF(C428=\"\",\"\",VLOOKUP('OPĆI DIO'!$C$1,'OPĆI DIO'!$N$4:$W$137,9,FALSE))","v":""},"",null,"",null,"",null,"","",{"$nulls":4},{"$f":"IF(C428=\"\",\"\",'OPĆI DIO'!$C$1)","v":""},"","","","","",""]
[{"$f":"IF(C429=\"\",\"\",VLOOKUP('OPĆI DIO'!$C$1,'OPĆI DIO'!$N$4:$W$137,10,FALSE))","v":""},{"$f":"IF(C429=\"\",\"\",VLOOKUP('OPĆI DIO'!$C$1,'OPĆI DIO'!$N$4:$W$137,9,FALSE))","v":""},"",null,"",null,"",null,"","",{"$nulls":4},{"$f":"IF(C429=\"\",\"\",'OPĆI DIO'!$C$1)","v":""},"","","","","",""]
[{"$f":"IF(C430=\"\",\"\",VLOOKUP('OPĆI DIO'!$C$1,'OPĆI DIO'!$N$4:$W$137,10,FALSE))","v":""},{"$f":"IF(C430=\"\",\"\",VLOOKUP('OPĆI DIO'!$C$1,'OPĆI DIO'!$N$4:$W$137,9,FALSE))","v":""},"",null,"",null,"",null,"","",{"$nulls":4},{"$f":"IF(C430=\"\",\"\",'OPĆI DIO'!$C$1)","v":""},"","","","","",""]
[{"$f":"IF(C431=\"\",\"\",VLOOKUP('OPĆI DIO'!$C$1,'OPĆI DIO'!$N$4:$W$137,10,FALSE))","v":""},{"$f":"IF(C431=\"\",\"\",VLOOKUP('OPĆI DIO'!$C$1,'OPĆI DIO'!$N$4:$W$137,9,FALSE))","v":""},"",null,"",null,"",null,"","",{"$nulls":4},{"$f":"IF(C431=\"\",\"\",'OPĆI DIO'!$C$1)","v":""},"","","","","",""]
[{"$f":"IF(C432=\"\",\"\",VLOOKUP('OPĆI DIO'!$C$1,'OPĆI DIO'!$N$4:$W$137,10,FALSE))","v":""},{"$f":"IF(C432=\"\",\"\",VLOOKUP('OPĆI DIO'!$C$1,'OPĆI DIO'!$N$4:$W$137,9,FALSE))","v":""},"",null,"",null,"",null,"","",{"$nulls":4},{"$f":"IF(C432=\"\",\"\",'OPĆI DIO'!$C$1)","v":""},"","","","","",""]
[{"$f":"IF(C433=\"\",\"\",VLOOKUP('OPĆI DIO'!$C$1,'OPĆI DIO'!$N$4:$W$137,10,FALSE))","v":""},{"$f":"IF(C433=\"\",\"\",VLOOKUP('OPĆI DIO'!$C$1,'OPĆI DIO'!$N$4:$W$137,9,FALSE))","v":""},"",null,"",null,"",null,"","",{"$nulls":4},{"$f":"IF(C433=\"\",\"\",'OPĆI DIO'!$C$1)","v":""},"","","","","",""]
[{"$f":"IF(C434=\"\",\"\",VLOOKUP('OPĆI DIO'!$C$1,'OPĆI DIO'!$N$4:$W$137,10,FALSE))","v":""},{"$f":"IF(C434=\"\",\"\",VLOOKUP('OPĆI DIO'!$C$1,'OPĆI DIO'!$N$4:$W$137,9,FALSE))","v":""},"",null,"",null,"",null,"","",{"$nulls":4},{"$f":"IF(C434=\"\",\"\",'OPĆI DIO'!$C$1)","v":""},"","","","","",""]
[{"$f":"IF(C435=\"\",\"\",VLOOKUP('OPĆI DIO'!$C$1,'OPĆI DIO'!$N$4:$W$137,10,FALSE))","v":""},{"$f":"IF(C435=\"\",\"\",VLOOKUP('OPĆI DIO'!$C$1,'OPĆI DIO'!$N$4:$W$137,9,FALSE))","v":""},"",null,"",null,"",null,"","",{"$nulls":4},{"$f":"IF(C435=\"\",\"\",'OPĆI DIO'!$C$1)","v":""},"","","","","",""]
[{"$f":"IF(C436=\"\",\"\",VLOOKUP('OPĆI DIO'!$C$1,'OPĆI DIO'!$N$4:$W$137,10,FALSE))","v":""},{"$f":"IF(C436=\"\",\"\",VLOOKUP('OPĆI DIO'!$C$1,'OPĆI DIO'!$N$4:$W$137,9,FALSE))","v":""},"",null,"",null,"",null,"","",{"$nulls":4},{"$f":"IF(C436=\"\",\"\",'OPĆI DIO'!$C$1)","v":""},"","","","","",""]
[{"$f":"IF(C437=\"\",\"\",VLOOKUP('OPĆI DIO'!$C$1,'OPĆI DIO'!$N$4:$W$137,10,FALSE))","v":""},{"$f":"IF(C437=\"\",\"\",VLOOKUP('OPĆI DIO'!$C$1,'OPĆI DIO'!$N$4:$W$137,9,FALSE))","v":""},"",null,"",null,"",null,"","",{"$nulls":4},{"$f":"IF(C437=\"\",\"\",'OPĆI DIO'!$C$1)","v":""},"","","","","",""]
[{"$f":"IF(C438=\"\",\"\",VLOOKUP('OPĆI DIO'!$C$1,'OPĆI DIO'!$N$4:$W$137,10,FALSE))","v":""},{"$f":"IF(C438=\"\",\"\",VLOOKUP('OPĆI DIO'!$C$1,'OPĆI DIO'!$N$4:$W$137,9,FALSE))","v":""},"",null,"",null,"",null,"","",{"$nulls":4},{"$f":"IF(C438=\"\",\"\",'OPĆI DIO'!$C$1)","v":""},"","","","","",""]
[{"$f":"IF(C439=\"\",\"\",VLOOKUP('OPĆI DIO'!$C$1,'OPĆI DIO'!$N$4:$W$137,10,FALSE))","v":""},{"$f":"IF(C439=\"\",\"\",VLOOKUP('OPĆI DIO'!$C$1,'OPĆI DIO'!$N$4:$W$137,9,FALSE))","v":""},"",null,"",null,"",null,"","",{"$nulls":4},{"$f":"IF(C439=\"\",\"\",'OPĆI DIO'!$C$1)","v":""},"","","","","",""]
[{"$f":"IF(C440=\"\",\"\",VLOOKUP('OPĆI DIO'!$C$1,'OPĆI DIO'!$N$4:$W$137,10,FALSE))","v":""},{"$f":"IF(C440=\"\",\"\",VLOOKUP('OPĆI DIO'!$C$1,'OPĆI DIO'!$N$4:$W$137,9,FALSE))","v":""},"",null,"",null,"",null,"","",{"$nulls":4},{"$f":"IF(C440=\"\",\"\",'OPĆI DIO'!$C$1)","v":""},"","","","","",""]
[{"$f":"IF(C441=\"\",\"\",VLOOKUP('OPĆI DIO'!$C$1,'OPĆI DIO'!$N$4:$W$137,10,FALSE))","v":""},{"$f":"IF(C441=\"\",\"\",VLOOKUP('OPĆI DIO'!$C$1,'OPĆI DIO'!$N$4:$W$137,9,FALSE))","v":""},"",null,"",null,"",null,"","",{"$nulls":4},{"$f":"IF(C441=\"\",\"\",'OPĆI DIO'!$C$1)","v":""},"","","","","",""]
[{"$f":"IF(C442=\"\",\"\",VLOOKUP('OPĆI DIO'!$C$1,'OPĆI DIO'!$N$4:$W$137,10,FALSE))","v":""},{"$f":"IF(C442=\"\",\"\",VLOOKUP('OPĆI DIO'!$C$1,'OPĆI DIO'!$N$4:$W$137,9,FALSE))","v":""},"",null,"",null,"",null,"","",{"$nulls":4},{"$f":"IF(C442=\"\",\"\",'OPĆI DIO'!$C$1)","v":""},"","","","","",""]
[{"$f":"IF(C443=\"\",\"\",VLOOKUP('OPĆI DIO'!$C$1,'OPĆI DIO'!$N$4:$W$137,10,FALSE))","v":""},{"$f":"IF(C443=\"\",\"\",VLOOKUP('OPĆI DIO'!$C$1,'OPĆI DIO'!$N$4:$W$137,9,FALSE))","v":""},"",null,"",null,"",null,"","",{"$nulls":4},{"$f":"IF(C443=\"\",\"\",'OPĆI DIO'!$C$1)","v":""},"","","","","",""]
[{"$f":"IF(C444=\"\",\"\",VLOOKUP('OPĆI DIO'!$C$1,'OPĆI DIO'!$N$4:$W$137,10,FALSE))","v":""},{"$f":"IF(C444=\"\",\"\",VLOOKUP('OPĆI DIO'!$C$1,'OPĆI DIO'!$N$4:$W$137,9,FALSE))","v":""},"",null,"",null,"",null,"","",{"$nulls":4},{"$f":"IF(C444=\"\",\"\",'OPĆI DIO'!$C$1)","v":""},"","","","","",""]
[{"$f":"IF(C445=\"\",\"\",VLOOKUP('OPĆI DIO'!$C$1,'OPĆI DIO'!$N$4:$W$137,10,FALSE))","v":""},{"$f":"IF(C445=\"\",\"\",VLOOKUP('OPĆI DIO'!$C$1,'OPĆI DIO'!$N$4:$W$137,9,FALSE))","v":""},"",null,"",null,"",null,"","",{"$nulls":4},{"$f":"IF(C445=\"\",\"\",'OPĆI DIO'!$C$1)","v":""},"","","","","",""]
[{"$f":"IF(C446=\"\",\"\",VLOOKUP('OPĆI DIO'!$C$1,'OPĆI DIO'!$N$4:$W$137,10,FALSE))","v":""},{"$f":"IF(C446=\"\",\"\",VLOOKUP('OPĆI DIO'!$C$1,'OPĆI DIO'!$N$4:$W$137,9,FALSE))","v":""},"",null,"",null,"",null,"","",{"$nulls":4},{"$f":"IF(C446=\"\",\"\",'OPĆI DIO'!$C$1)","v":""},"","","","","",""]
[{"$f":"IF(C447=\"\",\"\",VLOOKUP('OPĆI DIO'!$C$1,'OPĆI DIO'!$N$4:$W$137,10,FALSE))","v":""},{"$f":"IF(C447=\"\",\"\",VLOOKUP('OPĆI DIO'!$C$1,'OPĆI DIO'!$N$4:$W$137,9,FALSE))","v":""},"",null,"",null,"",null,"","",{"$nulls":4},{"$f":"IF(C447=\"\",\"\",'OPĆI DIO'!$C$1)","v":""},"","","","","",""]
[{"$f":"IF(C448=\"\",\"\",VLOOKUP('OPĆI DIO'!$C$1,'OPĆI DIO'!$N$4:$W$137,10,FALSE))","v":""},{"$f":"IF(C448=\"\",\"\",VLOOKUP('OPĆI DIO'!$C$1,'OPĆI DIO'!$N$4:$W$137,9,FALSE))","v":""},"",null,"",null,"",null,"","",{"$nulls":4},{"$f":"IF(C448=\"\",\"\",'OPĆI DIO'!$C$1)","v":""},"","","","","",""]
[{"$f":"IF(C449=\"\",\"\",VLOOKUP('OPĆI DIO'!$C$1,'OPĆI DIO'!$N$4:$W$137,10,FALSE))","v":""},{"$f":"IF(C449=\"\",\"\",VLOOKUP('OPĆI DIO'!$C$1,'OPĆI DIO'!$N$4:$W$137,9,FALSE))","v":""},"",null,"",null,"",null,"","",{"$nulls":4},{"$f":"IF(C449=\"\",\"\",'OPĆI DIO'!$C$1)","v":""},"","","","","",""]
[{"$f":"IF(C450=\"\",\"\",VLOOKUP('OPĆI DIO'!$C$1,'OPĆI DIO'!$N$4:$W$137,10,FALSE))","v":""},{"$f":"IF(C450=\"\",\"\",VLOOKUP('OPĆI DIO'!$C$1,'OPĆI DIO'!$N$4:$W$137,9,FALSE))","v":""},"",null,"",null,"",null,{"$f":"IFERROR(VLOOKUP(H450,$AE$6:$AF$353,2,FALSE),\"\")","v":""},{"$f":"IFERROR(VLOOKUP(H450,$AE$6:$AI$353,3,FALSE),\"\")","v":""},{"$nulls":4},{"$f":"IF(C450=\"\",\"\",'OPĆI DIO'!$C$1)","v":""},"","","","","",""]
[{"$f":"IF(C451=\"\",\"\",VLOOKUP('OPĆI DIO'!$C$1,'OPĆI DIO'!$N$4:$W$137,10,FALSE))","v":""},{"$f":"IF(C451=\"\",\"\",VLOOKUP('OPĆI DIO'!$C$1,'OPĆI DIO'!$N$4:$W$137,9,FALSE))","v":""},"",null,"",null,{"$f":"IFERROR(VLOOKUP(F451,$Y$5:$AA$129,2,FALSE),\"\")","v":""},null,"","",{"$nulls":4},{"$f":"IF(C451=\"\",\"\",'OPĆI DIO'!$C$1)","v":""},"","","","","",""]
[{"$f":"IF(C452=\"\",\"\",VLOOKUP('OPĆI DIO'!$C$1,'OPĆI DIO'!$N$4:$W$137,10,FALSE))","v":""},{"$f":"IF(C452=\"\",\"\",VLOOKUP('OPĆI DIO'!$C$1,'OPĆI DIO'!$N$4:$W$137,9,FALSE))","v":""},{"$f":"IFERROR(VLOOKUP(D452,$V$6:$X$34,3,FALSE),\"\")","v":""},null,{"$f":"IFERROR(VLOOKUP(D452,$V$6:$W$34,2,FALSE),\"\")","v":""},null,"",null,"","",{"$nulls":4},{"$f":"IF(C452=\"\",\"\",'OPĆI DIO'!$C$1)","v":""},{"$f":"LEFT(F452,3)","v":""},{"$f":"LEFT(F452,2)","v":""},{"$f":"LEFT(C452,3)","v":""},{"$f":"MID(J452,2,2)","v":""},{"$f":"LEFT(F452,1)","v":""},{"$f":"IFERROR(VLOOKUP(C452,$V$6:$X$34,3,FALSE),\"\")","v":""}]
[{"$f":"IF(C453=\"\",\"\",VLOOKUP('OPĆI DIO'!$C$1,'OPĆI DIO'!$N$4:$W$137,10,FALSE))","v":""},{"$f":"IF(C453=\"\",\"\",VLOOKUP('OPĆI DIO'!$C$1,'OPĆI DIO'!$N$4:$W$137,9,FALSE))","v":""},"",null,"",null,"",null,"","",{"$nulls":4},{"$f":"IF(C453=\"\",\"\",'OPĆI DIO'!$C$1)","v":""},"","","","","",""]
[{"$f":"IF(C454=\"\",\"\",VLOOKUP('OPĆI DIO'!$C$1,'OPĆI DIO'!$N$4:$W$137,10,FALSE))","v":""},{"$f":"IF(C454=\"\",\"\",VLOOKUP('OPĆI DIO'!$C$1,'OPĆI DIO'!$N$4:$W$137,9,FALSE))","v":""},"",null,"",null,"",null,"","",{"$nulls":4},{"$f":"IF(C454=\"\",\"\",'OPĆI DIO'!$C$1)","v":""},"","","","","",""]
[{"$f":"IF(C455=\"\",\"\",VLOOKUP('OPĆI DIO'!$C$1,'OPĆI DIO'!$N$4:$W$137,10,FALSE))","v":""},{"$f":"IF(C455=\"\",\"\",VLOOKUP('OPĆI DIO'!$C$1,'OPĆI DIO'!$N$4:$W$137,9,FALSE))","v":""},"",null,"",null,"",null,"","",{"$nulls":4},{"$f":"IF(C455=\"\",\"\",'OPĆI DIO'!$C$1)","v":""},"","","","","",""]
[{"$f":"IF(C456=\"\",\"\",VLOOKUP('OPĆI DIO'!$C$1,'OPĆI DIO'!$N$4:$W$137,10,FALSE))","v":""},{"$f":"IF(C456=\"\",\"\",VLOOKUP('OPĆI DIO'!$C$1,'OPĆI DIO'!$N$4:$W$137,9,FALSE))","v":""},"",null,"",null,"",null,"","",{"$nulls":4},{"$f":"IF(C456=\"\",\"\",'OPĆI DIO'!$C$1)","v":""},"","","","","",""]
[{"$f":"IF(C457=\"\",\"\",VLOOKUP('OPĆI DIO'!$C$1,'OPĆI DIO'!$N$4:$W$137,10,FALSE))","v":""},{"$f":"IF(C457=\"\",\"\",VLOOKUP('OPĆI DIO'!$C$1,'OPĆI DIO'!$N$4:$W$137,9,FALSE))","v":""},"",null,"",null,"",null,"","",{"$nulls":4},{"$f":"IF(C457=\"\",\"\",'OPĆI DIO'!$C$1)","v":""},"","","","","",""]
[{"$f":"IF(C458=\"\",\"\",VLOOKUP('OPĆI DIO'!$C$1,'OPĆI DIO'!$N$4:$W$137,10,FALSE))","v":""},{"$f":"IF(C458=\"\",\"\",VLOOKUP('OPĆI DIO'!$C$1,'OPĆI DIO'!$N$4:$W$137,9,FALSE))","v":""},"",null,"",null,"",null,"","",{"$nulls":4},{"$f":"IF(C458=\"\",\"\",'OPĆI DIO'!$C$1)","v":""},"","","","","",""]
[{"$f":"IF(C459=\"\",\"\",VLOOKUP('OPĆI DIO'!$C$1,'OPĆI DIO'!$N$4:$W$137,10,FALSE))","v":""},{"$f":"IF(C459=\"\",\"\",VLOOKUP('OPĆI DIO'!$C$1,'OPĆI DIO'!$N$4:$W$137,9,FALSE))","v":""},"",null,"",null,"",null,"","",{"$nulls":4},{"$f":"IF(C459=\"\",\"\",'OPĆI DIO'!$C$1)","v":""},"","","","","",""]
[{"$f":"IF(C460=\"\",\"\",VLOOKUP('OPĆI DIO'!$C$1,'OPĆI DIO'!$N$4:$W$137,10,FALSE))","v":""},{"$f":"IF(C460=\"\",\"\",VLOOKUP('OPĆI DIO'!$C$1,'OPĆI DIO'!$N$4:$W$137,9,FALSE))","v":""},"",null,"",null,"",null,"","",{"$nulls":4},{"$f":"IF(C460=\"\",\"\",'OPĆI DIO'!$C$1)","v":""},"","","","","",""]
[{"$f":"IF(C461=\"\",\"\",VLOOKUP('OPĆI DIO'!$C$1,'OPĆI DIO'!$N$4:$W$137,10,FALSE))","v":""},{"$f":"IF(C461=\"\",\"\",VLOOKUP('OPĆI DIO'!$C$1,'OPĆI DIO'!$N$4:$W$137,9,FALSE))","v":""},"",null,"",null,"",null,"","",{"$nulls":4},{"$f":"IF(C461=\"\",\"\",'OPĆI DIO'!$C$1)","v":""},"","","","","",""]
[{"$f":"IF(C462=\"\",\"\",VLOOKUP('OPĆI DIO'!$C$1,'OPĆI DIO'!$N$4:$W$137,10,FALSE))","v":""},{"$f":"IF(C462=\"\",\"\",VLOOKUP('OPĆI DIO'!$C$1,'OPĆI DIO'!$N$4:$W$137,9,FALSE))","v":""},"",null,"",null,"",null,"","",{"$nulls":4},{"$f":"IF(C462=\"\",\"\",'OPĆI DIO'!$C$1)","v":""},"","","","","",""]
[{"$f":"IF(C463=\"\",\"\",VLOOKUP('OPĆI DIO'!$C$1,'OPĆI DIO'!$N$4:$W$137,10,FALSE))","v":""},{"$f":"IF(C463=\"\",\"\",VLOOKUP('OPĆI DIO'!$C$1,'OPĆI DIO'!$N$4:$W$137,9,FALSE))","v":""},"",null,"",null,"",null,"","",{"$nulls":4},{"$f":"IF(C463=\"\",\"\",'OPĆI DIO'!$C$1)","v":""},"","","","","",""]
[{"$f":"IF(C464=\"\",\"\",VLOOKUP('OPĆI DIO'!$C$1,'OPĆI DIO'!$N$4:$W$137,10,FALSE))","v":""},{"$f":"IF(C464=\"\",\"\",VLOOKUP('OPĆI DIO'!$C$1,'OPĆI DIO'!$N$4:$W$137,9,FALSE))","v":""},"",null,"",null,"",null,"","",{"$nulls":4},{"$f":"IF(C464=\"\",\"\",'OPĆI DIO'!$C$1)","v":""},"","","","","",""]
[{"$f":"IF(C465=\"\",\"\",VLOOKUP('OPĆI DIO'!$C$1,'OPĆI DIO'!$N$4:$W$137,10,FALSE))","v":""},{"$f":"IF(C465=\"\",\"\",VLOOKUP('OPĆI DIO'!$C$1,'OPĆI DIO'!$N$4:$W$137,9,FALSE))","v":""},"",null,"",null,"",null,"","",{"$nulls":4},{"$f":"IF(C465=\"\",\"\",'OPĆI DIO'!$C$1)","v":""},"","","","","",""]
[{"$f":"IF(C466=\"\",\"\",VLOOKUP('OPĆI DIO'!$C$1,'OPĆI DIO'!$N$4:$W$137,10,FALSE))","v":""},{"$f":"IF(C466=\"\",\"\",VLOOKUP('OPĆI DIO'!$C$1,'OPĆI DIO'!$N$4:$W$137,9,FALSE))","v":""},"",null,"",null,"",null,"","",{"$nulls":4},{"$f":"IF(C466=\"\",\"\",'OPĆI DIO'!$C$1)","v":""},"","","","","",""]
[{"$f":"IF(C467=\"\",\"\",VLOOKUP('OPĆI DIO'!$C$1,'OPĆI DIO'!$N$4:$W$137,10,FALSE))","v":""},{"$f":"IF(C467=\"\",\"\",VLOOKUP('OPĆI DIO'!$C$1,'OPĆI DIO'!$N$4:$W$137,9,FALSE))","v":""},"",null,"",null,"",null,"","",{"$nulls":4},{"$f":"IF(C467=\"\",\"\",'OPĆI DIO'!$C$1)","v":""},"","","","","",""]
[{"$f":"IF(C468=\"\",\"\",VLOOKUP('OPĆI DIO'!$C$1,'OPĆI DIO'!$N$4:$W$137,10,FALSE))","v":""},{"$f":"IF(C468=\"\",\"\",VLOOKUP('OPĆI DIO'!$C$1,'OPĆI DIO'!$N$4:$W$137,9,FALSE))","v":""},"",null,"",null,"",null,"","",{"$nulls":4},{"$f":"IF(C468=\"\",\"\",'OPĆI DIO'!$C$1)","v":""},"","","","","",""]
[{"$f":"IF(C469=\"\",\"\",VLOOKUP('OPĆI DIO'!$C$1,'OPĆI DIO'!$N$4:$W$137,10,FALSE))","v":""},{"$f":"IF(C469=\"\",\"\",VLOOKUP('OPĆI DIO'!$C$1,'OPĆI DIO'!$N$4:$W$137,9,FALSE))","v":""},"",null,"",null,"",null,"","",{"$nulls":4},{"$f":"IF(C469=\"\",\"\",'OPĆI DIO'!$C$1)","v":""},"","","","","",""]
[{"$f":"IF(C470=\"\",\"\",VLOOKUP('OPĆI DIO'!$C$1,'OPĆI DIO'!$N$4:$W$137,10,FALSE))","v":""},{"$f":"IF(C470=\"\",\"\",VLOOKUP('OPĆI DIO'!$C$1,'OPĆI DIO'!$N$4:$W$137,9,FALSE))","v":""},"",null,"",null,"",null,"","",{"$nulls":4},{"$f":"IF(C470=\"\",\"\",'OPĆI DIO'!$C$1)","v":""},"","","","","",""]
[{"$f":"IF(C471=\"\",\"\",VLOOKUP('OPĆI DIO'!$C$1,'OPĆI DIO'!$N$4:$W$137,10,FALSE))","v":""},{"$f":"IF(C471=\"\",\"\",VLOOKUP('OPĆI DIO'!$C$1,'OPĆI DIO'!$N$4:$W$137,9,FALSE))","v":""},"",null,"",null,"",null,"","",{"$nulls":4},{"$f":"IF(C471=\"\",\"\",'OPĆI DIO'!$C$1)","v":""},"","","","","",""]
[{"$f":"IF(C472=\"\",\"\",VLOOKUP('OPĆI DIO'!$C$1,'OPĆI DIO'!$N$4:$W$137,10,FALSE))","v":""},{"$f":"IF(C472=\"\",\"\",VLOOKUP('OPĆI DIO'!$C$1,'OPĆI DIO'!$N$4:$W$137,9,FALSE))","v":""},"",null,"",null,"",null,"","",{"$nulls":4},{"$f":"IF(C472=\"\",\"\",'OPĆI DIO'!$C$1)","v":""},"","","","","",""]
[{"$f":"IF(C473=\"\",\"\",VLOOKUP('OPĆI DIO'!$C$1,'OPĆI DIO'!$N$4:$W$137,10,FALSE))","v":""},{"$f":"IF(C473=\"\",\"\",VLOOKUP('OPĆI DIO'!$C$1,'OPĆI DIO'!$N$4:$W$137,9,FALSE))","v":""},"",null,"",null,"",null,"","",{"$nulls":4},{"$f":"IF(C473=\"\",\"\",'OPĆI DIO'!$C$1)","v":""},"","","","","",""]
[{"$f":"IF(C474=\"\",\"\",VLOOKUP('OPĆI DIO'!$C$1,'OPĆI DIO'!$N$4:$W$137,10,FALSE))","v":""},{"$f":"IF(C474=\"\",\"\",VLOOKUP('OPĆI DIO'!$C$1,'OPĆI DIO'!$N$4:$W$137,9,FALSE))","v":""},"",null,"",null,"",null,"","",{"$nulls":4},{"$f":"IF(C474=\"\",\"\",'OPĆI DIO'!$C$1)","v":""},"","","","","",""]
[{"$f":"IF(C475=\"\",\"\",VLOOKUP('OPĆI DIO'!$C$1,'OPĆI DIO'!$N$4:$W$137,10,FALSE))","v":""},{"$f":"IF(C475=\"\",\"\",VLOOKUP('OPĆI DIO'!$C$1,'OPĆI DIO'!$N$4:$W$137,9,FALSE))","v":""},"",null,"",null,"",null,"","",{"$nulls":4},{"$f":"IF(C475=\"\",\"\",'OPĆI DIO'!$C$1)","v":""},"","","","","",""]
[{"$f":"IF(C476=\"\",\"\",VLOOKUP('OPĆI DIO'!$C$1,'OPĆI DIO'!$N$4:$W$137,10,FALSE))","v":""},{"$f":"IF(C476=\"\",\"\",VLOOKUP('OPĆI DIO'!$C$1,'OPĆI DIO'!$N$4:$W$137,9,FALSE))","v":""},"",null,"",null,"",null,"","",{"$nulls":4},{"$f":"IF(C476=\"\",\"\",'OPĆI DIO'!$C$1)","v":""},"","","","","",""]
[{"$f":"IF(C477=\"\",\"\",VLOOKUP('OPĆI DIO'!$C$1,'OPĆI DIO'!$N$4:$W$137,10,FALSE))","v":""},{"$f":"IF(C477=\"\",\"\",VLOOKUP('OPĆI DIO'!$C$1,'OPĆI DIO'!$N$4:$W$137,9,FALSE))","v":""},"",null,"",null,"",null,"","",{"$nulls":4},{"$f":"IF(C477=\"\",\"\",'OPĆI DIO'!$C$1)","v":""},"","","","","",""]
[{"$f":"IF(C478=\"\",\"\",VLOOKUP('OPĆI DIO'!$C$1,'OPĆI DIO'!$N$4:$W$137,10,FALSE))","v":""},{"$f":"IF(C478=\"\",\"\",VLOOKUP('OPĆI DIO'!$C$1,'OPĆI DIO'!$N$4:$W$137,9,FALSE))","v":""},"",null,"",null,"",null,"","",{"$nulls":4},{"$f":"IF(C478=\"\",\"\",'OPĆI DIO'!$C$1)","v":""},"","","","","",""]
[{"$f":"IF(C479=\"\",\"\",VLOOKUP('OPĆI DIO'!$C$1,'OPĆI DIO'!$N$4:$W$137,10,FALSE))","v":""},{"$f":"IF(C479=\"\",\"\",VLOOKUP('OPĆI DIO'!$C$1,'OPĆI DIO'!$N$4:$W$137,9,FALSE))","v":""},"",null,"",null,"",null,"","",{"$nulls":4},{"$f":"IF(C479=\"\",\"\",'OPĆI DIO'!$C$1)","v":""},"","","","","",""]
[{"$f":"IF(C480=\"\",\"\",VLOOKUP('OPĆI DIO'!$C$1,'OPĆI DIO'!$N$4:$W$137,10,FALSE))","v":""},{"$f":"IF(C480=\"\",\"\",VLOOKUP('OPĆI DIO'!$C$1,'OPĆI DIO'!$N$4:$W$137,9,FALSE))","v":""},"",null,"",null,"",null,"","",{"$nulls":4},{"$f":"IF(C480=\"\",\"\",'OPĆI DIO'!$C$1)","v":""},"","","","","",""]
[{"$f":"IF(C481=\"\",\"\",VLOOKUP('OPĆI DIO'!$C$1,'OPĆI DIO'!$N$4:$W$137,10,FALSE))","v":""},{"$f":"IF(C481=\"\",\"\",VLOOKUP('OPĆI DIO'!$C$1,'OPĆI DIO'!$N$4:$W$137,9,FALSE))","v":""},"",null,"",null,"",null,"","",{"$nulls":4},{"$f":"IF(C481=\"\",\"\",'OPĆI DIO'!$C$1)","v":""},"","","","","",""]
[{"$f":"IF(C482=\"\",\"\",VLOOKUP('OPĆI DIO'!$C$1,'OPĆI DIO'!$N$4:$W$137,10,FALSE))","v":""},{"$f":"IF(C482=\"\",\"\",VLOOKUP('OPĆI DIO'!$C$1,'OPĆI DIO'!$N$4:$W$137,9,FALSE))","v":""},"",null,"",null,"",null,{"$f":"IFERROR(VLOOKUP(H482,$AE$6:$AF$353,2,FALSE),\"\")","v":""},{"$f":"IFERROR(VLOOKUP(H482,$AE$6:$AI$353,3,FALSE),\"\")","v":""},{"$nulls":4},{"$f":"IF(C482=\"\",\"\",'OPĆI DIO'!$C$1)","v":""},"","","","","",""]
[{"$f":"IF(C483=\"\",\"\",VLOOKUP('OPĆI DIO'!$C$1,'OPĆI DIO'!$N$4:$W$137,10,FALSE))","v":""},{"$f":"IF(C483=\"\",\"\",VLOOKUP('OPĆI DIO'!$C$1,'OPĆI DIO'!$N$4:$W$137,9,FALSE))","v":""},"",null,"",null,"",null,"","",{"$nulls":4},{"$f":"IF(C483=\"\",\"\",'OPĆI DIO'!$C$1)","v":""},"","","","","",""]
[{"$f":"IF(C484=\"\",\"\",VLOOKUP('OPĆI DIO'!$C$1,'OPĆI DIO'!$N$4:$W$137,10,FALSE))","v":""},{"$f":"IF(C484=\"\",\"\",VLOOKUP('OPĆI DIO'!$C$1,'OPĆI DIO'!$N$4:$W$137,9,FALSE))","v":""},"",null,"",null,"",null,"","",{"$nulls":4},{"$f":"IF(C484=\"\",\"\",'OPĆI DIO'!$C$1)","v":""},"","","","","",""]
[{"$f":"IF(C485=\"\",\"\",VLOOKUP('OPĆI DIO'!$C$1,'OPĆI DIO'!$N$4:$W$137,10,FALSE))","v":""},{"$f":"IF(C485=\"\",\"\",VLOOKUP('OPĆI DIO'!$C$1,'OPĆI DIO'!$N$4:$W$137,9,FALSE))","v":""},"",null,"",null,"",null,"","",{"$nulls":4},{"$f":"IF(C485=\"\",\"\",'OPĆI DIO'!$C$1)","v":""},"","","","","",""]
[{"$f":"IF(C486=\"\",\"\",VLOOKUP('OPĆI DIO'!$C$1,'OPĆI DIO'!$N$4:$W$137,10,FALSE))","v":""},{"$f":"IF(C486=\"\",\"\",VLOOKUP('OPĆI DIO'!$C$1,'OPĆI DIO'!$N$4:$W$137,9,FALSE))","v":""},"",null,"",null,"",null,"","",{"$nulls":4},{"$f":"IF(C486=\"\",\"\",'OPĆI DIO'!$C$1)","v":""},"","","","","",""]
[{"$f":"IF(C487=\"\",\"\",VLOOKUP('OPĆI DIO'!$C$1,'OPĆI DIO'!$N$4:$W$137,10,FALSE))","v":""},{"$f":"IF(C487=\"\",\"\",VLOOKUP('OPĆI DIO'!$C$1,'OPĆI DIO'!$N$4:$W$137,9,FALSE))","v":""},"",null,"",null,"",null,"","",{"$nulls":4},{"$f":"IF(C487=\"\",\"\",'OPĆI DIO'!$C$1)","v":""},"","","","","",""]
[{"$f":"IF(C488=\"\",\"\",VLOOKUP('OPĆI DIO'!$C$1,'OPĆI DIO'!$N$4:$W$137,10,FALSE))","v":""},{"$f":"IF(C488=\"\",\"\",VLOOKUP('OPĆI DIO'!$C$1,'OPĆI DIO'!$N$4:$W$137,9,FALSE))","v":""},"",null,"",null,"",null,"","",{"$nulls":4},{"$f":"IF(C488=\"\",\"\",'OPĆI DIO'!$C$1)","v":""},"","","","","",""]
[{"$f":"IF(C489=\"\",\"\",VLOOKUP('OPĆI DIO'!$C$1,'OPĆI DIO'!$N$4:$W$137,10,FALSE))","v":""},{"$f":"IF(C489=\"\",\"\",VLOOKUP('OPĆI DIO'!$C$1,'OPĆI DIO'!$N$4:$W$137,9,FALSE))","v":""},"",null,"",null,"",null,"","",{"$nulls":4},{"$f":"IF(C489=\"\",\"\",'OPĆI DIO'!$C$1)","v":""},"","","","","",""]
[{"$f":"IF(C490=\"\",\"\",VLOOKUP('OPĆI DIO'!$C$1,'OPĆI DIO'!$N$4:$W$137,10,FALSE))","v":""},{"$f":"IF(C490=\"\",\"\",VLOOKUP('OPĆI DIO'!$C$1,'OPĆI DIO'!$N$4:$W$137,9,FALSE))","v":""},"",null,"",null,"",null,"","",{"$nulls":4},{"$f":"IF(C490=\"\",\"\",'OPĆI DIO'!$C$1)","v":""},"","","","","",""]
[{"$f":"IF(C491=\"\",\"\",VLOOKUP('OPĆI DIO'!$C$1,'OPĆI DIO'!$N$4:$W$137,10,FALSE))","v":""},{"$f":"IF(C491=\"\",\"\",VLOOKUP('OPĆI DIO'!$C$1,'OPĆI DIO'!$N$4:$W$137,9,FALSE))","v":""},"",null,"",null,"",null,"","",{"$nulls":4},{"$f":"IF(C491=\"\",\"\",'OPĆI DIO'!$C$1)","v":""},"","","","","",""]
[{"$f":"IF(C492=\"\",\"\",VLOOKUP('OPĆI DIO'!$C$1,'OPĆI DIO'!$N$4:$W$137,10,FALSE))","v":""},{"$f":"IF(C492=\"\",\"\",VLOOKUP('OPĆI DIO'!$C$1,'OPĆI DIO'!$N$4:$W$137,9,FALSE))","v":""},"",null,"",null,"",null,"","",{"$nulls":4},{"$f":"IF(C492=\"\",\"\",'OPĆI DIO'!$C$1)","v":""},"","","","","",""]
[{"$f":"IF(C493=\"\",\"\",VLOOKUP('OPĆI DIO'!$C$1,'OPĆI DIO'!$N$4:$W$137,10,FALSE))","v":""},{"$f":"IF(C493=\"\",\"\",VLOOKUP('OPĆI DIO'!$C$1,'OPĆI DIO'!$N$4:$W$137,9,FALSE))","v":""},"",null,"",null,"",null,"","",{"$nulls":4},{"$f":"IF(C493=\"\",\"\",'OPĆI DIO'!$C$1)","v":""},"","","","","",""]
[{"$f":"IF(C494=\"\",\"\",VLOOKUP('OPĆI DIO'!$C$1,'OPĆI DIO'!$N$4:$W$137,10,FALSE))","v":""},{"$f":"IF(C494=\"\",\"\",VLOOKUP('OPĆI DIO'!$C$1,'OPĆI DIO'!$N$4:$W$137,9,FALSE))","v":""},"",null,"",null,"",null,"","",{"$nulls":4},{"$f":"IF(C494=\"\",\"\",'OPĆI DIO'!$C$1)","v":""},"","","","","",""]
[{"$f":"IF(C495=\"\",\"\",VLOOKUP('OPĆI DIO'!$C$1,'OPĆI DIO'!$N$4:$W$137,10,FALSE))","v":""},{"$f":"IF(C495=\"\",\"\",VLOOKUP('OPĆI DIO'!$C$1,'OPĆI DIO'!$N$4:$W$137,9,FALSE))","v":""},"",null,"",null,"",null,"","",{"$nulls":4},{"$f":"IF(C495=\"\",\"\",'OPĆI DIO'!$C$1)","v":""},"","","","","",""]
[{"$f":"IF(C496=\"\",\"\",VLOOKUP('OPĆI DIO'!$C$1,'OPĆI DIO'!$N$4:$W$137,10,FALSE))","v":""},{"$f":"IF(C496=\"\",\"\",VLOOKUP('OPĆI DIO'!$C$1,'OPĆI DIO'!$N$4:$W$137,9,FALSE))","v":""},"",null,"",null,"",null,"","",{"$nulls":4},{"$f":"IF(C496=\"\",\"\",'OPĆI DIO'!$C$1)","v":""},"","","","","",""]
[{"$f":"IF(C497=\"\",\"\",VLOOKUP('OPĆI DIO'!$C$1,'OPĆI DIO'!$N$4:$W$137,10,FALSE))","v":""},{"$f":"IF(C497=\"\",\"\",VLOOKUP('OPĆI DIO'!$C$1,'OPĆI DIO'!$N$4:$W$137,9,FALSE))","v":""},"",null,"",null,"",null,"","",{"$nulls":4},{"$f":"IF(C497=\"\",\"\",'OPĆI DIO'!$C$1)","v":""},"","","","","",""]
[{"$f":"IF(C498=\"\",\"\",VLOOKUP('OPĆI DIO'!$C$1,'OPĆI DIO'!$N$4:$W$137,10,FALSE))","v":""},{"$f":"IF(C498=\"\",\"\",VLOOKUP('OPĆI DIO'!$C$1,'OPĆI DIO'!$N$4:$W$137,9,FALSE))","v":""},"",null,"",null,"",null,"","",{"$nulls":4},{"$f":"IF(C498=\"\",\"\",'OPĆI DIO'!$C$1)","v":""},"","","","","",""]
[{"$f":"IF(C499=\"\",\"\",VLOOKUP('OPĆI DIO'!$C$1,'OPĆI DIO'!$N$4:$W$137,10,FALSE))","v":""},{"$f":"IF(C499=\"\",\"\",VLOOKUP('OPĆI DIO'!$C$1,'OPĆI DIO'!$N$4:$W$137,9,FALSE))","v":""},"",null,"",null,"",null,"","",{"$nulls":4},{"$f":"IF(C499=\"\",\"\",'OPĆI DIO'!$C$1)","v":""},"","","","","",""]
[{"$f":"IF(C500=\"\",\"\",VLOOKUP('OPĆI DIO'!$C$1,'OPĆI DIO'!$N$4:$W$137,10,FALSE))","v":""},{"$f":"IF(C500=\"\",\"\",VLOOKUP('OPĆI DIO'!$C$1,'OPĆI DIO'!$N$4:$W$137,9,FALSE))","v":""},"",null,"",null,"",null,"","",{"$nulls":4},{"$f":"IF(C500=\"\",\"\",'OPĆI DIO'!$C$1)","v":""},"","","","","",""]
[{"$f":"IF(C501=\"\",\"\",VLOOKUP('OPĆI DIO'!$C$1,'OPĆI DIO'!$N$4:$W$137,10,FALSE))","v":""},{"$f":"IF(C501=\"\",\"\",VLOOKUP('OPĆI DIO'!$C$1,'OPĆI DIO'!$N$4:$W$137,9,FALSE))","v":""},"",null,"",null,"",null,"","",{"$nulls":4},{"$f":"IF(C501=\"\",\"\",'OPĆI DIO'!$C$1)","v":""},"","","","","",""]

{"sheet":"Unos rashoda P4","index":3,"n_rows":1778,"n_cols":37,"rows_kept":1778,"merged":[[0,0,0,2]]}
["EU PODPROJEKTI - rashodi",null,null,{"$f":"IF(OR('OPĆI DIO'!C1=\"odaberite -\",'OPĆI DIO'!C1=\"\"),\"Molimo odaberite proračunskog korisnika na radnom listu Opći podaci!\",\"\")","v":""},{"$nulls":6},"u EUR"]
["IZVOR NA TERET","IZVOR\n(odaberite)","OPIS IZVORA","Stavka\n(odaberite)","OPIS STAVKE","AKTIVNOST/PODPROJEKT\n(odaberite)","OPIS AKTIVNOSTI","FP","PLAN \n2026.","PROJEKCIJA \n2027.","PROJEKCIJA \n2028.","NAZIV NOVOG PODPROJEKTA","Vrijedi od: ","Vrijedi do: ","TKO JE UPLATITELJ SREDSTAVA ZA EU PROJEKT","OPIS PODPROJEKTA","Primatelj prijenosa","Ustanova","left3","left2","mid","left1","IzvorKrovno"]
[{"$f":"IFERROR(VLOOKUP(B3,$X$6:$AA$34,4,FALSE),\"\")","v":""},51000,{"$f":"IFERROR(VLOOKUP(B3,$X$6:$AA$34,2,FALSE),\"\")","v":""},3111,{"$f":"IFERROR(VLOOKUP(D3,$AB$5:$AD$129,2,FALSE),\"\")","v":"Plaće za redovan rad"},"NOVI PODPROJEKT",{"$f":"IFERROR(VLOOKUP(F3,$AH$6:$AI$1763,2,FALSE),\"\")","v":"NOVI PODPROJEKT"},{"$f":"IFERROR(VLOOKUP(F3,$AH$6:$AK$1763,4,FALSE),\"\")","v":"NOVI PODPROJEKT"},{"v":3000,"d":"3,000"},0,0,"Academics4Rail","01.09.2023.","30.08.2026.","EURNEX","Building a community of railway scientific researchers and academia for ERJU and enabling a network of PhDs (academia teaming with industry).",null,{"$f":"IF(D3=\"\",\"\",'OPĆI DIO'!$C$1)","v":"1812 Sveučilište u Zagrebu FAKULTET PROMETNIH ZNANOSTI"},{"$f":"LEFT(D3,3)","v":"311"},{"$f":"LEFT(D3,2)","v":"31"},{"$f":"MID(H3,2,2)","v":"OV"},{"$f":"LEFT(D3,1)","v":"3"}]
[{"$f":"IFERROR(VLOOKUP(B4,$X$6:$AA$34,4,FALSE),\"\")","v":""},51000,{"$f":"IFERROR(VLOOKUP(B4,$X$6:$AA$34,2,FALSE),\"\")","v":""},3211,{"$f":"IFERROR(VLOOKUP(D4,$AB$5:$AD$129,2,FALSE),\"\")","v":"Službena putovanja"},"NOVI PODPROJEKT",{"$f":"IFERROR(VLOOKUP(F4,$AH$6:$AI$1763,2,FALSE),\"\")","v":"NOVI PODPROJEKT"},{"$f":"IFERROR(VLOOKUP(F4,$AH$6:$AK$1763,4,FALSE),\"\")","v":"NOVI PODPROJEKT"},{"v":1000,"d":"1,000"},0,0,"Academics4Rail","01.09.2023.","30.08.2026.","EURNEX","Building a community of railway scientific researchers and academia for ERJU and enabling a network of PhDs (academia teaming with industry).",null,{"$f":"IF(D4=\"\",\"\",'OPĆI DIO'!$C$1)","v":"1812 Sveučilište u Zagrebu FAKULTET PROMETNIH ZNANOSTI"},{"$f":"LEFT(D4,3)","v":"321"},{"$f":"LEFT(D4,2)","v":"32"},{"$f":"MID(H4,2,2)","v":"OV"},{"$f":"LEFT(D4,1)","v":"3"}]
["",51000,"",3111,"Plaće za redovan rad","NOVI PODPROJEKT","NOVI PODPROJEKT","NOVI PODPROJEKT",{"v":45000,"d":"45,000"},0,0,null,"01.10.2021.","30.09.2026.","EU putem AEROPORTS DE PARIS (ADP)","Implementacija novih tehnologija u aerodromske procese s ciljem smanjenja negativnog utjecaja aerodromskog prometa na okoliš",null,{"$f":"IF(D5=\"\",\"\",'OPĆI DIO'!$C$1)","v":"1812 Sveučilište u Zagrebu FAKULTET PROMETNIH ZNANOSTI"},"311","31","OV","3",null,"IZVOR","OPIS IZVORA",null,null,3111,"Plaće za redovan rad",null,{"$f":"LEFT(AB5,2)","v":"31"},{"$f":"LEFT(AB5,3)","v":"311"},null,"AKTIVNOST","OPIS AKTIVNOSTI"]
["",51000,"",3121,"Ostali rashodi za zaposlene","NOVI PODPROJEKT","NOVI PODPROJEKT","NOVI PODPROJEKT",{"v":4520,"d":"4,520"},0,0,null,"01.10.2021.","30.09.2026.","EU putem AEROPORTS DE PARIS (ADP)","Implementacija novih tehnologija u aerodromske procese s ciljem smanjenja negativnog utjecaja aerodromskog prometa na okoliš",null,{"$f":"IF(D6=\"\",\"\",'OPĆI DIO'!$C$1)","v":"1812 Sveučilište u Zagrebu FAKULTET PROMETNIH ZNANOSTI"},"312","31","OV","3",null,11,"Opći prihodi i primici",null,11,3112,"Plaće u naravi",null,"31",{"$f":"LEFT(AB6,3)","v":"311"},null,"NOVI PODPROJEKT","NOVI PODPROJEKT","NOVI PODPROJEKT","NOVI PODPROJEKT"]
["",51000,"",3212,"Naknade za prijevoz, za rad na terenu i odvojeni život","NOVI PODPROJEKT","NOVI PODPROJEKT","NOVI PODPROJEKT",{"v":1015,"d":"1,015"},0,0,null,"01.10.2021.","30.09.2026.","EU putem AEROPORTS DE PARIS (ADP)","Implementacija novih tehnologija u aerodromske procese s ciljem smanjenja negativnog utjecaja aerodromskog prometa na okoliš",null,{"$f":"IF(D7=\"\",\"\",'OPĆI DIO'!$C$1)","v":"1812 Sveučilište u Zagrebu FAKULTET PROMETNIH ZNANOSTI"},"321","32","OV","3",null,12,"Sredstva učešća za pomoći",null,12,3113,"Plaće za prekovremeni rad",null,"31","311",null,"A676072.001","ERASMUS PLUS-PROFFORMANCE-RAZVOJ SUSTAVA OCJENJIVANJA RADA I NAGRAĐIVANJA PROFESORA NA VISOKIM UČILIŠTIMA",{"$f":"LEFT(AH7,7)","v":"A676072"},{"$f":"IFERROR(VLOOKUP(AJ7,AKT!$E$4:$G$342,3,FALSE),\"\")","v":"0970"}]
["",51000,"",3111,"Plaće za redovan rad","NOVI PODPROJEKT","NOVI PODPROJEKT","NOVI PODPROJEKT",{"v":17492,"d":"17,492"},0,0,"EurosaP II - European Road Safety Partnership - Network Wide Road Assessment","01.09.2023.","31.08.2026.","European Commission","Glavni ciljevi projekta su stjecanje znanja od strane studenata te unaprjeđenje kompetencija i vještina osoblja za upravljanje cestama, revizora, inspektora za sigurnost cestovnog prometa, kao i predavača i stručnjaka u području procjene sigurnosti cesta na cijeloj cestovnoj mreži. Postizanje ovog cilja zahtijevat će međunarodnu suradnju unutar projekta, što će poboljšati kvalitetu obrazovanja temeljenog na razmjeni znanja i osigurati provedbu i širenje inovativnih rješenja.",null,{"$f":"IF(D8=\"\",\"\",'OPĆI DIO'!$C$1)","v":"1812 Sveučilište u Zagrebu FAKULTET PROMETNIH ZNANOSTI"},"311","31","OV","3",null,31,"Vlastiti prihodi",null,31,3114,"Plaće za posebne uvjete rada",null,"31","311",null,"A676072.002","ERASMUS PLUS-AKTIVNOSTI SURADNIČKOG UČENJA I RESURSI ZA POTPORU NAČELA I SMJERNICA ZA SOCIJALNU DIMENZIJU",{"$f":"LEFT(AH8,7)","v":"A676072"},{"$f":"IFERROR(VLOOKUP(AJ8,AKT!$E$4:$G$342,3,FALSE),\"\")","v":"0970"}]
["",51000,"",3211,"Službena putovanja","NOVI PODPROJEKT","NOVI PODPROJEKT","NOVI PODPROJEKT",{"v":5000,"d":"5,000"},0,0,"EurosaP II - European Road Safety Partnership - Network Wide Road Assessment","01.09.2023.","31.08.2026.","European Commission","Glavni ciljevi projekta su stjecanje znanja od strane studenata te unaprjeđenje kompetencija i vještina osoblja za upravljanje cestama, revizora, inspektora za sigurnost cestovnog prometa, kao i predavača i stručnjaka u području procjene sigurnosti cesta na cijeloj cestovnoj mreži. Postizanje ovog cilja zahtijevat će međunarodnu suradnju unutar projekta, što će poboljšati kvalitetu obrazovanja temeljenog na razmjeni znanja i osigurati provedbu i širenje inovativnih rješenja.",null,{"$f":"IF(D9=\"\",\"\",'OPĆI DIO'!$C$1)","v":"1812 Sveučilište u Zagrebu FAKULTET PROMETNIH ZNANOSTI"},"321","32","OV","3",null,41,"Prihodi od igara na sreću",null,41,3121,"Ostali rashodi za zaposlene",null,"31","312",null,"A676072.003","ERASMUS PLUS-EUROPSKO ISTRAŽIVANJE PRAĆENJA OSOBA S DIPLOMOM (GT-HRVATSKA)",{"$f":"LEFT(AH9,7)","v":"A676072"},{"$f":"IFERROR(VLOOKUP(AJ9,AKT!$E$4:$G$342,3,FALSE),\"\")","v":"0970"}]
["",51000,"",3111,"Plaće za redovan rad","NOVI PODPROJEKT","NOVI PODPROJEKT","NOVI PODPROJEKT",{"v":75660,"d":"75,660"},0,0,"ELABORATOR: The European Living Lab on designing sustainable urban mobility towards climate neutral cities ","01.06.2023.","31.05.2026.","European climate, infrastructure and environment executive agency","Projekt ELABORATOR će pružiti metodologije, praktične alate, preporuke i smjernice kako bi podržao ne samo urbaniste i igrače u industriji tehnologije u dizajniranju inovativnih proizvoda, usluga i intervencija koje će se primjenjivati u kompleksnim urbanim okruženjima, već i vlasti i donositelje politika u definiranju političkih strategija za uvođenje sigurne, održive i inkluzivne urbane mobilnosti u naše živote, temeljene na novom EU okviru za urbanu mobilnost, čime će se pridonijeti ciljevima Misije za klimatski neutralne i pametne gradove. Paralelno s tim, sposobnosti prethodne procjene bit će proširene kako bi lokalnim vlastima omogućile uvid u buduće ponude za testiranje i prilagodbu nadolazećih politika.",null,{"$f":"IF(D10=\"\",\"\",'OPĆI DIO'!$C$1)","v":"1812 Sveučilište u Zagrebu FAKULTET PROMETNIH ZNANOSTI"},"311","31","OV","3",null,43,"Ostali prihodi za posebne namjene",null,43,3132,"Doprinosi za obvezno zdravstveno osiguranje",null,"31","313",null,"A676072.004","ERASMUS PLUS-HAND IN HAND-OSNAŽIVANJE NASTAVNIKA DILJEM EUROPE","A676072",{"$f":"IFERROR(VLOOKUP(AJ10,AKT!$E$4:$G$342,3,FALSE),\"\")","v":"0970"}]
["",51000,"",3211,"Službena putovanja","NOVI PODPROJEKT","NOVI PODPROJEKT","NOVI PODPROJEKT",{"v":2000,"d":"2,000"},0,0,"ELABORATOR: The European Living Lab on designing sustainable urban mobility towards climate neutral cities ","01.06.2023.","31.05.2026.","European climate, infrastructure and environment executive agency","Projekt ELABORATOR će pružiti metodologije, praktične alate, preporuke i smjernice kako bi podržao ne samo urbaniste i igrače u industriji tehnologije u dizajniranju inovativnih proizvoda, usluga i intervencija koje će se primjenjivati u kompleksnim urbanim okruženjima, već i vlasti i donositelje politika u definiranju političkih strategija za uvođenje sigurne, održive i inkluzivne urbane mobilnosti u naše živote, temeljene na novom EU okviru za urbanu mobilnost, čime će se pridonijeti ciljevima Misije za klimatski neutralne i pametne gradove. Paralelno s tim, sposobnosti prethodne procjene bit će proširene kako bi lokalnim vlastima omogućile uvid u buduće ponude za testiranje i prilagodbu nadolazećih politika.",null,{"$f":"IF(D11=\"\",\"\",'OPĆI DIO'!$C$1)","v":"1812 Sveučilište u Zagrebu FAKULTET PROMETNIH ZNANOSTI"},"321","32","OV","3",null,50,"5011 Pomoći iz državnog proračuna kroz opće prihode i primitke",null,50,3211,"Službena putovanja",null,"32","321",null,"A676072.005","ERASMUS PLUS-BAQUAL-BOLJE AKADEMSKE KVALIFIKACIJE KROZ OSIGURAVANJE KVALITETE","A676072",{"$f":"IFERROR(VLOOKUP(AJ11,AKT!$E$4:$G$342,3,FALSE),\"\")","v":"0970"}]
["",51000,"",3111,"Plaće za redovan rad","NOVI PODPROJEKT","NOVI PODPROJEKT","NOVI PODPROJEKT",{"v":25000,"d":"25,000"},{"v":40000,"d":"40,000"},0,"IVORY - Ai for Vision Zero in Road Safety ","01.11.2023.","31.10.2027.","EUROPEAN RESEARCH AGENCY (REA) ","IVORY - 'AI for Vision Zero in Road Safety' je međunarodni projekt financiran sredstvima programa Horizon, koji podrazumijeva mrežu industrijskih doktorata čiji je cilj razvoj novog okvira za optimalnu integraciju umjetne inteligencije (AI) u istraživanje cestovne sigurnosti i osposobljavanje nove generacije vodećih istraživača u tom području u skladu s ciljevima održivog razvoja UN-a i Vision Zero strategijom Europske komisije kojima je planirano smanjenje broja smrtnih slučajeva u prometu za 50% do 2030. godine i njihovo potpuno eliminiranje do 2050. godine. \nProjektom se kroz 4 istraživačka cilja nastoji riješiti nedostatak razumijevanja izazova i mogućnosti korištenja umjetne inteligencije u sigurnosti cestovnog prometa: projekt za cilj ima razvoj i) odgovorne, poštene i učinkovite umjetne inteligencije (AI) za sigurnost cestovnog prometa, ii) novih načina podrške korisnicima cesta i interakcije čovjeka, vozila i okoliša, (iii) nove skalabilne i ravnopravne AI tehnologije za proaktivno upravljanje sigurnošćuinfrastrukture i (iv) održive mreže za razmjenu znanja o umjetnoj inteligenciji za sigurnost na cestama.\nRezultati projekta neće samo pružiti učinkovitiju podršku korisnicima cesta pomoću AI u automatizaciji vozila, već će omogućiti odgovorno i proaktivno upravljanje trajnim problemima postojećih konvencionalnih i slabo automatiziranih transportnih sustava, čime će se otvoriti nove prilike za globalni utjecaj na cestovnu sigurnost.\nIVORY primjenjuje pristup “design-for-values” umjetne inteligencije u sigurnosti cestovnog prometa, operacionalizirajući etička načela pravednosti i objašnjivosti te omogućujući učinkovita rješenja umjetne intelginecije i za ugrožene skupine.\nProjektni konzorcij obuhvaća 4 akademske i 8 neakademskih korisnika te 8 povezanih partnera iz 10 zemalja iz područja inženjerstva, znanosti o podacima i etike tehnologije, a 13 mladih istraživača primit će visoku razinu doktorske edukacije i steći iskustva u inženjeringu. Kroz IVORY će se izraditi online platformu za učenje i umrežavanje za AI u sigurnosti cestovnog prometa, koja će biti dostupna nakon završetka projekta za buduće istraživače u ovoj domeni.",null,{"$f":"IF(D12=\"\",\"\",'OPĆI DIO'!$C$1)","v":"1812 Sveučilište u Zagrebu FAKULTET PROMETNIH ZNANOSTI"},"311","31","OV","3",null,50,"5012 Pomoći iz državnog proračuna kroz nacionalno sufinanciranje EU projekata",null,50,3212,"Naknade za prijevoz, za rad na terenu i odvojeni život",null,"32","321",null,"A676072.006","Erasmus+ projekt ContinueUP – Co-constructing the continuum between initial teacher education and continuous professional development (Grant Agreement Nr 101103641).","A676072",{"$f":"IFERROR(VLOOKUP(AJ12,AKT!$E$4:$G$342,3,FALSE),\"\")","v":"0970"}]
["",51000,"",3211,"Službena putovanja","NOVI PODPROJEKT","NOVI PODPROJEKT","NOVI PODPROJEKT",{"v":7416,"d":"7,416"},{"v":7416,"d":"7,416"},0,"IVORY - Ai for Vision Zero in Road Safety ","01.11.2023.","31.10.2027.","EUROPEAN RESEARCH AGENCY (REA) ","IVORY - 'AI for Vision Zero in Road Safety' je međunarodni projekt financiran sredstvima programa Horizon, koji podrazumijeva mrežu industrijskih doktorata čiji je cilj razvoj novog okvira za optimalnu integraciju umjetne inteligencije (AI) u istraživanje cestovne sigurnosti i osposobljavanje nove generacije vodećih istraživača u tom području u skladu s ciljevima održivog razvoja UN-a i Vision Zero strategijom Europske komisije kojima je planirano smanjenje broja smrtnih slučajeva u prometu za 50% do 2030. godine i njihovo potpuno eliminiranje do 2050. godine. \nProjektom se kroz 4 istraživačka cilja nastoji riješiti nedostatak razumijevanja izazova i mogućnosti korištenja umjetne inteligencije u sigurnosti cestovnog prometa: projekt za cilj ima razvoj i) odgovorne, poštene i učinkovite umjetne inteligencije (AI) za sigurnost cestovnog prometa, ii) novih načina podrške korisnicima cesta i interakcije čovjeka, vozila i okoliša, (iii) nove skalabilne i ravnopravne AI tehnologije za proaktivno upravljanje sigurnošćuinfrastrukture i (iv) održive mreže za razmjenu znanja o umjetnoj inteligenciji za sigurnost na cestama.\nRezultati projekta neće samo pružiti učinkovitiju podršku korisnicima cesta pomoću AI u automatizaciji vozila, već će omogućiti odgovorno i proaktivno upravljanje trajnim problemima postojećih konvencionalnih i slabo automatiziranih transportnih sustava, čime će se otvoriti nove prilike za globalni utjecaj na cestovnu sigurnost.\nIVORY primjenjuje pristup “design-for-values” umjetne inteligencije u sigurnosti cestovnog prometa, operacionalizirajući etička načela pravednosti i objašnjivosti te omogućujući učinkovita rješenja umjetne intelginecije i za ugrožene skupine.\nProjektni konzorcij obuhvaća 4 akademske i 8 neakademskih korisnika te 8 povezanih partnera iz 10 zemalja iz područja inženjerstva, znanosti o podacima i etike tehnologije, a 13 mladih istraživača primit će visoku razinu doktorske edukacije i steći iskustva u inženjeringu. Kroz IVORY će se izraditi online platformu za učenje i umrežavanje za AI u sigurnosti cestovnog prometa, koja će biti dostupna nakon završetka projekta za buduće istraživače u ovoj domeni.",null,{"$f":"IF(D13=\"\",\"\",'OPĆI DIO'!$C$1)","v":"1812 Sveučilište u Zagrebu FAKULTET PROMETNIH ZNANOSTI"},"321","32","OV","3",null,50,"5041 Pomoći iz državnog proračuna kroz prihode od igara na sreću",null,50,3213,"Stručno usavršavanje zaposlenika",null,"32","321",null,"K578051.001","Znanstveno i tehnologijsko predviđanje","K578051",{"$f":"IFERROR(VLOOKUP(AJ13,AKT!$E$4:$G$342,3,FALSE),\"\")","v":""}]
["",51000,"",3239,"Ostale usluge","NOVI PODPROJEKT","NOVI PODPROJEKT","NOVI PODPROJEKT",{"v":50400,"d":"50,400"},{"v":50400,"d":"50,400"},0,"IVORY - Ai for Vision Zero in Road Safety ","01.11.2023.","31.10.2027.","EUROPEAN RESEARCH AGENCY (REA) ","IVORY - 'AI for Vision Zero in Road Safety' je međunarodni projekt financiran sredstvima programa Horizon, koji podrazumijeva mrežu industrijskih doktorata čiji je cilj razvoj novog okvira za optimalnu integraciju umjetne inteligencije (AI) u istraživanje cestovne sigurnosti i osposobljavanje nove generacije vodećih istraživača u tom području u skladu s ciljevima održivog razvoja UN-a i Vision Zero strategijom Europske komisije kojima je planirano smanjenje broja smrtnih slučajeva u prometu za 50% do 2030. godine i njihovo potpuno eliminiranje do 2050. godine. \nProjektom se kroz 4 istraživačka cilja nastoji riješiti nedostatak razumijevanja izazova i mogućnosti korištenja umjetne inteligencije u sigurnosti cestovnog prometa: projekt za cilj ima razvoj i) odgovorne, poštene i učinkovite umjetne inteligencije (AI) za sigurnost cestovnog prometa, ii) novih načina podrške korisnicima cesta i interakcije čovjeka, vozila i okoliša, (iii) nove skalabilne i ravnopravne AI tehnologije za proaktivno upravljanje sigurnošćuinfrastrukture i (iv) održive mreže za razmjenu znanja o umjetnoj inteligenciji za sigurnost na cestama.\nRezultati projekta neće samo pružiti učinkovitiju podršku korisnicima cesta pomoću AI u automatizaciji vozila, već će omogućiti odgovorno i proaktivno upravljanje trajnim problemima postojećih konvencionalnih i slabo automatiziranih transportnih sustava, čime će se otvoriti nove prilike za globalni utjecaj na cestovnu sigurnost.\nIVORY primjenjuje pristup “design-for-values” umjetne inteligencije u sigurnosti cestovnog prometa, operacionalizirajući etička načela pravednosti i objašnjivosti te omogućujući učinkovita rješenja umjetne intelginecije i za ugrožene skupine.\nProjektni konzorcij obuhvaća 4 akademske i 8 neakademskih korisnika te 8 povezanih partnera iz 10 zemalja iz područja inženjerstva, znanosti o podacima i etike tehnologije, a 13 mladih istraživača primit će visoku razinu doktorske edukacije i steći iskustva u inženjeringu. Kroz IVORY će se izraditi online platformu za učenje i umrežavanje za AI u sigurnosti cestovnog prometa, koja će biti dostupna nakon završetka projekta za buduće istraživače u ovoj domeni.",null,{"$f":"IF(D14=\"\",\"\",'OPĆI DIO'!$C$1)","v":"1812 Sveučilište u Zagrebu FAKULTET PROMETNIH ZNANOSTI"},"323","32","OV","3",null,50,"5043 Pomoći iz državnog proračuna kroz ostale prihode za posebne namjene",null,50,3214,"Ostale naknade troškova zaposlenima",null,"32","321",null,"K578051.002","Ulaganje u znanost i inovacije (SIIF)","K578051",{"$f":"IFERROR(VLOOKUP(AJ14,AKT!$E$4:$G$342,3,FALSE),\"\")","v":""}]
["",51000,"",3111,"Plaće za redovan rad","NOVI PODPROJEKT","NOVI PODPROJEKT","NOVI PODPROJEKT",{"v":101033,"d":"101,033"},{"v":101034,"d":"101,034"},0,"TWIN-SAFE - Advancing Road Safety Through Twinning","01.05.2024.","30.04.2027.","Europska komisija (Horizon Europe)","Cilj jerazviti ekosustav koji ujedinjuje akademsku zajednicu, industriju te regulatorna tijela kako bi se osmislila inovativna rješenja za jedan od vodećih društvenih izazova - poboljšanje sigurnosti cestovnog prometa",null,{"$f":"IF(D15=\"\",\"\",'OPĆI DIO'!$C$1)","v":"1812 Sveučilište u Zagrebu FAKULTET PROMETNIH ZNANOSTI"},"311","31","OV","3",null,50,"5052 Pomoći iz državnog proračuna kroz ostale pomoći",null,50,3221,"Uredski materijal i ostali materijalni rashodi",null,"32","322",null,"K578051.003","Jačanje kapaciteta za istraživanje, razvoj i inovacije (STRIP)","K578051",{"$f":"IFERROR(VLOOKUP(AJ15,AKT!$E$4:$G$342,3,FALSE),\"\")","v":""}]
["",51000,"",3211,"Službena putovanja","NOVI PODPROJEKT","NOVI PODPROJEKT","NOVI PODPROJEKT",{"v":7000,"d":"7,000"},{"v":7000,"d":"7,000"},0,"TWIN-SAFE - Advancing Road Safety Through Twinning","01.05.2024.","30.04.2027.","Europska komisija (Horizon Europe)","Cilj jerazviti ekosustav koji ujedinjuje akademsku zajednicu, industriju te regulatorna tijela kako bi se osmislila inovativna rješenja za jedan od vodećih društvenih izazova - poboljšanje sigurnosti cestovnog prometa",null,{"$f":"IF(D16=\"\",\"\",'OPĆI DIO'!$C$1)","v":"1812 Sveučilište u Zagrebu FAKULTET PROMETNIH ZNANOSTI"},"321","32","OV","3",null,50,"50810 Pomoći iz državnog proračuna kroz namjenske primitke od zaduživanja – ostali",null,50,3222,"Materijal i sirovine",null,"32","322",null,"K578051.004","Ulaganje u organizacijsku reformu i infrastrukturu sektora istraživanja, razvoja i inovacija","K578051",{"$f":"IFERROR(VLOOKUP(AJ16,AKT!$E$4:$G$342,3,FALSE),\"\")","v":""}]
["",51000,"",3239,"Ostale usluge","NOVI PODPROJEKT","NOVI PODPROJEKT","NOVI PODPROJEKT",{"v":25200,"d":"25,200"},{"v":25200,"d":"25,200"},0,"TWIN-SAFE - Advancing Road Safety Through Twinning","01.05.2024.","30.04.2027.","Europska komisija (Horizon Europe)","Cilj jerazviti ekosustav koji ujedinjuje akademsku zajednicu, industriju te regulatorna tijela kako bi se osmislila inovativna rješenja za jedan od vodećih društvenih izazova - poboljšanje sigurnosti cestovnog prometa",null,{"$f":"IF(D17=\"\",\"\",'OPĆI DIO'!$C$1)","v":"1812 Sveučilište u Zagrebu FAKULTET PROMETNIH ZNANOSTI"},"323","32","OV","3",null,50,"50815 Pomoći iz državnog proračuna kroz namjenske primitke od zaduživanja – NPOO",null,50,3223,"Energija",null,"32","322",null,"K578051.005","Veliki projekt: ˝Dječji centar za translacijsku medicinu˝ Dječje bolnice Srebrnjak","K578051",{"$f":"IFERROR(VLOOKUP(AJ17,AKT!$E$4:$G$342,3,FALSE),\"\")","v":""}]
["",51000,"",3111,"Plaće za redovan rad","NOVI PODPROJEKT","NOVI PODPROJEKT","NOVI PODPROJEKT",{"v":32699,"d":"32,699"},{"v":32699,"d":"32,699"},0,"TERRAIN - Twinning anf Engagement in NET-Zero Transport Transition","01.09.2024.","31.08.2027.","Europska komisija ","Cilj je unaprijediti mobilnost i stvoriti zeleniju budućnost (smanjiti gužve, zagađenje zraka i neadekvatnu infrastrukturu)",null,{"$f":"IF(D18=\"\",\"\",'OPĆI DIO'!$C$1)","v":"1812 Sveučilište u Zagrebu FAKULTET PROMETNIH ZNANOSTI"},"311","31","OV","3",null,51,"51000 Programi Unije – raspoloživ predujam",null,51,3224,"Materijal i dijelovi za tekuće i investicijsko održavanje",null,"32","322",null,"K578051.008","Poziv Centri kompetencija","K578051",{"$f":"IFERROR(VLOOKUP(AJ18,AKT!$E$4:$G$342,3,FALSE),\"\")","v":""}]
["",51000,"",3239,"Ostale usluge","NOVI PODPROJEKT","NOVI PODPROJEKT","NOVI PODPROJEKT",{"v":21800,"d":"21,800"},{"v":21800,"d":"21,800"},0,"TERRAIN - Twinning anf Engagement in NET-Zero Transport Transition","01.09.2024.","31.08.2027.","Europska komisija ","Cilj je unaprijediti mobilnost i stvoriti zeleniju budućnost (smanjiti gužve, zagađenje zraka i neadekvatnu infrastrukturu)",null,{"$f":"IF(D19=\"\",\"\",'OPĆI DIO'!$C$1)","v":"1812 Sveučilište u Zagrebu FAKULTET PROMETNIH ZNANOSTI"},"323","32","OV","3",null,11,"51011 Programi Unije – predfinanciranje iz izvora 11 Opći prihodi i primici",null,11,3225,"Sitni inventar i auto gume",null,"32","322",null,"K578051.009","Tehnička pomoć za MZO","K578051",{"$f":"IFERROR(VLOOKUP(AJ19,AKT!$E$4:$G$342,3,FALSE),\"\")","v":""}]
["",51000,"",3111,"Plaće za redovan rad","NOVI PODPROJEKT","NOVI PODPROJEKT","NOVI PODPROJEKT",{"v":58991,"d":"58,991"},{"v":58991,"d":"58,991"},0,"CAMBER - Connected and adaptive maintenance for safer urban and secondary roads","01.01.2025.","31.12.2028.","Europska komisija (Horizon Europe)","Cilj projekta je razvoj i demonstracija poboljšanog praćenja sigurnosti na gradskim i sekundarnim ruralnim cestovnim mrežama kroz povratne informacije u stvarnom vremenu u sustave održavanja cesta",null,{"$f":"IF(D20=\"\",\"\",'OPĆI DIO'!$C$1)","v":"1812 Sveučilište u Zagrebu FAKULTET PROMETNIH ZNANOSTI"},"311","31","OV","3",null,31,"51031 Programi Unije – predfinanciranje iz izvora 31 Vlastiti prihodi",null,31,3226,"Vojna sredstva za jednokratnu upotrebu",null,"32","322",null,"K676068.001","MZO-Vrhunska istraživanja Znanstvenih centara izvrsnosti","K676068",{"$f":"IFERROR(VLOOKUP(AJ20,AKT!$E$4:$G$342,3,FALSE),\"\")","v":"0150"}]
["",51000,"",3111,"Plaće za redovan rad","NOVI PODPROJEKT","NOVI PODPROJEKT","NOVI PODPROJEKT",{"v":42380,"d":"42,380"},0,0,"MARROBO Fostering the innovation capacities and skills for marine robotics deployment for monitoring and marine environment protection ","15.07.2024.","14.07.2026.","Ministarstvo regionalnog razvoja i fondova EU","Cilj projekta je poboljšati istraživačke i inovacijske kapacitete u prekograničnom području primjenom pomorske robotike u monitoringu i zaštiti morkog okoliša",null,{"$f":"IF(D21=\"\",\"\",'OPĆI DIO'!$C$1)","v":"1812 Sveučilište u Zagrebu FAKULTET PROMETNIH ZNANOSTI"},"311","31","OV","3",null,43,"51043 Programi Unije – predfinanciranje iz izvora 43 Ostali prihodi za posebne namjene",null,43,3227,"Službena, radna i zaštitna odjeća i obuća",null,"32","322",null,"K676068.002","MZO-HORIZON EUROPE","K676068",{"$f":"IFERROR(VLOOKUP(AJ21,AKT!$E$4:$G$342,3,FALSE),\"\")","v":"0150"}]
["",51000,"",3239,"Ostale usluge","NOVI PODPROJEKT","NOVI PODPROJEKT","NOVI PODPROJEKT",{"v":16980,"d":"16,980"},0,0,"MARROBO Fostering the innovation capacities and skills for marine robotics deployment for monitoring and marine environment protection ","15.07.2024.","14.07.2026.","Ministarstvo regionalnog razvoja i fondova EU","Cilj projekta je poboljšati istraživačke i inovacijske kapacitete u prekograničnom području primjenom pomorske robotike u monitoringu i zaštiti morkog okoliša",null,{"$f":"IF(D22=\"\",\"\",'OPĆI DIO'!$C$1)","v":"1812 Sveučilište u Zagrebu FAKULTET PROMETNIH ZNANOSTI"},"323","32","OV","3",null,81,"51081 Programi Unije – predfinanciranje iz izvora 81 Namjenski primici od zaduživanja",null,81,3231,"Usluge telefona, pošte i prijevoza",null,"32","323",null,"K676068.004","MZO-Tehnička pomoć OP ULJP 2021.-2027.","K676068",{"$f":"IFERROR(VLOOKUP(AJ22,AKT!$E$4:$G$342,3,FALSE),\"\")","v":"0150"}]
["",51000,"",3111,"Plaće za redovan rad","NOVI PODPROJEKT","NOVI PODPROJEKT","NOVI PODPROJEKT",{"v":15000,"d":"15,000"},{"v":1500,"d":"1,500"},0,"REALLOCATE - Rethinking the dEsign of streets And pubLic spaces to Leverage the mOdal shift to Climate-friendly Active Transport Everywhere","01.05.2023.","30.04.2027.","Europska komisija, European Climate, Infrastructure and Environment Executive Agency","Glavni cilj je utrti put prema klimatski neutralnim, sigurnim, inkluzivnim i pametnim europskim gradovima kroz integrirana i inovativna rješenja održive urbane mobilnosti koja će odgovoriti na potrebe različitih skupina i zajednica dok će ponovno uravnotežiti raspodjelu uličnog prostora.",null,{"$f":"IF(D23=\"\",\"\",'OPĆI DIO'!$C$1)","v":"1812 Sveučilište u Zagrebu FAKULTET PROMETNIH ZNANOSTI"},"311","31","OV","3",null,52,"Ostale pomoći",null,52,3232,"Usluge tekućeg i investicijskog održavanja",null,"32","323",null,"K676068.005","Modernizacija ustanova za provedbu CDŠ u osnovnoškolskom obrazovanju","K676068",{"$f":"IFERROR(VLOOKUP(AJ23,AKT!$E$4:$G$342,3,FALSE),\"\")","v":"0150"}]
["",51000,"",3212,"Naknade za prijevoz, za rad na terenu i odvojeni život","NOVI PODPROJEKT","NOVI PODPROJEKT","NOVI PODPROJEKT",{"v":1500,"d":"1,500"},{"v":1500,"d":"1,500"},0,"REALLOCATE - Rethinking the dEsign of streets And pubLic spaces to Leverage the mOdal shift to Climate-friendly Active Transport Everywhere","01.05.2023.","30.04.2027.","Europska komisija, European Climate, Infrastructure and Environment Executive Agency","Glavni cilj je utrti put prema klimatski neutralnim, sigurnim, inkluzivnim i pametnim europskim gradovima kroz integrirana i inovativna rješenja održive urbane mobilnosti koja će odgovoriti na potrebe različitih skupina i zajednica dok će ponovno uravnotežiti raspodjelu uličnog prostora.",null,{"$f":"IF(D24=\"\",\"\",'OPĆI DIO'!$C$1)","v":"1812 Sveučilište u Zagrebu FAKULTET PROMETNIH ZNANOSTI"},"321","32","OV","3",null,531,"Švicarsko - hrvatski program suradnje",null,53,3233,"Usluge promidžbe i informiranja",null,"32","323",null,"K676068.006","Osiguravanje infrastrukturnih uvjeta za  povećanje dostupnost RPOO","K676068",{"$f":"IFERROR(VLOOKUP(AJ24,AKT!$E$4:$G$342,3,FALSE),\"\")","v":"0150"}]
["",null,"",null,"","NOVI PODPROJEKT","NOVI PODPROJEKT","NOVI PODPROJEKT",{"$nulls":9},{"$f":"IF(D25=\"\",\"\",'OPĆI DIO'!$C$1)","v":""},"","","OV","",null,532,"Financijski mehanizam Europskog gospodarskog prostora i Norveški financijski mehanizam",null,53,3234,"Komunalne usluge",null,"32","323",null,"K733067.016","Dodjela stipendija  studentima u socio-ekonomski nepovoljnom položaju","K733067",{"$f":"IFERROR(VLOOKUP(AJ25,AKT!$E$4:$G$342,3,FALSE),\"\")","v":"0950"}]
["",null,"",null,"",null,"","",{"$nulls":9},{"$f":"IF(D26=\"\",\"\",'OPĆI DIO'!$C$1)","v":""},"","","","",null,533,"Ostale darovnice",null,53,3235,"Zakupnine i najamnine",null,"32","323",null,"K733067.017","Daljnja provedba CKR - izrada predmetnih kurikuluma posebnih programa za učenike s teškoćama u razvoju i studijskih programa iz sektora odgoja i obrazovanja","K733067",{"$f":"IFERROR(VLOOKUP(AJ26,AKT!$E$4:$G$342,3,FALSE),\"\")","v":"0950"}]
["",null,"",null,"",null,"","",{"$nulls":9},{"$f":"IF(D27=\"\",\"\",'OPĆI DIO'!$C$1)","v":""},"","","","",null,54,"Europski poljoprivredni jamstveni fond (EAGF)",null,54,3236,"Zdravstvene i veterinarske usluge",null,"32","323",null,"K733067.019","Potpora tijelima za unaprjeđenje HKO-a i promicanje jednakog pristupa kvalitetnom i uključivom obrazovanju i osposobljavanju","K733067",{"$f":"IFERROR(VLOOKUP(AJ27,AKT!$E$4:$G$342,3,FALSE),\"\")","v":"0950"}]
["",null,"",null,"",null,"","",{"$nulls":9},{"$f":"IF(D28=\"\",\"\",'OPĆI DIO'!$C$1)","v":""},"","","","",null,561,"Europski socijalni fond plus – predfinanciranje iz izvora 11 Opći prihodi i primici",null,561,3237,"Intelektualne i osobne usluge",null,"32","323",null,"K733067.021","Osiguravanje pomoćnika u nastavi i stručnih komunikacijskih posrednika učenicima s teškoćama u razvoju u osnovnoškolskim i srednjoškolskim odgojno-obrazovnim ustanovama","K733067",{"$f":"IFERROR(VLOOKUP(AJ28,AKT!$E$4:$G$342,3,FALSE),\"\")","v":"0950"}]
["",null,"",null,"",null,"","",{"$nulls":9},{"$f":"IF(D29=\"\",\"\",'OPĆI DIO'!$C$1)","v":""},"","","","",null,562,"Kohezijski fond",null,562,3238,"Računalne usluge",null,"32","323",null,"K733067.022","Osiguravanje povećanog sudjelvoanja u RPOO","K733067",{"$f":"IFERROR(VLOOKUP(AJ29,AKT!$E$4:$G$342,3,FALSE),\"\")","v":"0950"}]
["",null,"",null,"",null,"","",{"$nulls":9},{"$f":"IF(D30=\"\",\"\",'OPĆI DIO'!$C$1)","v":""},"","","","",null,563,"Europski fond za regionalni razvoj – predfinanciranje iz izvora 11 Opći prihodi i primici",null,563,3239,"Ostale usluge",null,"32","323",null,"K733067.023","Podrška ustanvama strukovnog obrazovanja za uvođenje novih kurikuluma","K733067",{"$f":"IFERROR(VLOOKUP(AJ30,AKT!$E$4:$G$342,3,FALSE),\"\")","v":"0950"}]
["",null,"",null,"",null,"","",{"$nulls":9},{"$f":"IF(D31=\"\",\"\",'OPĆI DIO'!$C$1)","v":""},"","","","",null,564,"Fond za pomorstvo, ribarstvo i akvakulturu",null,564,3241,"Naknade troškova osobama izvan radnog odnosa",null,"32","324",null,"K733067.024","Potpora obrazovanju djece i učenika romske nacionalne manjine","K733067",{"$f":"IFERROR(VLOOKUP(AJ31,AKT!$E$4:$G$342,3,FALSE),\"\")","v":"0950"}]
["",null,"",null,"",null,"","",{"$nulls":9},{"$f":"IF(D32=\"\",\"\",'OPĆI DIO'!$C$1)","v":""},"","","","",null,565,"Europski poljoprivredni fond za ruralni razvoj",null,565,3291,"Naknade za rad predstavničkih i izvršnih tijela, povjerensta",null,"32","329",null,"K733067.029","Podrška školama u provedbi CDŠ","K733067",{"$f":"IFERROR(VLOOKUP(AJ32,AKT!$E$4:$G$342,3,FALSE),\"\")","v":"0950"}]
["",null,"",null,"",null,"","",{"$nulls":9},{"$f":"IF(D33=\"\",\"\",'OPĆI DIO'!$C$1)","v":""},"","","","",null,566,"Modernizacijski fond",null,566,3292,"Premije osiguranja",null,"32","329",null,"K733067.032","Podrška visokim učilištima za rad sa studentima s teškoćama i ranjivim skupinama studenata","K733067",{"$f":"IFERROR(VLOOKUP(AJ33,AKT!$E$4:$G$342,3,FALSE),\"\")","v":"0950"}]
["",null,"",null,"",null,"","",{"$nulls":9},{"$f":"IF(D34=\"\",\"\",'OPĆI DIO'!$C$1)","v":""},"","","","",null,567,"Socijalni fond za klimatsku politiku",null,567,3293,"Reprezentacija",null,"32","329",null,"K733067.033","MZO Tehnička pomoć ESF plus 2021. - 2027.","K733067",{"$f":"IFERROR(VLOOKUP(AJ34,AKT!$E$4:$G$342,3,FALSE),\"\")","v":"0950"}]
["",null,"",null,"",null,"","",{"$nulls":9},{"$f":"IF(D35=\"\",\"\",'OPĆI DIO'!$C$1)","v":""},"","","","",null,575,"Fond za azil, migracije i integraciju – predfinanciranje iz izvora 11 Opći prihodi i primici",null,575,3293,"  Reprezentacija",null,"32","329",null,"K733067.042","Cjelovita informatizacija sustava odgoja i obrazovanja - CISO","K733067",{"$f":"IFERROR(VLOOKUP(AJ35,AKT!$E$4:$G$342,3,FALSE),\"\")","v":"0950"}]
["",null,"",null,"",null,"","",{"$nulls":9},{"$f":"IF(D36=\"\",\"\",'OPĆI DIO'!$C$1)","v":""},"","","","",null,577,"Fond za pravednu tranziciju",null,577,3294,"Članarine i norme",null,"32","329",null,"K818050.008","Razvoj, unapređenje i provedba stručne prakse u visokom obrazovanju","K818050",{"$f":"IFERROR(VLOOKUP(AJ36,AKT!$E$4:$G$342,3,FALSE),\"\")","v":""}]
["",null,"",null,"",null,"","",{"$nulls":9},{"$f":"IF(D37=\"\",\"\",'OPĆI DIO'!$C$1)","v":""},"","","","",null,578,"Fond za unutarnju sigurnost",null,578,3295,"Pristojbe i naknade",null,"32","329",null,"K818050.009","Sufinanciranje troškova uključivanja djece  u socio-ekonomski nepovoljnoj situaciji u predškolske ustanove","K818050",{"$f":"IFERROR(VLOOKUP(AJ37,AKT!$E$4:$G$342,3,FALSE),\"\")","v":""}]
["",null,"",null,"",null,"","",{"$nulls":9},{"$f":"IF(D38=\"\",\"\",'OPĆI DIO'!$C$1)","v":""},"","","","",null,579,"Fond za integrirano upravljanje granicama",null,579,3296,"Troškovi sudskih postupaka",null,"32","329",null,"K818050.011","Uspostava regionalnih centara kompetencija u strukovnom obrazovanju u odabranim sektorima","K818050",{"$f":"IFERROR(VLOOKUP(AJ38,AKT!$E$4:$G$342,3,FALSE),\"\")","v":""}]
["",null,"",null,"",null,"","",{"$nulls":9},{"$f":"IF(D39=\"\",\"\",'OPĆI DIO'!$C$1)","v":""},"","","","",null,581,"Mehanizam za oporavak i otpornost – bespovratna sredstva – raspoloživ predujam ili unaprijed naplaćen prihod",null,581,3299,"Ostali nespomenuti rashodi poslovanja",null,"32","329",null,"K818050.023","MZO Tehnička pomoć OP ULJP faza I","K818050",{"$f":"IFERROR(VLOOKUP(AJ39,AKT!$E$4:$G$342,3,FALSE),\"\")","v":""}]
["",null,"",null,"",null,"","",{"$nulls":9},{"$f":"IF(D40=\"\",\"\",'OPĆI DIO'!$C$1)","v":""},"","","","",null,61,"Donacije",null,61,3411,"Kamate za izdane trezorske zapise",null,"34","341",null,"K818050.024","Informatizacija procesa i uspostava cjelovite elektroničke usluge upisa u odgojne i obrazovne ustanove","K818050",{"$f":"IFERROR(VLOOKUP(AJ40,AKT!$E$4:$G$342,3,FALSE),\"\")","v":""}]
["",null,"",null,"",null,"","",{"$nulls":9},{"$f":"IF(D41=\"\",\"\",'OPĆI DIO'!$C$1)","v":""},"","","","",null,71,"Prihodi od nefin. imovine i nadoknade štete s osnova osig.",null,71,3422,"Kamate za primljene kredite i zajmove od kreditnih i ostalih",null,"34","342",null,"K818050.026","Osiguravanje pomoćnika u nastavi i stručnih komunikacijskih posrednika učenicima s teškoćama u razvoju u osnovnoškolskim i srednjoškolskim odgojno-obrazovnim ustanovama - faza IV","K818050",{"$f":"IFERROR(VLOOKUP(AJ41,AKT!$E$4:$G$342,3,FALSE),\"\")","v":""}]
["",null,"",null,"",null,"","",{"$nulls":9},{"$f":"IF(D42=\"\",\"\",'OPĆI DIO'!$C$1)","v":""},"","","","",null,810,"Namjenski primici od zaduživanja – ostali",null,810,3423,"Kamate za primljene kredite i zajmove od kreditnih i ostalih",null,"34","342",null,"K679126.001","Vrhunska istraživanja Znanstvenih centara izvrsnosti","K679126",{"$f":"IFERROR(VLOOKUP(AJ42,AKT!$E$4:$G$342,3,FALSE),\"\")","v":"0942"}]
["",null,"",null,"",null,"","",{"$nulls":9},{"$f":"IF(D43=\"\",\"\",'OPĆI DIO'!$C$1)","v":""},"","","","",null,815,"Mehanizam za oporavak i otpornost (NPOO – zajam)",null,815,3427,"Kamate za primljene zajmove od trgovačkih društava i obrtnik",null,"34","342",null,"K679126.002","'Modernizacija, unaprjeđenje i proširenje infrastrukture studentskog smještaja","K679126",{"$f":"IFERROR(VLOOKUP(AJ43,AKT!$E$4:$G$342,3,FALSE),\"\")","v":"0942"}]
["",null,"",null,"",null,"","",{"$nulls":9},{"$f":"IF(D44=\"\",\"\",'OPĆI DIO'!$C$1)","v":""},"","","","",{"$nulls":5},3431,"Bankarske usluge i usluge platnog prometa",null,"34","343",null,"K679128.001","Dokazivanje koncepta","K679128",{"$f":"IFERROR(VLOOKUP(AJ44,AKT!$E$4:$G$342,3,FALSE),\"\")","v":"0942"}]
["",null,"",null,"",null,"","",{"$nulls":9},{"$f":"IF(D45=\"\",\"\",'OPĆI DIO'!$C$1)","v":""},"","","","",{"$nulls":5},3432,"Negativne tečajne razlike i razlike zbog primjene valutne kl",null,"34","343",null,"K679128.002","Ciljana znanstvena istraživanja","K679128",{"$f":"IFERROR(VLOOKUP(AJ45,AKT!$E$4:$G$342,3,FALSE),\"\")","v":"0942"}]
["",null,"",null,"",null,"","",{"$nulls":9},{"$f":"IF(D46=\"\",\"\",'OPĆI DIO'!$C$1)","v":""},"","","","",{"$nulls":5},3433,"Zatezne kamate",null,"34","343",null,"K679128.001","Program transfera tehnologije","K679128",{"$f":"IFERROR(VLOOKUP(AJ46,AKT!$E$4:$G$342,3,FALSE),\"\")","v":"0942"}]
["",null,"",null,"",null,"","",{"$nulls":9},{"$f":"IF(D47=\"\",\"\",'OPĆI DIO'!$C$1)","v":""},"","","","",{"$nulls":5},3434,"Ostali nespomenuti financijski rashodi",null,"34","343",null,"K679129.001","Razvojne istraživačke potpore","K679129",{"$f":"IFERROR(VLOOKUP(AJ47,AKT!$E$4:$G$342,3,FALSE),\"\")","v":"0942"}]
["",null,"",null,"",null,"","",{"$nulls":9},{"$f":"IF(D48=\"\",\"\",'OPĆI DIO'!$C$1)","v":""},"","","","",{"$nulls":5},3511,"Subvencije kreditnim i ostalim financijskim institucijama u",null,"35","351",null,"K679129.002","Znanstveno-istraživački centar elektrotehnike i računarstva","K679129",{"$f":"IFERROR(VLOOKUP(AJ48,AKT!$E$4:$G$342,3,FALSE),\"\")","v":"0942"}]
["",null,"",null,"",null,"","",{"$nulls":9},{"$f":"IF(D49=\"\",\"\",'OPĆI DIO'!$C$1)","v":""},"","","","",{"$nulls":5},3512,"Subvencije trgovačkim društvima u javnom sektoru",null,"35","351",null,"K679129.003","Infrastruktura","K679129",{"$f":"IFERROR(VLOOKUP(AJ49,AKT!$E$4:$G$342,3,FALSE),\"\")","v":"0942"}]
["",null,"",null,"",null,"","",{"$nulls":9},{"$f":"IF(D50=\"\",\"\",'OPĆI DIO'!$C$1)","v":""},"","","","",{"$nulls":5},3522,"Subvencije trgovačkim društvima izvan javnog sektora",null,"35","352",null,"A622152.001","Vrhunska istraživanja Znanstvenih centara izvrsnosti","A622152",{"$f":"IFERROR(VLOOKUP(AJ50,AKT!$E$4:$G$342,3,FALSE),\"\")","v":"0150"}]
["",null,"",null,"",null,"","",{"$nulls":9},{"$f":"IF(D51=\"\",\"\",'OPĆI DIO'!$C$1)","v":""},"","","","",{"$nulls":5},3531,"Subvencije trgovačkim društvima, zadrugama, poljoprivrednici",null,"35","353",null,"A622152.002","Otvorene znanstvene infrastrukturne platforme za inovativne primjene u gospodarstvu i društvu O-ZIP FAZA II","A622152",{"$f":"IFERROR(VLOOKUP(AJ51,AKT!$E$4:$G$342,3,FALSE),\"\")","v":"0150"}]
["",null,"",null,"",null,"","",{"$nulls":9},{"$f":"IF(D52=\"\",\"\",'OPĆI DIO'!$C$1)","v":""},"","","","",{"$nulls":5},3611,"Tekuće pomoći inozemnim vladama",null,"36","361",null,"A622152.003","'Razvojne istraživačke potpore","A622152",{"$f":"IFERROR(VLOOKUP(AJ52,AKT!$E$4:$G$342,3,FALSE),\"\")","v":"0150"}]
["",null,"",null,"",null,"","",{"$nulls":9},{"$f":"IF(D53=\"\",\"\",'OPĆI DIO'!$C$1)","v":""},"","","","",{"$nulls":5},3621,"Tekuće pomoći međunarodnim organizacijama te institucijama i",null,"36","362",null,"A622152.004","Dokazivanje koncepta ","A622152",{"$f":"IFERROR(VLOOKUP(AJ53,AKT!$E$4:$G$342,3,FALSE),\"\")","v":"0150"}]
["",null,"",null,"",null,"","",{"$nulls":9},{"$f":"IF(D54=\"\",\"\",'OPĆI DIO'!$C$1)","v":""},"","","","",{"$nulls":5},3631,"Tekuće pomoći unutar općeg proračuna",null,"36","363",null,"A622152.005","Ciljana znanstvena istraživanja","A622152",{"$f":"IFERROR(VLOOKUP(AJ54,AKT!$E$4:$G$342,3,FALSE),\"\")","v":"0150"}]
["",null,"",null,"",null,"","",{"$nulls":9},{"$f":"IF(D55=\"\",\"\",'OPĆI DIO'!$C$1)","v":""},"","","","",{"$nulls":5},3632,"Kapitalne pomoći unutar općeg proračuna",null,"36","363",null,"A622152.006","Program transfera tehnologije","A622152",{"$f":"IFERROR(VLOOKUP(AJ55,AKT!$E$4:$G$342,3,FALSE),\"\")","v":"0150"}]
["",null,"",null,"",null,"","",{"$nulls":9},{"$f":"IF(D56=\"\",\"\",'OPĆI DIO'!$C$1)","v":""},"","","","",{"$nulls":5},3661,"Tekuće pomoći proračunskim korisnicima drugih proračuna",null,"36","366",null,"A622152.007","Programski ugovori instituti","A622152",{"$f":"IFERROR(VLOOKUP(AJ56,AKT!$E$4:$G$342,3,FALSE),\"\")","v":"0150"}]
["",null,"",null,"",null,"","",{"$nulls":9},{"$f":"IF(D57=\"\",\"\",'OPĆI DIO'!$C$1)","v":""},"","","","",{"$nulls":5},3662,"Kapitalne pomoći proračunskim korisnicima drugih proračuna",null,"36","366",null,"A622152.008","Osuvremenjivanje infrastrukture Instituta za jadranske kulture i melioraciju krša kao preduvjet izvrsnosti u istraživanjima mediteranske poljoprivrede","A622152",{"$f":"IFERROR(VLOOKUP(AJ57,AKT!$E$4:$G$342,3,FALSE),\"\")","v":"0150"}]
["",null,"",null,"",null,"","",{"$nulls":9},{"$f":"IF(D58=\"\",\"\",'OPĆI DIO'!$C$1)","v":""},"","","","",{"$nulls":5},3681,"Tekuće pomoći temeljem prijenosa EU sredstava",null,"36","368",null,"K628100.001","PROGRAM UNAPRJEĐENJA PRIMJENE DIGITALNE TEHNOLOGIJE U OBRAZOVNOM SUSTAVU (BRALN)","K628100",{"$f":"IFERROR(VLOOKUP(AJ58,AKT!$E$4:$G$342,3,FALSE),\"\")","v":"0133"}]
["",null,"",null,"",null,"","",{"$nulls":9},{"$f":"IF(D59=\"\",\"\",'OPĆI DIO'!$C$1)","v":""},"","","","",{"$nulls":5},3682,"Kapitalne pomoći temeljem prijenosa EU sredstava",null,"36","368",null,"K628100.002","CJELOVITA INFORMATIZACIJA SUSTAVA ODGOJA I OBRAZOVANJA (CISOO)","K628100",{"$f":"IFERROR(VLOOKUP(AJ59,AKT!$E$4:$G$342,3,FALSE),\"\")","v":"0133"}]
["",null,"",null,"",null,"","",{"$nulls":9},{"$f":"IF(D60=\"\",\"\",'OPĆI DIO'!$C$1)","v":""},"","","","",{"$nulls":5},3691,"Tekući prijenosi između proračunskih korisnika istog proraču",null,"36","369",null,"K628087.001","Znanstveno i tehnologijsko predviđanje - sustav CroRIS","K628087",{"$f":"IFERROR(VLOOKUP(AJ60,AKT!$E$4:$G$342,3,FALSE),\"\")","v":""}]
["",null,"",null,"",null,"","",{"$nulls":9},{"$f":"IF(D61=\"\",\"\",'OPĆI DIO'!$C$1)","v":""},"","","","",{"$nulls":5},3692,"Kapitalni prijenosi između proračunskih korisnika istog pror",null,"36","369",null,"K628087.002","Hrvatski znanstveni i obrazovni oblak (HR ZOO)","K628087",{"$f":"IFERROR(VLOOKUP(AJ61,AKT!$E$4:$G$342,3,FALSE),\"\")","v":""}]
["",null,"",null,"",null,"","",{"$nulls":9},{"$f":"IF(D62=\"\",\"\",'OPĆI DIO'!$C$1)","v":""},"","","","",{"$nulls":5},3693,"Tekući prijenosi između proračunskih korisnika istog proraču",null,"36","369",null,"A579073.001","UČIMO PODUZETNIŠTVO 5.0","A579073",{"$f":"IFERROR(VLOOKUP(AJ62,AKT!$E$4:$G$342,3,FALSE),\"\")","v":"0970"}]
["",null,"",null,"",null,"","",{"$nulls":9},{"$f":"IF(D63=\"\",\"\",'OPĆI DIO'!$C$1)","v":""},"","","","",{"$nulls":5},3694,"Kapitalni prijenosi između proračunskih korisnika istog pror",null,"36","369",null,"A580072.001","Erasmus+ KA121","A580072",{"$f":"IFERROR(VLOOKUP(AJ63,AKT!$E$4:$G$342,3,FALSE),\"\")","v":"0970"}]
["",null,"",null,"",null,"","",{"$nulls":9},{"$f":"IF(D64=\"\",\"\",'OPĆI DIO'!$C$1)","v":""},"","","","",{"$nulls":5},3711,"Naknade građ. i kuć. u novcu-neposr. ili putem ust.izvan js",null,"37","371",null,"K767054.001","AZOO-E-ŠKOLE-RAZVOJ SUSTAVA DIGITALNO ZRELIH ŠKOLA","K767054",{"$f":"IFERROR(VLOOKUP(AJ64,AKT!$E$4:$G$342,3,FALSE),\"\")","v":""}]
["",null,"",null,"",null,"","",{"$nulls":9},{"$f":"IF(D65=\"\",\"\",'OPĆI DIO'!$C$1)","v":""},"","","","",{"$nulls":5},3712,"Naknade građ. i kuć. u naravi-neposr. ili putem ust.izvan js",null,"37","371",null,"A867021.001","ERASMUS PLUS-KEEP IN PACT-JAČANJE MULTIPARTNERSKE SURADNJE U PRUŽANJU USLUGA CJELOŽIVOTNOG PROFESIONALNOG USMJERAVANJA","A867021",{"$f":"IFERROR(VLOOKUP(AJ65,AKT!$E$4:$G$342,3,FALSE),\"\")","v":"0942"}]
["",null,"",null,"",null,"","",{"$nulls":9},{"$f":"IF(D66=\"\",\"\",'OPĆI DIO'!$C$1)","v":""},"","","","",{"$nulls":5},3713,"Naknade građanima i kućanstvima u novcu - putem ustanova u j",null,"37","371",null,"A867021.002","ERASMUS PLUS-OCTRA-KATALOG ONLINE PROGRAMA I BAZA PODATAKA ZA VIDLJIVOST I PRIZNAVANJE KVALIFIKACIJA","A867021",{"$f":"IFERROR(VLOOKUP(AJ66,AKT!$E$4:$G$342,3,FALSE),\"\")","v":"0942"}]
["",null,"",null,"",null,"","",{"$nulls":9},{"$f":"IF(D67=\"\",\"\",'OPĆI DIO'!$C$1)","v":""},"","","","",{"$nulls":5},3714,"Naknade građanima i kućanstvima u naravi - putem ustanova u",null,"37","371",null,"A867021.003","ERASMUS PLUS-ADREN MREŽA-SURADNJA DIONIKA (JADRANSKO PODRUČJE, ZAPADNI BALKAN I EU) U OBVEZAMA IZ PODRUČJA VISOKOG OBRAZOVANJA","A867021",{"$f":"IFERROR(VLOOKUP(AJ67,AKT!$E$4:$G$342,3,FALSE),\"\")","v":"0942"}]
[{"$f":"IFERROR(VLOOKUP(B68,$X$6:$AA$34,4,FALSE),\"\")","v":""},null,{"$f":"IFERROR(VLOOKUP(B68,$X$6:$AA$34,2,FALSE),\"\")","v":""},null,{"$f":"IFERROR(VLOOKUP(D68,$AB$5:$AD$129,2,FALSE),\"\")","v":""},null,{"$f":"IFERROR(VLOOKUP(F68,$AH$6:$AI$1763,2,FALSE),\"\")","v":""},{"$f":"IFERROR(VLOOKUP(F68,$AH$6:$AK$1763,4,FALSE),\"\")","v":""},{"$nulls":9},{"$f":"IF(D68=\"\",\"\",'OPĆI DIO'!$C$1)","v":""},{"$f":"LEFT(D68,3)","v":""},{"$f":"LEFT(D68,2)","v":""},{"$f":"MID(H68,2,2)","v":""},{"$f":"LEFT(D68,1)","v":""},{"$nulls":5},3715,"Naknade građanima i kućanstvima na temelju osiguranja iz EU",null,"37","371",null,"A867021.004","MEDITERANSKA MREŽA ZA AUTOMATSKO PRIZNAVANJE – MAReN","A867021",{"$f":"IFERROR(VLOOKUP(AJ68,AKT!$E$4:$G$342,3,FALSE),\"\")","v":"0942"}]
["",null,"",null,"",null,"","",{"$nulls":9},{"$f":"IF(D69=\"\",\"\",'OPĆI DIO'!$C$1)","v":""},"","","","",{"$nulls":5},3721,"Naknade građanima i kućanstvima u novcu",null,{"$f":"LEFT(AB69,2)","v":"37"},"372",null,"A867021.005","AUTOMATSKO PRIZNAVANJE U EUROPSKOM GOSPODARSKOM PROSTORU, 2025 - AR25","A867021",{"$f":"IFERROR(VLOOKUP(AJ69,AKT!$E$4:$G$342,3,FALSE),\"\")","v":"0942"}]
["",null,"",null,"",null,"","",{"$nulls":9},{"$f":"IF(D70=\"\",\"\",'OPĆI DIO'!$C$1)","v":""},"","","","",{"$nulls":5},3722,"Naknade građanima i kućanstvima u naravi",null,"37",{"$f":"LEFT(AB70,3)","v":"372"},null,"A867021.008","SMEQA Jačanje kapaciteta i mehanizama za unapređenje sustava osiguravanja kvalitete visokog obrazovanja u Bosni i Hercegovini","A867021",{"$f":"IFERROR(VLOOKUP(AJ70,AKT!$E$4:$G$342,3,FALSE),\"\")","v":"0942"}]
["",null,"",null,"",null,"","",{"$nulls":9},{"$f":"IF(D71=\"\",\"\",'OPĆI DIO'!$C$1)","v":""},"","","","",{"$nulls":5},3723,"Naknade građanima i kućanstvima iz EU sredstava",null,"37","372",null,"K867020.001","AZVO-OSIGURAVANJE KVALITETE U VISOKOM OBRAZOVANJU","K867020",{"$f":"IFERROR(VLOOKUP(AJ71,AKT!$E$4:$G$342,3,FALSE),\"\")","v":"0942"}]
["",null,"",null,"",null,"","",{"$nulls":9},{"$f":"IF(D72=\"\",\"\",'OPĆI DIO'!$C$1)","v":""},"","","","",{"$nulls":5},3811,"Tekuće donacije u novcu",null,"38","381",null,"K814011.001","E-ŠKOLE-Istraživanje učinka primjene digitalnih tehnologija u nastavi","K814011",{"$f":"IFERROR(VLOOKUP(AJ72,AKT!$E$4:$G$342,3,FALSE),\"\")","v":""}]
["",null,"",null,"",null,"","",{"$nulls":9},{"$f":"IF(D73=\"\",\"\",'OPĆI DIO'!$C$1)","v":""},"","","","",{"$nulls":5},3812,"Tekuće donacije u naravi",null,"38","381",null,"K814013.001","NCVVO-Vanjsko vrednovanje učeničkih postignuća u osnovnoj školi-nacionalni ispiti",{"$f":"LEFT(AH73,7)","v":"K814013"},{"$f":"IFERROR(VLOOKUP(AJ73,AKT!$E$4:$G$342,3,FALSE),\"\")","v":"0970"}]
["",null,"",null,"",null,"","",{"$nulls":9},{"$f":"IF(D74=\"\",\"\",'OPĆI DIO'!$C$1)","v":""},"","","","",{"$nulls":5},3813,"Tekuće donacije iz EU sredstava",null,"38","381",null,"K814013.002","PROVEDBA NACIONALNIH ISPITA","K814013",{"$f":"IFERROR(VLOOKUP(AJ74,AKT!$E$4:$G$342,3,FALSE),\"\")","v":"0970"}]
["",null,"",null,"",null,"","",{"$nulls":9},{"$f":"IF(D75=\"\",\"\",'OPĆI DIO'!$C$1)","v":""},"","","","",{"$nulls":5},3821,"Kapitalne donacije neprofitnim organizacijama",null,"38","382",null,"A848051.001","ERASMUS PLUS-PIAAC HRVATSKA-PROVEDBA ISTRAŽIVANJA KOMPETENCIJA ODRASLIH OSOBA U RH","A848051",{"$f":"IFERROR(VLOOKUP(AJ75,AKT!$E$4:$G$342,3,FALSE),\"\")","v":"0970"}]
["",null,"",null,"",null,"","",{"$nulls":9},{"$f":"IF(D76=\"\",\"\",'OPĆI DIO'!$C$1)","v":""},"","","","",{"$nulls":5},3831,"Naknade šteta pravnim i fizičkim osobama",null,"38","383",null,"A848051.002","ERASMUS PLUS-EQAVET NRP RH-NACIONALNA REFERENTNA TOČKA ZA EUROPSKI SUSTAV OSIGURANJA KVALITETE U STRUKOVNOM OBRAZOVANJU I OSPOSOBLJAVANJU","A848051",{"$f":"IFERROR(VLOOKUP(AJ76,AKT!$E$4:$G$342,3,FALSE),\"\")","v":"0970"}]
["",null,"",null,"",null,"","",{"$nulls":9},{"$f":"IF(D77=\"\",\"\",'OPĆI DIO'!$C$1)","v":""},"","","","",{"$nulls":5},3832,"Penali, ležarine i drugo",null,"38","383",null,"A848051.003","ERASMUS PLUS-VET AT HOME-PILOTIRANJE VIRTUALNOG PRAKTIČNOG TEČAJA ZA KUHARSTVO U STRUKOVNOM OBRAZOVANJU","A848051",{"$f":"IFERROR(VLOOKUP(AJ77,AKT!$E$4:$G$342,3,FALSE),\"\")","v":"0970"}]
["",null,"",null,"",null,"","",{"$nulls":9},{"$f":"IF(D78=\"\",\"\",'OPĆI DIO'!$C$1)","v":""},"","","","",{"$nulls":5},3833,"Naknade šteta zaposlenicima",null,"38","383",null,"A848051.004","ERASMUS PLUS-2BDIGITAL-INKLUZIVNO DIGITALNO UČENJE U SVRHU SPREČAVANJA NAPUŠTANJA ŠKOLOVANJA U STRUKOVNOM OBRAZOVANJU I OSPOSOBLJAVANJU","A848051",{"$f":"IFERROR(VLOOKUP(AJ78,AKT!$E$4:$G$342,3,FALSE),\"\")","v":"0970"}]
["",null,"",null,"",null,"","",{"$nulls":9},{"$f":"IF(D79=\"\",\"\",'OPĆI DIO'!$C$1)","v":""},"","","","",{"$nulls":5},3834,"Ugovorene kazne i ostale naknade šteta",null,"38","383",null,"A848051.005","ERASMUS PLUS-EPALE V-NACIONALNA SLUŽBA ZA PODRŠKU ZA RH 2022.-2024.","A848051",{"$f":"IFERROR(VLOOKUP(AJ79,AKT!$E$4:$G$342,3,FALSE),\"\")","v":"0970"}]
["",null,"",null,"",null,"","",{"$nulls":9},{"$f":"IF(D80=\"\",\"\",'OPĆI DIO'!$C$1)","v":""},"","","","",{"$nulls":5},3835,"Ostale kazne",null,"38","383",null,"A848051.006","ERASMUS PLUS-EPALE IV-NACIONALNA SLUŽBA ZA PODRŠKU ZA RH 2019.-2020.","A848051",{"$f":"IFERROR(VLOOKUP(AJ80,AKT!$E$4:$G$342,3,FALSE),\"\")","v":"0970"}]
["",null,"",null,"",null,"","",{"$nulls":9},{"$f":"IF(D81=\"\",\"\",'OPĆI DIO'!$C$1)","v":""},"","","","",{"$nulls":5},3861,"Kapitalne pomoći kreditnim i ostalim financijskim institucijama te trgovačkim društvima u javnom sektoru",null,"38","386",null,"A848051.007","ERASMUS PLUS-KA2-TRENING ZA VJEŠTINE U VIRTUALNOM OKRUŽENJU","A848051",{"$f":"IFERROR(VLOOKUP(AJ81,AKT!$E$4:$G$342,3,FALSE),\"\")","v":"0970"}]
["",null,"",null,"",null,"","",{"$nulls":9},{"$f":"IF(D82=\"\",\"\",'OPĆI DIO'!$C$1)","v":""},"","","","",{"$nulls":5},3862,"Kapitalne pomoći kreditnim i ostalim financijskim institucijama te trgovačkim društvima i zadrugama izvan javnog sektora",null,"38","386",null,"A848051.008","PARTNER UP","A848051",{"$f":"IFERROR(VLOOKUP(AJ82,AKT!$E$4:$G$342,3,FALSE),\"\")","v":"0970"}]
["",null,"",null,"",null,"","",{"$nulls":9},{"$f":"IF(D83=\"\",\"\",'OPĆI DIO'!$C$1)","v":""},"","","","",{"$nulls":5},3863,"Kapitalne pomoći poljoprivrednicima i obrtnicima",null,"38","386",null,"A848051.009","NOVI EQAVET","A848051",{"$f":"IFERROR(VLOOKUP(AJ83,AKT!$E$4:$G$342,3,FALSE),\"\")","v":"0970"}]
["",null,"",null,"",null,"","",{"$nulls":9},{"$f":"IF(D84=\"\",\"\",'OPĆI DIO'!$C$1)","v":""},"","","","",{"$nulls":5},4111,"Zemljište",null,"41","411",null,"A848051.015","PLASS-COMP (puni naziv: Platform for Strengthening Skills Competitions)","A848051",{"$f":"IFERROR(VLOOKUP(AJ84,AKT!$E$4:$G$342,3,FALSE),\"\")","v":"0970"}]
["",null,"",null,"",null,"","",{"$nulls":9},{"$f":"IF(D85=\"\",\"\",'OPĆI DIO'!$C$1)","v":""},"","","","",{"$nulls":5},4113,"Ostala prirodna materijalna imovina",null,"41","411",null,"K848038.002","Modernizacija sustava strukovnog obrazovanja i osposobljavanja","K848038",{"$f":"IFERROR(VLOOKUP(AJ85,AKT!$E$4:$G$342,3,FALSE),\"\")","v":"0950"}]
["",null,"",null,"",null,"","",{"$nulls":9},{"$f":"IF(D86=\"\",\"\",'OPĆI DIO'!$C$1)","v":""},"","","","",{"$nulls":5},4122,"Koncesije",null,"41","412",null,"K848038.003","Osiguravanje kvalitete u sustavu obrazovanja odraslih","K848038",{"$f":"IFERROR(VLOOKUP(AJ86,AKT!$E$4:$G$342,3,FALSE),\"\")","v":"0950"}]
["",null,"",null,"",null,"","",{"$nulls":9},{"$f":"IF(D87=\"\",\"\",'OPĆI DIO'!$C$1)","v":""},"","","","",{"$nulls":5},4123,"Licence",null,"41","412",null,"K848038.004","Promocija učeničkih kompetencija i strukovnog obrazovanja kroz strukovna natjecanja i smotre","K848038",{"$f":"IFERROR(VLOOKUP(AJ87,AKT!$E$4:$G$342,3,FALSE),\"\")","v":"0950"}]
["",null,"",null,"",null,"","",{"$nulls":9},{"$f":"IF(D88=\"\",\"\",'OPĆI DIO'!$C$1)","v":""},"","","","",{"$nulls":5},4124,"Ostala prava",null,"41","412",null,"K848038.005","Promocija cjeloživotnog učenja – faza II","K848038",{"$f":"IFERROR(VLOOKUP(AJ88,AKT!$E$4:$G$342,3,FALSE),\"\")","v":"0950"}]
["",null,"",null,"",null,"","",{"$nulls":9},{"$f":"IF(D89=\"\",\"\",'OPĆI DIO'!$C$1)","v":""},"","","","",{"$nulls":5},4126,"Ostala nematerijalna imovina",null,"41","412",null,"K848038.006","E škole","K848038",{"$f":"IFERROR(VLOOKUP(AJ89,AKT!$E$4:$G$342,3,FALSE),\"\")","v":"0950"}]
["",null,"",null,"",null,"","",{"$nulls":9},{"$f":"IF(D90=\"\",\"\",'OPĆI DIO'!$C$1)","v":""},"","","","",{"$nulls":5},4211,"Stambeni objekti",null,"42","421",null,"K848050.001","ASOO-Daljnja provedba kurikularne reforme u strukovnome obrazovanju i jačanje kapaciteta nastavnika strukovnih predmeta i mentora kod poslodavaca","K848050",{"$f":"IFERROR(VLOOKUP(AJ90,AKT!$E$4:$G$342,3,FALSE),\"\")","v":"0950"}]
["",null,"",null,"",null,"","",{"$nulls":9},{"$f":"IF(D91=\"\",\"\",'OPĆI DIO'!$C$1)","v":""},"","","","",{"$nulls":5},4212,"Poslovni objekti",null,"42","421",null,"K848050.002","ASOO-Podrška izvrsnosti, inovativnosti i vidljivosti strukovnog obrazovanja i osposobljavanja i obrazovanja odraslih","K848050",{"$f":"IFERROR(VLOOKUP(AJ91,AKT!$E$4:$G$342,3,FALSE),\"\")","v":"0950"}]
["",null,"",null,"",null,"","",{"$nulls":9},{"$f":"IF(D92=\"\",\"\",'OPĆI DIO'!$C$1)","v":""},"","","","",{"$nulls":5},4213,"Ceste, željeznice i ostali prometni objekti",null,"42","421",null,"K848050.004","PODRŠKA IZVRSNOSTI, INOVATIVNOSTI I VIDLJIVOSTI STRUKOVNOG OBRAZOVANJA","K848050",{"$f":"IFERROR(VLOOKUP(AJ92,AKT!$E$4:$G$342,3,FALSE),\"\")","v":"0950"}]
["",null,"",null,"",null,"","",{"$nulls":9},{"$f":"IF(D93=\"\",\"\",'OPĆI DIO'!$C$1)","v":""},"","","","",{"$nulls":5},4214,"Ostali građevinski objekti",null,"42","421",null,"K848050.005","DALJNJI RAZVOJ SUSTAVA OSIGURAVANJA KVALITETE U OBRAZOVANJU ODRASLIH I PODIZANJE SVIJESTI O VAŽNOSTI CJELOŽIVOTNOG UČENJA","K848050",{"$f":"IFERROR(VLOOKUP(AJ93,AKT!$E$4:$G$342,3,FALSE),\"\")","v":"0950"}]
["",null,"",null,"",null,"","",{"$nulls":9},{"$f":"IF(D94=\"\",\"\",'OPĆI DIO'!$C$1)","v":""},"","","","",{"$nulls":5},4221,"Uredska oprema i namještaj",null,"42","422",null,"K848050.006","BRAIN: PODRŠA PRIMJENI DIGITALNIH TEHNOLOGIJA U OBRAZOVANJU","K848050",{"$f":"IFERROR(VLOOKUP(AJ94,AKT!$E$4:$G$342,3,FALSE),\"\")","v":"0950"}]
["",null,"",null,"",null,"","",{"$nulls":9},{"$f":"IF(D95=\"\",\"\",'OPĆI DIO'!$C$1)","v":""},"","","","",{"$nulls":5},4222,"Komunikacijska oprema",null,"42","422",null,"T848027.001","ASOO-Tehnička pomoć OP ULJP","T848027",{"$f":"IFERROR(VLOOKUP(AJ95,AKT!$E$4:$G$342,3,FALSE),\"\")","v":"0950"}]
["",null,"",null,"",null,"","",{"$nulls":9},{"$f":"IF(D96=\"\",\"\",'OPĆI DIO'!$C$1)","v":""},"","","","",{"$nulls":5},4223,"Oprema za održavanje i zaštitu",null,"42","422",null,"K733069.001","Projekt razvoja karijera mladih istraživača - izobrazba novih doktora znanosti","K733069",{"$f":"IFERROR(VLOOKUP(AJ96,AKT!$E$4:$G$342,3,FALSE),\"\")","v":""}]
["",null,"",null,"",null,"","",{"$nulls":9},{"$f":"IF(D97=\"\",\"\",'OPĆI DIO'!$C$1)","v":""},"","","","",{"$nulls":5},4224,"Medicinska i laboratorijska oprema",null,"42","422",null,"K733069.002","Program suradnje s hrvatskim znanstvenicima u dijaspori ''ZNANSTVENA SURADNJA''","K733069",{"$f":"IFERROR(VLOOKUP(AJ97,AKT!$E$4:$G$342,3,FALSE),\"\")","v":""}]
["",null,"",null,"",null,"","",{"$nulls":9},{"$f":"IF(D98=\"\",\"\",'OPĆI DIO'!$C$1)","v":""},"","","","",{"$nulls":5},4225,"Instrumenti, uređaji i strojevi",null,"42","422"]
["",null,"",null,"",null,"","",{"$nulls":9},{"$f":"IF(D99=\"\",\"\",'OPĆI DIO'!$C$1)","v":""},"","","","",{"$nulls":5},4226,"Sportska i glazbena oprema",null,"42","422"]
["",null,"",null,"",null,"","",{"$nulls":9},{"$f":"IF(D100=\"\",\"\",'OPĆI DIO'!$C$1)","v":""},"","","","",{"$nulls":5},4227,"Uređaji, strojevi i oprema za ostale namjene",null,"42","422"]
["",null,"",null,"",null,"","",{"$nulls":9},{"$f":"IF(D101=\"\",\"\",'OPĆI DIO'!$C$1)","v":""},"","","","",{"$nulls":5},4231,"Prijevozna sredstva u cestovnom prometu",null,"42","423"]
["",null,"",null,"",null,"","",{"$nulls":9},{"$f":"IF(D102=\"\",\"\",'OPĆI DIO'!$C$1)","v":""},"","","","",{"$nulls":5},4233,"Prijevozna sredstva u pomorskom i riječnom prometu",null,"42","423"]
["",null,"",null,"",null,"","",{"$nulls":9},{"$f":"IF(D103=\"\",\"\",'OPĆI DIO'!$C$1)","v":""},"","","","",{"$nulls":5},4241,"Knjige",null,"42","424"]
["",null,"",null,"",null,"","",{"$nulls":9},{"$f":"IF(D104=\"\",\"\",'OPĆI DIO'!$C$1)","v":""},"","","","",{"$nulls":5},4242,"Umjetnička djela (izložena u galerijama, muzejima i slično)",null,"42","424"]
["",null,"",null,"",null,"","",{"$nulls":9},{"$f":"IF(D105=\"\",\"\",'OPĆI DIO'!$C$1)","v":""},"","","","",{"$nulls":5},4244,"Ostale nespomenute izložbene vrijednosti",null,"42","424"]
["",null,"",null,"",null,"","",{"$nulls":9},{"$f":"IF(D106=\"\",\"\",'OPĆI DIO'!$C$1)","v":""},"","","","",{"$nulls":5},4251,"Višegodišnji nasadi",null,"42","425"]
["",null,"",null,"",null,"","",{"$nulls":9},{"$f":"IF(D107=\"\",\"\",'OPĆI DIO'!$C$1)","v":""},"","","","",{"$nulls":5},4252,"Osnovno stado",null,"42","425"]
["",null,"",null,"",null,"","",{"$nulls":9},{"$f":"IF(D108=\"\",\"\",'OPĆI DIO'!$C$1)","v":""},"","","","",{"$nulls":5},4262,"Ulaganja u računalne programe",null,"42","426"]
["",null,"",null,"",null,"","",{"$nulls":9},{"$f":"IF(D109=\"\",\"\",'OPĆI DIO'!$C$1)","v":""},"","","","",{"$nulls":5},4263,"Umjetnička, literarna i znanstvena djela",null,"42","426"]
["",null,"",null,"",null,"","",{"$nulls":9},{"$f":"IF(D110=\"\",\"\",'OPĆI DIO'!$C$1)","v":""},"","","","",{"$nulls":5},4264,"Ostala nematerijalna proizvedena imovina",null,"42","426"]
["",null,"",null,"",null,"","",{"$nulls":9},{"$f":"IF(D111=\"\",\"\",'OPĆI DIO'!$C$1)","v":""},"","","","",{"$nulls":5},4312,"Pohranjene knjige, umjetnička djela i slične vrijednosti",null,"43","431"]
["",null,"",null,"",null,"","",{"$nulls":9},{"$f":"IF(D112=\"\",\"\",'OPĆI DIO'!$C$1)","v":""},"","","","",{"$nulls":5},4411,"Strateške zalihe",null,"44","441"]
["",null,"",null,"",null,"","",{"$nulls":9},{"$f":"IF(D113=\"\",\"\",'OPĆI DIO'!$C$1)","v":""},"","","","",{"$nulls":5},4511,"Dodatna ulaganja na građevinskim objektima",null,"45","451"]
["",null,"",null,"",null,"","",{"$nulls":9},{"$f":"IF(D114=\"\",\"\",'OPĆI DIO'!$C$1)","v":""},"","","","",{"$nulls":5},4521,"Dodatna ulaganja na postrojenjima i opremi",null,"45","452"]
["",null,"",null,"",null,"","",{"$nulls":9},{"$f":"IF(D115=\"\",\"\",'OPĆI DIO'!$C$1)","v":""},"","","","",{"$nulls":5},4531,"Dodatna ulaganja na prijevoznim sredstvima",null,"45","453"]
["",null,"",null,"",null,"","",{"$nulls":9},{"$f":"IF(D116=\"\",\"\",'OPĆI DIO'!$C$1)","v":""},"","","","",{"$nulls":5},4541,"Dodatna ulaganja za ostalu nefinancijsku imovinu",null,"45","454"]
["",null,"",null,"",null,"","",{"$nulls":9},{"$f":"IF(D117=\"\",\"\",'OPĆI DIO'!$C$1)","v":""},"","","","",{"$nulls":5},5121,"Dani zajmovi neprofitnim organizacijama, građanima i kućanst",null,"51","512"]
["",null,"",null,"",null,"","",{"$nulls":9},{"$f":"IF(D118=\"\",\"\",'OPĆI DIO'!$C$1)","v":""},"","","","",{"$nulls":5},5443,"Otplata glavnice primljenih kredita od tuzemnih kreditnih in",null,"54","544"]
["",null,"",null,"",null,"","",{"$nulls":9},{"$f":"IF(D119=\"\",\"\",'OPĆI DIO'!$C$1)","v":""},"","","","",{"$nulls":5},5121,"Dani zajmovi neprofitnim organizacijama, građanima i kućanstvima u tuzemstvu",null,"51","512"]
["",null,"",null,"",null,"","",{"$nulls":9},{"$f":"IF(D120=\"\",\"\",'OPĆI DIO'!$C$1)","v":""},"","","","",{"$nulls":5},5122,"Dani zajmovi neprofitnim organizacijama, građanima i kućanstvima u inozemstvu",null,"51","512"]
["",null,"",null,"",null,"","",{"$nulls":9},{"$f":"IF(D121=\"\",\"\",'OPĆI DIO'!$C$1)","v":""},"","","","",{"$nulls":5},5141,"Dani zajmovi trgovačkim društvima u javnom sektoru",null,"51","514"]
["",null,"",null,"",null,"","",{"$nulls":9},{"$f":"IF(D122=\"\",\"\",'OPĆI DIO'!$C$1)","v":""},"","","","",{"$nulls":5},5181,"Izdaci za depozite u kreditnim i ostalim financijskim institucijama - tuzemni",null,"51","518"]
["",null,"",null,"",null,"","",{"$nulls":9},{"$f":"IF(D123=\"\",\"\",'OPĆI DIO'!$C$1)","v":""},"","","","",{"$nulls":5},5183,"Izdaci za jamčevne pologe ",null,"51","518"]
["",null,"",null,"",null,"","",{"$nulls":9},{"$f":"IF(D124=\"\",\"\",'OPĆI DIO'!$C$1)","v":""},"","","","",{"$nulls":5},5422,"Otplata glavnice primljenih kredita od kreditnih institucija u javnom sektoru",null,"54","542"]
["",null,"",null,"",null,"","",{"$nulls":9},{"$f":"IF(D125=\"\",\"\",'OPĆI DIO'!$C$1)","v":""},"","","","",{"$nulls":5},5431,"Otplata glavnice primljenih zajmova od trgovačkih društava u javnom sektoru",null,"54","543"]
["",null,"",null,"",null,"","",{"$nulls":9},{"$f":"IF(D126=\"\",\"\",'OPĆI DIO'!$C$1)","v":""},"","","","",{"$nulls":5},5443,"Otplata glavnice primljenih kredita od tuzemnih kreditnih institucija izvan javnog sektora",null,"54","544"]
["",null,"",null,"",null,"","",{"$nulls":9},{"$f":"IF(D127=\"\",\"\",'OPĆI DIO'!$C$1)","v":""},"","","","",{"$nulls":5},5445,"Otplata glavnice primljenih zajmova od ostalih tuzemnih financijskih institucija izvan javnog sektora",null,"54","544"]
["",null,"",null,"",null,"","",{"$nulls":9},{"$f":"IF(D128=\"\",\"\",'OPĆI DIO'!$C$1)","v":""},"","","","",{"$nulls":5},5453,"Otplata glavnice primljenih zajmova od tuzemnih trgovačkih društava izvan javnog sektora",null,"54","545"]
["",null,"",null,"",null,"","",{"$nulls":9},{"$f":"IF(D129=\"\",\"\",'OPĆI DIO'!$C$1)","v":""},"","","","",{"$nulls":5},5472,"Otplata glavnice primljenih zajmova od županijskih proračuna",null,"54","547"]
["",null,"",null,"",null,"","",{"$nulls":9},{"$f":"IF(D130=\"\",\"\",'OPĆI DIO'!$C$1)","v":""},"","","",""]
["",null,"",null,"",null,"","",{"$nulls":9},{"$f":"IF(D131=\"\",\"\",'OPĆI DIO'!$C$1)","v":""},"","","",""]
[{"$f":"IFERROR(VLOOKUP(B132,$X$6:$AA$34,4,FALSE),\"\")","v":""},null,{"$f":"IFERROR(VLOOKUP(B132,$X$6:$AA$34,2,FALSE),\"\")","v":""},null,{"$f":"IFERROR(VLOOKUP(D132,$AB$5:$AD$129,2,FALSE),\"\")","v":""},null,{"$f":"IFERROR(VLOOKUP(F132,$AH$6:$AI$1763,2,FALSE),\"\")","v":""},{"$f":"IFERROR(VLOOKUP(F132,$AH$6:$AK$1763,4,FALSE),\"\")","v":""},{"$nulls":9},{"$f":"IF(D132=\"\",\"\",'OPĆI DIO'!$C$1)","v":""},{"$f":"LEFT(D132,3)","v":""},{"$f":"LEFT(D132,2)","v":""},{"$f":"MID(H132,2,2)","v":""},{"$f":"LEFT(D132,1)","v":""}]
["",null,"",null,"",null,"","",{"$nulls":9},{"$f":"IF(D133=\"\",\"\",'OPĆI DIO'!$C$1)","v":""},"","","",""]
["",null,"",null,"",null,"","",{"$nulls":9},{"$f":"IF(D134=\"\",\"\",'OPĆI DIO'!$C$1)","v":""},"","","",""]
["",null,"",null,"",null,"","",{"$nulls":9},{"$f":"IF(D135=\"\",\"\",'OPĆI DIO'!$C$1)","v":""},"","","",""]
["",null,"",null,"",null,"","",{"$nulls":9},{"$f":"IF(D136=\"\",\"\",'OPĆI DIO'!$C$1)","v":""},"","","",""]
["",null,"",null,"",null,"","",{"$nulls":9},{"$f":"IF(D137=\"\",\"\",'OPĆI DIO'!$C$1)","v":""},"","","",""]
["",null,"",null,"",null,"","",{"$nulls":9},{"$f":"IF(D138=\"\",\"\",'OPĆI DIO'!$C$1)","v":""},"","","",""]
["",null,"",null,"",null,"","",{"$nulls":9},{"$f":"IF(D139=\"\",\"\",'OPĆI DIO'!$C$1)","v":""},"","","",""]
["",null,"",null,"",null,"","",{"$nulls":9},{"$f":"IF(D140=\"\",\"\",'OPĆI DIO'!$C$1)","v":""},"","","",""]
["",null,"",null,"",null,"","",{"$nulls":9},{"$f":"IF(D141=\"\",\"\",'OPĆI DIO'!$C$1)","v":""},"","","",""]
["",null,"",null,"",null,"","",{"$nulls":9},{"$f":"IF(D142=\"\",\"\",'OPĆI DIO'!$C$1)","v":""},"","","",""]
["",null,"",null,"",null,"","",{"$nulls":9},{"$f":"IF(D143=\"\",\"\",'OPĆI DIO'!$C$1)","v":""},"","","",""]
["",null,"",null,"",null,"","",{"$nulls":9},{"$f":"IF(D144=\"\",\"\",'OPĆI DIO'!$C$1)","v":""},"","","",""]
["",null,"",null,"",null,"","",{"$nulls":9},{"$f":"IF(D145=\"\",\"\",'OPĆI DIO'!$C$1)","v":""},"","","",""]
["",null,"",null,"",null,"","",{"$nulls":9},{"$f":"IF(D146=\"\",\"\",'OPĆI DIO'!$C$1)","v":""},"","","",""]
["",null,"",null,"",null,"","",{"$nulls":9},{"$f":"IF(D147=\"\",\"\",'OPĆI DIO'!$C$1)","v":""},"","","",""]
["",null,"",null,"",null,"","",{"$nulls":9},{"$f":"IF(D148=\"\",\"\",'OPĆI DIO'!$C$1)","v":""},"","","",""]
["",null,"",null,"",null,"","",{"$nulls":9},{"$f":"IF(D149=\"\",\"\",'OPĆI DIO'!$C$1)","v":""},"","","",""]
["",null,"",null,"",null,"","",{"$nulls":9},{"$f":"IF(D150=\"\",\"\",'OPĆI DIO'!$C$1)","v":""},"","","",""]
["",null,"",null,"",null,"","",{"$nulls":9},{"$f":"IF(D151=\"\",\"\",'OPĆI DIO'!$C$1)","v":""},"","","",""]
["",null,"",null,"",null,"","",{"$nulls":9},{"$f":"IF(D152=\"\",\"\",'OPĆI DIO'!$C$1)","v":""},"","","",""]
["",null,"",null,"",null,"","",{"$nulls":9},{"$f":"IF(D153=\"\",\"\",'OPĆI DIO'!$C$1)","v":""},"","","",""]
["",null,"",null,"",null,"","",{"$nulls":9},{"$f":"IF(D154=\"\",\"\",'OPĆI DIO'!$C$1)","v":""},"","","",""]
["",null,"",null,"",null,"","",{"$nulls":9},{"$f":"IF(D155=\"\",\"\",'OPĆI DIO'!$C$1)","v":""},"","","",""]
["",null,"",null,"",null,"","",{"$nulls":9},{"$f":"IF(D156=\"\",\"\",'OPĆI DIO'!$C$1)","v":""},"","","",""]
["",null,"",null,"",null,"","",{"$nulls":9},{"$f":"IF(D157=\"\",\"\",'OPĆI DIO'!$C$1)","v":""},"","","",""]
["",null,"",null,"",null,"","",{"$nulls":9},{"$f":"IF(D158=\"\",\"\",'OPĆI DIO'!$C$1)","v":""},"","","",""]
["",null,"",null,"",null,"","",{"$nulls":9},{"$f":"IF(D159=\"\",\"\",'OPĆI DIO'!$C$1)","v":""},"","","",""]
["",null,"",null,"",null,"","",{"$nulls":9},{"$f":"IF(D160=\"\",\"\",'OPĆI DIO'!$C$1)","v":""},"","","",""]
["",null,"",null,"",null,"","",{"$nulls":9},{"$f":"IF(D161=\"\",\"\",'OPĆI DIO'!$C$1)","v":""},"","","",""]
["",null,"",null,"",null,"","",{"$nulls":9},{"$f":"IF(D162=\"\",\"\",'OPĆI DIO'!$C$1)","v":""},"","","",""]
["",null,"",null,"",null,"","",{"$nulls":9},{"$f":"IF(D163=\"\",\"\",'OPĆI DIO'!$C$1)","v":""},"","","",""]
["",null,"",null,"",null,"","",{"$nulls":9},{"$f":"IF(D164=\"\",\"\",'OPĆI DIO'!$C$1)","v":""},"","","",""]
["",null,"",null,"",null,"","",{"$nulls":9},{"$f":"IF(D165=\"\",\"\",'OPĆI DIO'!$C$1)","v":""},"","","",""]
["",null,"",null,"",null,"","",{"$nulls":9},{"$f":"IF(D166=\"\",\"\",'OPĆI DIO'!$C$1)","v":""},"","","",""]
["",null,"",null,"",null,"","",{"$nulls":9},{"$f":"IF(D167=\"\",\"\",'OPĆI DIO'!$C$1)","v":""},"","","",""]
["",null,"",null,"",null,"","",{"$nulls":9},{"$f":"IF(D168=\"\",\"\",'OPĆI DIO'!$C$1)","v":""},"","","",""]
["",null,"",null,"",null,"","",{"$nulls":9},{"$f":"IF(D169=\"\",\"\",'OPĆI DIO'!$C$1)","v":""},"","","",""]
["",null,"",null,"",null,"","",{"$nulls":9},{"$f":"IF(D170=\"\",\"\",'OPĆI DIO'!$C$1)","v":""},"","","",""]
["",null,"",null,"",null,"","",{"$nulls":9},{"$f":"IF(D171=\"\",\"\",'OPĆI DIO'!$C$1)","v":""},"","","",""]
["",null,"",null,"",null,"","",{"$nulls":9},{"$f":"IF(D172=\"\",\"\",'OPĆI DIO'!$C$1)","v":""},"","","",""]
["",null,"",null,"",null,"","",{"$nulls":9},{"$f":"IF(D173=\"\",\"\",'OPĆI DIO'!$C$1)","v":""},"","","",""]
["",null,"",null,"",null,"","",{"$nulls":9},{"$f":"IF(D174=\"\",\"\",'OPĆI DIO'!$C$1)","v":""},"","","",""]
["",null,"",null,"",null,"","",{"$nulls":9},{"$f":"IF(D175=\"\",\"\",'OPĆI DIO'!$C$1)","v":""},"","","",""]
["",null,"",null,"",null,"","",{"$nulls":9},{"$f":"IF(D176=\"\",\"\",'OPĆI DIO'!$C$1)","v":""},"","","",""]
["",null,"",null,"",null,"","",{"$nulls":9},{"$f":"IF(D177=\"\",\"\",'OPĆI DIO'!$C$1)","v":""},"","","",""]
["",null,"",null,"",null,"","",{"$nulls":9},{"$f":"IF(D178=\"\",\"\",'OPĆI DIO'!$C$1)","v":""},"","","",""]
["",null,"",null,"",null,"","",{"$nulls":9},{"$f":"IF(D179=\"\",\"\",'OPĆI DIO'!$C$1)","v":""},"","","",""]
["",null,"",null,"",null,"","",{"$nulls":9},{"$f":"IF(D180=\"\",\"\",'OPĆI DIO'!$C$1)","v":""},"","","",""]
["",null,"",null,"",null,"","",{"$nulls":9},{"$f":"IF(D181=\"\",\"\",'OPĆI DIO'!$C$1)","v":""},"","","",""]
["",null,"",null,"",null,"","",{"$nulls":9},{"$f":"IF(D182=\"\",\"\",'OPĆI DIO'!$C$1)","v":""},"","","",""]
["",null,"",null,"",null,"","",{"$nulls":9},{"$f":"IF(D183=\"\",\"\",'OPĆI DIO'!$C$1)","v":""},"","","",""]
["",null,"",null,"",null,"","",{"$nulls":9},{"$f":"IF(D184=\"\",\"\",'OPĆI DIO'!$C$1)","v":""},"","","",""]
["",null,"",null,"",null,"","",{"$nulls":9},{"$f":"IF(D185=\"\",\"\",'OPĆI DIO'!$C$1)","v":""},"","","",""]
["",null,"",null,"",null,"","",{"$nulls":9},{"$f":"IF(D186=\"\",\"\",'OPĆI DIO'!$C$1)","v":""},"","","",""]
["",null,"",null,"",null,"","",{"$nulls":9},{"$f":"IF(D187=\"\",\"\",'OPĆI DIO'!$C$1)","v":""},"","","",""]
["",null,"",null,"",null,"","",{"$nulls":9},{"$f":"IF(D188=\"\",\"\",'OPĆI DIO'!$C$1)","v":""},"","","",""]
["",null,"",null,"",null,"","",{"$nulls":9},{"$f":"IF(D189=\"\",\"\",'OPĆI DIO'!$C$1)","v":""},"","","",""]
["",null,"",null,"",null,"","",{"$nulls":9},{"$f":"IF(D190=\"\",\"\",'OPĆI DIO'!$C$1)","v":""},"","","",""]
["",null,"",null,"",null,"","",{"$nulls":9},{"$f":"IF(D191=\"\",\"\",'OPĆI DIO'!$C$1)","v":""},"","","",""]
["",null,"",null,"",null,"","",{"$nulls":9},{"$f":"IF(D192=\"\",\"\",'OPĆI DIO'!$C$1)","v":""},"","","",""]
["",null,"",null,"",null,"","",{"$nulls":9},{"$f":"IF(D193=\"\",\"\",'OPĆI DIO'!$C$1)","v":""},"","","",""]
["",null,"",null,"",null,"","",{"$nulls":9},{"$f":"IF(D194=\"\",\"\",'OPĆI DIO'!$C$1)","v":""},"","","",""]
["",null,"",null,"",null,"","",{"$nulls":9},{"$f":"IF(D195=\"\",\"\",'OPĆI DIO'!$C$1)","v":""},"","","",""]
[{"$f":"IFERROR(VLOOKUP(B196,$X$6:$AA$34,4,FALSE),\"\")","v":""},null,{"$f":"IFERROR(VLOOKUP(B196,$X$6:$AA$34,2,FALSE),\"\")","v":""},null,{"$f":"IFERROR(VLOOKUP(D196,$AB$5:$AD$129,2,FALSE),\"\")","v":""},null,{"$f":"IFERROR(VLOOKUP(F196,$AH$6:$AI$1763,2,FALSE),\"\")","v":""},{"$f":"IFERROR(VLOOKUP(F196,$AH$6:$AK$1763,4,FALSE),\"\")","v":""},{"$nulls":9},{"$f":"IF(D196=\"\",\"\",'OPĆI DIO'!$C$1)","v":""},{"$f":"LEFT(D196,3)","v":""},{"$f":"LEFT(D196,2)","v":""},{"$f":"MID(H196,2,2)","v":""},{"$f":"LEFT(D196,1)","v":""}]
["",null,"",null,"",null,"","",{"$nulls":9},{"$f":"IF(D197=\"\",\"\",'OPĆI DIO'!$C$1)","v":""},"","","",""]
["",null,"",null,"",null,"","",{"$nulls":9},{"$f":"IF(D198=\"\",\"\",'OPĆI DIO'!$C$1)","v":""},"","","",""]
["",null,"",null,"",null,"","",{"$nulls":9},{"$f":"IF(D199=\"\",\"\",'OPĆI DIO'!$C$1)","v":""},"","","",""]
["",null,"",null,"",null,"","",{"$nulls":9},{"$f":"IF(D200=\"\",\"\",'OPĆI DIO'!$C$1)","v":""},"","","",""]
["",null,"",null,"",null,"","",{"$nulls":9},{"$f":"IF(D201=\"\",\"\",'OPĆI DIO'!$C$1)","v":""},"","","",""]
["",null,"",null,"",null,"","",{"$nulls":9},{"$f":"IF(D202=\"\",\"\",'OPĆI DIO'!$C$1)","v":""},"","","",""]
["",null,"",null,"",null,"","",{"$nulls":9},{"$f":"IF(D203=\"\",\"\",'OPĆI DIO'!$C$1)","v":""},"","","",""]
["",null,"",null,"",null,"","",{"$nulls":9},{"$f":"IF(D204=\"\",\"\",'OPĆI DIO'!$C$1)","v":""},"","","",""]
["",null,"",null,"",null,"","",{"$nulls":9},{"$f":"IF(D205=\"\",\"\",'OPĆI DIO'!$C$1)","v":""},"","","",""]
["",null,"",null,"",null,"","",{"$nulls":9},{"$f":"IF(D206=\"\",\"\",'OPĆI DIO'!$C$1)","v":""},"","","",""]
["",null,"",null,"",null,"","",{"$nulls":9},{"$f":"IF(D207=\"\",\"\",'OPĆI DIO'!$C$1)","v":""},"","","",""]
["",null,"",null,"",null,"","",{"$nulls":9},{"$f":"IF(D208=\"\",\"\",'OPĆI DIO'!$C$1)","v":""},"","","",""]
["",null,"",null,"",null,"","",{"$nulls":9},{"$f":"IF(D209=\"\",\"\",'OPĆI DIO'!$C$1)","v":""},"","","",""]
["",null,"",null,"",null,"","",{"$nulls":9},{"$f":"IF(D210=\"\",\"\",'OPĆI DIO'!$C$1)","v":""},"","","",""]
["",null,"",null,"",null,"","",{"$nulls":9},{"$f":"IF(D211=\"\",\"\",'OPĆI DIO'!$C$1)","v":""},"","","",""]
["",null,"",null,"",null,"","",{"$nulls":9},{"$f":"IF(D212=\"\",\"\",'OPĆI DIO'!$C$1)","v":""},"","","",""]
["",null,"",null,"",null,"","",{"$nulls":9},{"$f":"IF(D213=\"\",\"\",'OPĆI DIO'!$C$1)","v":""},"","","",""]
["",null,"",null,"",null,"","",{"$nulls":9},{"$f":"IF(D214=\"\",\"\",'OPĆI DIO'!$C$1)","v":""},"","","",""]
["",null,"",null,"",null,"","",{"$nulls":9},{"$f":"IF(D215=\"\",\"\",'OPĆI DIO'!$C$1)","v":""},"","","",""]
["",null,"",null,"",null,"","",{"$nulls":9},{"$f":"IF(D216=\"\",\"\",'OPĆI DIO'!$C$1)","v":""},"","","",""]
["",null,"",null,"",null,"","",{"$nulls":9},{"$f":"IF(D217=\"\",\"\",'OPĆI DIO'!$C$1)","v":""},"","","",""]
["",null,"",null,"",null,"","",{"$nulls":9},{"$f":"IF(D218=\"\",\"\",'OPĆI DIO'!$C$1)","v":""},"","","",""]
["",null,"",null,"",null,"","",{"$nulls":9},{"$f":"IF(D219=\"\",\"\",'OPĆI DIO'!$C$1)","v":""},"","","",""]
["",null,"",null,"",null,"","",{"$nulls":9},{"$f":"IF(D220=\"\",\"\",'OPĆI DIO'!$C$1)","v":""},"","","",""]
["",null,"",null,"",null,"","",{"$nulls":9},{"$f":"IF(D221=\"\",\"\",'OPĆI DIO'!$C$1)","v":""},"","","",""]
["",null,"",null,"",null,"","",{"$nulls":9},{"$f":"IF(D222=\"\",\"\",'OPĆI DIO'!$C$1)","v":""},"","","",""]
["",null,"",null,"",null,"","",{"$nulls":9},{"$f":"IF(D223=\"\",\"\",'OPĆI DIO'!$C$1)","v":""},"","","",""]
["",null,"",null,"",null,"","",{"$nulls":9},{"$f":"IF(D224=\"\",\"\",'OPĆI DIO'!$C$1)","v":""},"","","",""]
["",null,"",null,"",null,"","",{"$nulls":9},{"$f":"IF(D225=\"\",\"\",'OPĆI DIO'!$C$1)","v":""},"","","",""]
["",null,"",null,"",null,"","",{"$nulls":9},{"$f":"IF(D226=\"\",\"\",'OPĆI DIO'!$C$1)","v":""},"","","",""]
["",null,"",null,"",null,"","",{"$nulls":9},{"$f":"IF(D227=\"\",\"\",'OPĆI DIO'!$C$1)","v":""},"","","",""]
["",null,"",null,"",null,"","",{"$nulls":9},{"$f":"IF(D228=\"\",\"\",'OPĆI DIO'!$C$1)","v":""},"","","",""]
["",null,"",null,"",null,"","",{"$nulls":9},{"$f":"IF(D229=\"\",\"\",'OPĆI DIO'!$C$1)","v":""},"","","",""]
["",null,"",null,"",null,"","",{"$nulls":9},{"$f":"IF(D230=\"\",\"\",'OPĆI DIO'!$C$1)","v":""},"","","",""]
["",null,"",null,"",null,"","",{"$nulls":9},{"$f":"IF(D231=\"\",\"\",'OPĆI DIO'!$C$1)","v":""},"","","",""]
["",null,"",null,"",null,"","",{"$nulls":9},{"$f":"IF(D232=\"\",\"\",'OPĆI DIO'!$C$1)","v":""},"","","",""]
["",null,"",null,"",null,"","",{"$nulls":9},{"$f":"IF(D233=\"\",\"\",'OPĆI DIO'!$C$1)","v":""},"","","",""]
["",null,"",null,"",null,"","",{"$nulls":9},{"$f":"IF(D234=\"\",\"\",'OPĆI DIO'!$C$1)","v":""},"","","",""]
["",null,"",null,"",null,"","",{"$nulls":9},{"$f":"IF(D235=\"\",\"\",'OPĆI DIO'!$C$1)","v":""},"","","",""]
["",null,"",null,"",null,"","",{"$nulls":9},{"$f":"IF(D236=\"\",\"\",'OPĆI DIO'!$C$1)","v":""},"","","",""]
["",null,"",null,"",null,"","",{"$nulls":9},{"$f":"IF(D237=\"\",\"\",'OPĆI DIO'!$C$1)","v":""},"","","",""]
["",null,"",null,"",null,"","",{"$nulls":9},{"$f":"IF(D238=\"\",\"\",'OPĆI DIO'!$C$1)","v":""},"","","",""]
["",null,"",null,"",null,"","",{"$nulls":9},{"$f":"IF(D239=\"\",\"\",'OPĆI DIO'!$C$1)","v":""},"","","",""]
["",null,"",null,"",null,"","",{"$nulls":9},{"$f":"IF(D240=\"\",\"\",'OPĆI DIO'!$C$1)","v":""},"","","",""]
["",null,"",null,"",null,"","",{"$nulls":9},{"$f":"IF(D241=\"\",\"\",'OPĆI DIO'!$C$1)","v":""},"","","",""]
["",null,"",null,"",null,"","",{"$nulls":9},{"$f":"IF(D242=\"\",\"\",'OPĆI DIO'!$C$1)","v":""},"","","",""]
["",null,"",null,"",null,"","",{"$nulls":9},{"$f":"IF(D243=\"\",\"\",'OPĆI DIO'!$C$1)","v":""},"","","",""]
["",null,"",null,"",null,"","",{"$nulls":9},{"$f":"IF(D244=\"\",\"\",'OPĆI DIO'!$C$1)","v":""},"","","",""]
["",null,"",null,"",null,"","",{"$nulls":9},{"$f":"IF(D245=\"\",\"\",'OPĆI DIO'!$C$1)","v":""},"","","",""]
["",null,"",null,"",null,"","",{"$nulls":9},{"$f":"IF(D246=\"\",\"\",'OPĆI DIO'!$C$1)","v":""},"","","",""]
["",null,"",null,"",null,"","",{"$nulls":9},{"$f":"IF(D247=\"\",\"\",'OPĆI DIO'!$C$1)","v":""},"","","",""]
["",null,"",null,"",null,"","",{"$nulls":9},{"$f":"IF(D248=\"\",\"\",'OPĆI DIO'!$C$1)","v":""},"","","",""]
["",null,"",null,"",null,"","",{"$nulls":9},{"$f":"IF(D249=\"\",\"\",'OPĆI DIO'!$C$1)","v":""},"","","",""]
["",null,"",null,"",null,"","",{"$nulls":9},{"$f":"IF(D250=\"\",\"\",'OPĆI DIO'!$C$1)","v":""},"","","",""]
["",null,"",null,"",null,"","",{"$nulls":9},{"$f":"IF(D251=\"\",\"\",'OPĆI DIO'!$C$1)","v":""},"","","",""]
["",null,"",null,"",null,"","",{"$nulls":9},{"$f":"IF(D252=\"\",\"\",'OPĆI DIO'!$C$1)","v":""},"","","",""]
["",null,"",null,"",null,"","",{"$nulls":9},{"$f":"IF(D253=\"\",\"\",'OPĆI DIO'!$C$1)","v":""},"","","",""]
["",null,"",null,"",null,"","",{"$nulls":9},{"$f":"IF(D254=\"\",\"\",'OPĆI DIO'!$C$1)","v":""},"","","",""]
["",null,"",null,"",null,"","",{"$nulls":9},{"$f":"IF(D255=\"\",\"\",'OPĆI DIO'!$C$1)","v":""},"","","",""]
["",null,"",null,"",null,"","",{"$nulls":9},{"$f":"IF(D256=\"\",\"\",'OPĆI DIO'!$C$1)","v":""},"","","",""]
["",null,"",null,"",null,"","",{"$nulls":9},{"$f":"IF(D257=\"\",\"\",'OPĆI DIO'!$C$1)","v":""},"","","",""]
["",null,"",null,"",null,"","",{"$nulls":9},{"$f":"IF(D258=\"\",\"\",'OPĆI DIO'!$C$1)","v":""},"","","",""]
["",null,"",null,"",null,"","",{"$nulls":9},{"$f":"IF(D259=\"\",\"\",'OPĆI DIO'!$C$1)","v":""},"","","",""]
[{"$f":"IFERROR(VLOOKUP(B260,$X$6:$AA$34,4,FALSE),\"\")","v":""},null,{"$f":"IFERROR(VLOOKUP(B260,$X$6:$AA$34,2,FALSE),\"\")","v":""},null,{"$f":"IFERROR(VLOOKUP(D260,$AB$5:$AD$129,2,FALSE),\"\")","v":""},null,{"$f":"IFERROR(VLOOKUP(F260,$AH$6:$AI$1763,2,FALSE),\"\")","v":""},{"$f":"IFERROR(VLOOKUP(F260,$AH$6:$AK$1763,4,FALSE),\"\")","v":""},{"$nulls":9},{"$f":"IF(D260=\"\",\"\",'OPĆI DIO'!$C$1)","v":""},{"$f":"LEFT(D260,3)","v":""},{"$f":"LEFT(D260,2)","v":""},{"$f":"MID(H260,2,2)","v":""},{"$f":"LEFT(D260,1)","v":""}]
["",null,"",null,"",null,"","",{"$nulls":9},{"$f":"IF(D261=\"\",\"\",'OPĆI DIO'!$C$1)","v":""},"","","",""]
["",null,"",null,"",null,"","",{"$nulls":9},{"$f":"IF(D262=\"\",\"\",'OPĆI DIO'!$C$1)","v":""},"","","",""]
["",null,"",null,"",null,"","",{"$nulls":9},{"$f":"IF(D263=\"\",\"\",'OPĆI DIO'!$C$1)","v":""},"","","",""]
["",null,"",null,"",null,"","",{"$nulls":9},{"$f":"IF(D264=\"\",\"\",'OPĆI DIO'!$C$1)","v":""},"","","",""]
["",null,"",null,"",null,"","",{"$nulls":9},{"$f":"IF(D265=\"\",\"\",'OPĆI DIO'!$C$1)","v":""},"","","",""]
["",null,"",null,"",null,"","",{"$nulls":9},{"$f":"IF(D266=\"\",\"\",'OPĆI DIO'!$C$1)","v":""},"","","",""]
["",null,"",null,"",null,"","",{"$nulls":9},{"$f":"IF(D267=\"\",\"\",'OPĆI DIO'!$C$1)","v":""},"","","",""]
["",null,"",null,"",null,"","",{"$nulls":9},{"$f":"IF(D268=\"\",\"\",'OPĆI DIO'!$C$1)","v":""},"","","",""]
["",null,"",null,"",null,"","",{"$nulls":9},{"$f":"IF(D269=\"\",\"\",'OPĆI DIO'!$C$1)","v":""},"","","",""]
["",null,"",null,"",null,"","",{"$nulls":9},{"$f":"IF(D270=\"\",\"\",'OPĆI DIO'!$C$1)","v":""},"","","",""]
["",null,"",null,"",null,"","",{"$nulls":9},{"$f":"IF(D271=\"\",\"\",'OPĆI DIO'!$C$1)","v":""},"","","",""]
["",null,"",null,"",null,"","",{"$nulls":9},{"$f":"IF(D272=\"\",\"\",'OPĆI DIO'!$C$1)","v":""},"","","",""]
["",null,"",null,"",null,"","",{"$nulls":9},{"$f":"IF(D273=\"\",\"\",'OPĆI DIO'!$C$1)","v":""},"","","",""]
["",null,"",null,"",null,"","",{"$nulls":9},{"$f":"IF(D274=\"\",\"\",'OPĆI DIO'!$C$1)","v":""},"","","",""]
["",null,"",null,"",null,"","",{"$nulls":9},{"$f":"IF(D275=\"\",\"\",'OPĆI DIO'!$C$1)","v":""},"","","",""]
["",null,"",null,"",null,"","",{"$nulls":9},{"$f":"IF(D276=\"\",\"\",'OPĆI DIO'!$C$1)","v":""},"","","",""]
["",null,"",null,"",null,"","",{"$nulls":9},{"$f":"IF(D277=\"\",\"\",'OPĆI DIO'!$C$1)","v":""},"","","",""]
["",null,"",null,"",null,"","",{"$nulls":9},{"$f":"IF(D278=\"\",\"\",'OPĆI DIO'!$C$1)","v":""},"","","",""]
["",null,"",null,"",null,"","",{"$nulls":9},{"$f":"IF(D279=\"\",\"\",'OPĆI DIO'!$C$1)","v":""},"","","",""]
["",null,"",null,"",null,"","",{"$nulls":9},{"$f":"IF(D280=\"\",\"\",'OPĆI DIO'!$C$1)","v":""},"","","",""]
["",null,"",null,"",null,"","",{"$nulls":9},{"$f":"IF(D281=\"\",\"\",'OPĆI DIO'!$C$1)","v":""},"","","",""]
["",null,"",null,"",null,"","",{"$nulls":9},{"$f":"IF(D282=\"\",\"\",'OPĆI DIO'!$C$1)","v":""},"","","",""]
["",null,"",null,"",null,"","",{"$nulls":9},{"$f":"IF(D283=\"\",\"\",'OPĆI DIO'!$C$1)","v":""},"","","",""]
["",null,"",null,"",null,"","",{"$nulls":9},{"$f":"IF(D284=\"\",\"\",'OPĆI DIO'!$C$1)","v":""},"","","",""]
["",null,"",null,"",null,"","",{"$nulls":9},{"$f":"IF(D285=\"\",\"\",'OPĆI DIO'!$C$1)","v":""},"","","",""]
["",null,"",null,"",null,"","",{"$nulls":9},{"$f":"IF(D286=\"\",\"\",'OPĆI DIO'!$C$1)","v":""},"","","",""]
["",null,"",null,"",null,"","",{"$nulls":9},{"$f":"IF(D287=\"\",\"\",'OPĆI DIO'!$C$1)","v":""},"","","",""]
["",null,"",null,"",null,"","",{"$nulls":9},{"$f":"IF(D288=\"\",\"\",'OPĆI DIO'!$C$1)","v":""},"","","",""]
["",null,"",null,"",null,"","",{"$nulls":9},{"$f":"IF(D289=\"\",\"\",'OPĆI DIO'!$C$1)","v":""},"","","",""]
["",null,"",null,"",null,"","",{"$nulls":9},{"$f":"IF(D290=\"\",\"\",'OPĆI DIO'!$C$1)","v":""},"","","",""]
["",null,"",null,"",null,"","",{"$nulls":9},{"$f":"IF(D291=\"\",\"\",'OPĆI DIO'!$C$1)","v":""},"","","",""]
["",null,"",null,"",null,"","",{"$nulls":9},{"$f":"IF(D292=\"\",\"\",'OPĆI DIO'!$C$1)","v":""},"","","",""]
["",null,"",null,"",null,"","",{"$nulls":9},{"$f":"IF(D293=\"\",\"\",'OPĆI DIO'!$C$1)","v":""},"","","",""]
["",null,"",null,"",null,"","",{"$nulls":9},{"$f":"IF(D294=\"\",\"\",'OPĆI DIO'!$C$1)","v":""},"","","",""]
["",null,"",null,"",null,"","",{"$nulls":9},{"$f":"IF(D295=\"\",\"\",'OPĆI DIO'!$C$1)","v":""},"","","",""]
["",null,"",null,"",null,"","",{"$nulls":9},{"$f":"IF(D296=\"\",\"\",'OPĆI DIO'!$C$1)","v":""},"","","",""]
["",null,"",null,"",null,"","",{"$nulls":9},{"$f":"IF(D297=\"\",\"\",'OPĆI DIO'!$C$1)","v":""},"","","",""]
["",null,"",null,"",null,"","",{"$nulls":9},{"$f":"IF(D298=\"\",\"\",'OPĆI DIO'!$C$1)","v":""},"","","",""]
["",null,"",null,"",null,"","",{"$nulls":9},{"$f":"IF(D299=\"\",\"\",'OPĆI DIO'!$C$1)","v":""},"","","",""]
["",null,"",null,"",null,"","",{"$nulls":9},{"$f":"IF(D300=\"\",\"\",'OPĆI DIO'!$C$1)","v":""},"","","",""]
["",null,"",null,"",null,"","",{"$nulls":9},{"$f":"IF(D301=\"\",\"\",'OPĆI DIO'!$C$1)","v":""},"","","",""]
["",null,"",null,"",null,"","",{"$nulls":9},{"$f":"IF(D302=\"\",\"\",'OPĆI DIO'!$C$1)","v":""},"","","",""]
["",null,"",null,"",null,"","",{"$nulls":9},{"$f":"IF(D303=\"\",\"\",'OPĆI DIO'!$C$1)","v":""},"","","",""]
["",null,"",null,"",null,"","",{"$nulls":9},{"$f":"IF(D304=\"\",\"\",'OPĆI DIO'!$C$1)","v":""},"","","",""]
["",null,"",null,"",null,"","",{"$nulls":9},{"$f":"IF(D305=\"\",\"\",'OPĆI DIO'!$C$1)","v":""},"","","",""]
["",null,"",null,"",null,"","",{"$nulls":9},{"$f":"IF(D306=\"\",\"\",'OPĆI DIO'!$C$1)","v":""},"","","",""]
["",null,"",null,"",null,"","",{"$nulls":9},{"$f":"IF(D307=\"\",\"\",'OPĆI DIO'!$C$1)","v":""},"","","",""]
["",null,"",null,"",null,"","",{"$nulls":9},{"$f":"IF(D308=\"\",\"\",'OPĆI DIO'!$C$1)","v":""},"","","",""]
["",null,"",null,"",null,"","",{"$nulls":9},{"$f":"IF(D309=\"\",\"\",'OPĆI DIO'!$C$1)","v":""},"","","",""]
["",null,"",null,"",null,"","",{"$nulls":9},{"$f":"IF(D310=\"\",\"\",'OPĆI DIO'!$C$1)","v":""},"","","",""]
["",null,"",null,"",null,"","",{"$nulls":9},{"$f":"IF(D311=\"\",\"\",'OPĆI DIO'!$C$1)","v":""},"","","",""]
["",null,"",null,"",null,"","",{"$nulls":9},{"$f":"IF(D312=\"\",\"\",'OPĆI DIO'!$C$1)","v":""},"","","",""]
["",null,"",null,"",null,"","",{"$nulls":9},{"$f":"IF(D313=\"\",\"\",'OPĆI DIO'!$C$1)","v":""},"","","",""]
["",null,"",null,"",null,"","",{"$nulls":9},{"$f":"IF(D314=\"\",\"\",'OPĆI DIO'!$C$1)","v":""},"","","",""]
["",null,"",null,"",null,"","",{"$nulls":9},{"$f":"IF(D315=\"\",\"\",'OPĆI DIO'!$C$1)","v":""},"","","",""]
["",null,"",null,"",null,"","",{"$nulls":9},{"$f":"IF(D316=\"\",\"\",'OPĆI DIO'!$C$1)","v":""},"","","",""]
["",null,"",null,"",null,"","",{"$nulls":9},{"$f":"IF(D317=\"\",\"\",'OPĆI DIO'!$C$1)","v":""},"","","",""]
["",null,"",null,"",null,"","",{"$nulls":9},{"$f":"IF(D318=\"\",\"\",'OPĆI DIO'!$C$1)","v":""},"","","",""]
["",null,"",null,"",null,"","",{"$nulls":9},{"$f":"IF(D319=\"\",\"\",'OPĆI DIO'!$C$1)","v":""},"","","",""]
["",null,"",null,"",null,"","",{"$nulls":9},{"$f":"IF(D320=\"\",\"\",'OPĆI DIO'!$C$1)","v":""},"","","",""]
["",null,"",null,"",null,"","",{"$nulls":9},{"$f":"IF(D321=\"\",\"\",'OPĆI DIO'!$C$1)","v":""},"","","",""]
["",null,"",null,"",null,"","",{"$nulls":9},{"$f":"IF(D322=\"\",\"\",'OPĆI DIO'!$C$1)","v":""},"","","",""]
["",null,"",null,"",null,"","",{"$nulls":9},{"$f":"IF(D323=\"\",\"\",'OPĆI DIO'!$C$1)","v":""},"","","",""]
[{"$f":"IFERROR(VLOOKUP(B324,$X$6:$AA$34,4,FALSE),\"\")","v":""},null,{"$f":"IFERROR(VLOOKUP(B324,$X$6:$AA$34,2,FALSE),\"\")","v":""},null,{"$f":"IFERROR(VLOOKUP(D324,$AB$5:$AD$129,2,FALSE),\"\")","v":""},null,{"$f":"IFERROR(VLOOKUP(F324,$AH$6:$AI$1763,2,FALSE),\"\")","v":""},{"$f":"IFERROR(VLOOKUP(F324,$AH$6:$AK$1763,4,FALSE),\"\")","v":""},{"$nulls":9},{"$f":"IF(D324=\"\",\"\",'OPĆI DIO'!$C$1)","v":""},{"$f":"LEFT(D324,3)","v":""},{"$f":"LEFT(D324,2)","v":""},{"$f":"MID(H324,2,2)","v":""},{"$f":"LEFT(D324,1)","v":""}]
["",null,"",null,"",null,"","",{"$nulls":9},{"$f":"IF(D325=\"\",\"\",'OPĆI DIO'!$C$1)","v":""},"","","",""]
["",null,"",null,"",null,"","",{"$nulls":9},{"$f":"IF(D326=\"\",\"\",'OPĆI DIO'!$C$1)","v":""},"","","",""]
["",null,"",null,"",null,"","",{"$nulls":9},{"$f":"IF(D327=\"\",\"\",'OPĆI DIO'!$C$1)","v":""},"","","",""]
["",null,"",null,"",null,"","",{"$nulls":9},{"$f":"IF(D328=\"\",\"\",'OPĆI DIO'!$C$1)","v":""},"","","",""]
["",null,"",null,"",null,"","",{"$nulls":9},{"$f":"IF(D329=\"\",\"\",'OPĆI DIO'!$C$1)","v":""},"","","",""]
["",null,"",null,"",null,"","",{"$nulls":9},{"$f":"IF(D330=\"\",\"\",'OPĆI DIO'!$C$1)","v":""},"","","",""]
["",null,"",null,"",null,"","",{"$nulls":9},{"$f":"IF(D331=\"\",\"\",'OPĆI DIO'!$C$1)","v":""},"","","",""]
["",null,"",null,"",null,"","",{"$nulls":9},{"$f":"IF(D332=\"\",\"\",'OPĆI DIO'!$C$1)","v":""},"","","",""]
["",null,"",null,"",null,"","",{"$nulls":9},{"$f":"IF(D333=\"\",\"\",'OPĆI DIO'!$C$1)","v":""},"","","",""]
["",null,"",null,"",null,"","",{"$nulls":9},{"$f":"IF(D334=\"\",\"\",'OPĆI DIO'!$C$1)","v":""},"","","",""]
["",null,"",null,"",null,"","",{"$nulls":9},{"$f":"IF(D335=\"\",\"\",'OPĆI DIO'!$C$1)","v":""},"","","",""]
["",null,"",null,"",null,"","",{"$nulls":9},{"$f":"IF(D336=\"\",\"\",'OPĆI DIO'!$C$1)","v":""},"","","",""]
["",null,"",null,"",null,"","",{"$nulls":9},{"$f":"IF(D337=\"\",\"\",'OPĆI DIO'!$C$1)","v":""},"","","",""]
["",null,"",null,"",null,"","",{"$nulls":9},{"$f":"IF(D338=\"\",\"\",'OPĆI DIO'!$C$1)","v":""},"","","",""]
["",null,"",null,"",null,"","",{"$nulls":9},{"$f":"IF(D339=\"\",\"\",'OPĆI DIO'!$C$1)","v":""},"","","",""]
["",null,"",null,"",null,"","",{"$nulls":9},{"$f":"IF(D340=\"\",\"\",'OPĆI DIO'!$C$1)","v":""},"","","",""]
["",null,"",null,"",null,"","",{"$nulls":9},{"$f":"IF(D341=\"\",\"\",'OPĆI DIO'!$C$1)","v":""},"","","",""]
["",null,"",null,"",null,"","",{"$nulls":9},{"$f":"IF(D342=\"\",\"\",'OPĆI DIO'!$C$1)","v":""},"","","",""]
["",null,"",null,"",null,"","",{"$nulls":9},{"$f":"IF(D343=\"\",\"\",'OPĆI DIO'!$C$1)","v":""},"","","",""]
["",null,"",null,"",null,"","",{"$nulls":9},{"$f":"IF(D344=\"\",\"\",'OPĆI DIO'!$C$1)","v":""},"","","",""]
["",null,"",null,"",null,"","",{"$nulls":9},{"$f":"IF(D345=\"\",\"\",'OPĆI DIO'!$C$1)","v":""},"","","",""]
["",null,"",null,"",null,"","",{"$nulls":9},{"$f":"IF(D346=\"\",\"\",'OPĆI DIO'!$C$1)","v":""},"","","",""]
["",null,"",null,"",null,"","",{"$nulls":9},{"$f":"IF(D347=\"\",\"\",'OPĆI DIO'!$C$1)","v":""},"","","",""]
["",null,"",null,"",null,"","",{"$nulls":9},{"$f":"IF(D348=\"\",\"\",'OPĆI DIO'!$C$1)","v":""},"","","",""]
["",null,"",null,"",null,"","",{"$nulls":9},{"$f":"IF(D349=\"\",\"\",'OPĆI DIO'!$C$1)","v":""},"","","",""]
["",null,"",null,"",null,"","",{"$nulls":9},{"$f":"IF(D350=\"\",\"\",'OPĆI DIO'!$C$1)","v":""},"","","",""]
["",null,"",null,"",null,"","",{"$nulls":9},{"$f":"IF(D351=\"\",\"\",'OPĆI DIO'!$C$1)","v":""},"","","",""]
["",null,"",null,"",null,"","",{"$nulls":9},{"$f":"IF(D352=\"\",\"\",'OPĆI DIO'!$C$1)","v":""},"","","",""]
["",null,"",null,"",null,"","",{"$nulls":9},{"$f":"IF(D353=\"\",\"\",'OPĆI DIO'!$C$1)","v":""},"","","",""]
["",null,"",null,"",null,"","",{"$nulls":9},{"$f":"IF(D354=\"\",\"\",'OPĆI DIO'!$C$1)","v":""},"","","",""]
["",null,"",null,"",null,"","",{"$nulls":9},{"$f":"IF(D355=\"\",\"\",'OPĆI DIO'!$C$1)","v":""},"","","",""]
["",null,"",null,"",null,"","",{"$nulls":9},{"$f":"IF(D356=\"\",\"\",'OPĆI DIO'!$C$1)","v":""},"","","",""]
["",null,"",null,"",null,"","",{"$nulls":9},{"$f":"IF(D357=\"\",\"\",'OPĆI DIO'!$C$1)","v":""},"","","",""]
["",null,"",null,"",null,"","",{"$nulls":9},{"$f":"IF(D358=\"\",\"\",'OPĆI DIO'!$C$1)","v":""},"","","",""]
["",null,"",null,"",null,"","",{"$nulls":9},{"$f":"IF(D359=\"\",\"\",'OPĆI DIO'!$C$1)","v":""},"","","",""]
["",null,"",null,"",null,"","",{"$nulls":9},{"$f":"IF(D360=\"\",\"\",'OPĆI DIO'!$C$1)","v":""},"","","",""]
["",null,"",null,"",null,"","",{"$nulls":9},{"$f":"IF(D361=\"\",\"\",'OPĆI DIO'!$C$1)","v":""},"","","",""]
["",null,"",null,"",null,"","",{"$nulls":9},{"$f":"IF(D362=\"\",\"\",'OPĆI DIO'!$C$1)","v":""},"","","",""]
["",null,"",null,"",null,"","",{"$nulls":9},{"$f":"IF(D363=\"\",\"\",'OPĆI DIO'!$C$1)","v":""},"","","",""]
["",null,"",null,"",null,"","",{"$nulls":9},{"$f":"IF(D364=\"\",\"\",'OPĆI DIO'!$C$1)","v":""},"","","",""]
["",null,"",null,"",null,"","",{"$nulls":9},{"$f":"IF(D365=\"\",\"\",'OPĆI DIO'!$C$1)","v":""},"","","",""]
["",null,"",null,"",null,"","",{"$nulls":9},{"$f":"IF(D366=\"\",\"\",'OPĆI DIO'!$C$1)","v":""},"","","",""]
["",null,"",null,"",null,"","",{"$nulls":9},{"$f":"IF(D367=\"\",\"\",'OPĆI DIO'!$C$1)","v":""},"","","",""]
["",null,"",null,"",null,"","",{"$nulls":9},{"$f":"IF(D368=\"\",\"\",'OPĆI DIO'!$C$1)","v":""},"","","",""]
["",null,"",null,"",null,"","",{"$nulls":9},{"$f":"IF(D369=\"\",\"\",'OPĆI DIO'!$C$1)","v":""},"","","",""]
["",null,"",null,"",null,"","",{"$nulls":9},{"$f":"IF(D370=\"\",\"\",'OPĆI DIO'!$C$1)","v":""},"","","",""]
["",null,"",null,"",null,"","",{"$nulls":9},{"$f":"IF(D371=\"\",\"\",'OPĆI DIO'!$C$1)","v":""},"","","",""]
["",null,"",null,"",null,"","",{"$nulls":9},{"$f":"IF(D372=\"\",\"\",'OPĆI DIO'!$C$1)","v":""},"","","",""]
["",null,"",null,"",null,"","",{"$nulls":9},{"$f":"IF(D373=\"\",\"\",'OPĆI DIO'!$C$1)","v":""},"","","",""]
["",null,"",null,"",null,"","",{"$nulls":9},{"$f":"IF(D374=\"\",\"\",'OPĆI DIO'!$C$1)","v":""},"","","",""]
["",null,"",null,"",null,"","",{"$nulls":9},{"$f":"IF(D375=\"\",\"\",'OPĆI DIO'!$C$1)","v":""},"","","",""]
["",null,"",null,"",null,"","",{"$nulls":9},{"$f":"IF(D376=\"\",\"\",'OPĆI DIO'!$C$1)","v":""},"","","",""]
["",null,"",null,"",null,"","",{"$nulls":9},{"$f":"IF(D377=\"\",\"\",'OPĆI DIO'!$C$1)","v":""},"","","",""]
["",null,"",null,"",null,"","",{"$nulls":9},{"$f":"IF(D378=\"\",\"\",'OPĆI DIO'!$C$1)","v":""},"","","",""]
["",null,"",null,"",null,"","",{"$nulls":9},{"$f":"IF(D379=\"\",\"\",'OPĆI DIO'!$C$1)","v":""},"","","",""]
["",null,"",null,"",null,"","",{"$nulls":9},{"$f":"IF(D380=\"\",\"\",'OPĆI DIO'!$C$1)","v":""},"","","",""]
["",null,"",null,"",null,"","",{"$nulls":9},{"$f":"IF(D381=\"\",\"\",'OPĆI DIO'!$C$1)","v":""},"","","",""]
["",null,"",null,"",null,"","",{"$nulls":9},{"$f":"IF(D382=\"\",\"\",'OPĆI DIO'!$C$1)","v":""},"","","",""]
["",null,"",null,"",null,"","",{"$nulls":9},{"$f":"IF(D383=\"\",\"\",'OPĆI DIO'!$C$1)","v":""},"","","",""]
["",null,"",null,"",null,"","",{"$nulls":9},{"$f":"IF(D384=\"\",\"\",'OPĆI DIO'!$C$1)","v":""},"","","",""]
["",null,"",null,"",null,"","",{"$nulls":9},{"$f":"IF(D385=\"\",\"\",'OPĆI DIO'!$C$1)","v":""},"","","",""]
["",null,"",null,"",null,"","",{"$nulls":9},{"$f":"IF(D386=\"\",\"\",'OPĆI DIO'!$C$1)","v":""},"","","",""]
["",null,"",null,"",null,"","",{"$nulls":9},{"$f":"IF(D387=\"\",\"\",'OPĆI DIO'!$C$1)","v":""},"","","",""]
[{"$f":"IFERROR(VLOOKUP(B388,$X$6:$AA$34,4,FALSE),\"\")","v":""},null,{"$f":"IFERROR(VLOOKUP(B388,$X$6:$AA$34,2,FALSE),\"\")","v":""},null,{"$f":"IFERROR(VLOOKUP(D388,$AB$5:$AD$129,2,FALSE),\"\")","v":""},null,{"$f":"IFERROR(VLOOKUP(F388,$AH$6:$AI$1763,2,FALSE),\"\")","v":""},{"$f":"IFERROR(VLOOKUP(F388,$AH$6:$AK$1763,4,FALSE),\"\")","v":""},{"$nulls":9},{"$f":"IF(D388=\"\",\"\",'OPĆI DIO'!$C$1)","v":""},{"$f":"LEFT(D388,3)","v":""},{"$f":"LEFT(D388,2)","v":""},{"$f":"MID(H388,2,2)","v":""},{"$f":"LEFT(D388,1)","v":""}]
["",null,"",null,"",null,"","",{"$nulls":9},{"$f":"IF(D389=\"\",\"\",'OPĆI DIO'!$C$1)","v":""},"","","",""]
["",null,"",null,"",null,"","",{"$nulls":9},{"$f":"IF(D390=\"\",\"\",'OPĆI DIO'!$C$1)","v":""},"","","",""]
["",null,"",null,"",null,"","",{"$nulls":9},{"$f":"IF(D391=\"\",\"\",'OPĆI DIO'!$C$1)","v":""},"","","",""]
["",null,"",null,"",null,"","",{"$nulls":9},{"$f":"IF(D392=\"\",\"\",'OPĆI DIO'!$C$1)","v":""},"","","",""]
["",null,"",null,"",null,"","",{"$nulls":9},{"$f":"IF(D393=\"\",\"\",'OPĆI DIO'!$C$1)","v":""},"","","",""]
["",null,"",null,"",null,"","",{"$nulls":9},{"$f":"IF(D394=\"\",\"\",'OPĆI DIO'!$C$1)","v":""},"","","",""]
["",null,"",null,"",null,"","",{"$nulls":9},{"$f":"IF(D395=\"\",\"\",'OPĆI DIO'!$C$1)","v":""},"","","",""]
["",null,"",null,"",null,"","",{"$nulls":9},{"$f":"IF(D396=\"\",\"\",'OPĆI DIO'!$C$1)","v":""},"","","",""]
["",null,"",null,"",null,"","",{"$nulls":9},{"$f":"IF(D397=\"\",\"\",'OPĆI DIO'!$C$1)","v":""},"","","",""]
["",null,"",null,"",null,"","",{"$nulls":9},{"$f":"IF(D398=\"\",\"\",'OPĆI DIO'!$C$1)","v":""},"","","",""]
["",null,"",null,"",null,"","",{"$nulls":9},{"$f":"IF(D399=\"\",\"\",'OPĆI DIO'!$C$1)","v":""},"","","",""]
["",null,"",null,"",null,"","",{"$nulls":9},{"$f":"IF(D400=\"\",\"\",'OPĆI DIO'!$C$1)","v":""},"","","",""]
["",null,"",null,"",null,"","",{"$nulls":9},{"$f":"IF(D401=\"\",\"\",'OPĆI DIO'!$C$1)","v":""},"","","",""]
["",null,"",null,"",null,"","",{"$nulls":9},{"$f":"IF(D402=\"\",\"\",'OPĆI DIO'!$C$1)","v":""},"","","",""]
["",null,"",null,"",null,"","",{"$nulls":9},{"$f":"IF(D403=\"\",\"\",'OPĆI DIO'!$C$1)","v":""},"","","",""]
["",null,"",null,"",null,"","",{"$nulls":9},{"$f":"IF(D404=\"\",\"\",'OPĆI DIO'!$C$1)","v":""},"","","",""]
["",null,"",null,"",null,"","",{"$nulls":9},{"$f":"IF(D405=\"\",\"\",'OPĆI DIO'!$C$1)","v":""},"","","",""]
["",null,"",null,"",null,"","",{"$nulls":9},{"$f":"IF(D406=\"\",\"\",'OPĆI DIO'!$C$1)","v":""},"","","",""]
["",null,"",null,"",null,"","",{"$nulls":9},{"$f":"IF(D407=\"\",\"\",'OPĆI DIO'!$C$1)","v":""},"","","",""]
["",null,"",null,"",null,"","",{"$nulls":9},{"$f":"IF(D408=\"\",\"\",'OPĆI DIO'!$C$1)","v":""},"","","",""]
["",null,"",null,"",null,"","",{"$nulls":9},{"$f":"IF(D409=\"\",\"\",'OPĆI DIO'!$C$1)","v":""},"","","",""]
["",null,"",null,"",null,"","",{"$nulls":9},{"$f":"IF(D410=\"\",\"\",'OPĆI DIO'!$C$1)","v":""},"","","",""]
["",null,"",null,"",null,"","",{"$nulls":9},{"$f":"IF(D411=\"\",\"\",'OPĆI DIO'!$C$1)","v":""},"","","",""]
["",null,"",null,"",null,"","",{"$nulls":9},{"$f":"IF(D412=\"\",\"\",'OPĆI DIO'!$C$1)","v":""},"","","",""]
["",null,"",null,"",null,"","",{"$nulls":9},{"$f":"IF(D413=\"\",\"\",'OPĆI DIO'!$C$1)","v":""},"","","",""]
["",null,"",null,"",null,"","",{"$nulls":9},{"$f":"IF(D414=\"\",\"\",'OPĆI DIO'!$C$1)","v":""},"","","",""]
["",null,"",null,"",null,"","",{"$nulls":9},{"$f":"IF(D415=\"\",\"\",'OPĆI DIO'!$C$1)","v":""},"","","",""]
["",null,"",null,"",null,"","",{"$nulls":9},{"$f":"IF(D416=\"\",\"\",'OPĆI DIO'!$C$1)","v":""},"","","",""]
["",null,"",null,"",null,"","",{"$nulls":9},{"$f":"IF(D417=\"\",\"\",'OPĆI DIO'!$C$1)","v":""},"","","",""]
["",null,"",null,"",null,"","",{"$nulls":9},{"$f":"IF(D418=\"\",\"\",'OPĆI DIO'!$C$1)","v":""},"","","",""]
["",null,"",null,"",null,"","",{"$nulls":9},{"$f":"IF(D419=\"\",\"\",'OPĆI DIO'!$C$1)","v":""},"","","",""]
["",null,"",null,"",null,"","",{"$nulls":9},{"$f":"IF(D420=\"\",\"\",'OPĆI DIO'!$C$1)","v":""},"","","",""]
["",null,"",null,"",null,"","",{"$nulls":9},{"$f":"IF(D421=\"\",\"\",'OPĆI DIO'!$C$1)","v":""},"","","",""]
["",null,"",null,"",null,"","",{"$nulls":9},{"$f":"IF(D422=\"\",\"\",'OPĆI DIO'!$C$1)","v":""},"","","",""]
["",null,"",null,"",null,"","",{"$nulls":9},{"$f":"IF(D423=\"\",\"\",'OPĆI DIO'!$C$1)","v":""},"","","",""]
["",null,"",null,"",null,"","",{"$nulls":9},{"$f":"IF(D424=\"\",\"\",'OPĆI DIO'!$C$1)","v":""},"","","",""]
["",null,"",null,"",null,"","",{"$nulls":9},{"$f":"IF(D425=\"\",\"\",'OPĆI DIO'!$C$1)","v":""},"","","",""]
["",null,"",null,"",null,"","",{"$nulls":9},{"$f":"IF(D426=\"\",\"\",'OPĆI DIO'!$C$1)","v":""},"","","",""]
["",null,"",null,"",null,"","",{"$nulls":9},{"$f":"IF(D427=\"\",\"\",'OPĆI DIO'!$C$1)","v":""},"","","",""]
["",null,"",null,"",null,"","",{"$nulls":9},{"$f":"IF(D428=\"\",\"\",'OPĆI DIO'!$C$1)","v":""},"","","",""]
["",null,"",null,"",null,"","",{"$nulls":9},{"$f":"IF(D429=\"\",\"\",'OPĆI DIO'!$C$1)","v":""},"","","",""]
["",null,"",null,"",null,"","",{"$nulls":9},{"$f":"IF(D430=\"\",\"\",'OPĆI DIO'!$C$1)","v":""},"","","",""]
["",null,"",null,"",null,"","",{"$nulls":9},{"$f":"IF(D431=\"\",\"\",'OPĆI DIO'!$C$1)","v":""},"","","",""]
["",null,"",null,"",null,"","",{"$nulls":9},{"$f":"IF(D432=\"\",\"\",'OPĆI DIO'!$C$1)","v":""},"","","",""]
["",null,"",null,"",null,"","",{"$nulls":9},{"$f":"IF(D433=\"\",\"\",'OPĆI DIO'!$C$1)","v":""},"","","",""]
["",null,"",null,"",null,"","",{"$nulls":9},{"$f":"IF(D434=\"\",\"\",'OPĆI DIO'!$C$1)","v":""},"","","",""]
["",null,"",null,"",null,"","",{"$nulls":9},{"$f":"IF(D435=\"\",\"\",'OPĆI DIO'!$C$1)","v":""},"","","",""]
["",null,"",null,"",null,"","",{"$nulls":9},{"$f":"IF(D436=\"\",\"\",'OPĆI DIO'!$C$1)","v":""},"","","",""]
["",null,"",null,"",null,"","",{"$nulls":9},{"$f":"IF(D437=\"\",\"\",'OPĆI DIO'!$C$1)","v":""},"","","",""]
["",null,"",null,"",null,"","",{"$nulls":9},{"$f":"IF(D438=\"\",\"\",'OPĆI DIO'!$C$1)","v":""},"","","",""]
["",null,"",null,"",null,"","",{"$nulls":9},{"$f":"IF(D439=\"\",\"\",'OPĆI DIO'!$C$1)","v":""},"","","",""]
["",null,"",null,"",null,"","",{"$nulls":9},{"$f":"IF(D440=\"\",\"\",'OPĆI DIO'!$C$1)","v":""},"","","",""]
["",null,"",null,"",null,"","",{"$nulls":9},{"$f":"IF(D441=\"\",\"\",'OPĆI DIO'!$C$1)","v":""},"","","",""]
["",null,"",null,"",null,"","",{"$nulls":9},{"$f":"IF(D442=\"\",\"\",'OPĆI DIO'!$C$1)","v":""},"","","",""]
["",null,"",null,"",null,"","",{"$nulls":9},{"$f":"IF(D443=\"\",\"\",'OPĆI DIO'!$C$1)","v":""},"","","",""]
["",null,"",null,"",null,"","",{"$nulls":9},{"$f":"IF(D444=\"\",\"\",'OPĆI DIO'!$C$1)","v":""},"","","",""]
["",null,"",null,"",null,"","",{"$nulls":9},{"$f":"IF(D445=\"\",\"\",'OPĆI DIO'!$C$1)","v":""},"","","",""]
["",null,"",null,"",null,"","",{"$nulls":9},{"$f":"IF(D446=\"\",\"\",'OPĆI DIO'!$C$1)","v":""},"","","",""]
["",null,"",null,"",null,"","",{"$nulls":9},{"$f":"IF(D447=\"\",\"\",'OPĆI DIO'!$C$1)","v":""},"","","",""]
["",null,"",null,"",null,"","",{"$nulls":9},{"$f":"IF(D448=\"\",\"\",'OPĆI DIO'!$C$1)","v":""},"","","",""]
["",null,"",null,"",null,"","",{"$nulls":9},{"$f":"IF(D449=\"\",\"\",'OPĆI DIO'!$C$1)","v":""},"","","",""]
["",null,"",null,"",null,"","",{"$nulls":9},{"$f":"IF(D450=\"\",\"\",'OPĆI DIO'!$C$1)","v":""},"","","",""]
["",null,"",null,"",null,"","",{"$nulls":9},{"$f":"IF(D451=\"\",\"\",'OPĆI DIO'!$C$1)","v":""},"","","",""]
[{"$f":"IFERROR(VLOOKUP(B452,$X$6:$AA$34,4,FALSE),\"\")","v":""},null,{"$f":"IFERROR(VLOOKUP(B452,$X$6:$AA$34,2,FALSE),\"\")","v":""},null,{"$f":"IFERROR(VLOOKUP(D452,$AB$5:$AD$129,2,FALSE),\"\")","v":""},null,{"$f":"IFERROR(VLOOKUP(F452,$AH$6:$AI$1763,2,FALSE),\"\")","v":""},{"$f":"IFERROR(VLOOKUP(F452,$AH$6:$AK$1763,4,FALSE),\"\")","v":""},{"$nulls":9},{"$f":"IF(D452=\"\",\"\",'OPĆI DIO'!$C$1)","v":""},{"$f":"LEFT(D452,3)","v":""},{"$f":"LEFT(D452,2)","v":""},{"$f":"MID(H452,2,2)","v":""},{"$f":"LEFT(D452,1)","v":""}]
["",null,"",null,"",null,"","",{"$nulls":9},{"$f":"IF(D453=\"\",\"\",'OPĆI DIO'!$C$1)","v":""},"","","",""]
["",null,"",null,"",null,"","",{"$nulls":9},{"$f":"IF(D454=\"\",\"\",'OPĆI DIO'!$C$1)","v":""},"","","",""]
["",null,"",null,"",null,"","",{"$nulls":9},{"$f":"IF(D455=\"\",\"\",'OPĆI DIO'!$C$1)","v":""},"","","",""]
["",null,"",null,"",null,"","",{"$nulls":9},{"$f":"IF(D456=\"\",\"\",'OPĆI DIO'!$C$1)","v":""},"","","",""]
["",null,"",null,"",null,"","",{"$nulls":9},{"$f":"IF(D457=\"\",\"\",'OPĆI DIO'!$C$1)","v":""},"","","",""]
["",null,"",null,"",null,"","",{"$nulls":9},{"$f":"IF(D458=\"\",\"\",'OPĆI DIO'!$C$1)","v":""},"","","",""]
["",null,"",null,"",null,"","",{"$nulls":9},{"$f":"IF(D459=\"\",\"\",'OPĆI DIO'!$C$1)","v":""},"","","",""]
["",null,"",null,"",null,"","",{"$nulls":9},{"$f":"IF(D460=\"\",\"\",'OPĆI DIO'!$C$1)","v":""},"","","",""]
["",null,"",null,"",null,"","",{"$nulls":9},{"$f":"IF(D461=\"\",\"\",'OPĆI DIO'!$C$1)","v":""},"","","",""]
["",null,"",null,"",null,"","",{"$nulls":9},{"$f":"IF(D462=\"\",\"\",'OPĆI DIO'!$C$1)","v":""},"","","",""]
["",null,"",null,"",null,"","",{"$nulls":9},{"$f":"IF(D463=\"\",\"\",'OPĆI DIO'!$C$1)","v":""},"","","",""]
["",null,"",null,"",null,"","",{"$nulls":9},{"$f":"IF(D464=\"\",\"\",'OPĆI DIO'!$C$1)","v":""},"","","",""]
["",null,"",null,"",null,"","",{"$nulls":9},{"$f":"IF(D465=\"\",\"\",'OPĆI DIO'!$C$1)","v":""},"","","",""]
["",null,"",null,"",null,"","",{"$nulls":9},{"$f":"IF(D466=\"\",\"\",'OPĆI DIO'!$C$1)","v":""},"","","",""]
["",null,"",null,"",null,"","",{"$nulls":9},{"$f":"IF(D467=\"\",\"\",'OPĆI DIO'!$C$1)","v":""},"","","",""]
["",null,"",null,"",null,"","",{"$nulls":9},{"$f":"IF(D468=\"\",\"\",'OPĆI DIO'!$C$1)","v":""},"","","",""]
["",null,"",null,"",null,"","",{"$nulls":9},{"$f":"IF(D469=\"\",\"\",'OPĆI DIO'!$C$1)","v":""},"","","",""]
["",null,"",null,"",null,"","",{"$nulls":9},{"$f":"IF(D470=\"\",\"\",'OPĆI DIO'!$C$1)","v":""},"","","",""]
["",null,"",null,"",null,"","",{"$nulls":9},{"$f":"IF(D471=\"\",\"\",'OPĆI DIO'!$C$1)","v":""},"","","",""]
["",null,"",null,"",null,"","",{"$nulls":9},{"$f":"IF(D472=\"\",\"\",'OPĆI DIO'!$C$1)","v":""},"","","",""]
["",null,"",null,"",null,"","",{"$nulls":9},{"$f":"IF(D473=\"\",\"\",'OPĆI DIO'!$C$1)","v":""},"","","",""]
["",null,"",null,"",null,"","",{"$nulls":9},{"$f":"IF(D474=\"\",\"\",'OPĆI DIO'!$C$1)","v":""},"","","",""]
["",null,"",null,"",null,"","",{"$nulls":9},{"$f":"IF(D475=\"\",\"\",'OPĆI DIO'!$C$1)","v":""},"","","",""]
["",null,"",null,"",null,"","",{"$nulls":9},{"$f":"IF(D476=\"\",\"\",'OPĆI DIO'!$C$1)","v":""},"","","",""]
["",null,"",null,"",null,"","",{"$nulls":9},{"$f":"IF(D477=\"\",\"\",'OPĆI DIO'!$C$1)","v":""},"","","",""]
["",null,"",null,"",null,"","",{"$nulls":9},{"$f":"IF(D478=\"\",\"\",'OPĆI DIO'!$C$1)","v":""},"","","",""]
["",null,"",null,"",null,"","",{"$nulls":9},{"$f":"IF(D479=\"\",\"\",'OPĆI DIO'!$C$1)","v":""},"","","",""]
["",null,"",null,"",null,"","",{"$nulls":9},{"$f":"IF(D480=\"\",\"\",'OPĆI DIO'!$C$1)","v":""},"","","",""]
["",null,"",null,"",null,"","",{"$nulls":9},{"$f":"IF(D481=\"\",\"\",'OPĆI DIO'!$C$1)","v":""},"","","",""]
["",null,"",null,"",null,"","",{"$nulls":9},{"$f":"IF(D482=\"\",\"\",'OPĆI DIO'!$C$1)","v":""},"","","",""]
["",null,"",null,"",null,"","",{"$nulls":9},{"$f":"IF(D483=\"\",\"\",'OPĆI DIO'!$C$1)","v":""},"","","",""]
["",null,"",null,"",null,"","",{"$nulls":9},{"$f":"IF(D484=\"\",\"\",'OPĆI DIO'!$C$1)","v":""},"","","",""]
["",null,"",null,"",null,"","",{"$nulls":9},{"$f":"IF(D485=\"\",\"\",'OPĆI DIO'!$C$1)","v":""},"","","",""]
["",null,"",null,"",null,"","",{"$nulls":9},{"$f":"IF(D486=\"\",\"\",'OPĆI DIO'!$C$1)","v":""},"","","",""]
["",null,"",null,"",null,"","",{"$nulls":9},{"$f":"IF(D487=\"\",\"\",'OPĆI DIO'!$C$1)","v":""},"","","",""]
["",null,"",null,"",null,"","",{"$nulls":9},{"$f":"IF(D488=\"\",\"\",'OPĆI DIO'!$C$1)","v":""},"","","",""]
["",null,"",null,"",null,"","",{"$nulls":9},{"$f":"IF(D489=\"\",\"\",'OPĆI DIO'!$C$1)","v":""},"","","",""]
["",null,"",null,"",null,"","",{"$nulls":9},{"$f":"IF(D490=\"\",\"\",'OPĆI DIO'!$C$1)","v":""},"","","",""]
["",null,"",null,"",null,"","",{"$nulls":9},{"$f":"IF(D491=\"\",\"\",'OPĆI DIO'!$C$1)","v":""},"","","",""]
["",null,"",null,"",null,"","",{"$nulls":9},{"$f":"IF(D492=\"\",\"\",'OPĆI DIO'!$C$1)","v":""},"","","",""]
["",null,"",null,"",null,"","",{"$nulls":9},{"$f":"IF(D493=\"\",\"\",'OPĆI DIO'!$C$1)","v":""},"","","",""]
["",null,"",null,"",null,"","",{"$nulls":9},{"$f":"IF(D494=\"\",\"\",'OPĆI DIO'!$C$1)","v":""},"","","",""]
["",null,"",null,"",null,"","",{"$nulls":9},{"$f":"IF(D495=\"\",\"\",'OPĆI DIO'!$C$1)","v":""},"","","",""]
["",null,"",null,"",null,"","",{"$nulls":9},{"$f":"IF(D496=\"\",\"\",'OPĆI DIO'!$C$1)","v":""},{"$f":"LEFT(D496,3)","v":""},"","",""]
["",null,"",null,"",null,"","",{"$nulls":9},{"$f":"IF(D497=\"\",\"\",'OPĆI DIO'!$C$1)","v":""},"","","",""]
["",null,"",null,"",null,"","",{"$nulls":9},{"$f":"IF(D498=\"\",\"\",'OPĆI DIO'!$C$1)","v":""},"","","",""]
["",null,"",null,"",null,"","",{"$nulls":9},{"$f":"IF(D499=\"\",\"\",'OPĆI DIO'!$C$1)","v":""},"","","",""]
["",null,"",null,"",null,"","",{"$nulls":9},{"$f":"IF(D500=\"\",\"\",'OPĆI DIO'!$C$1)","v":""},"","","",""]
["",null,"",null,"",null,"","",{"$nulls":9},{"$f":"IF(D501=\"\",\"\",'OPĆI DIO'!$C$1)","v":""},"","","",""]
{"$rows_empty":1275}
[{"$nulls":35},{"$f":"LEFT(AH1777,7)","v":""},{"$f":"IFERROR(VLOOKUP(AJ1777,AKT!$E$4:$G$342,3,FALSE),\"\")","v":""}]
[{"$nulls":35},"",{"$f":"IFERROR(VLOOKUP(AJ1778,AKT!$E$4:$G$342,3,FALSE),\"\")","v":""}]

{"sheet":"Unos prijenosa","index":4,"n_rows":26,"n_cols":16382,"rows_kept":26,"merged":[[0,1,0,17],[1,1,1,17]]}
[]
[null,"UNOS PRIJENOSA SREDSTAVA (DONOSA I ODNOSA)"]
[{"$nulls":19},"u EUR"]
["Godina","Stavka","Naziv stavke","Ukupno ","IZVOR 11             Opći prihodi i primici ","IZVOR 12             Sredstva učešća za pomoći","IZVOR 31                  Vlastiti prihodi ","IZVOR 41                  Vlastiti prihodi ","IZVOR 43                   Prihodi za posebne namjene ","IZVOR 50                              Pomoći iz DP","IZVOR 51                              Programi unije","IZVOR 52                             Ostale pomoći ","IZVOR 53                          Ostale darovnice","IZVOR 56 Fondovi EU","57 Ostali programi EU","IZVOR 581                Mehanizam za oporavak i otpornost (NPOO)","IZVOR 61                         Donacije ","IZVOR 71                          Prihodi od nefinancijske imovine i nadoknade šteta s osnova osiguranja","IZVOR 810 Namjenski primici -ostali","IZVOR 815 Namjenski primitak - NPOO"]
[2026,null,"DONOS",{"$f":"SUM(E5:T5)","v":0},{"$nulls":16},{"$f":"'OPĆI DIO'!$C$1","v":"1812 Sveučilište u Zagrebu FAKULTET PROMETNIH ZNANOSTI"}]
[2026,null,"PRIHODI I PRIMICI (6+7+8)",{"v":14256820,"d":"14,256,820"},{"$f":"+'A.2 PRIHODI I RASHODI IF'!E7+'A.2 PRIHODI I RASHODI IF'!E25","v":{"v":7976670,"d":"7,976,670"}},{"$f":"'A.2 PRIHODI I RASHODI IF'!E8","v":0},{"$f":"+'A.2 PRIHODI I RASHODI IF'!E10+'A.2 PRIHODI I RASHODI IF'!E26","v":{"v":3590000,"d":"3,590,000"}},{"$f":"'A.2 PRIHODI I RASHODI IF'!E12","v":0},{"$f":"+'A.2 PRIHODI I RASHODI IF'!E13+'A.2 PRIHODI I RASHODI IF'!E27+'B.2 RAČUN FINANC IF'!E7","v":{"v":825000,"d":"825,000"}},{"$f":"'A.2 PRIHODI I RASHODI IF'!E15","v":{"v":90000,"d":"90,000"}},{"$f":"'A.2 PRIHODI I RASHODI IF'!E24","v":{"v":846895,"d":"846,895"}},{"$f":"'A.2 PRIHODI I RASHODI IF'!E29","v":0},{"$f":"'A.2 PRIHODI I RASHODI IF'!E30","v":{"v":59360,"d":"59,360"}},{"$f":"SUM('A.2 PRIHODI I RASHODI IF'!$E$35:$E$41)","v":{"v":217613,"d":"217,613"}},{"$f":"SUM('A.2 PRIHODI I RASHODI IF'!E42:E45)","v":0},{"$f":"'A.2 PRIHODI I RASHODI IF'!E46","v":{"v":631282,"d":"631,282"}},{"$f":"'A.2 PRIHODI I RASHODI IF'!E48","v":{"v":20000,"d":"20,000"}},{"$f":"'A.2 PRIHODI I RASHODI IF'!E50","v":0},{"$f":"+'A.2 PRIHODI I RASHODI IF'!E28+'B.2 RAČUN FINANC IF'!E11","v":0},{"$f":"'A.2 PRIHODI I RASHODI IF'!E52","v":0},{"$f":"'OPĆI DIO'!$C$1","v":"1812 Sveučilište u Zagrebu FAKULTET PROMETNIH ZNANOSTI"}]
[2026,null,"ODNOS (unosi se s negativnim predznakom)",{"v":-296376,"d":"-296,376"},{"$nulls":11},{"v":-296376,"d":"-296,376 "},{"$nulls":4},{"$f":"'OPĆI DIO'!$C$1","v":"1812 Sveučilište u Zagrebu FAKULTET PROMETNIH ZNANOSTI"}]
[2026,null,"LIMIT ZA RASHODE I IZDATKE",{"v":13960444,"d":"13,960,444"},{"$f":"+E5+E6+E7","v":{"v":7976670,"d":"7,976,670"}},{"$f":"+F5+F6+F7","v":0},{"$f":"+G5+G6+G7","v":{"v":3590000,"d":"3,590,000"}},0,{"v":825000,"d":"825,000"},{"v":90000,"d":"90,000"},{"$f":"+K5+K6+K7","v":{"v":846895,"d":"846,895"}},0,{"$f":"+M5+M6+M7","v":{"v":59360,"d":"59,360"}},{"v":217613,"d":"217,613"},0,{"v":334906,"d":"334,906"},{"v":20000,"d":"20,000"},{"$f":"+R5+R6+R7","v":0},{"$f":"+S5+S6+S7","v":0},{"$f":"+T5+T6+T7","v":0},{"$error":"#VALUE!"},0,0,0,0,0,0,0,0,0,0,0,0,0,0,0,0,0,0,0,0,0,0,0,0,0,0,0,0,0,0,0,0,0,0,0,0,0,0,0,0,0,0,0,0,0,0,0,0,0,0,0,0,0,0,0,0,0,0,0,0,0,0,{"$f":"+CF5+CF6+CF7","v":0},0,0,0,0,0,0,0,0,0,0,0,0,0,0,0,0,0,0,0,0,0,0,0,0,0,0,0,0,0,0,0,0,0,0,0,0,0,0,0,0,0,0,0,0,0,0,0,0,0,0,0,0,0,0,0,0,0,0,0,0,0,0,0,{"$f":"+ER5+ER6+ER7","v":0},0,0,0,0,0,0,0,0,0,0,0,0,0,0,0,0,0,0,0,0,0,0,0,0,0,0,0,0,0,0,0,0,0,0,0,0,0,0,0,0,0,0,0,0,0,0,0,0,0,0,0,0,0,0,0,0,0,0,0,0,0,0,0,{"$f":"+HD5+HD6+HD7","v":0},0,0,0,0,0,0,0,0,0,0,0,0,0,0,0,0,0,0,0,0,0,0,0,0,0,0,0,0,0,0,0,0,0,0,0,0,0,0,0,0,0,0,0,0,0,0,0,0,0,0,0,0,0,0,0,0,0,0,0,0,0,0,0,{"$f":"+JP5+JP6+JP7","v":0},0,0,0,0,0,0,0,0,0,0,0,0,0,0,0,0,0,0,0,0,0,0,0,0,0,0,0,0,0,0,0,0,0,0,0,0,0,0,0,0,0,0,0,0,0,0,0,0,0,0,0,0,0,0,0,0,0,0,0,0,0,0,0,{"$f":"+MB5+MB6+MB7","v":0},0,0,0,0,0,0,0,0,0,0,0,0,0,0,0,0,0,0,0,0,0,0,0,0,0,0,0,0,0,0,0,0,0,0,0,0,0,0,0,0,0,0,0,0,0,0,0,0,0,0,0,0,0,0,0,0,0,0,0,0,0,0,0,{"$f":"+ON5+ON6+ON7","v":0},0,0,0,0,0,0,0,0,0,0,0,0,0,0,0,0,0,0,0,0,0,0,0,0,0,0,0,0,0,0,0,0,0,0,0,0,0,0,0,0,0,0,0,0,0,0,0,0,0,0,0,0,0,0,0,0,0,0,0,0,0,0,0,{"$f":"+QZ5+QZ6+QZ7","v":0},0,0,0,0,0,0,0,0,0,0,0,0,0,0,0,0,0,0,0,0,0,0,0,0,0,0,0,0,0,0,0,0,0,0,0,0,0,0,0,0,0,0,0,0,0,0,0,0,0,0,0,0,0,0,0,0,0,0,0,0,0,0,0,{"$f":"+TL5+TL6+TL7","v":0},0,0,0,0,0,0,0,0,0,0,0,0,0,0,0,0,0,0,0,0,0,0,0,0,0,0,0,0,0,0,0,0,0,0,0,0,0,0,0,0,0,0,0,0,0,0,0,0,0,0,0,0,0,0,0,0,0,0,0,0,0,0,0,{"$f":"+VX5+VX6+VX7","v":0},0,0,0,0,0,0,0,0,0,0,0,0,0,0,0,0,0,0,0,0,0,0,0,0,0,0,0,0,0,0,0,0,0,0,0,0,0,0,0,0,0,0,0,0,0,0,0,0,0,0,0,0,0,0,0,0,0,0,0,0,0,0,0,{"$f":"+YJ5+YJ6+YJ7","v":0},0,0,0,0,0,0,0,0,0,0,0,0,0,0,0,0,0,0,0,0,0,0,0,0,0,0,0,0,0,0,0,0,0,0,0,0,0,0,0,0,0,0,0,0,0,0,0,0,0,0,0,0,0,0,0,0,0,0,0,0,0,0,0,{"$f":"+AAV5+AAV6+AAV7","v":0},0,0,0,0,0,0,0,0,0,0,0,0,0,0,0,0,0,0,0,0,0,0,0,0,0,0,0,0,0,0,0,0,0,0,0,0,0,0,0,0,0,0,0,0,0,0,0,0,0,0,0,0,0,0,0,0,0,0,0,0,0,0,0,{"$f":"+ADH5+ADH6+ADH7","v":0},0,0,0,0,0,0,0,0,0,0,0,0,0,0,0,0,0,0,0,0,0,0,0,0,0,0,0,0,0,0,0,0,0,0,0,0,0,0,0,0,0,0,0,0,0,0,0,0,0,0,0,0,0,0,0,0,0,0,0,0,0,0,0,{"$f":"+AFT5+AFT6+AFT7","v":0},0,0,0,0,0,0,0,0,0,0,0,0,0,0,0,0,0,0,0,0,0,0,0,0,0,0,0,0,0,0,0,0,0,0,0,0,0,0,0,0,0,0,0,0,0,0,0,0,0,0,0,0,0,0,0,0,0,0,0,0,0,0,0,{"$f":"+AIF5+AIF6+AIF7","v":0},0,0,0,0,0,0,0,0,0,0,0,0,0,0,0,0,0,0,0,0,0,0,0,0,0,0,0,0,0,0,0,0,0,0,0,0,0,0,0,0,0,0,0,0,0,0,0,0,0,0,0,0,0,0,0,0,0,0,0,0,0,0,0,{"$f":"+AKR5+AKR6+AKR7","v":0},0,0,0,0,0,0,0,0,0,0,0,0,0,0,0,0,0,0,0,0,0,0,0,0,0,0,0,0,0,0,0,0,0,0,0,0,0,0,0,0,0,0,0,0,0,0,0,0,0,0,0,0,0,0,0,0,0,0,0,0,0,0,0,{"$f":"+AND5+AND6+AND7","v":0},0,0,0,0,0,0,0,0,0,0,0,0,0,0,0,0,0,0,0,0,0,0,0,0,0,0,0,0,0,0,0,0,0,0,0,0,0,0,0,0,0,0,0,0,0,0,0,0,0,0,0,0,0,0,0,0,0,0,0,0,0,0,0,{"$f":"+APP5+APP6+APP7","v":0},0,0,0,0,0,0,0,0,0,0,0,0,0,0,0,0,0,0,0,0,0,0,0,0,0,0,0,0,0,0,0,0,0,0,0,0,0,0,0,0,0,0,0,0,0,0,0,0,0,0,0,0,0,0,0,0,0,0,0,0,0,0,0,{"$f":"+ASB5+ASB6+ASB7","v":0},0,0,0,0,0,0,0,0,0,0,0,0,0,0,0,0,0,0,0,0,0,0,0,0,0,0,0,0,0,0,0,0,0,0,0,0,0,0,0,0,0,0,0,0,0,0,0,0,0,0,0,0,0,0,0,0,0,0,0,0,0,0,0,{"$f":"+AUN5+AUN6+AUN7","v":0},0,0,0,0,0,0,0,0,0,0,0,0,0,0,0,0,0,0,0,0,0,0,0,0,0,0,0,0,0,0,0,0,0,0,0,0,0,0,0,0,0,0,0,0,0,0,0,0,0,0,0,0,0,0,0,0,0,0,0,0,0,0,0,{"$f":"+AWZ5+AWZ6+AWZ7","v":0},0,0,0,0,0,0,0,0,0,0,0,0,0,0,0,0,0,0,0,0,0,0,0,0,0,0,0,0,0,0,0,0,0,0,0,0,0,0,0,0,0,0,0,0,0,0,0,0,0,0,0,0,0,0,0,0,0,0,0,0,0,0,0,{"$f":"+AZL5+AZL6+AZL7","v":0},0,0,0,0,0,0,0,0,0,0,0,0,0,0,0,0,0,0,0,0,0,0,0,0,0,0,0,0,0,0,0,0,0,0,0,0,0,0,0,0,0,0,0,0,0,0,0,0,0,0,0,0,0,0,0,0,0,0,0,0,0,0,0,{"$f":"+BBX5+BBX6+BBX7","v":0},0,0,0,0,0,0,0,0,0,0,0,0,0,0,0,0,0,0,0,0,0,0,0,0,0,0,0,0,0,0,0,0,0,0,0,0,0,0,0,0,0,0,0,0,0,0,0,0,0,0,0,0,0,0,0,0,0,0,0,0,0,0,0,{"$f":"+BEJ5+BEJ6+BEJ7","v":0},0,0,0,0,0,0,0,0,0,0,0,0,0,0,0,0,0,0,0,0,0,0,0,0,0,0,0,0,0,0,0,0,0,0,0,0,0,0,0,0,0,0,0,0,0,0,0,0,0,0,0,0,0,0,0,0,0,0,0,0,0,0,0,{"$f":"+BGV5+BGV6+BGV7","v":0},0,0,0,0,0,0,0,0,0,0,0,0,0,0,0,0,0,0,0,0,0,0,0,0,0,0,0,0,0,0,0,0,0,0,0,0,0,0,0,0,0,0,0,0,0,0,0,0,0,0,0,0,0,0,0,0,0,0,0,0,0,0,0,{"$f":"+BJH5+BJH6+BJH7","v":0},0,0,0,0,0,0,0,0,0,0,0,0,0,0,0,0,0,0,0,0,0,0,0,0,0,0,0,0,0,0,0,0,0,0,0,0,0,0,0,0,0,0,0,0,0,0,0,0,0,0,0,0,0,0,0,0,0,0,0,0,0,0,0,{"$f":"+BLT5+BLT6+BLT7","v":0},0,0,0,0,0,0,0,0,0,0,0,0,0,0,0,0,0,0,0,0,0,0,0,0,0,0,0,0,0,0,0,0,0,0,0,0,0,0,0,0,0,0,0,0,0,0,0,0,0,0,0,0,0,0,0,0,0,0,0,0,0,0,0,{"$f":"+BOF5+BOF6+BOF7","v":0},0,0,0,0,0,0,0,0,0,0,0,0,0,0,0,0,0,0,0,0,0,0,0,0,0,0,0,0,0,0,0,0,0,0,0,0,0,0,0,0,0,0,0,0,0,0,0,0,0,0,0,0,0,0,0,0,0,0,0,0,0,0,0,{"$f":"+BQR5+BQR6+BQR7","v":0},0,0,0,0,0,0,0,0,0,0,0,0,0,0,0,0,0,0,0,0,0,0,0,0,0,0,0,0,0,0,0,0,0,0,0,0,0,0,0,0,0,0,0,0,0,0,0,0,0,0,0,0,0,0,0,0,0,0,0,0,0,0,0,{"$f":"+BTD5+BTD6+BTD7","v":0},0,0,0,0,0,0,0,0,0,0,0,0,0,0,0,0,0,0,0,0,0,0,0,0,0,0,0,0,0,0,0,0,0,0,0,0,0,0,0,0,0,0,0,0,0,0,0,0,0,0,0,0,0,0,0,0,0,0,0,0,0,0,0,{"$f":"+BVP5+BVP6+BVP7","v":0},0,0,0,0,0,0,0,0,0,0,0,0,0,0,0,0,0,0,0,0,0,0,0,0,0,0,0,0,0,0,0,0,0,0,0,0,0,0,0,0,0,0,0,0,0,0,0,0,0,0,0,0,0,0,0,0,0,0,0,0,0,0,0,{"$f":"+BYB5+BYB6+BYB7","v":0},0,0,0,0,0,0,0,0,0,0,0,0,0,0,0,0,0,0,0,0,0,0,0,0,0,0,0,0,0,0,0,0,0,0,0,0,0,0,0,0,0,0,0,0,0,0,0,0,0,0,0,0,0,0,0,0,0,0,0,0,0,0,0,{"$f":"+CAN5+CAN6+CAN7","v":0},0,0,0,0,0,0,0,0,0,0,0,0,0,0,0,0,0,0,0,0,0,0,0,0,0,0,0,0,0,0,0,0,0,0,0,0,0,0,0,0,0,0,0,0,0,0,0,0,0,0,0,0,0,0,0,0,0,0,0,0,0,0,0,{"$f":"+CCZ5+CCZ6+CCZ7","v":0},0,0,0,0,0,0,0,0,0,0,0,0,0,0,0,0,0,0,0,0,0,0,0,0,0,0,0,0,0,0,0,0,0,0,0,0,0,0,0,0,0,0,0,0,0,0,0,0,0,0,0,0,0,0,0,0,0,0,0,0,0,0,0,{"$f":"+CFL5+CFL6+CFL7","v":0},0,0,0,0,0,0,0,0,0,0,0,0,0,0,0,0,0,0,0,0,0,0,0,0,0,0,0,0,0,0,0,0,0,0,0,0,0,0,0,0,0,0,0,0,0,0,0,0,0,0,0,0,0,0,0,0,0,0,0,0,0,0,0,{"$f":"+CHX5+CHX6+CHX7","v":0},0,0,0,0,0,0,0,0,0,0,0,0,0,0,0,0,0,0,0,0,0,0,0,0,0,0,0,0,0,0,0,0,0,0,0,0,0,0,0,0,0,0,0,0,0,0,0,0,0,0,0,0,0,0,0,0,0,0,0,0,0,0,0,{"$f":"+CKJ5+CKJ6+CKJ7","v":0},0,0,0,0,0,0,0,0,0,0,0,0,0,0,0,0,0,0,0,0,0,0,0,0,0,0,0,0,0,0,0,0,0,0,0,0,0,0,0,0,0,0,0,0,0,0,0,0,0,0,0,0,0,0,0,0,0,0,0,0,0,0,0,{"$f":"+CMV5+CMV6+CMV7","v":0},0,0,0,0,0,0,0,0,0,0,0,0,0,0,0,0,0,0,0,0,0,0,0,0,0,0,0,0,0,0,0,0,0,0,0,0,0,0,0,0,0,0,0,0,0,0,0,0,0,0,0,0,0,0,0,0,0,0,0,0,0,0,0,{"$f":"+CPH5+CPH6+CPH7","v":0},0,0,0,0,0,0,0,0,0,0,0,0,0,0,0,0,0,0,0,0,0,0,0,0,0,0,0,0,0,0,0,0,0,0,0,0,0,0,0,0,0,0,0,0,0,0,0,0,0,0,0,0,0,0,0,0,0,0,0,0,0,0,0,{"$f":"+CRT5+CRT6+CRT7","v":0},0,0,0,0,0,0,0,0,0,0,0,0,0,0,0,0,0,0,0,0,0,0,0,0,0,0,0,0,0,0,0,0,0,0,0,0,0,0,0,0,0,0,0,0,0,0,0,0,0,0,0,0,0,0,0,0,0,0,0,0,0,0,0,{"$f":"+CUF5+CUF6+CUF7","v":0},0,0,0,0,0,0,0,0,0,0,0,0,0,0,0,0,0,0,0,0,0,0,0,0,0,0,0,0,0,0,0,0,0,0,0,0,0,0,0,0,0,0,0,0,0,0,0,0,0,0,0,0,0,0,0,0,0,0,0,0,0,0,0,{"$f":"+CWR5+CWR6+CWR7","v":0},0,0,0,0,0,0,0,0,0,0,0,0,0,0,0,0,0,0,0,0,0,0,0,0,0,0,0,0,0,0,0,0,0,0,0,0,0,0,0,0,0,0,0,0,0,0,0,0,0,0,0,0,0,0,0,0,0,0,0,0,0,0,0,{"$f":"+CZD5+CZD6+CZD7","v":0},0,0,0,0,0,0,0,0,0,0,0,0,0,0,0,0,0,0,0,0,0,0,0,0,0,0,0,0,0,0,0,0,0,0,0,0,0,0,0,0,0,0,0,0,0,0,0,0,0,0,0,0,0,0,0,0,0,0,0,0,0,0,0,{"$f":"+DBP5+DBP6+DBP7","v":0},0,0,0,0,0,0,0,0,0,0,0,0,0,0,0,0,0,0,0,0,0,0,0,0,0,0,0,0,0,0,0,0,0,0,0,0,0,0,0,0,0,0,0,0,0,0,0,0,0,0,0,0,0,0,0,0,0,0,0,0,0,0,0,{"$f":"+DEB5+DEB6+DEB7","v":0},0,0,0,0,0,0,0,0,0,0,0,0,0,0,0,0,0,0,0,0,0,0,0,0,0,0,0,0,0,0,0,0,0,0,0,0,0,0,0,0,0,0,0,0,0,0,0,0,0,0,0,0,0,0,0,0,0,0,0,0,0,0,0,{"$f":"+DGN5+DGN6+DGN7","v":0},0,0,0,0,0,0,0,0,0,0,0,0,0,0,0,0,0,0,0,0,0,0,0,0,0,0,0,0,0,0,0,0,0,0,0,0,0,0,0,0,0,0,0,0,0,0,0,0,0,0,0,0,0,0,0,0,0,0,0,0,0,0,0,{"$f":"+DIZ5+DIZ6+DIZ7","v":0},0,0,0,0,0,0,0,0,0,0,0,0,0,0,0,0,0,0,0,0,0,0,0,0,0,0,0,0,0,0,0,0,0,0,0,0,0,0,0,0,0,0,0,0,0,0,0,0,0,0,0,0,0,0,0,0,0,0,0,0,0,0,0,{"$f":"+DLL5+DLL6+DLL7","v":0},0,0,0,0,0,0,0,0,0,0,0,0,0,0,0,0,0,0,0,0,0,0,0,0,0,0,0,0,0,0,0,0,0,0,0,0,0,0,0,0,0,0,0,0,0,0,0,0,0,0,0,0,0,0,0,0,0,0,0,0,0,0,0,{"$f":"+DNX5+DNX6+DNX7","v":0},0,0,0,0,0,0,0,0,0,0,0,0,0,0,0,0,0,0,0,0,0,0,0,0,0,0,0,0,0,0,0,0,0,0,0,0,0,0,0,0,0,0,0,0,0,0,0,0,0,0,0,0,0,0,0,0,0,0,0,0,0,0,0,{"$f":"+DQJ5+DQJ6+DQJ7","v":0},0,0,0,0,0,0,0,0,0,0,0,0,0,0,0,0,0,0,0,0,0,0,0,0,0,0,0,0,0,0,0,0,0,0,0,0,0,0,0,0,0,0,0,0,0,0,0,0,0,0,0,0,0,0,0,0,0,0,0,0,0,0,0,{"$f":"+DSV5+DSV6+DSV7","v":0},0,0,0,0,0,0,0,0,0,0,0,0,0,0,0,0,0,0,0,0,0,0,0,0,0,0,0,0,0,0,0,0,0,0,0,0,0,0,0,0,0,0,0,0,0,0,0,0,0,0,0,0,0,0,0,0,0,0,0,0,0,0,0,{"$f":"+DVH5+DVH6+DVH7","v":0},0,0,0,0,0,0,0,0,0,0,0,0,0,0,0,0,0,0,0,0,0,0,0,0,0,0,0,0,0,0,0,0,0,0,0,0,0,0,0,0,0,0,0,0,0,0,0,0,0,0,0,0,0,0,0,0,0,0,0,0,0,0,0,{"$f":"+DXT5+DXT6+DXT7","v":0},0,0,0,0,0,0,0,0,0,0,0,0,0,0,0,0,0,0,0,0,0,0,0,0,0,0,0,0,0,0,0,0,0,0,0,0,0,0,0,0,0,0,0,0,0,0,0,0,0,0,0,0,0,0,0,0,0,0,0,0,0,0,0,{"$f":"+EAF5+EAF6+EAF7","v":0},0,0,0,0,0,0,0,0,0,0,0,0,0,0,0,0,0,0,0,0,0,0,0,0,0,0,0,0,0,0,0,0,0,0,0,0,0,0,0,0,0,0,0,0,0,0,0,0,0,0,0,0,0,0,0,0,0,0,0,0,0,0,0,{"$f":"+ECR5+ECR6+ECR7","v":0},0,0,0,0,0,0,0,0,0,0,0,0,0,0,0,0,0,0,0,0,0,0,0,0,0,0,0,0,0,0,0,0,0,0,0,0,0,0,0,0,0,0,0,0,0,0,0,0,0,0,0,0,0,0,0,0,0,0,0,0,0,0,0,{"$f":"+EFD5+EFD6+EFD7","v":0},0,0,0,0,0,0,0,0,0,0,0,0,0,0,0,0,0,0,0,0,0,0,0,0,0,0,0,0,0,0,0,0,0,0,0,0,0,0,0,0,0,0,0,0,0,0,0,0,0,0,0,0,0,0,0,0,0,0,0,0,0,0,0,{"$f":"+EHP5+EHP6+EHP7","v":0},0,0,0,0,0,0,0,0,0,0,0,0,0,0,0,0,0,0,0,0,0,0,0,0,0,0,0,0,0,0,0,0,0,0,0,0,0,0,0,0,0,0,0,0,0,0,0,0,0,0,0,0,0,0,0,0,0,0,0,0,0,0,0,{"$f":"+EKB5+EKB6+EKB7","v":0},0,0,0,0,0,0,0,0,0,0,0,0,0,0,0,0,0,0,0,0,0,0,0,0,0,0,0,0,0,0,0,0,0,0,0,0,0,0,0,0,0,0,0,0,0,0,0,0,0,0,0,0,0,0,0,0,0,0,0,0,0,0,0,{"$f":"+EMN5+EMN6+EMN7","v":0},0,0,0,0,0,0,0,0,0,0,0,0,0,0,0,0,0,0,0,0,0,0,0,0,0,0,0,0,0,0,0,0,0,0,0,0,0,0,0,0,0,0,0,0,0,0,0,0,0,0,0,0,0,0,0,0,0,0,0,0,0,0,0,{"$f":"+EOZ5+EOZ6+EOZ7","v":0},0,0,0,0,0,0,0,0,0,0,0,0,0,0,0,0,0,0,0,0,0,0,0,0,0,0,0,0,0,0,0,0,0,0,0,0,0,0,0,0,0,0,0,0,0,0,0,0,0,0,0,0,0,0,0,0,0,0,0,0,0,0,0,{"$f":"+ERL5+ERL6+ERL7","v":0},0,0,0,0,0,0,0,0,0,0,0,0,0,0,0,0,0,0,0,0,0,0,0,0,0,0,0,0,0,0,0,0,0,0,0,0,0,0,0,0,0,0,0,0,0,0,0,0,0,0,0,0,0,0,0,0,0,0,0,0,0,0,0,{"$f":"+ETX5+ETX6+ETX7","v":0},0,0,0,0,0,0,0,0,0,0,0,0,0,0,0,0,0,0,0,0,0,0,0,0,0,0,0,0,0,0,0,0,0,0,0,0,0,0,0,0,0,0,0,0,0,0,0,0,0,0,0,0,0,0,0,0,0,0,0,0,0,0,0,{"$f":"+EWJ5+EWJ6+EWJ7","v":0},0,0,0,0,0,0,0,0,0,0,0,0,0,0,0,0,0,0,0,0,0,0,0,0,0,0,0,0,0,0,0,0,0,0,0,0,0,0,0,0,0,0,0,0,0,0,0,0,0,0,0,0,0,0,0,0,0,0,0,0,0,0,0,{"$f":"+EYV5+EYV6+EYV7","v":0},0,0,0,0,0,0,0,0,0,0,0,0,0,0,0,0,0,0,0,0,0,0,0,0,0,0,0,0,0,0,0,0,0,0,0,0,0,0,0,0,0,0,0,0,0,0,0,0,0,0,0,0,0,0,0,0,0,0,0,0,0,0,0,{"$f":"+FBH5+FBH6+FBH7","v":0},0,0,0,0,0,0,0,0,0,0,0,0,0,0,0,0,0,0,0,0,0,0,0,0,0,0,0,0,0,0,0,0,0,0,0,0,0,0,0,0,0,0,0,0,0,0,0,0,0,0,0,0,0,0,0,0,0,0,0,0,0,0,0,{"$f":"+FDT5+FDT6+FDT7","v":0},0,0,0,0,0,0,0,0,0,0,0,0,0,0,0,0,0,0,0,0,0,0,0,0,0,0,0,0,0,0,0,0,0,0,0,0,0,0,0,0,0,0,0,0,0,0,0,0,0,0,0,0,0,0,0,0,0,0,0,0,0,0,0,{"$f":"+FGF5+FGF6+FGF7","v":0},0,0,0,0,0,0,0,0,0,0,0,0,0,0,0,0,0,0,0,0,0,0,0,0,0,0,0,0,0,0,0,0,0,0,0,0,0,0,0,0,0,0,0,0,0,0,0,0,0,0,0,0,0,0,0,0,0,0,0,0,0,0,0,{"$f":"+FIR5+FIR6+FIR7","v":0},0,0,0,0,0,0,0,0,0,0,0,0,0,0,0,0,0,0,0,0,0,0,0,0,0,0,0,0,0,0,0,0,0,0,0,0,0,0,0,0,0,0,0,0,0,0,0,0,0,0,0,0,0,0,0,0,0,0,0,0,0,0,0,{"$f":"+FLD5+FLD6+FLD7","v":0},0,0,0,0,0,0,0,0,0,0,0,0,0,0,0,0,0,0,0,0,0,0,0,0,0,0,0,0,0,0,0,0,0,0,0,0,0,0,0,0,0,0,0,0,0,0,0,0,0,0,0,0,0,0,0,0,0,0,0,0,0,0,0,{"$f":"+FNP5+FNP6+FNP7","v":0},0,0,0,0,0,0,0,0,0,0,0,0,0,0,0,0,0,0,0,0,0,0,0,0,0,0,0,0,0,0,0,0,0,0,0,0,0,0,0,0,0,0,0,0,0,0,0,0,0,0,0,0,0,0,0,0,0,0,0,0,0,0,0,{"$f":"+FQB5+FQB6+FQB7","v":0},0,0,0,0,0,0,0,0,0,0,0,0,0,0,0,0,0,0,0,0,0,0,0,0,0,0,0,0,0,0,0,0,0,0,0,0,0,0,0,0,0,0,0,0,0,0,0,0,0,0,0,0,0,0,0,0,0,0,0,0,0,0,0,{"$f":"+FSN5+FSN6+FSN7","v":0},0,0,0,0,0,0,0,0,0,0,0,0,0,0,0,0,0,0,0,0,0,0,0,0,0,0,0,0,0,0,0,0,0,0,0,0,0,0,0,0,0,0,0,0,0,0,0,0,0,0,0,0,0,0,0,0,0,0,0,0,0,0,0,{"$f":"+FUZ5+FUZ6+FUZ7","v":0},0,0,0,0,0,0,0,0,0,0,0,0,0,0,0,0,0,0,0,0,0,0,0,0,0,0,0,0,0,0,0,0,0,0,0,0,0,0,0,0,0,0,0,0,0,0,0,0,0,0,0,0,0,0,0,0,0,0,0,0,0,0,0,{"$f":"+FXL5+FXL6+FXL7","v":0},0,0,0,0,0,0,0,0,0,0,0,0,0,0,0,0,0,0,0,0,0,0,0,0,0,0,0,0,0,0,0,0,0,0,0,0,0,0,0,0,0,0,0,0,0,0,0,0,0,0,0,0,0,0,0,0,0,0,0,0,0,0,0,{"$f":"+FZX5+FZX6+FZX7","v":0},0,0,0,0,0,0,0,0,0,0,0,0,0,0,0,0,0,0,0,0,0,0,0,0,0,0,0,0,0,0,0,0,0,0,0,0,0,0,0,0,0,0,0,0,0,0,0,0,0,0,0,0,0,0,0,0,0,0,0,0,0,0,0,{"$f":"+GCJ5+GCJ6+GCJ7","v":0},0,0,0,0,0,0,0,0,0,0,0,0,0,0,0,0,0,0,0,0,0,0,0,0,0,0,0,0,0,0,0,0,0,0,0,0,0,0,0,0,0,0,0,0,0,0,0,0,0,0,0,0,0,0,0,0,0,0,0,0,0,0,0,{"$f":"+GEV5+GEV6+GEV7","v":0},0,0,0,0,0,0,0,0,0,0,0,0,0,0,0,0,0,0,0,0,0,0,0,0,0,0,0,0,0,0,0,0,0,0,0,0,0,0,0,0,0,0,0,0,0,0,0,0,0,0,0,0,0,0,0,0,0,0,0,0,0,0,0,{"$f":"+GHH5+GHH6+GHH7","v":0},0,0,0,0,0,0,0,0,0,0,0,0,0,0,0,0,0,0,0,0,0,0,0,0,0,0,0,0,0,0,0,0,0,0,0,0,0,0,0,0,0,0,0,0,0,0,0,0,0,0,0,0,0,0,0,0,0,0,0,0,0,0,0,{"$f":"+GJT5+GJT6+GJT7","v":0},0,0,0,0,0,0,0,0,0,0,0,0,0,0,0,0,0,0,0,0,0,0,0,0,0,0,0,0,0,0,0,0,0,0,0,0,0,0,0,0,0,0,0,0,0,0,0,0,0,0,0,0,0,0,0,0,0,0,0,0,0,0,0,{"$f":"+GMF5+GMF6+GMF7","v":0},0,0,0,0,0,0,0,0,0,0,0,0,0,0,0,0,0,0,0,0,0,0,0,0,0,0,0,0,0,0,0,0,0,0,0,0,0,0,0,0,0,0,0,0,0,0,0,0,0,0,0,0,0,0,0,0,0,0,0,0,0,0,0,{"$f":"+GOR5+GOR6+GOR7","v":0},0,0,0,0,0,0,0,0,0,0,0,0,0,0,0,0,0,0,0,0,0,0,0,0,0,0,0,0,0,0,0,0,0,0,0,0,0,0,0,0,0,0,0,0,0,0,0,0,0,0,0,0,0,0,0,0,0,0,0,0,0,0,0,{"$f":"+GRD5+GRD6+GRD7","v":0},0,0,0,0,0,0,0,0,0,0,0,0,0,0,0,0,0,0,0,0,0,0,0,0,0,0,0,0,0,0,0,0,0,0,0,0,0,0,0,0,0,0,0,0,0,0,0,0,0,0,0,0,0,0,0,0,0,0,0,0,0,0,0,{"$f":"+GTP5+GTP6+GTP7","v":0},0,0,0,0,0,0,0,0,0,0,0,0,0,0,0,0,0,0,0,0,0,0,0,0,0,0,0,0,0,0,0,0,0,0,0,0,0,0,0,0,0,0,0,0,0,0,0,0,0,0,0,0,0,0,0,0,0,0,0,0,0,0,0,{"$f":"+GWB5+GWB6+GWB7","v":0},0,0,0,0,0,0,0,0,0,0,0,0,0,0,0,0,0,0,0,0,0,0,0,0,0,0,0,0,0,0,0,0,0,0,0,0,0,0,0,0,0,0,0,0,0,0,0,0,0,0,0,0,0,0,0,0,0,0,0,0,0,0,0,{"$f":"+GYN5+GYN6+GYN7","v":0},0,0,0,0,0,0,0,0,0,0,0,0,0,0,0,0,0,0,0,0,0,0,0,0,0,0,0,0,0,0,0,0,0,0,0,0,0,0,0,0,0,0,0,0,0,0,0,0,0,0,0,0,0,0,0,0,0,0,0,0,0,0,0,{"$f":"+HAZ5+HAZ6+HAZ7","v":0},0,0,0,0,0,0,0,0,0,0,0,0,0,0,0,0,0,0,0,0,0,0,0,0,0,0,0,0,0,0,0,0,0,0,0,0,0,0,0,0,0,0,0,0,0,0,0,0,0,0,0,0,0,0,0,0,0,0,0,0,0,0,0,{"$f":"+HDL5+HDL6+HDL7","v":0},0,0,0,0,0,0,0,0,0,0,0,0,0,0,0,0,0,0,0,0,0,0,0,0,0,0,0,0,0,0,0,0,0,0,0,0,0,0,0,0,0,0,0,0,0,0,0,0,0,0,0,0,0,0,0,0,0,0,0,0,0,0,0,{"$f":"+HFX5+HFX6+HFX7","v":0},0,0,0,0,0,0,0,0,0,0,0,0,0,0,0,0,0,0,0,0,0,0,0,0,0,0,0,0,0,0,0,0,0,0,0,0,0,0,0,0,0,0,0,0,0,0,0,0,0,0,0,0,0,0,0,0,0,0,0,0,0,0,0,{"$f":"+HIJ5+HIJ6+HIJ7","v":0},0,0,0,0,0,0,0,0,0,0,0,0,0,0,0,0,0,0,0,0,0,0,0,0,0,0,0,0,0,0,0,0,0,0,0,0,0,0,0,0,0,0,0,0,0,0,0,0,0,0,0,0,0,0,0,0,0,0,0,0,0,0,0,{"$f":"+HKV5+HKV6+HKV7","v":0},0,0,0,0,0,0,0,0,0,0,0,0,0,0,0,0,0,0,0,0,0,0,0,0,0,0,0,0,0,0,0,0,0,0,0,0,0,0,0,0,0,0,0,0,0,0,0,0,0,0,0,0,0,0,0,0,0,0,0,0,0,0,0,{"$f":"+HNH5+HNH6+HNH7","v":0},0,0,0,0,0,0,0,0,0,0,0,0,0,0,0,0,0,0,0,0,0,0,0,0,0,0,0,0,0,0,0,0,0,0,0,0,0,0,0,0,0,0,0,0,0,0,0,0,0,0,0,0,0,0,0,0,0,0,0,0,0,0,0,{"$f":"+HPT5+HPT6+HPT7","v":0},0,0,0,0,0,0,0,0,0,0,0,0,0,0,0,0,0,0,0,0,0,0,0,0,0,0,0,0,0,0,0,0,0,0,0,0,0,0,0,0,0,0,0,0,0,0,0,0,0,0,0,0,0,0,0,0,0,0,0,0,0,0,0,{"$f":"+HSF5+HSF6+HSF7","v":0},0,0,0,0,0,0,0,0,0,0,0,0,0,0,0,0,0,0,0,0,0,0,0,0,0,0,0,0,0,0,0,0,0,0,0,0,0,0,0,0,0,0,0,0,0,0,0,0,0,0,0,0,0,0,0,0,0,0,0,0,0,0,0,{"$f":"+HUR5+HUR6+HUR7","v":0},0,0,0,0,0,0,0,0,0,0,0,0,0,0,0,0,0,0,0,0,0,0,0,0,0,0,0,0,0,0,0,0,0,0,0,0,0,0,0,0,0,0,0,0,0,0,0,0,0,0,0,0,0,0,0,0,0,0,0,0,0,0,0,{"$f":"+HXD5+HXD6+HXD7","v":0},0,0,0,0,0,0,0,0,0,0,0,0,0,0,0,0,0,0,0,0,0,0,0,0,0,0,0,0,0,0,0,0,0,0,0,0,0,0,0,0,0,0,0,0,0,0,0,0,0,0,0,0,0,0,0,0,0,0,0,0,0,0,0,{"$f":"+HZP5+HZP6+HZP7","v":0},0,0,0,0,0,0,0,0,0,0,0,0,0,0,0,0,0,0,0,0,0,0,0,0,0,0,0,0,0,0,0,0,0,0,0,0,0,0,0,0,0,0,0,0,0,0,0,0,0,0,0,0,0,0,0,0,0,0,0,0,0,0,0,{"$f":"+ICB5+ICB6+ICB7","v":0},0,0,0,0,0,0,0,0,0,0,0,0,0,0,0,0,0,0,0,0,0,0,0,0,0,0,0,0,0,0,0,0,0,0,0,0,0,0,0,0,0,0,0,0,0,0,0,0,0,0,0,0,0,0,0,0,0,0,0,0,0,0,0,{"$f":"+IEN5+IEN6+IEN7","v":0},0,0,0,0,0,0,0,0,0,0,0,0,0,0,0,0,0,0,0,0,0,0,0,0,0,0,0,0,0,0,0,0,0,0,0,0,0,0,0,0,0,0,0,0,0,0,0,0,0,0,0,0,0,0,0,0,0,0,0,0,0,0,0,{"$f":"+IGZ5+IGZ6+IGZ7","v":0},0,0,0,0,0,0,0,0,0,0,0,0,0,0,0,0,0,0,0,0,0,0,0,0,0,0,0,0,0,0,0,0,0,0,0,0,0,0,0,0,0,0,0,0,0,0,0,0,0,0,0,0,0,0,0,0,0,0,0,0,0,0,0,{"$f":"+IJL5+IJL6+IJL7","v":0},0,0,0,0,0,0,0,0,0,0,0,0,0,0,0,0,0,0,0,0,0,0,0,0,0,0,0,0,0,0,0,0,0,0,0,0,0,0,0,0,0,0,0,0,0,0,0,0,0,0,0,0,0,0,0,0,0,0,0,0,0,0,0,{"$f":"+ILX5+ILX6+ILX7","v":0},0,0,0,0,0,0,0,0,0,0,0,0,0,0,0,0,0,0,0,0,0,0,0,0,0,0,0,0,0,0,0,0,0,0,0,0,0,0,0,0,0,0,0,0,0,0,0,0,0,0,0,0,0,0,0,0,0,0,0,0,0,0,0,{"$f":"+IOJ5+IOJ6+IOJ7","v":0},0,0,0,0,0,0,0,0,0,0,0,0,0,0,0,0,0,0,0,0,0,0,0,0,0,0,0,0,0,0,0,0,0,0,0,0,0,0,0,0,0,0,0,0,0,0,0,0,0,0,0,0,0,0,0,0,0,0,0,0,0,0,0,{"$f":"+IQV5+IQV6+IQV7","v":0},0,0,0,0,0,0,0,0,0,0,0,0,0,0,0,0,0,0,0,0,0,0,0,0,0,0,0,0,0,0,0,0,0,0,0,0,0,0,0,0,0,0,0,0,0,0,0,0,0,0,0,0,0,0,0,0,0,0,0,0,0,0,0,{"$f":"+ITH5+ITH6+ITH7","v":0},0,0,0,0,0,0,0,0,0,0,0,0,0,0,0,0,0,0,0,0,0,0,0,0,0,0,0,0,0,0,0,0,0,0,0,0,0,0,0,0,0,0,0,0,0,0,0,0,0,0,0,0,0,0,0,0,0,0,0,0,0,0,0,{"$f":"+IVT5+IVT6+IVT7","v":0},0,0,0,0,0,0,0,0,0,0,0,0,0,0,0,0,0,0,0,0,0,0,0,0,0,0,0,0,0,0,0,0,0,0,0,0,0,0,0,0,0,0,0,0,0,0,0,0,0,0,0,0,0,0,0,0,0,0,0,0,0,0,0,{"$f":"+IYF5+IYF6+IYF7","v":0},0,0,0,0,0,0,0,0,0,0,0,0,0,0,0,0,0,0,0,0,0,0,0,0,0,0,0,0,0,0,0,0,0,0,0,0,0,0,0,0,0,0,0,0,0,0,0,0,0,0,0,0,0,0,0,0,0,0,0,0,0,0,0,{"$f":"+JAR5+JAR6+JAR7","v":0},0,0,0,0,0,0,0,0,0,0,0,0,0,0,0,0,0,0,0,0,0,0,0,0,0,0,0,0,0,0,0,0,0,0,0,0,0,0,0,0,0,0,0,0,0,0,0,0,0,0,0,0,0,0,0,0,0,0,0,0,0,0,0,{"$f":"+JDD5+JDD6+JDD7","v":0},0,0,0,0,0,0,0,0,0,0,0,0,0,0,0,0,0,0,0,0,0,0,0,0,0,0,0,0,0,0,0,0,0,0,0,0,0,0,0,0,0,0,0,0,0,0,0,0,0,0,0,0,0,0,0,0,0,0,0,0,0,0,0,{"$f":"+JFP5+JFP6+JFP7","v":0},0,0,0,0,0,0,0,0,0,0,0,0,0,0,0,0,0,0,0,0,0,0,0,0,0,0,0,0,0,0,0,0,0,0,0,0,0,0,0,0,0,0,0,0,0,0,0,0,0,0,0,0,0,0,0,0,0,0,0,0,0,0,0,{"$f":"+JIB5+JIB6+JIB7","v":0},0,0,0,0,0,0,0,0,0,0,0,0,0,0,0,0,0,0,0,0,0,0,0,0,0,0,0,0,0,0,0,0,0,0,0,0,0,0,0,0,0,0,0,0,0,0,0,0,0,0,0,0,0,0,0,0,0,0,0,0,0,0,0,{"$f":"+JKN5+JKN6+JKN7","v":0},0,0,0,0,0,0,0,0,0,0,0,0,0,0,0,0,0,0,0,0,0,0,0,0,0,0,0,0,0,0,0,0,0,0,0,0,0,0,0,0,0,0,0,0,0,0,0,0,0,0,0,0,0,0,0,0,0,0,0,0,0,0,0,{"$f":"+JMZ5+JMZ6+JMZ7","v":0},0,0,0,0,0,0,0,0,0,0,0,0,0,0,0,0,0,0,0,0,0,0,0,0,0,0,0,0,0,0,0,0,0,0,0,0,0,0,0,0,0,0,0,0,0,0,0,0,0,0,0,0,0,0,0,0,0,0,0,0,0,0,0,{"$f":"+JPL5+JPL6+JPL7","v":0},0,0,0,0,0,0,0,0,0,0,0,0,0,0,0,0,0,0,0,0,0,0,0,0,0,0,0,0,0,0,0,0,0,0,0,0,0,0,0,0,0,0,0,0,0,0,0,0,0,0,0,0,0,0,0,0,0,0,0,0,0,0,0,{"$f":"+JRX5+JRX6+JRX7","v":0},0,0,0,0,0,0,0,0,0,0,0,0,0,0,0,0,0,0,0,0,0,0,0,0,0,0,0,0,0,0,0,0,0,0,0,0,0,0,0,0,0,0,0,0,0,0,0,0,0,0,0,0,0,0,0,0,0,0,0,0,0,0,0,{"$f":"+JUJ5+JUJ6+JUJ7","v":0},0,0,0,0,0,0,0,0,0,0,0,0,0,0,0,0,0,0,0,0,0,0,0,0,0,0,0,0,0,0,0,0,0,0,0,0,0,0,0,0,0,0,0,0,0,0,0,0,0,0,0,0,0,0,0,0,0,0,0,0,0,0,0,{"$f":"+JWV5+JWV6+JWV7","v":0},0,0,0,0,0,0,0,0,0,0,0,0,0,0,0,0,0,0,0,0,0,0,0,0,0,0,0,0,0,0,0,0,0,0,0,0,0,0,0,0,0,0,0,0,0,0,0,0,0,0,0,0,0,0,0,0,0,0,0,0,0,0,0,{"$f":"+JZH5+JZH6+JZH7","v":0},0,0,0,0,0,0,0,0,0,0,0,0,0,0,0,0,0,0,0,0,0,0,0,0,0,0,0,0,0,0,0,0,0,0,0,0,0,0,0,0,0,0,0,0,0,0,0,0,0,0,0,0,0,0,0,0,0,0,0,0,0,0,0,{"$f":"+KBT5+KBT6+KBT7","v":0},0,0,0,0,0,0,0,0,0,0,0,0,0,0,0,0,0,0,0,0,0,0,0,0,0,0,0,0,0,0,0,0,0,0,0,0,0,0,0,0,0,0,0,0,0,0,0,0,0,0,0,0,0,0,0,0,0,0,0,0,0,0,0,{"$f":"+KEF5+KEF6+KEF7","v":0},0,0,0,0,0,0,0,0,0,0,0,0,0,0,0,0,0,0,0,0,0,0,0,0,0,0,0,0,0,0,0,0,0,0,0,0,0,0,0,0,0,0,0,0,0,0,0,0,0,0,0,0,0,0,0,0,0,0,0,0,0,0,0,{"$f":"+KGR5+KGR6+KGR7","v":0},0,0,0,0,0,0,0,0,0,0,0,0,0,0,0,0,0,0,0,0,0,0,0,0,0,0,0,0,0,0,0,0,0,0,0,0,0,0,0,0,0,0,0,0,0,0,0,0,0,0,0,0,0,0,0,0,0,0,0,0,0,0,0,{"$f":"+KJD5+KJD6+KJD7","v":0},0,0,0,0,0,0,0,0,0,0,0,0,0,0,0,0,0,0,0,0,0,0,0,0,0,0,0,0,0,0,0,0,0,0,0,0,0,0,0,0,0,0,0,0,0,0,0,0,0,0,0,0,0,0,0,0,0,0,0,0,0,0,0,{"$f":"+KLP5+KLP6+KLP7","v":0},0,0,0,0,0,0,0,0,0,0,0,0,0,0,0,0,0,0,0,0,0,0,0,0,0,0,0,0,0,0,0,0,0,0,0,0,0,0,0,0,0,0,0,0,0,0,0,0,0,0,0,0,0,0,0,0,0,0,0,0,0,0,0,{"$f":"+KOB5+KOB6+KOB7","v":0},0,0,0,0,0,0,0,0,0,0,0,0,0,0,0,0,0,0,0,0,0,0,0,0,0,0,0,0,0,0,0,0,0,0,0,0,0,0,0,0,0,0,0,0,0,0,0,0,0,0,0,0,0,0,0,0,0,0,0,0,0,0,0,{"$f":"+KQN5+KQN6+KQN7","v":0},0,0,0,0,0,0,0,0,0,0,0,0,0,0,0,0,0,0,0,0,0,0,0,0,0,0,0,0,0,0,0,0,0,0,0,0,0,0,0,0,0,0,0,0,0,0,0,0,0,0,0,0,0,0,0,0,0,0,0,0,0,0,0,{"$f":"+KSZ5+KSZ6+KSZ7","v":0},0,0,0,0,0,0,0,0,0,0,0,0,0,0,0,0,0,0,0,0,0,0,0,0,0,0,0,0,0,0,0,0,0,0,0,0,0,0,0,0,0,0,0,0,0,0,0,0,0,0,0,0,0,0,0,0,0,0,0,0,0,0,0,{"$f":"+KVL5+KVL6+KVL7","v":0},0,0,0,0,0,0,0,0,0,0,0,0,0,0,0,0,0,0,0,0,0,0,0,0,0,0,0,0,0,0,0,0,0,0,0,0,0,0,0,0,0,0,0,0,0,0,0,0,0,0,0,0,0,0,0,0,0,0,0,0,0,0,0,{"$f":"+KXX5+KXX6+KXX7","v":0},0,0,0,0,0,0,0,0,0,0,0,0,0,0,0,0,0,0,0,0,0,0,0,0,0,0,0,0,0,0,0,0,0,0,0,0,0,0,0,0,0,0,0,0,0,0,0,0,0,0,0,0,0,0,0,0,0,0,0,0,0,0,0,{"$f":"+LAJ5+LAJ6+LAJ7","v":0},0,0,0,0,0,0,0,0,0,0,0,0,0,0,0,0,0,0,0,0,0,0,0,0,0,0,0,0,0,0,0,0,0,0,0,0,0,0,0,0,0,0,0,0,0,0,0,0,0,0,0,0,0,0,0,0,0,0,0,0,0,0,0,{"$f":"+LCV5+LCV6+LCV7","v":0},0,0,0,0,0,0,0,0,0,0,0,0,0,0,0,0,0,0,0,0,0,0,0,0,0,0,0,0,0,0,0,0,0,0,0,0,0,0,0,0,0,0,0,0,0,0,0,0,0,0,0,0,0,0,0,0,0,0,0,0,0,0,0,{"$f":"+LFH5+LFH6+LFH7","v":0},0,0,0,0,0,0,0,0,0,0,0,0,0,0,0,0,0,0,0,0,0,0,0,0,0,0,0,0,0,0,0,0,0,0,0,0,0,0,0,0,0,0,0,0,0,0,0,0,0,0,0,0,0,0,0,0,0,0,0,0,0,0,0,{"$f":"+LHT5+LHT6+LHT7","v":0},0,0,0,0,0,0,0,0,0,0,0,0,0,0,0,0,0,0,0,0,0,0,0,0,0,0,0,0,0,0,0,0,0,0,0,0,0,0,0,0,0,0,0,0,0,0,0,0,0,0,0,0,0,0,0,0,0,0,0,0,0,0,0,{"$f":"+LKF5+LKF6+LKF7","v":0},0,0,0,0,0,0,0,0,0,0,0,0,0,0,0,0,0,0,0,0,0,0,0,0,0,0,0,0,0,0,0,0,0,0,0,0,0,0,0,0,0,0,0,0,0,0,0,0,0,0,0,0,0,0,0,0,0,0,0,0,0,0,0,{"$f":"+LMR5+LMR6+LMR7","v":0},0,0,0,0,0,0,0,0,0,0,0,0,0,0,0,0,0,0,0,0,0,0,0,0,0,0,0,0,0,0,0,0,0,0,0,0,0,0,0,0,0,0,0,0,0,0,0,0,0,0,0,0,0,0,0,0,0,0,0,0,0,0,0,{"$f":"+LPD5+LPD6+LPD7","v":0},0,0,0,0,0,0,0,0,0,0,0,0,0,0,0,0,0,0,0,0,0,0,0,0,0,0,0,0,0,0,0,0,0,0,0,0,0,0,0,0,0,0,0,0,0,0,0,0,0,0,0,0,0,0,0,0,0,0,0,0,0,0,0,{"$f":"+LRP5+LRP6+LRP7","v":0},0,0,0,0,0,0,0,0,0,0,0,0,0,0,0,0,0,0,0,0,0,0,0,0,0,0,0,0,0,0,0,0,0,0,0,0,0,0,0,0,0,0,0,0,0,0,0,0,0,0,0,0,0,0,0,0,0,0,0,0,0,0,0,{"$f":"+LUB5+LUB6+LUB7","v":0},0,0,0,0,0,0,0,0,0,0,0,0,0,0,0,0,0,0,0,0,0,0,0,0,0,0,0,0,0,0,0,0,0,0,0,0,0,0,0,0,0,0,0,0,0,0,0,0,0,0,0,0,0,0,0,0,0,0,0,0,0,0,0,{"$f":"+LWN5+LWN6+LWN7","v":0},0,0,0,0,0,0,0,0,0,0,0,0,0,0,0,0,0,0,0,0,0,0,0,0,0,0,0,0,0,0,0,0,0,0,0,0,0,0,0,0,0,0,0,0,0,0,0,0,0,0,0,0,0,0,0,0,0,0,0,0,0,0,0,{"$f":"+LYZ5+LYZ6+LYZ7","v":0},0,0,0,0,0,0,0,0,0,0,0,0,0,0,0,0,0,0,0,0,0,0,0,0,0,0,0,0,0,0,0,0,0,0,0,0,0,0,0,0,0,0,0,0,0,0,0,0,0,0,0,0,0,0,0,0,0,0,0,0,0,0,0,{"$f":"+MBL5+MBL6+MBL7","v":0},0,0,0,0,0,0,0,0,0,0,0,0,0,0,0,0,0,0,0,0,0,0,0,0,0,0,0,0,0,0,0,0,0,0,0,0,0,0,0,0,0,0,0,0,0,0,0,0,0,0,0,0,0,0,0,0,0,0,0,0,0,0,0,{"$f":"+MDX5+MDX6+MDX7","v":0},0,0,0,0,0,0,0,0,0,0,0,0,0,0,0,0,0,0,0,0,0,0,0,0,0,0,0,0,0,0,0,0,0,0,0,0,0,0,0,0,0,0,0,0,0,0,0,0,0,0,0,0,0,0,0,0,0,0,0,0,0,0,0,{"$f":"+MGJ5+MGJ6+MGJ7","v":0},0,0,0,0,0,0,0,0,0,0,0,0,0,0,0,0,0,0,0,0,0,0,0,0,0,0,0,0,0,0,0,0,0,0,0,0,0,0,0,0,0,0,0,0,0,0,0,0,0,0,0,0,0,0,0,0,0,0,0,0,0,0,0,{"$f":"+MIV5+MIV6+MIV7","v":0},0,0,0,0,0,0,0,0,0,0,0,0,0,0,0,0,0,0,0,0,0,0,0,0,0,0,0,0,0,0,0,0,0,0,0,0,0,0,0,0,0,0,0,0,0,0,0,0,0,0,0,0,0,0,0,0,0,0,0,0,0,0,0,{"$f":"+MLH5+MLH6+MLH7","v":0},0,0,0,0,0,0,0,0,0,0,0,0,0,0,0,0,0,0,0,0,0,0,0,0,0,0,0,0,0,0,0,0,0,0,0,0,0,0,0,0,0,0,0,0,0,0,0,0,0,0,0,0,0,0,0,0,0,0,0,0,0,0,0,{"$f":"+MNT5+MNT6+MNT7","v":0},0,0,0,0,0,0,0,0,0,0,0,0,0,0,0,0,0,0,0,0,0,0,0,0,0,0,0,0,0,0,0,0,0,0,0,0,0,0,0,0,0,0,0,0,0,0,0,0,0,0,0,0,0,0,0,0,0,0,0,0,0,0,0,{"$f":"+MQF5+MQF6+MQF7","v":0},0,0,0,0,0,0,0,0,0,0,0,0,0,0,0,0,0,0,0,0,0,0,0,0,0,0,0,0,0,0,0,0,0,0,0,0,0,0,0,0,0,0,0,0,0,0,0,0,0,0,0,0,0,0,0,0,0,0,0,0,0,0,0,{"$f":"+MSR5+MSR6+MSR7","v":0},0,0,0,0,0,0,0,0,0,0,0,0,0,0,0,0,0,0,0,0,0,0,0,0,0,0,0,0,0,0,0,0,0,0,0,0,0,0,0,0,0,0,0,0,0,0,0,0,0,0,0,0,0,0,0,0,0,0,0,0,0,0,0,{"$f":"+MVD5+MVD6+MVD7","v":0},0,0,0,0,0,0,0,0,0,0,0,0,0,0,0,0,0,0,0,0,0,0,0,0,0,0,0,0,0,0,0,0,0,0,0,0,0,0,0,0,0,0,0,0,0,0,0,0,0,0,0,0,0,0,0,0,0,0,0,0,0,0,0,{"$f":"+MXP5+MXP6+MXP7","v":0},0,0,0,0,0,0,0,0,0,0,0,0,0,0,0,0,0,0,0,0,0,0,0,0,0,0,0,0,0,0,0,0,0,0,0,0,0,0,0,0,0,0,0,0,0,0,0,0,0,0,0,0,0,0,0,0,0,0,0,0,0,0,0,{"$f":"+NAB5+NAB6+NAB7","v":0},0,0,0,0,0,0,0,0,0,0,0,0,0,0,0,0,0,0,0,0,0,0,0,0,0,0,0,0,0,0,0,0,0,0,0,0,0,0,0,0,0,0,0,0,0,0,0,0,0,0,0,0,0,0,0,0,0,0,0,0,0,0,0,{"$f":"+NCN5+NCN6+NCN7","v":0},0,0,0,0,0,0,0,0,0,0,0,0,0,0,0,0,0,0,0,0,0,0,0,0,0,0,0,0,0,0,0,0,0,0,0,0,0,0,0,0,0,0,0,0,0,0,0,0,0,0,0,0,0,0,0,0,0,0,0,0,0,0,0,{"$f":"+NEZ5+NEZ6+NEZ7","v":0},0,0,0,0,0,0,0,0,0,0,0,0,0,0,0,0,0,0,0,0,0,0,0,0,0,0,0,0,0,0,0,0,0,0,0,0,0,0,0,0,0,0,0,0,0,0,0,0,0,0,0,0,0,0,0,0,0,0,0,0,0,0,0,{"$f":"+NHL5+NHL6+NHL7","v":0},0,0,0,0,0,0,0,0,0,0,0,0,0,0,0,0,0,0,0,0,0,0,0,0,0,0,0,0,0,0,0,0,0,0,0,0,0,0,0,0,0,0,0,0,0,0,0,0,0,0,0,0,0,0,0,0,0,0,0,0,0,0,0,{"$f":"+NJX5+NJX6+NJX7","v":0},0,0,0,0,0,0,0,0,0,0,0,0,0,0,0,0,0,0,0,0,0,0,0,0,0,0,0,0,0,0,0,0,0,0,0,0,0,0,0,0,0,0,0,0,0,0,0,0,0,0,0,0,0,0,0,0,0,0,0,0,0,0,0,{"$f":"+NMJ5+NMJ6+NMJ7","v":0},0,0,0,0,0,0,0,0,0,0,0,0,0,0,0,0,0,0,0,0,0,0,0,0,0,0,0,0,0,0,0,0,0,0,0,0,0,0,0,0,0,0,0,0,0,0,0,0,0,0,0,0,0,0,0,0,0,0,0,0,0,0,0,{"$f":"+NOV5+NOV6+NOV7","v":0},0,0,0,0,0,0,0,0,0,0,0,0,0,0,0,0,0,0,0,0,0,0,0,0,0,0,0,0,0,0,0,0,0,0,0,0,0,0,0,0,0,0,0,0,0,0,0,0,0,0,0,0,0,0,0,0,0,0,0,0,0,0,0,{"$f":"+NRH5+NRH6+NRH7","v":0},0,0,0,0,0,0,0,0,0,0,0,0,0,0,0,0,0,0,0,0,0,0,0,0,0,0,0,0,0,0,0,0,0,0,0,0,0,0,0,0,0,0,0,0,0,0,0,0,0,0,0,0,0,0,0,0,0,0,0,0,0,0,0,{"$f":"+NTT5+NTT6+NTT7","v":0},0,0,0,0,0,0,0,0,0,0,0,0,0,0,0,0,0,0,0,0,0,0,0,0,0,0,0,0,0,0,0,0,0,0,0,0,0,0,0,0,0,0,0,0,0,0,0,0,0,0,0,0,0,0,0,0,0,0,0,0,0,0,0,{"$f":"+NWF5+NWF6+NWF7","v":0},0,0,0,0,0,0,0,0,0,0,0,0,0,0,0,0,0,0,0,0,0,0,0,0,0,0,0,0,0,0,0,0,0,0,0,0,0,0,0,0,0,0,0,0,0,0,0,0,0,0,0,0,0,0,0,0,0,0,0,0,0,0,0,{"$f":"+NYR5+NYR6+NYR7","v":0},0,0,0,0,0,0,0,0,0,0,0,0,0,0,0,0,0,0,0,0,0,0,0,0,0,0,0,0,0,0,0,0,0,0,0,0,0,0,0,0,0,0,0,0,0,0,0,0,0,0,0,0,0,0,0,0,0,0,0,0,0,0,0,{"$f":"+OBD5+OBD6+OBD7","v":0},0,0,0,0,0,0,0,0,0,0,0,0,0,0,0,0,0,0,0,0,0,0,0,0,0,0,0,0,0,0,0,0,0,0,0,0,0,0,0,0,0,0,0,0,0,0,0,0,0,0,0,0,0,0,0,0,0,0,0,0,0,0,0,{"$f":"+ODP5+ODP6+ODP7","v":0},0,0,0,0,0,0,0,0,0,0,0,0,0,0,0,0,0,0,0,0,0,0,0,0,0,0,0,0,0,0,0,0,0,0,0,0,0,0,0,0,0,0,0,0,0,0,0,0,0,0,0,0,0,0,0,0,0,0,0,0,0,0,0,{"$f":"+OGB5+OGB6+OGB7","v":0},0,0,0,0,0,0,0,0,0,0,0,0,0,0,0,0,0,0,0,0,0,0,0,0,0,0,0,0,0,0,0,0,0,0,0,0,0,0,0,0,0,0,0,0,0,0,0,0,0,0,0,0,0,0,0,0,0,0,0,0,0,0,0,{"$f":"+OIN5+OIN6+OIN7","v":0},0,0,0,0,0,0,0,0,0,0,0,0,0,0,0,0,0,0,0,0,0,0,0,0,0,0,0,0,0,0,0,0,0,0,0,0,0,0,0,0,0,0,0,0,0,0,0,0,0,0,0,0,0,0,0,0,0,0,0,0,0,0,0,{"$f":"+OKZ5+OKZ6+OKZ7","v":0},0,0,0,0,0,0,0,0,0,0,0,0,0,0,0,0,0,0,0,0,0,0,0,0,0,0,0,0,0,0,0,0,0,0,0,0,0,0,0,0,0,0,0,0,0,0,0,0,0,0,0,0,0,0,0,0,0,0,0,0,0,0,0,{"$f":"+ONL5+ONL6+ONL7","v":0},0,0,0,0,0,0,0,0,0,0,0,0,0,0,0,0,0,0,0,0,0,0,0,0,0,0,0,0,0,0,0,0,0,0,0,0,0,0,0,0,0,0,0,0,0,0,0,0,0,0,0,0,0,0,0,0,0,0,0,0,0,0,0,{"$f":"+OPX5+OPX6+OPX7","v":0},0,0,0,0,0,0,0,0,0,0,0,0,0,0,0,0,0,0,0,0,0,0,0,0,0,0,0,0,0,0,0,0,0,0,0,0,0,0,0,0,0,0,0,0,0,0,0,0,0,0,0,0,0,0,0,0,0,0,0,0,0,0,0,{"$f":"+OSJ5+OSJ6+OSJ7","v":0},0,0,0,0,0,0,0,0,0,0,0,0,0,0,0,0,0,0,0,0,0,0,0,0,0,0,0,0,0,0,0,0,0,0,0,0,0,0,0,0,0,0,0,0,0,0,0,0,0,0,0,0,0,0,0,0,0,0,0,0,0,0,0,{"$f":"+OUV5+OUV6+OUV7","v":0},0,0,0,0,0,0,0,0,0,0,0,0,0,0,0,0,0,0,0,0,0,0,0,0,0,0,0,0,0,0,0,0,0,0,0,0,0,0,0,0,0,0,0,0,0,0,0,0,0,0,0,0,0,0,0,0,0,0,0,0,0,0,0,{"$f":"+OXH5+OXH6+OXH7","v":0},0,0,0,0,0,0,0,0,0,0,0,0,0,0,0,0,0,0,0,0,0,0,0,0,0,0,0,0,0,0,0,0,0,0,0,0,0,0,0,0,0,0,0,0,0,0,0,0,0,0,0,0,0,0,0,0,0,0,0,0,0,0,0,{"$f":"+OZT5+OZT6+OZT7","v":0},0,0,0,0,0,0,0,0,0,0,0,0,0,0,0,0,0,0,0,0,0,0,0,0,0,0,0,0,0,0,0,0,0,0,0,0,0,0,0,0,0,0,0,0,0,0,0,0,0,0,0,0,0,0,0,0,0,0,0,0,0,0,0,{"$f":"+PCF5+PCF6+PCF7","v":0},0,0,0,0,0,0,0,0,0,0,0,0,0,0,0,0,0,0,0,0,0,0,0,0,0,0,0,0,0,0,0,0,0,0,0,0,0,0,0,0,0,0,0,0,0,0,0,0,0,0,0,0,0,0,0,0,0,0,0,0,0,0,0,{"$f":"+PER5+PER6+PER7","v":0},0,0,0,0,0,0,0,0,0,0,0,0,0,0,0,0,0,0,0,0,0,0,0,0,0,0,0,0,0,0,0,0,0,0,0,0,0,0,0,0,0,0,0,0,0,0,0,0,0,0,0,0,0,0,0,0,0,0,0,0,0,0,0,{"$f":"+PHD5+PHD6+PHD7","v":0},0,0,0,0,0,0,0,0,0,0,0,0,0,0,0,0,0,0,0,0,0,0,0,0,0,0,0,0,0,0,0,0,0,0,0,0,0,0,0,0,0,0,0,0,0,0,0,0,0,0,0,0,0,0,0,0,0,0,0,0,0,0,0,{"$f":"+PJP5+PJP6+PJP7","v":0},0,0,0,0,0,0,0,0,0,0,0,0,0,0,0,0,0,0,0,0,0,0,0,0,0,0,0,0,0,0,0,0,0,0,0,0,0,0,0,0,0,0,0,0,0,0,0,0,0,0,0,0,0,0,0,0,0,0,0,0,0,0,0,{"$f":"+PMB5+PMB6+PMB7","v":0},0,0,0,0,0,0,0,0,0,0,0,0,0,0,0,0,0,0,0,0,0,0,0,0,0,0,0,0,0,0,0,0,0,0,0,0,0,0,0,0,0,0,0,0,0,0,0,0,0,0,0,0,0,0,0,0,0,0,0,0,0,0,0,{"$f":"+PON5+PON6+PON7","v":0},0,0,0,0,0,0,0,0,0,0,0,0,0,0,0,0,0,0,0,0,0,0,0,0,0,0,0,0,0,0,0,0,0,0,0,0,0,0,0,0,0,0,0,0,0,0,0,0,0,0,0,0,0,0,0,0,0,0,0,0,0,0,0,{"$f":"+PQZ5+PQZ6+PQZ7","v":0},0,0,0,0,0,0,0,0,0,0,0,0,0,0,0,0,0,0,0,0,0,0,0,0,0,0,0,0,0,0,0,0,0,0,0,0,0,0,0,0,0,0,0,0,0,0,0,0,0,0,0,0,0,0,0,0,0,0,0,0,0,0,0,{"$f":"+PTL5+PTL6+PTL7","v":0},0,0,0,0,0,0,0,0,0,0,0,0,0,0,0,0,0,0,0,0,0,0,0,0,0,0,0,0,0,0,0,0,0,0,0,0,0,0,0,0,0,0,0,0,0,0,0,0,0,0,0,0,0,0,0,0,0,0,0,0,0,0,0,{"$f":"+PVX5+PVX6+PVX7","v":0},0,0,0,0,0,0,0,0,0,0,0,0,0,0,0,0,0,0,0,0,0,0,0,0,0,0,0,0,0,0,0,0,0,0,0,0,0,0,0,0,0,0,0,0,0,0,0,0,0,0,0,0,0,0,0,0,0,0,0,0,0,0,0,{"$f":"+PYJ5+PYJ6+PYJ7","v":0},0,0,0,0,0,0,0,0,0,0,0,0,0,0,0,0,0,0,0,0,0,0,0,0,0,0,0,0,0,0,0,0,0,0,0,0,0,0,0,0,0,0,0,0,0,0,0,0,0,0,0,0,0,0,0,0,0,0,0,0,0,0,0,{"$f":"+QAV5+QAV6+QAV7","v":0},0,0,0,0,0,0,0,0,0,0,0,0,0,0,0,0,0,0,0,0,0,0,0,0,0,0,0,0,0,0,0,0,0,0,0,0,0,0,0,0,0,0,0,0,0,0,0,0,0,0,0,0,0,0,0,0,0,0,0,0,0,0,0,{"$f":"+QDH5+QDH6+QDH7","v":0},0,0,0,0,0,0,0,0,0,0,0,0,0,0,0,0,0,0,0,0,0,0,0,0,0,0,0,0,0,0,0,0,0,0,0,0,0,0,0,0,0,0,0,0,0,0,0,0,0,0,0,0,0,0,0,0,0,0,0,0,0,0,0,{"$f":"+QFT5+QFT6+QFT7","v":0},0,0,0,0,0,0,0,0,0,0,0,0,0,0,0,0,0,0,0,0,0,0,0,0,0,0,0,0,0,0,0,0,0,0,0,0,0,0,0,0,0,0,0,0,0,0,0,0,0,0,0,0,0,0,0,0,0,0,0,0,0,0,0,{"$f":"+QIF5+QIF6+QIF7","v":0},0,0,0,0,0,0,0,0,0,0,0,0,0,0,0,0,0,0,0,0,0,0,0,0,0,0,0,0,0,0,0,0,0,0,0,0,0,0,0,0,0,0,0,0,0,0,0,0,0,0,0,0,0,0,0,0,0,0,0,0,0,0,0,{"$f":"+QKR5+QKR6+QKR7","v":0},0,0,0,0,0,0,0,0,0,0,0,0,0,0,0,0,0,0,0,0,0,0,0,0,0,0,0,0,0,0,0,0,0,0,0,0,0,0,0,0,0,0,0,0,0,0,0,0,0,0,0,0,0,0,0,0,0,0,0,0,0,0,0,{"$f":"+QND5+QND6+QND7","v":0},0,0,0,0,0,0,0,0,0,0,0,0,0,0,0,0,0,0,0,0,0,0,0,0,0,0,0,0,0,0,0,0,0,0,0,0,0,0,0,0,0,0,0,0,0,0,0,0,0,0,0,0,0,0,0,0,0,0,0,0,0,0,0,{"$f":"+QPP5+QPP6+QPP7","v":0},0,0,0,0,0,0,0,0,0,0,0,0,0,0,0,0,0,0,0,0,0,0,0,0,0,0,0,0,0,0,0,0,0,0,0,0,0,0,0,0,0,0,0,0,0,0,0,0,0,0,0,0,0,0,0,0,0,0,0,0,0,0,0,{"$f":"+QSB5+QSB6+QSB7","v":0},0,0,0,0,0,0,0,0,0,0,0,0,0,0,0,0,0,0,0,0,0,0,0,0,0,0,0,0,0,0,0,0,0,0,0,0,0,0,0,0,0,0,0,0,0,0,0,0,0,0,0,0,0,0,0,0,0,0,0,0,0,0,0,{"$f":"+QUN5+QUN6+QUN7","v":0},0,0,0,0,0,0,0,0,0,0,0,0,0,0,0,0,0,0,0,0,0,0,0,0,0,0,0,0,0,0,0,0,0,0,0,0,0,0,0,0,0,0,0,0,0,0,0,0,0,0,0,0,0,0,0,0,0,0,0,0,0,0,0,{"$f":"+QWZ5+QWZ6+QWZ7","v":0},0,0,0,0,0,0,0,0,0,0,0,0,0,0,0,0,0,0,0,0,0,0,0,0,0,0,0,0,0,0,0,0,0,0,0,0,0,0,0,0,0,0,0,0,0,0,0,0,0,0,0,0,0,0,0,0,0,0,0,0,0,0,0,{"$f":"+QZL5+QZL6+QZL7","v":0},0,0,0,0,0,0,0,0,0,0,0,0,0,0,0,0,0,0,0,0,0,0,0,0,0,0,0,0,0,0,0,0,0,0,0,0,0,0,0,0,0,0,0,0,0,0,0,0,0,0,0,0,0,0,0,0,0,0,0,0,0,0,0,{"$f":"+RBX5+RBX6+RBX7","v":0},0,0,0,0,0,0,0,0,0,0,0,0,0,0,0,0,0,0,0,0,0,0,0,0,0,0,0,0,0,0,0,0,0,0,0,0,0,0,0,0,0,0,0,0,0,0,0,0,0,0,0,0,0,0,0,0,0,0,0,0,0,0,0,{"$f":"+REJ5+REJ6+REJ7","v":0},0,0,0,0,0,0,0,0,0,0,0,0,0,0,0,0,0,0,0,0,0,0,0,0,0,0,0,0,0,0,0,0,0,0,0,0,0,0,0,0,0,0,0,0,0,0,0,0,0,0,0,0,0,0,0,0,0,0,0,0,0,0,0,{"$f":"+RGV5+RGV6+RGV7","v":0},0,0,0,0,0,0,0,0,0,0,0,0,0,0,0,0,0,0,0,0,0,0,0,0,0,0,0,0,0,0,0,0,0,0,0,0,0,0,0,0,0,0,0,0,0,0,0,0,0,0,0,0,0,0,0,0,0,0,0,0,0,0,0,{"$f":"+RJH5+RJH6+RJH7","v":0},0,0,0,0,0,0,0,0,0,0,0,0,0,0,0,0,0,0,0,0,0,0,0,0,0,0,0,0,0,0,0,0,0,0,0,0,0,0,0,0,0,0,0,0,0,0,0,0,0,0,0,0,0,0,0,0,0,0,0,0,0,0,0,{"$f":"+RLT5+RLT6+RLT7","v":0},0,0,0,0,0,0,0,0,0,0,0,0,0,0,0,0,0,0,0,0,0,0,0,0,0,0,0,0,0,0,0,0,0,0,0,0,0,0,0,0,0,0,0,0,0,0,0,0,0,0,0,0,0,0,0,0,0,0,0,0,0,0,0,{"$f":"+ROF5+ROF6+ROF7","v":0},0,0,0,0,0,0,0,0,0,0,0,0,0,0,0,0,0,0,0,0,0,0,0,0,0,0,0,0,0,0,0,0,0,0,0,0,0,0,0,0,0,0,0,0,0,0,0,0,0,0,0,0,0,0,0,0,0,0,0,0,0,0,0,{"$f":"+RQR5+RQR6+RQR7","v":0},0,0,0,0,0,0,0,0,0,0,0,0,0,0,0,0,0,0,0,0,0,0,0,0,0,0,0,0,0,0,0,0,0,0,0,0,0,0,0,0,0,0,0,0,0,0,0,0,0,0,0,0,0,0,0,0,0,0,0,0,0,0,0,{"$f":"+RTD5+RTD6+RTD7","v":0},0,0,0,0,0,0,0,0,0,0,0,0,0,0,0,0,0,0,0,0,0,0,0,0,0,0,0,0,0,0,0,0,0,0,0,0,0,0,0,0,0,0,0,0,0,0,0,0,0,0,0,0,0,0,0,0,0,0,0,0,0,0,0,{"$f":"+RVP5+RVP6+RVP7","v":0},0,0,0,0,0,0,0,0,0,0,0,0,0,0,0,0,0,0,0,0,0,0,0,0,0,0,0,0,0,0,0,0,0,0,0,0,0,0,0,0,0,0,0,0,0,0,0,0,0,0,0,0,0,0,0,0,0,0,0,0,0,0,0,{"$f":"+RYB5+RYB6+RYB7","v":0},0,0,0,0,0,0,0,0,0,0,0,0,0,0,0,0,0,0,0,0,0,0,0,0,0,0,0,0,0,0,0,0,0,0,0,0,0,0,0,0,0,0,0,0,0,0,0,0,0,0,0,0,0,0,0,0,0,0,0,0,0,0,0,{"$f":"+SAN5+SAN6+SAN7","v":0},0,0,0,0,0,0,0,0,0,0,0,0,0,0,0,0,0,0,0,0,0,0,0,0,0,0,0,0,0,0,0,0,0,0,0,0,0,0,0,0,0,0,0,0,0,0,0,0,0,0,0,0,0,0,0,0,0,0,0,0,0,0,0,{"$f":"+SCZ5+SCZ6+SCZ7","v":0},0,0,0,0,0,0,0,0,0,0,0,0,0,0,0,0,0,0,0,0,0,0,0,0,0,0,0,0,0,0,0,0,0,0,0,0,0,0,0,0,0,0,0,0,0,0,0,0,0,0,0,0,0,0,0,0,0,0,0,0,0,0,0,{"$f":"+SFL5+SFL6+SFL7","v":0},0,0,0,0,0,0,0,0,0,0,0,0,0,0,0,0,0,0,0,0,0,0,0,0,0,0,0,0,0,0,0,0,0,0,0,0,0,0,0,0,0,0,0,0,0,0,0,0,0,0,0,0,0,0,0,0,0,0,0,0,0,0,0,{"$f":"+SHX5+SHX6+SHX7","v":0},0,0,0,0,0,0,0,0,0,0,0,0,0,0,0,0,0,0,0,0,0,0,0,0,0,0,0,0,0,0,0,0,0,0,0,0,0,0,0,0,0,0,0,0,0,0,0,0,0,0,0,0,0,0,0,0,0,0,0,0,0,0,0,{"$f":"+SKJ5+SKJ6+SKJ7","v":0},0,0,0,0,0,0,0,0,0,0,0,0,0,0,0,0,0,0,0,0,0,0,0,0,0,0,0,0,0,0,0,0,0,0,0,0,0,0,0,0,0,0,0,0,0,0,0,0,0,0,0,0,0,0,0,0,0,0,0,0,0,0,0,{"$f":"+SMV5+SMV6+SMV7","v":0},0,0,0,0,0,0,0,0,0,0,0,0,0,0,0,0,0,0,0,0,0,0,0,0,0,0,0,0,0,0,0,0,0,0,0,0,0,0,0,0,0,0,0,0,0,0,0,0,0,0,0,0,0,0,0,0,0,0,0,0,0,0,0,{"$f":"+SPH5+SPH6+SPH7","v":0},0,0,0,0,0,0,0,0,0,0,0,0,0,0,0,0,0,0,0,0,0,0,0,0,0,0,0,0,0,0,0,0,0,0,0,0,0,0,0,0,0,0,0,0,0,0,0,0,0,0,0,0,0,0,0,0,0,0,0,0,0,0,0,{"$f":"+SRT5+SRT6+SRT7","v":0},0,0,0,0,0,0,0,0,0,0,0,0,0,0,0,0,0,0,0,0,0,0,0,0,0,0,0,0,0,0,0,0,0,0,0,0,0,0,0,0,0,0,0,0,0,0,0,0,0,0,0,0,0,0,0,0,0,0,0,0,0,0,0,{"$f":"+SUF5+SUF6+SUF7","v":0},0,0,0,0,0,0,0,0,0,0,0,0,0,0,0,0,0,0,0,0,0,0,0,0,0,0,0,0,0,0,0,0,0,0,0,0,0,0,0,0,0,0,0,0,0,0,0,0,0,0,0,0,0,0,0,0,0,0,0,0,0,0,0,{"$f":"+SWR5+SWR6+SWR7","v":0},0,0,0,0,0,0,0,0,0,0,0,0,0,0,0,0,0,0,0,0,0,0,0,0,0,0,0,0,0,0,0,0,0,0,0,0,0,0,0,0,0,0,0,0,0,0,0,0,0,0,0,0,0,0,0,0,0,0,0,0,0,0,0,{"$f":"+SZD5+SZD6+SZD7","v":0},0,0,0,0,0,0,0,0,0,0,0,0,0,0,0,0,0,0,0,0,0,0,0,0,0,0,0,0,0,0,0,0,0,0,0,0,0,0,0,0,0,0,0,0,0,0,0,0,0,0,0,0,0,0,0,0,0,0,0,0,0,0,0,{"$f":"+TBP5+TBP6+TBP7","v":0},0,0,0,0,0,0,0,0,0,0,0,0,0,0,0,0,0,0,0,0,0,0,0,0,0,0,0,0,0,0,0,0,0,0,0,0,0,0,0,0,0,0,0,0,0,0,0,0,0,0,0,0,0,0,0,0,0,0,0,0,0,0,0,{"$f":"+TEB5+TEB6+TEB7","v":0},0,0,0,0,0,0,0,0,0,0,0,0,0,0,0,0,0,0,0,0,0,0,0,0,0,0,0,0,0,0,0,0,0,0,0,0,0,0,0,0,0,0,0,0,0,0,0,0,0,0,0,0,0,0,0,0,0,0,0,0,0,0,0,{"$f":"+TGN5+TGN6+TGN7","v":0},0,0,0,0,0,0,0,0,0,0,0,0,0,0,0,0,0,0,0,0,0,0,0,0,0,0,0,0,0,0,0,0,0,0,0,0,0,0,0,0,0,0,0,0,0,0,0,0,0,0,0,0,0,0,0,0,0,0,0,0,0,0,0,{"$f":"+TIZ5+TIZ6+TIZ7","v":0},0,0,0,0,0,0,0,0,0,0,0,0,0,0,0,0,0,0,0,0,0,0,0,0,0,0,0,0,0,0,0,0,0,0,0,0,0,0,0,0,0,0,0,0,0,0,0,0,0,0,0,0,0,0,0,0,0,0,0,0,0,0,0,{"$f":"+TLL5+TLL6+TLL7","v":0},0,0,0,0,0,0,0,0,0,0,0,0,0,0,0,0,0,0,0,0,0,0,0,0,0,0,0,0,0,0,0,0,0,0,0,0,0,0,0,0,0,0,0,0,0,0,0,0,0,0,0,0,0,0,0,0,0,0,0,0,0,0,0,{"$f":"+TNX5+TNX6+TNX7","v":0},0,0,0,0,0,0,0,0,0,0,0,0,0,0,0,0,0,0,0,0,0,0,0,0,0,0,0,0,0,0,0,0,0,0,0,0,0,0,0,0,0,0,0,0,0,0,0,0,0,0,0,0,0,0,0,0,0,0,0,0,0,0,0,{"$f":"+TQJ5+TQJ6+TQJ7","v":0},0,0,0,0,0,0,0,0,0,0,0,0,0,0,0,0,0,0,0,0,0,0,0,0,0,0,0,0,0,0,0,0,0,0,0,0,0,0,0,0,0,0,0,0,0,0,0,0,0,0,0,0,0,0,0,0,0,0,0,0,0,0,0,{"$f":"+TSV5+TSV6+TSV7","v":0},0,0,0,0,0,0,0,0,0,0,0,0,0,0,0,0,0,0,0,0,0,0,0,0,0,0,0,0,0,0,0,0,0,0,0,0,0,0,0,0,0,0,0,0,0,0,0,0,0,0,0,0,0,0,0,0,0,0,0,0,0,0,0,{"$f":"+TVH5+TVH6+TVH7","v":0},0,0,0,0,0,0,0,0,0,0,0,0,0,0,0,0,0,0,0,0,0,0,0,0,0,0,0,0,0,0,0,0,0,0,0,0,0,0,0,0,0,0,0,0,0,0,0,0,0,0,0,0,0,0,0,0,0,0,0,0,0,0,0,{"$f":"+TXT5+TXT6+TXT7","v":0},0,0,0,0,0,0,0,0,0,0,0,0,0,0,0,0,0,0,0,0,0,0,0,0,0,0,0,0,0,0,0,0,0,0,0,0,0,0,0,0,0,0,0,0,0,0,0,0,0,0,0,0,0,0,0,0,0,0,0,0,0,0,0,{"$f":"+UAF5+UAF6+UAF7","v":0},0,0,0,0,0,0,0,0,0,0,0,0,0,0,0,0,0,0,0,0,0,0,0,0,0,0,0,0,0,0,0,0,0,0,0,0,0,0,0,0,0,0,0,0,0,0,0,0,0,0,0,0,0,0,0,0,0,0,0,0,0,0,0,{"$f":"+UCR5+UCR6+UCR7","v":0},0,0,0,0,0,0,0,0,0,0,0,0,0,0,0,0,0,0,0,0,0,0,0,0,0,0,0,0,0,0,0,0,0,0,0,0,0,0,0,0,0,0,0,0,0,0,0,0,0,0,0,0,0,0,0,0,0,0,0,0,0,0,0,{"$f":"+UFD5+UFD6+UFD7","v":0},0,0,0,0,0,0,0,0,0,0,0,0,0,0,0,0,0,0,0,0,0,0,0,0,0,0,0,0,0,0,0,0,0,0,0,0,0,0,0,0,0,0,0,0,0,0,0,0,0,0,0,0,0,0,0,0,0,0,0,0,0,0,0,{"$f":"+UHP5+UHP6+UHP7","v":0},0,0,0,0,0,0,0,0,0,0,0,0,0,0,0,0,0,0,0,0,0,0,0,0,0,0,0,0,0,0,0,0,0,0,0,0,0,0,0,0,0,0,0,0,0,0,0,0,0,0,0,0,0,0,0,0,0,0,0,0,0,0,0,{"$f":"+UKB5+UKB6+UKB7","v":0},0,0,0,0,0,0,0,0,0,0,0,0,0,0,0,0,0,0,0,0,0,0,0,0,0,0,0,0,0,0,0,0,0,0,0,0,0,0,0,0,0,0,0,0,0,0,0,0,0,0,0,0,0,0,0,0,0,0,0,0,0,0,0,{"$f":"+UMN5+UMN6+UMN7","v":0},0,0,0,0,0,0,0,0,0,0,0,0,0,0,0,0,0,0,0,0,0,0,0,0,0,0,0,0,0,0,0,0,0,0,0,0,0,0,0,0,0,0,0,0,0,0,0,0,0,0,0,0,0,0,0,0,0,0,0,0,0,0,0,{"$f":"+UOZ5+UOZ6+UOZ7","v":0},0,0,0,0,0,0,0,0,0,0,0,0,0,0,0,0,0,0,0,0,0,0,0,0,0,0,0,0,0,0,0,0,0,0,0,0,0,0,0,0,0,0,0,0,0,0,0,0,0,0,0,0,0,0,0,0,0,0,0,0,0,0,0,{"$f":"+URL5+URL6+URL7","v":0},0,0,0,0,0,0,0,0,0,0,0,0,0,0,0,0,0,0,0,0,0,0,0,0,0,0,0,0,0,0,0,0,0,0,0,0,0,0,0,0,0,0,0,0,0,0,0,0,0,0,0,0,0,0,0,0,0,0,0,0,0,0,0,{"$f":"+UTX5+UTX6+UTX7","v":0},0,0,0,0,0,0,0,0,0,0,0,0,0,0,0,0,0,0,0,0,0,0,0,0,0,0,0,0,0,0,0,0,0,0,0,0,0,0,0,0,0,0,0,0,0,0,0,0,0,0,0,0,0,0,0,0,0,0,0,0,0,0,0,{"$f":"+UWJ5+UWJ6+UWJ7","v":0},0,0,0,0,0,0,0,0,0,0,0,0,0,0,0,0,0,0,0,0,0,0,0,0,0,0,0,0,0,0,0,0,0,0,0,0,0,0,0,0,0,0,0,0,0,0,0,0,0,0,0,0,0,0,0,0,0,0,0,0,0,0,0,{"$f":"+UYV5+UYV6+UYV7","v":0},0,0,0,0,0,0,0,0,0,0,0,0,0,0,0,0,0,0,0,0,0,0,0,0,0,0,0,0,0,0,0,0,0,0,0,0,0,0,0,0,0,0,0,0,0,0,0,0,0,0,0,0,0,0,0,0,0,0,0,0,0,0,0,{"$f":"+VBH5+VBH6+VBH7","v":0},0,0,0,0,0,0,0,0,0,0,0,0,0,0,0,0,0,0,0,0,0,0,0,0,0,0,0,0,0,0,0,0,0,0,0,0,0,0,0,0,0,0,0,0,0,0,0,0,0,0,0,0,0,0,0,0,0,0,0,0,0,0,0,{"$f":"+VDT5+VDT6+VDT7","v":0},0,0,0,0,0,0,0,0,0,0,0,0,0,0,0,0,0,0,0,0,0,0,0,0,0,0,0,0,0,0,0,0,0,0,0,0,0,0,0,0,0,0,0,0,0,0,0,0,0,0,0,0,0,0,0,0,0,0,0,0,0,0,0,{"$f":"+VGF5+VGF6+VGF7","v":0},0,0,0,0,0,0,0,0,0,0,0,0,0,0,0,0,0,0,0,0,0,0,0,0,0,0,0,0,0,0,0,0,0,0,0,0,0,0,0,0,0,0,0,0,0,0,0,0,0,0,0,0,0,0,0,0,0,0,0,0,0,0,0,{"$f":"+VIR5+VIR6+VIR7","v":0},0,0,0,0,0,0,0,0,0,0,0,0,0,0,0,0,0,0,0,0,0,0,0,0,0,0,0,0,0,0,0,0,0,0,0,0,0,0,0,0,0,0,0,0,0,0,0,0,0,0,0,0,0,0,0,0,0,0,0,0,0,0,0,{"$f":"+VLD5+VLD6+VLD7","v":0},0,0,0,0,0,0,0,0,0,0,0,0,0,0,0,0,0,0,0,0,0,0,0,0,0,0,0,0,0,0,0,0,0,0,0,0,0,0,0,0,0,0,0,0,0,0,0,0,0,0,0,0,0,0,0,0,0,0,0,0,0,0,0,{"$f":"+VNP5+VNP6+VNP7","v":0},0,0,0,0,0,0,0,0,0,0,0,0,0,0,0,0,0,0,0,0,0,0,0,0,0,0,0,0,0,0,0,0,0,0,0,0,0,0,0,0,0,0,0,0,0,0,0,0,0,0,0,0,0,0,0,0,0,0,0,0,0,0,0,{"$f":"+VQB5+VQB6+VQB7","v":0},0,0,0,0,0,0,0,0,0,0,0,0,0,0,0,0,0,0,0,0,0,0,0,0,0,0,0,0,0,0,0,0,0,0,0,0,0,0,0,0,0,0,0,0,0,0,0,0,0,0,0,0,0,0,0,0,0,0,0,0,0,0,0,{"$f":"+VSN5+VSN6+VSN7","v":0},0,0,0,0,0,0,0,0,0,0,0,0,0,0,0,0,0,0,0,0,0,0,0,0,0,0,0,0,0,0,0,0,0,0,0,0,0,0,0,0,0,0,0,0,0,0,0,0,0,0,0,0,0,0,0,0,0,0,0,0,0,0,0,{"$f":"+VUZ5+VUZ6+VUZ7","v":0},0,0,0,0,0,0,0,0,0,0,0,0,0,0,0,0,0,0,0,0,0,0,0,0,0,0,0,0,0,0,0,0,0,0,0,0,0,0,0,0,0,0,0,0,0,0,0,0,0,0,0,0,0,0,0,0,0,0,0,0,0,0,0,{"$f":"+VXL5+VXL6+VXL7","v":0},0,0,0,0,0,0,0,0,0,0,0,0,0,0,0,0,0,0,0,0,0,0,0,0,0,0,0,0,0,0,0,0,0,0,0,0,0,0,0,0,0,0,0,0,0,0,0,0,0,0,0,0,0,0,0,0,0,0,0,0,0,0,0,{"$f":"+VZX5+VZX6+VZX7","v":0},0,0,0,0,0,0,0,0,0,0,0,0,0,0,0,0,0,0,0,0,0,0,0,0,0,0,0,0,0,0,0,0,0,0,0,0,0,0,0,0,0,0,0,0,0,0,0,0,0,0,0,0,0,0,0,0,0,0,0,0,0,0,0,{"$f":"+WCJ5+WCJ6+WCJ7","v":0},0,0,0,0,0,0,0,0,0,0,0,0,0,0,0,0,0,0,0,0,0,0,0,0,0,0,0,0,0,0,0,0,0,0,0,0,0,0,0,0,0,0,0,0,0,0,0,0,0,0,0,0,0,0,0,0,0,0,0,0,0,0,0,{"$f":"+WEV5+WEV6+WEV7","v":0},0,0,0,0,0,0,0,0,0,0,0,0,0,0,0,0,0,0,0,0,0,0,0,0,0,0,0,0,0,0,0,0,0,0,0,0,0,0,0,0,0,0,0,0,0,0,0,0,0,0,0,0,0,0,0,0,0,0,0,0,0,0,0,{"$f":"+WHH5+WHH6+WHH7","v":0},0,0,0,0,0,0,0,0,0,0,0,0,0,0,0,0,0,0,0,0,0,0,0,0,0,0,0,0,0,0,0,0,0,0,0,0,0,0,0,0,0,0,0,0,0,0,0,0,0,0,0,0,0,0,0,0,0,0,0,0,0,0,0,{"$f":"+WJT5+WJT6+WJT7","v":0},0,0,0,0,0,0,0,0,0,0,0,0,0,0,0,0,0,0,0,0,0,0,0,0,0,0,0,0,0,0,0,0,0,0,0,0,0,0,0,0,0,0,0,0,0,0,0,0,0,0,0,0,0,0,0,0,0,0,0,0,0,0,0,{"$f":"+WMF5+WMF6+WMF7","v":0},0,0,0,0,0,0,0,0,0,0,0,0,0,0,0,0,0,0,0,0,0,0,0,0,0,0,0,0,0,0,0,0,0,0,0,0,0,0,0,0,0,0,0,0,0,0,0,0,0,0,0,0,0,0,0,0,0,0,0,0,0,0,0,{"$f":"+WOR5+WOR6+WOR7","v":0},0,0,0,0,0,0,0,0,0,0,0,0,0,0,0,0,0,0,0,0,0,0,0,0,0,0,0,0,0,0,0,0,0,0,0,0,0,0,0,0,0,0,0,0,0,0,0,0,0,0,0,0,0,0,0,0,0,0,0,0,0,0,0,{"$f":"+WRD5+WRD6+WRD7","v":0},0,0,0,0,0,0,0,0,0,0,0,0,0,0,0,0,0,0,0,0,0,0,0,0,0,0,0,0,0,0,0,0,0,0,0,0,0,0,0,0,0,0,0,0,0,0,0,0,0,0,0,0,0,0,0,0,0,0,0,0,0,0,0,{"$f":"+WTP5+WTP6+WTP7","v":0},0,0,0,0,0,0,0,0,0,0,0,0,0,0,0,0,0,0,0,0,0,0,0,0,0,0,0,0,0,0,0,0,0,0,0,0,0,0,0,0,0,0,0,0,0,0,0,0,0,0,0,0,0,0,0,0,0,0,0,0,0,0,0,{"$f":"+WWB5+WWB6+WWB7","v":0},0,0,0,0,0,0,0,0,0,0,0,0,0,0,0,0,0,0,0,0,0,0,0,0,0,0,0,0,0,0,0,0,0,0,0,0,0,0,0,0,0,0,0,0,0,0,0,0,0,0,0,0,0,0,0,0,0,0,0,0,0,0,0,{"$f":"+WYN5+WYN6+WYN7","v":0},0,0,0,0,0,0,0,0,0,0,0,0,0,0,0,0,0,0,0,0,0,0,0,0,0,0,0,0,0,0,0,0,0,0,0,0,0,0,0,0,0,0,0,0,0,0,0,0,0,0,0,0,0,0,0,0,0,0,0,0,0,0,0,{"$f":"+XAZ5+XAZ6+XAZ7","v":0},0,0,0,0,0,0,0,0,0,0,0,0,0,0,0,0,0,0,0,0,0,0,0,0,0,0,0,0,0,0,0,0,0,0,0,0,0,0,0,0,0,0,0,0,0,0,0,0,0,0,0,0,0,0,0,0,0,0,0,0,0,0,0,{"$f":"+XDL5+XDL6+XDL7","v":0},0,0,0,0,0,0,0,0,0,0,0,0,0,0,0,0,0,0,0,0,0,0,0,0,0,0,0,0,0,0,0,0,0,0,0,0,0,0,0,0,0,0]
[2026,null,"RASHODI I IZDACI (3+4+5)",{"v":13960443.502375182,"d":"13,960,444"},{"$f":"'A.2 PRIHODI I RASHODI IF'!E56+'A.2 PRIHODI I RASHODI IF'!E74","v":{"v":7976669.502375183,"d":"7,976,670"}},{"$f":"'A.2 PRIHODI I RASHODI IF'!E57","v":0},{"$f":"+'A.2 PRIHODI I RASHODI IF'!E59+'A.2 PRIHODI I RASHODI IF'!E75","v":{"v":3590000,"d":"3,590,000"}},{"$f":"'A.2 PRIHODI I RASHODI IF'!E61","v":0},{"$f":"+'A.2 PRIHODI I RASHODI IF'!E76+'A.2 PRIHODI I RASHODI IF'!E62","v":{"v":825000,"d":"825,000"}},{"$f":"'A.2 PRIHODI I RASHODI IF'!E64","v":{"v":90000,"d":"90,000"}},{"$f":"'A.2 PRIHODI I RASHODI IF'!E73","v":{"v":846895,"d":"846,895"}},{"$f":"'A.2 PRIHODI I RASHODI IF'!E78","v":0},{"$f":"'A.2 PRIHODI I RASHODI IF'!E79","v":{"v":59360,"d":"59,360"}},{"$f":"SUM('A.2 PRIHODI I RASHODI IF'!E86:E92)","v":{"v":217613,"d":"217,613"}},{"$f":"SUM('A.2 PRIHODI I RASHODI IF'!E93:E96)","v":0},{"$f":"'A.2 PRIHODI I RASHODI IF'!E97","v":{"v":334906,"d":"334,906"}},{"$f":"'A.2 PRIHODI I RASHODI IF'!E99","v":{"v":20000,"d":"20,000"}},{"$f":"'A.2 PRIHODI I RASHODI IF'!E102","v":0},{"$f":"+'A.2 PRIHODI I RASHODI IF'!E104+'A.2 PRIHODI I RASHODI IF'!E77","v":0},{"$f":"'A.2 PRIHODI I RASHODI IF'!E105","v":0},{"$f":"'OPĆI DIO'!$C$1","v":"1812 Sveučilište u Zagrebu FAKULTET PROMETNIH ZNANOSTI"}]
[2026,null,"KONTROLA 2026 (stupac D = nula)",{"v":0.4976248173043132,"d":"0"},{"$f":"+E8-E9","v":{"v":0.4976248173043132,"d":"0"}},{"$f":"+F8-F9","v":0},{"$f":"+G8-G9","v":0},0,0,{"$f":"+J8-J9","v":0},0,0,{"$f":"+M8-M9","v":0},0,0,0,0,0,{"$f":"+S8-S9","v":0},0,{"$f":"'OPĆI DIO'!$C$1","v":"1812 Sveučilište u Zagrebu FAKULTET PROMETNIH ZNANOSTI"}]
[{"$nulls":20},{"$f":"'OPĆI DIO'!$C$1","v":"1812 Sveučilište u Zagrebu FAKULTET PROMETNIH ZNANOSTI"}]
["Godina","Stavka","Naziv stavke","Ukupno ","IZVOR 11             Opći prihodi i primici ","IZVOR 12             Sredstva učešća za pomoći","IZVOR 31                  Vlastiti prihodi ","IZVOR 41                  Vlastiti prihodi ","IZVOR 43                   Prihodi za posebne namjene ","IZVOR 50                              Pomoći iz DP","IZVOR 51                              Programi unije","IZVOR 52                             Ostale pomoći ","IZVOR 53                          Ostale darovnice","IZVOR 56 Fondovi EU","57 Ostali programi EU","IZVOR 581                Mehanizam za oporavak i otpornost (NPOO)","IZVOR 61                         Donacije ","IZVOR 71                          Prihodi od nefinancijske imovine i nadoknade šteta s osnova osiguranja","IZVOR 810 Namjenski primici -ostali","IZVOR 815 Namjenski primitak - NPOO",{"$f":"'OPĆI DIO'!$C$1","v":"1812 Sveučilište u Zagrebu FAKULTET PROMETNIH ZNANOSTI"}]
[2027,null,"DONOS",{"$f":"SUM(E13:T13)","v":{"v":296376,"d":"296,376"}},{"$f":"-E7","v":0},{"$f":"-F7","v":0},0,0,0,0,0,0,0,0,0,{"v":296376,"d":"296,376"},0,0,0,0,{"$f":"'OPĆI DIO'!$C$1","v":"1812 Sveučilište u Zagrebu FAKULTET PROMETNIH ZNANOSTI"}]
[2027,null,"PRIHODI I PRIMICI (6+7+8)",{"v":14526989,"d":"14,526,989"},{"$f":"+'A.2 PRIHODI I RASHODI IF'!F7+'A.2 PRIHODI I RASHODI IF'!F25","v":{"v":8503632,"d":"8,503,632"}},{"$f":"'A.2 PRIHODI I RASHODI IF'!F8","v":0},{"$f":"+'A.2 PRIHODI I RASHODI IF'!F10+'A.2 PRIHODI I RASHODI IF'!F26","v":{"v":3690000,"d":"3,690,000"}},{"$f":"'A.2 PRIHODI I RASHODI IF'!F12","v":0},{"$f":"+'A.2 PRIHODI I RASHODI IF'!F13+'A.2 PRIHODI I RASHODI IF'!F27+'B.2 RAČUN FINANC IF'!F7","v":{"v":850000,"d":"850,000"}},{"$f":"'A.2 PRIHODI I RASHODI IF'!F15","v":{"v":90000,"d":"90,000"}},{"$f":"+'A.2 PRIHODI I RASHODI IF'!F24","v":{"v":987540,"d":"987,540"}},{"$f":"'A.2 PRIHODI I RASHODI IF'!F29","v":0},{"$f":"'A.2 PRIHODI I RASHODI IF'!F30","v":0},{"$f":"SUM('A.2 PRIHODI I RASHODI IF'!$F$35:$F$41)","v":0},{"$f":"SUM('A.2 PRIHODI I RASHODI IF'!F42:F45)","v":0},{"$f":"'A.2 PRIHODI I RASHODI IF'!F46","v":{"v":385817,"d":"385,817"}},{"$f":"'A.2 PRIHODI I RASHODI IF'!F48","v":{"v":20000,"d":"20,000"}},{"$f":"'A.2 PRIHODI I RASHODI IF'!F50","v":0},{"$f":"+'A.2 PRIHODI I RASHODI IF'!F28+'B.2 RAČUN FINANC IF'!F11","v":0},{"$f":"'A.2 PRIHODI I RASHODI IF'!F52","v":0},{"$f":"'OPĆI DIO'!$C$1","v":"1812 Sveučilište u Zagrebu FAKULTET PROMETNIH ZNANOSTI"}]
[2027,null,"ODNOS (unosi se s negativnim predznakom)",{"v":-385822,"d":"-385,822"},{"$nulls":11},{"v":-385822,"d":"-385,822 "}]
[2027,null,"LIMIT ZA RASHODE I IZDATKE",{"v":14437543,"d":"14,437,543"},{"$f":"+E13+E14+E15","v":{"v":8503632,"d":"8,503,632"}},{"$f":"+F13+F14+F15","v":0},{"v":3690000,"d":"3,690,000"},0,{"v":850000,"d":"850,000"},{"v":90000,"d":"90,000"},{"v":987540,"d":"987,540"},0,0,0,0,{"v":296371,"d":"296,371"},{"v":20000,"d":"20,000"},0,0,0,{"$f":"'OPĆI DIO'!$C$1","v":"1812 Sveučilište u Zagrebu FAKULTET PROMETNIH ZNANOSTI"}]
[2027,null,"RASHODI I IZDACI (3+4+5)",{"v":14437543.144830698,"d":"14,437,543"},{"$f":"'A.2 PRIHODI I RASHODI IF'!F56+'A.2 PRIHODI I RASHODI IF'!F74","v":{"v":8503632.144830698,"d":"8,503,632"}},{"$f":"'A.2 PRIHODI I RASHODI IF'!F57","v":0},{"$f":"+'A.2 PRIHODI I RASHODI IF'!F59+'A.2 PRIHODI I RASHODI IF'!F75","v":{"v":3690000,"d":"3,690,000"}},{"$f":"'A.2 PRIHODI I RASHODI IF'!F61","v":0},{"$f":"+'A.2 PRIHODI I RASHODI IF'!F62+'A.2 PRIHODI I RASHODI IF'!F76","v":{"v":850000,"d":"850,000"}},{"$f":"'A.2 PRIHODI I RASHODI IF'!F64","v":{"v":90000,"d":"90,000"}},{"$f":"'A.2 PRIHODI I RASHODI IF'!F73","v":{"v":987540,"d":"987,540"}},{"$f":"'A.2 PRIHODI I RASHODI IF'!F78","v":0},{"$f":"'A.2 PRIHODI I RASHODI IF'!F79","v":0},{"$f":"SUM('A.2 PRIHODI I RASHODI IF'!F86:F92)","v":0},{"$f":"SUM('A.2 PRIHODI I RASHODI IF'!F93:F96)","v":0},{"$f":"'A.2 PRIHODI I RASHODI IF'!F97","v":{"v":296371,"d":"296,371"}},{"$f":"'A.2 PRIHODI I RASHODI IF'!F99","v":{"v":20000,"d":"20,000"}},{"$f":"'A.2 PRIHODI I RASHODI IF'!F102","v":0},{"$f":"+'A.2 PRIHODI I RASHODI IF'!F77+'A.2 PRIHODI I RASHODI IF'!F104","v":0},{"$f":"'A.2 PRIHODI I RASHODI IF'!F105","v":0},{"$f":"'OPĆI DIO'!$C$1","v":"1812 Sveučilište u Zagrebu FAKULTET PROMETNIH ZNANOSTI"}]
[2027,null,"KONTROLA 2027  (stupac D = nula)",{"v":-0.14483069814741611,"d":"-0"},{"$f":"+E16-E17","v":{"v":-0.14483069814741611,"d":"-0"}},{"$f":"+F16-F17","v":0},0,0,0,0,0,0,0,0,0,0,0,0,0,0,{"$f":"'OPĆI DIO'!$C$1","v":"1812 Sveučilište u Zagrebu FAKULTET PROMETNIH ZNANOSTI"}]
[{"$nulls":20},{"$f":"'OPĆI DIO'!$C$1","v":"1812 Sveučilište u Zagrebu FAKULTET PROMETNIH ZNANOSTI"}]
["Godina","Stavka","Naziv stavke","Ukupno ","IZVOR 11             Opći prihodi i primici ","IZVOR 12             Sredstva učešća za pomoći","IZVOR 31                  Vlastiti prihodi ","IZVOR 41                  Vlastiti prihodi ","IZVOR 43                   Prihodi za posebne namjene ","IZVOR 50                              Pomoći iz DP","IZVOR 51                              Programi unije","IZVOR 52                             Ostale pomoći ","IZVOR 53                          Ostale darovnice","IZVOR 56 Fondovi EU","57 Ostali programi EU","IZVOR 581                Mehanizam za oporavak i otpornost (NPOO)","IZVOR 61                         Donacije ","IZVOR 71                          Prihodi od nefinancijske imovine i nadoknade šteta s osnova osiguranja","IZVOR 810 Namjenski primici -ostali","IZVOR 815 Namjenski primitak - NPOO",{"$f":"'OPĆI DIO'!$C$1","v":"1812 Sveučilište u Zagrebu FAKULTET PROMETNIH ZNANOSTI"}]
[2028,null,"DONOS",{"$f":"SUM(E21:T21)","v":{"v":385822,"d":"385,822"}},{"$f":"-E15","v":0},{"$f":"-F15","v":0},0,0,0,0,0,0,0,0,0,{"v":385822,"d":"385,822"},0,0,0,0,{"$f":"'OPĆI DIO'!$C$1","v":"1812 Sveučilište u Zagrebu FAKULTET PROMETNIH ZNANOSTI"}]
[2028,null,"PRIHODI I PRIMICI (6+7+8)",{"v":14994912,"d":"14,994,912"},{"$f":"+'A.2 PRIHODI I RASHODI IF'!G7+'A.2 PRIHODI I RASHODI IF'!G25","v":{"v":9062781,"d":"9,062,781"}},{"$f":"'A.2 PRIHODI I RASHODI IF'!G8","v":0},{"$f":"+'A.2 PRIHODI I RASHODI IF'!G10+'A.2 PRIHODI I RASHODI IF'!G26","v":{"v":3790000,"d":"3,790,000"}},{"$f":"'A.2 PRIHODI I RASHODI IF'!G12","v":0},{"$f":"'A.2 PRIHODI I RASHODI IF'!G13+'B.2 RAČUN FINANC IF'!G27+'B.2 RAČUN FINANC IF'!G7","v":{"v":875000,"d":"875,000"}},{"$f":"'A.2 PRIHODI I RASHODI IF'!G15","v":{"v":90000,"d":"90,000"}},{"$f":"'A.2 PRIHODI I RASHODI IF'!G24","v":{"v":715000,"d":"715,000"}},{"$f":"'A.2 PRIHODI I RASHODI IF'!G29","v":0},{"$f":"'A.2 PRIHODI I RASHODI IF'!G30","v":0},{"$f":"SUM('A.2 PRIHODI I RASHODI IF'!$G$35:$G$41)","v":0},{"$f":"SUM('A.2 PRIHODI I RASHODI IF'!G42:G45)","v":0},{"$f":"'A.2 PRIHODI I RASHODI IF'!G46","v":{"v":442131,"d":"442,131"}},{"$f":"'A.2 PRIHODI I RASHODI IF'!G48","v":{"v":20000,"d":"20,000"}},{"$f":"'A.2 PRIHODI I RASHODI IF'!G50","v":0},{"$f":"+'A.2 PRIHODI I RASHODI IF'!G28+'B.2 RAČUN FINANC IF'!G11","v":0},{"$f":"'A.2 PRIHODI I RASHODI IF'!G52","v":0},{"$f":"'OPĆI DIO'!$C$1","v":"1812 Sveučilište u Zagrebu FAKULTET PROMETNIH ZNANOSTI"}]
[2028,null,"ODNOS (unosi se s negativnim predznakom)",{"v":-531582,"d":"-531,582"},{"$nulls":11},{"v":-531582,"d":"-531,582 "},{"$nulls":4},{"$f":"'OPĆI DIO'!$C$1","v":"1812 Sveučilište u Zagrebu FAKULTET PROMETNIH ZNANOSTI"}]
[2028,null,"LIMIT ZA RASHODE I IZDATKE",{"v":14849152,"d":"14,849,152"},{"$f":"+E21+E22+E23","v":{"v":9062781,"d":"9,062,781"}},{"$f":"+F21+F22+F23","v":0},{"v":3790000,"d":"3,790,000"},0,{"v":875000,"d":"875,000"},{"v":90000,"d":"90,000"},{"v":715000,"d":"715,000"},0,0,0,0,{"v":296371,"d":"296,371"},{"v":20000,"d":"20,000"},0,0,0,{"$f":"'OPĆI DIO'!$C$1","v":"1812 Sveučilište u Zagrebu FAKULTET PROMETNIH ZNANOSTI"}]
[2028,null,"RASHODI I IZDACI (3+4+5)",{"v":14849151.9534687,"d":"14,849,152"},{"$f":"'A.2 PRIHODI I RASHODI IF'!G56+'A.2 PRIHODI I RASHODI IF'!G74","v":{"v":9062780.9534687,"d":"9,062,781"}},{"$f":"'A.2 PRIHODI I RASHODI IF'!G57","v":0},{"$f":"+'A.2 PRIHODI I RASHODI IF'!G59+'A.2 PRIHODI I RASHODI IF'!G75","v":{"v":3790000,"d":"3,790,000"}},{"$f":"'A.2 PRIHODI I RASHODI IF'!G61","v":0},{"$f":"+'A.2 PRIHODI I RASHODI IF'!G76+'A.2 PRIHODI I RASHODI IF'!G62","v":{"v":875000,"d":"875,000"}},{"$f":"'A.2 PRIHODI I RASHODI IF'!G64","v":{"v":90000,"d":"90,000"}},{"$f":"'A.2 PRIHODI I RASHODI IF'!G73","v":{"v":715000,"d":"715,000"}},{"$f":"'A.2 PRIHODI I RASHODI IF'!G78","v":0},{"$f":"'A.2 PRIHODI I RASHODI IF'!G79","v":0},{"$f":"SUM('A.2 PRIHODI I RASHODI IF'!G86:G92)","v":0},{"$f":"SUM('A.2 PRIHODI I RASHODI IF'!G93:G96)","v":0},{"$f":"'A.2 PRIHODI I RASHODI IF'!G97","v":{"v":296371,"d":"296,371"}},{"$f":"'A.2 PRIHODI I RASHODI IF'!G99","v":{"v":20000,"d":"20,000"}},{"$f":"'A.2 PRIHODI I RASHODI IF'!G102","v":0},{"$f":"+'A.2 PRIHODI I RASHODI IF'!G104+'A.2 PRIHODI I RASHODI IF'!G77","v":0},{"$f":"'A.2 PRIHODI I RASHODI IF'!G105","v":0},{"$f":"'OPĆI DIO'!$C$1","v":"1812 Sveučilište u Zagrebu FAKULTET PROMETNIH ZNANOSTI"}]
[2028,null,"KONTROLA 2028  (stupac D = nula)",{"v":0.046531299129128456,"d":"0"},{"$f":"+E24-E25","v":{"v":0.046531299129128456,"d":"0"}},{"$f":"+F24-F25","v":0},0,{"$f":"+H24-H25","v":0},0,0,0,{"$f":"+L24-L25","v":0},0,0,{"$f":"+O24-O25","v":0},{"$f":"+P24-P25","v":0},0,0,0,0,{"$f":"'OPĆI DIO'!$C$1","v":"1812 Sveučilište u Zagrebu FAKULTET PROMETNIH ZNANOSTI"}]

{"sheet":"A.1 PRIHODI I RASHODI EK","index":5,"n_rows":40,"n_cols":9,"rows_kept":40,"merged":[[1,0,1,7],[3,0,3,7],[5,0,5,7],[7,0,7,2],[8,0,8,2],[23,0,23,2],[24,0,24,2]]}
[]
["I. OPĆI DIO"]
[]
["A. RAČUN PRIHODA I RASHODA "]
[]
["A1. PRIHODI I RASHODI PREMA EKONOMSKOJ KLASIFIKACIJI"]
[]
["BROJČANA OZNAKA I NAZIV",null,null,"IZVRŠENJE\n2024.","TEKUĆI PLAN\n2025.","PLAN \n2026.","PROJEKCIJA \n2027.","PROJEKCIJA \n2028."]
[1,null,null,2,3,4,5,6]
[null,null,"UKUPNO PRIHODI",{"$f":"+D11+D19","v":{"v":14253531.44,"d":"14,253,531"}},{"$f":"+E11+E19","v":{"v":13269634,"d":"13,269,634"}},{"$f":"+F11+F19","v":{"v":14256820,"d":"14,256,820"}},{"$f":"+G11+G19","v":{"v":14526989,"d":"14,526,989"}},{"$f":"+H11+H19","v":{"v":14994912,"d":"14,994,912"}},{"$f":"'OPĆI DIO'!$C$1","v":"1812 Sveučilište u Zagrebu FAKULTET PROMETNIH ZNANOSTI"}]
[6,null,"Prihodi poslovanja",{"$f":"SUM(D12:D18)","v":{"v":14253531.44,"d":"14,253,531"}},{"$f":"SUM(E12:E18)","v":{"v":13269634,"d":"13,269,634"}},{"$f":"SUM(F12:F18)","v":{"v":14256820,"d":"14,256,820"}},{"$f":"SUM(G12:G18)","v":{"v":14526989,"d":"14,526,989"}},{"$f":"SUM(H12:H18)","v":{"v":14994912,"d":"14,994,912"}},{"$f":"'OPĆI DIO'!$C$1","v":"1812 Sveučilište u Zagrebu FAKULTET PROMETNIH ZNANOSTI"}]
[null,61,"Prihodi od poreza",null,null,{"$f":"SUMIF('Unos prihoda i primitaka'!$N$3:$N$505,$B12,'Unos prihoda i primitaka'!I$3:I$505)","v":0},{"$f":"SUMIF('Unos prihoda i primitaka'!$N$3:$N$505,$B12,'Unos prihoda i primitaka'!J$3:J$505)","v":0},{"$f":"SUMIF('Unos prihoda i primitaka'!$N$3:$N$505,$B12,'Unos prihoda i primitaka'!K$3:K$505)","v":0},{"$f":"'OPĆI DIO'!$C$1","v":"1812 Sveučilište u Zagrebu FAKULTET PROMETNIH ZNANOSTI"}]
[null,63,"Pomoći iz inozemstva (darovnice) i od subjekata unutar općeg proračuna",{"v":3015350.48,"d":"3,015,350"},{"v":2122841,"d":"2,122,841"},{"$f":"SUMIF('Unos prihoda i primitaka'!$N$3:$N$505,$B13,'Unos prihoda i primitaka'!I$3:I$505)","v":{"v":1252403,"d":"1,252,403"}},{"$f":"SUMIF('Unos prihoda i primitaka'!$N$3:$N$505,$B13,'Unos prihoda i primitaka'!J$3:J$505)","v":{"v":1077540,"d":"1,077,540"}},{"$f":"SUMIF('Unos prihoda i primitaka'!$N$3:$N$505,$B13,'Unos prihoda i primitaka'!K$3:K$505)","v":{"v":805000,"d":"805,000"}},{"$f":"'OPĆI DIO'!$C$1","v":"1812 Sveučilište u Zagrebu FAKULTET PROMETNIH ZNANOSTI"}]
[null,64,"Prihodi od imovine",{"v":35386.28,"d":"35,386"},0,{"$f":"SUMIF('Unos prihoda i primitaka'!$N$3:$N$505,$B14,'Unos prihoda i primitaka'!I$3:I$505)","v":0},{"$f":"SUMIF('Unos prihoda i primitaka'!$N$3:$N$505,$B14,'Unos prihoda i primitaka'!J$3:J$505)","v":0},{"$f":"SUMIF('Unos prihoda i primitaka'!$N$3:$N$505,$B14,'Unos prihoda i primitaka'!K$3:K$505)","v":0},{"$f":"'OPĆI DIO'!$C$1","v":"1812 Sveučilište u Zagrebu FAKULTET PROMETNIH ZNANOSTI"}]
[null,65,"Prihodi od upravnih i administrativnih pristojbi, pristojbi po posebnim propisima i naknada",{"v":777338.86,"d":"777,339"},{"v":597252,"d":"597,252"},{"$f":"SUMIF('Unos prihoda i primitaka'!$N$3:$N$505,$B15,'Unos prihoda i primitaka'!I$3:I$505)","v":{"v":825000,"d":"825,000"}},{"$f":"SUMIF('Unos prihoda i primitaka'!$N$3:$N$505,$B15,'Unos prihoda i primitaka'!J$3:J$505)","v":{"v":850000,"d":"850,000"}},{"$f":"SUMIF('Unos prihoda i primitaka'!$N$3:$N$505,$B15,'Unos prihoda i primitaka'!K$3:K$505)","v":{"v":875000,"d":"875,000"}},{"$f":"'OPĆI DIO'!$C$1","v":"1812 Sveučilište u Zagrebu FAKULTET PROMETNIH ZNANOSTI"}]
[null,66,"Prihodi od prodaje proizvoda i robe te pruženih usluga i prihodi od donacija",{"v":3527929.32,"d":"3,527,929"},{"v":3603515,"d":"3,603,515"},{"$f":"SUMIF('Unos prihoda i primitaka'!$N$3:$N$505,$B16,'Unos prihoda i primitaka'!I$3:I$505)","v":{"v":3610000,"d":"3,610,000"}},{"$f":"SUMIF('Unos prihoda i primitaka'!$N$3:$N$505,$B16,'Unos prihoda i primitaka'!J$3:J$505)","v":{"v":3710000,"d":"3,710,000"}},{"$f":"SUMIF('Unos prihoda i primitaka'!$N$3:$N$505,$B16,'Unos prihoda i primitaka'!K$3:K$505)","v":{"v":3810000,"d":"3,810,000"}},{"$f":"'OPĆI DIO'!$C$1","v":"1812 Sveučilište u Zagrebu FAKULTET PROMETNIH ZNANOSTI"}]
[null,67,"Prihodi iz nadležnog proračuna i od HZZO-a temeljem ugovornih obveza",{"v":6894699.88,"d":"6,894,700"},{"v":6946026,"d":"6,946,026"},{"$f":"SUMIF('Unos prihoda i primitaka'!$N$3:$N$505,$B17,'Unos prihoda i primitaka'!I$3:I$505)","v":{"v":8569417,"d":"8,569,417"}},{"$f":"SUMIF('Unos prihoda i primitaka'!$N$3:$N$505,$B17,'Unos prihoda i primitaka'!J$3:J$505)","v":{"v":8889449,"d":"8,889,449"}},{"$f":"SUMIF('Unos prihoda i primitaka'!$N$3:$N$505,$B17,'Unos prihoda i primitaka'!K$3:K$505)","v":{"v":9504912,"d":"9,504,912"}},{"$f":"'OPĆI DIO'!$C$1","v":"1812 Sveučilište u Zagrebu FAKULTET PROMETNIH ZNANOSTI"}]
[null,68,"Kazne, upravne mjere i ostali prihodi",{"v":2826.62,"d":"2,827"},0,{"$f":"SUMIF('Unos prihoda i primitaka'!$N$3:$N$505,$B18,'Unos prihoda i primitaka'!I$3:I$505)","v":0},{"$f":"SUMIF('Unos prihoda i primitaka'!$N$3:$N$505,$B18,'Unos prihoda i primitaka'!J$3:J$505)","v":0},{"$f":"SUMIF('Unos prihoda i primitaka'!$N$3:$N$505,$B18,'Unos prihoda i primitaka'!K$3:K$505)","v":0},{"$f":"'OPĆI DIO'!$C$1","v":"1812 Sveučilište u Zagrebu FAKULTET PROMETNIH ZNANOSTI"}]
[7,null,"Prihodi od prodaje nefinancijske imovine",{"$f":"+D20+D21","v":0},{"$f":"+E20+E21","v":0},{"$f":"+F20+F21","v":0},{"$f":"+G20+G21","v":0},{"$f":"+H20+H21","v":0},{"$f":"'OPĆI DIO'!$C$1","v":"1812 Sveučilište u Zagrebu FAKULTET PROMETNIH ZNANOSTI"}]
[null,71,"Prihodi od prodaje neproizvedene dugotrajne imovine",null,null,{"$f":"SUMIF('Unos prihoda i primitaka'!$N$3:$N$505,$B20,'Unos prihoda i primitaka'!I$3:I$505)","v":0},{"$f":"SUMIF('Unos prihoda i primitaka'!$N$3:$N$505,$B20,'Unos prihoda i primitaka'!J$3:J$505)","v":0},{"$f":"SUMIF('Unos prihoda i primitaka'!$N$3:$N$505,$B20,'Unos prihoda i primitaka'!K$3:K$505)","v":0},{"$f":"'OPĆI DIO'!$C$1","v":"1812 Sveučilište u Zagrebu FAKULTET PROMETNIH ZNANOSTI"}]
[null,72,"Prihodi od prodaje proizvedene dugotrajne imovine",null,null,{"$f":"SUMIF('Unos prihoda i primitaka'!$N$3:$N$505,$B21,'Unos prihoda i primitaka'!I$3:I$505)","v":0},{"$f":"SUMIF('Unos prihoda i primitaka'!$N$3:$N$505,$B21,'Unos prihoda i primitaka'!J$3:J$505)","v":0},{"$f":"SUMIF('Unos prihoda i primitaka'!$N$3:$N$505,$B21,'Unos prihoda i primitaka'!K$3:K$505)","v":0},{"$f":"'OPĆI DIO'!$C$1","v":"1812 Sveučilište u Zagrebu FAKULTET PROMETNIH ZNANOSTI"}]
[]
[]
["BROJČANA OZNAKA I NAZIV",null,null,"IZVRŠENJE\n2024.","TEKUĆI PLAN\n2025.","PLAN \n2026.","PROJEKCIJA \n2027.","PROJEKCIJA \n2028."]
[1,null,null,2,3,4,5,6]
[null,null,"UKUPNO RASHODI",{"$f":"+D27+D35","v":{"v":13289293.98,"d":"13,289,294"}},{"$f":"+E27+E35","v":{"v":12148300,"d":"12,148,300"}},{"$f":"+F27+F35","v":{"v":13960443.502375182,"d":"13,960,444"}},{"$f":"+G27+G35","v":{"v":14437543.144830698,"d":"14,437,543"}},{"$f":"+H27+H35","v":{"v":14849151.953468703,"d":"14,849,152"}},{"$f":"'OPĆI DIO'!$C$1","v":"1812 Sveučilište u Zagrebu FAKULTET PROMETNIH ZNANOSTI"}]
[3,null,"Rashodi poslovanja",{"$f":"SUM(D28:D34)","v":{"v":12919331.84,"d":"12,919,332"}},{"$f":"SUM(E28:E34)","v":{"v":11694734,"d":"11,694,734"}},{"$f":"SUM(F28:F34)","v":{"v":13644601.502375182,"d":"13,644,602"}},{"$f":"SUM(G28:G34)","v":{"v":14115901.144830698,"d":"14,115,901"}},{"$f":"SUM(H28:H34)","v":{"v":14524423.953468703,"d":"14,524,424"}},{"$f":"'OPĆI DIO'!$C$1","v":"1812 Sveučilište u Zagrebu FAKULTET PROMETNIH ZNANOSTI"}]
[null,31,"Rashodi za zaposlene",{"v":7985389.41,"d":"7,985,389"},{"v":8619225,"d":"8,619,225"},{"$f":"SUMIF('Unos rashoda i izdataka'!$Q$3:$Q$501,$B28,'Unos rashoda i izdataka'!K$3:K$501)+SUMIF('Unos rashoda P4'!$T$3:$T$501,$B28,'Unos rashoda P4'!I$3:I$501)","v":{"v":9577690,"d":"9,577,690"}},{"$f":"SUMIF('Unos rashoda i izdataka'!$Q$3:$Q$501,$B28,'Unos rashoda i izdataka'!L$3:L$501)+SUMIF('Unos rashoda P4'!$T$3:$T$501,$B28,'Unos rashoda P4'!J$3:J$501)","v":{"v":10017657,"d":"10,017,657"}},{"$f":"SUMIF('Unos rashoda i izdataka'!$Q$3:$Q$501,$B28,'Unos rashoda i izdataka'!M$3:M$501)+SUMIF('Unos rashoda P4'!$T$3:$T$501,$B28,'Unos rashoda P4'!K$3:K$501)","v":{"v":10387037,"d":"10,387,037"}},{"$f":"'OPĆI DIO'!$C$1","v":"1812 Sveučilište u Zagrebu FAKULTET PROMETNIH ZNANOSTI"}]
[null,32,"Materijalni rashodi",{"v":4869117.82,"d":"4,869,118"},{"v":3045137,"d":"3,045,137"},{"$f":"SUMIF('Unos rashoda i izdataka'!$Q$3:$Q$501,$B29,'Unos rashoda i izdataka'!K$3:K$501)+SUMIF('Unos rashoda P4'!$T$3:$T$501,$B29,'Unos rashoda P4'!I$3:I$501)","v":{"v":3988333.5023751827,"d":"3,988,334"}},{"$f":"SUMIF('Unos rashoda i izdataka'!$Q$3:$Q$501,$B29,'Unos rashoda i izdataka'!L$3:L$501)+SUMIF('Unos rashoda P4'!$T$3:$T$501,$B29,'Unos rashoda P4'!J$3:J$501)","v":{"v":4052606.144830698,"d":"4,052,606"}},{"$f":"SUMIF('Unos rashoda i izdataka'!$Q$3:$Q$501,$B29,'Unos rashoda i izdataka'!M$3:M$501)+SUMIF('Unos rashoda P4'!$T$3:$T$501,$B29,'Unos rashoda P4'!K$3:K$501)","v":{"v":4090239.953468702,"d":"4,090,240"}},{"$f":"'OPĆI DIO'!$C$1","v":"1812 Sveučilište u Zagrebu FAKULTET PROMETNIH ZNANOSTI"}]
[null,34,"Financijski rashodi",{"v":32920,"d":"32,920"},{"v":29372,"d":"29,372"},{"$f":"SUMIF('Unos rashoda i izdataka'!$Q$3:$Q$501,$B30,'Unos rashoda i izdataka'!K$3:K$501)+SUMIF('Unos rashoda P4'!$T$3:$T$501,$B30,'Unos rashoda P4'!I$3:I$501)","v":{"v":43162,"d":"43,162"}},{"$f":"SUMIF('Unos rashoda i izdataka'!$Q$3:$Q$501,$B30,'Unos rashoda i izdataka'!L$3:L$501)+SUMIF('Unos rashoda P4'!$T$3:$T$501,$B30,'Unos rashoda P4'!J$3:J$501)","v":{"v":44442,"d":"44,442"}},{"$f":"SUMIF('Unos rashoda i izdataka'!$Q$3:$Q$501,$B30,'Unos rashoda i izdataka'!M$3:M$501)+SUMIF('Unos rashoda P4'!$T$3:$T$501,$B30,'Unos rashoda P4'!K$3:K$501)","v":{"v":45918,"d":"45,918"}},{"$f":"'OPĆI DIO'!$C$1","v":"1812 Sveučilište u Zagrebu FAKULTET PROMETNIH ZNANOSTI"}]
[null,35,"Subvencije",0,0,{"$f":"SUMIF('Unos rashoda i izdataka'!$Q$3:$Q$501,$B31,'Unos rashoda i izdataka'!K$3:K$501)+SUMIF('Unos rashoda P4'!$T$3:$T$501,$B31,'Unos rashoda P4'!I$3:I$501)","v":0},{"$f":"SUMIF('Unos rashoda i izdataka'!$Q$3:$Q$501,$B31,'Unos rashoda i izdataka'!L$3:L$501)+SUMIF('Unos rashoda P4'!$T$3:$T$501,$B31,'Unos rashoda P4'!J$3:J$501)","v":0},{"$f":"SUMIF('Unos rashoda i izdataka'!$Q$3:$Q$501,$B31,'Unos rashoda i izdataka'!M$3:M$501)+SUMIF('Unos rashoda P4'!$T$3:$T$501,$B31,'Unos rashoda P4'!K$3:K$501)","v":0},{"$f":"'OPĆI DIO'!$C$1","v":"1812 Sveučilište u Zagrebu FAKULTET PROMETNIH ZNANOSTI"}]
[null,36,"Pomoći dane u inozemstvo i unutar općeg proračuna",{"v":30154.61,"d":"30,155"},0,{"$f":"SUMIF('Unos rashoda i izdataka'!$Q$3:$Q$501,$B32,'Unos rashoda i izdataka'!K$3:K$501)+SUMIF('Unos rashoda P4'!$T$3:$T$501,$B32,'Unos rashoda P4'!I$3:I$501)","v":{"v":34252,"d":"34,252"}},{"$f":"SUMIF('Unos rashoda i izdataka'!$Q$3:$Q$501,$B32,'Unos rashoda i izdataka'!L$3:L$501)+SUMIF('Unos rashoda P4'!$T$3:$T$501,$B32,'Unos rashoda P4'!J$3:J$501)","v":0},{"$f":"SUMIF('Unos rashoda i izdataka'!$Q$3:$Q$501,$B32,'Unos rashoda i izdataka'!M$3:M$501)+SUMIF('Unos rashoda P4'!$T$3:$T$501,$B32,'Unos rashoda P4'!K$3:K$501)","v":0},{"$f":"'OPĆI DIO'!$C$1","v":"1812 Sveučilište u Zagrebu FAKULTET PROMETNIH ZNANOSTI"}]
[null,37,"Naknade građanima i kućanstvima na temelju osiguranja i druge naknade",{"v":1550,"d":"1,550"},{"v":1000,"d":"1,000"},{"$f":"SUMIF('Unos rashoda i izdataka'!$Q$3:$Q$501,$B33,'Unos rashoda i izdataka'!K$3:K$501)+SUMIF('Unos rashoda P4'!$T$3:$T$501,$B33,'Unos rashoda P4'!I$3:I$501)","v":{"v":1164,"d":"1,164"}},{"$f":"SUMIF('Unos rashoda i izdataka'!$Q$3:$Q$501,$B33,'Unos rashoda i izdataka'!L$3:L$501)+SUMIF('Unos rashoda P4'!$T$3:$T$501,$B33,'Unos rashoda P4'!J$3:J$501)","v":{"v":1196,"d":"1,196"}},{"$f":"SUMIF('Unos rashoda i izdataka'!$Q$3:$Q$501,$B33,'Unos rashoda i izdataka'!M$3:M$501)+SUMIF('Unos rashoda P4'!$T$3:$T$501,$B33,'Unos rashoda P4'!K$3:K$501)","v":{"v":1229,"d":"1,229"}},{"$f":"'OPĆI DIO'!$C$1","v":"1812 Sveučilište u Zagrebu FAKULTET PROMETNIH ZNANOSTI"}]
[null,38,"Rashodi za donacije, kazne, naknade šteta i kapitalne pomoći",200,0,{"$f":"SUMIF('Unos rashoda i izdataka'!$Q$3:$Q$501,$B34,'Unos rashoda i izdataka'!K$3:K$501)+SUMIF('Unos rashoda P4'!$T$3:$T$501,$B34,'Unos rashoda P4'!I$3:I$501)","v":0},{"$f":"SUMIF('Unos rashoda i izdataka'!$Q$3:$Q$501,$B34,'Unos rashoda i izdataka'!L$3:L$501)+SUMIF('Unos rashoda P4'!$T$3:$T$501,$B34,'Unos rashoda P4'!J$3:J$501)","v":0},{"$f":"SUMIF('Unos rashoda i izdataka'!$Q$3:$Q$501,$B34,'Unos rashoda i izdataka'!M$3:M$501)+SUMIF('Unos rashoda P4'!$T$3:$T$501,$B34,'Unos rashoda P4'!K$3:K$501)","v":0},{"$f":"'OPĆI DIO'!$C$1","v":"1812 Sveučilište u Zagrebu FAKULTET PROMETNIH ZNANOSTI"}]
[4,null,"Rashodi za nabavu nefinancijske imovine",{"$f":"SUM(D36:D40)","v":{"v":369962.14,"d":"369,962"}},{"$f":"SUM(E36:E40)","v":{"v":453566,"d":"453,566"}},{"$f":"SUM(F36:F40)","v":{"v":315842,"d":"315,842"}},{"$f":"SUM(G36:G40)","v":{"v":321642,"d":"321,642"}},{"$f":"SUM(H36:H40)","v":{"v":324728,"d":"324,728"}},{"$f":"'OPĆI DIO'!$C$1","v":"1812 Sveučilište u Zagrebu FAKULTET PROMETNIH ZNANOSTI"}]
[null,41,"Rashodi za nabavu neproizvedene dugotrajne imovine",0,0,{"$f":"SUMIF('Unos rashoda i izdataka'!$Q$3:$Q$501,$B36,'Unos rashoda i izdataka'!K$3:K$501)+SUMIF('Unos rashoda P4'!$T$3:$T$501,$B36,'Unos rashoda P4'!I$3:I$501)","v":0},{"$f":"SUMIF('Unos rashoda i izdataka'!$Q$3:$Q$501,$B36,'Unos rashoda i izdataka'!L$3:L$501)+SUMIF('Unos rashoda P4'!$T$3:$T$501,$B36,'Unos rashoda P4'!J$3:J$501)","v":0},{"$f":"SUMIF('Unos rashoda i izdataka'!$Q$3:$Q$501,$B36,'Unos rashoda i izdataka'!M$3:M$501)+SUMIF('Unos rashoda P4'!$T$3:$T$501,$B36,'Unos rashoda P4'!K$3:K$501)","v":0},{"$f":"'OPĆI DIO'!$C$1","v":"1812 Sveučilište u Zagrebu FAKULTET PROMETNIH ZNANOSTI"}]
[null,42,"Rashodi za nabavu proizvedene dugotrajne imovine",{"v":369962.14,"d":"369,962"},{"v":453566,"d":"453,566"},{"$f":"SUMIF('Unos rashoda i izdataka'!$Q$3:$Q$501,$B37,'Unos rashoda i izdataka'!K$3:K$501)+SUMIF('Unos rashoda P4'!$T$3:$T$501,$B37,'Unos rashoda P4'!I$3:I$501)","v":{"v":315842,"d":"315,842"}},{"$f":"SUMIF('Unos rashoda i izdataka'!$Q$3:$Q$501,$B37,'Unos rashoda i izdataka'!L$3:L$501)+SUMIF('Unos rashoda P4'!$T$3:$T$501,$B37,'Unos rashoda P4'!J$3:J$501)","v":{"v":321642,"d":"321,642"}},{"$f":"SUMIF('Unos rashoda i izdataka'!$Q$3:$Q$501,$B37,'Unos rashoda i izdataka'!M$3:M$501)+SUMIF('Unos rashoda P4'!$T$3:$T$501,$B37,'Unos rashoda P4'!K$3:K$501)","v":{"v":324728,"d":"324,728"}},{"$f":"'OPĆI DIO'!$C$1","v":"1812 Sveučilište u Zagrebu FAKULTET PROMETNIH ZNANOSTI"}]
[null,43,"Plemeniti metali i ostale pohranjene vrijednosti",0,0,{"$f":"SUMIF('Unos rashoda i izdataka'!$Q$3:$Q$501,$B38,'Unos rashoda i izdataka'!K$3:K$501)+SUMIF('Unos rashoda P4'!$T$3:$T$501,$B38,'Unos rashoda P4'!I$3:I$501)","v":0},{"$f":"SUMIF('Unos rashoda i izdataka'!$Q$3:$Q$501,$B38,'Unos rashoda i izdataka'!L$3:L$501)+SUMIF('Unos rashoda P4'!$T$3:$T$501,$B38,'Unos rashoda P4'!J$3:J$501)","v":0},{"$f":"SUMIF('Unos rashoda i izdataka'!$Q$3:$Q$501,$B38,'Unos rashoda i izdataka'!M$3:M$501)+SUMIF('Unos rashoda P4'!$T$3:$T$501,$B38,'Unos rashoda P4'!K$3:K$501)","v":0},{"$f":"'OPĆI DIO'!$C$1","v":"1812 Sveučilište u Zagrebu FAKULTET PROMETNIH ZNANOSTI"}]
[null,44,"Rashodi za nabavu proizvedene kratkotrajne imovine",0,0,{"$f":"SUMIF('Unos rashoda i izdataka'!$Q$3:$Q$501,$B39,'Unos rashoda i izdataka'!K$3:K$501)+SUMIF('Unos rashoda P4'!$T$3:$T$501,$B39,'Unos rashoda P4'!I$3:I$501)","v":0},{"$f":"SUMIF('Unos rashoda i izdataka'!$Q$3:$Q$501,$B39,'Unos rashoda i izdataka'!L$3:L$501)+SUMIF('Unos rashoda P4'!$T$3:$T$501,$B39,'Unos rashoda P4'!J$3:J$501)","v":0},{"$f":"SUMIF('Unos rashoda i izdataka'!$Q$3:$Q$501,$B39,'Unos rashoda i izdataka'!M$3:M$501)+SUMIF('Unos rashoda P4'!$T$3:$T$501,$B39,'Unos rashoda P4'!K$3:K$501)","v":0},{"$f":"'OPĆI DIO'!$C$1","v":"1812 Sveučilište u Zagrebu FAKULTET PROMETNIH ZNANOSTI"}]
[null,45,"Rashodi za dodatna ulaganja na nefinancijskoj imovini",0,0,{"$f":"SUMIF('Unos rashoda i izdataka'!$Q$3:$Q$501,$B40,'Unos rashoda i izdataka'!K$3:K$501)+SUMIF('Unos rashoda P4'!$T$3:$T$501,$B40,'Unos rashoda P4'!I$3:I$501)","v":0},{"$f":"SUMIF('Unos rashoda i izdataka'!$Q$3:$Q$501,$B40,'Unos rashoda i izdataka'!L$3:L$501)+SUMIF('Unos rashoda P4'!$T$3:$T$501,$B40,'Unos rashoda P4'!J$3:J$501)","v":0},{"$f":"SUMIF('Unos rashoda i izdataka'!$Q$3:$Q$501,$B40,'Unos rashoda i izdataka'!M$3:M$501)+SUMIF('Unos rashoda P4'!$T$3:$T$501,$B40,'Unos rashoda P4'!K$3:K$501)","v":0},{"$f":"'OPĆI DIO'!$C$1","v":"1812 Sveučilište u Zagrebu FAKULTET PROMETNIH ZNANOSTI"}]

{"sheet":"A.2 PRIHODI I RASHODI IF","index":6,"n_rows":105,"n_cols":16384,"rows_kept":105,"merged":[[0,1,0,6]]}
[null,"A2. PRIHODI I RASHODI PREMA IZVORIMA FINANCIRANJA"]
[]
[null,"BROJČANA OZNAKA I NAZIV","IZVRŠENJE\n2024.","TEKUĆI PLAN\n2025.","PLAN \n2026.","PROJEKCIJA \n2027.","PROJEKCIJA \n2028."]
[null,1,2,3,4,5,6]
[null,"UKUPNO PRIHODI",{"$f":"+C6+C9+C11+C14+C47+C49","v":{"v":14232937.4,"d":"14,232,937"}},{"$f":"+D6+D9+D11+D14+D47+D49","v":{"v":13269634,"d":"13,269,634"}},{"$f":"+E6+E9+E11+E14+E47+E49+E51","v":{"v":14256820,"d":"14,256,820"}},{"$f":"+F6+F9+F11+F14+F47+F49+F51","v":{"v":14526989,"d":"14,526,989"}},{"$f":"+G6+G9+G11+G14+G47+G49+G51","v":{"v":14994912,"d":"14,994,912"}},{"$f":"'OPĆI DIO'!$C$1","v":"1812 Sveučilište u Zagrebu FAKULTET PROMETNIH ZNANOSTI"}]
[1,"1 Opći prihodi i primici",{"$f":"+C7+C8","v":{"v":6898117.88,"d":"6,898,118"}},{"$f":"+D7+D8","v":{"v":6946026,"d":"6,946,026"}},{"$f":"+E7+E8","v":{"v":7976670,"d":"7,976,670"}},{"$f":"+F7+F8","v":{"v":8503632,"d":"8,503,632"}},{"$f":"+G7+G8","v":{"v":9062781,"d":"9,062,781"}},{"$f":"'OPĆI DIO'!$C$1","v":"1812 Sveučilište u Zagrebu FAKULTET PROMETNIH ZNANOSTI"}]
[11,"11 Opći prihodi i primici",{"v":6898117.88,"d":"6,898,118"},{"v":6946026,"d":"6,946,026"},{"$f":"SUMIF('Unos prihoda i primitaka'!$D$3:$D$505,$A7,'Unos prihoda i primitaka'!I$3:I$505)","v":{"v":7976670,"d":"7,976,670"}},{"$f":"SUMIF('Unos prihoda i primitaka'!$D$3:$D$505,$A7,'Unos prihoda i primitaka'!J$3:J$505)","v":{"v":8503632,"d":"8,503,632"}},{"$f":"SUMIF('Unos prihoda i primitaka'!$D$3:$D$505,$A7,'Unos prihoda i primitaka'!K$3:K$505)","v":{"v":9062781,"d":"9,062,781"}},{"$f":"'OPĆI DIO'!$C$1","v":"1812 Sveučilište u Zagrebu FAKULTET PROMETNIH ZNANOSTI"}]
[12,"12 Sredstva učešća za pomoći",null,null,{"$f":"SUMIF('Unos prihoda i primitaka'!$D$3:$D$505,$A8,'Unos prihoda i primitaka'!I$3:I$505)","v":0},{"$f":"SUMIF('Unos prihoda i primitaka'!$D$3:$D$505,$A8,'Unos prihoda i primitaka'!J$3:J$505)","v":0},{"$f":"SUMIF('Unos prihoda i primitaka'!$D$3:$D$505,$A8,'Unos prihoda i primitaka'!K$3:K$505)","v":0},{"$f":"'OPĆI DIO'!$C$1","v":"1812 Sveučilište u Zagrebu FAKULTET PROMETNIH ZNANOSTI"}]
[3,"3 Vlastiti prihodi",{"$f":"+C10","v":{"v":3476275.6,"d":"3,476,276"}},{"$f":"+D10","v":{"v":3583515,"d":"3,583,515"}},{"$f":"+E10","v":{"v":3590000,"d":"3,590,000"}},{"$f":"+F10","v":{"v":3690000,"d":"3,690,000"}},{"$f":"+G10","v":{"v":3790000,"d":"3,790,000"}},{"$f":"'OPĆI DIO'!$C$1","v":"1812 Sveučilište u Zagrebu FAKULTET PROMETNIH ZNANOSTI"}]
[31,"31 Vlastiti prihodi",{"v":3476275.6,"d":"3,476,276"},{"v":3583515,"d":"3,583,515"},{"$f":"SUMIF('Unos prihoda i primitaka'!$D$3:$D$505,$A10,'Unos prihoda i primitaka'!I$3:I$505)","v":{"v":3590000,"d":"3,590,000"}},{"$f":"SUMIF('Unos prihoda i primitaka'!$D$3:$D$505,$A10,'Unos prihoda i primitaka'!J$3:J$505)","v":{"v":3690000,"d":"3,690,000"}},{"$f":"SUMIF('Unos prihoda i primitaka'!$D$3:$D$505,$A10,'Unos prihoda i primitaka'!K$3:K$505)","v":{"v":3790000,"d":"3,790,000"}},{"$f":"'OPĆI DIO'!$C$1","v":"1812 Sveučilište u Zagrebu FAKULTET PROMETNIH ZNANOSTI"}]
[4,"4 Prihodi za posebne namjene",{"$f":"+C12+C13","v":{"v":779165.73,"d":"779,166"}},{"$f":"+D12+D13","v":{"v":597252,"d":"597,252"}},{"$f":"+E12+E13","v":{"v":825000,"d":"825,000"}},{"$f":"+F12+F13","v":{"v":850000,"d":"850,000"}},{"$f":"+G12+G13","v":{"v":875000,"d":"875,000"}},{"$f":"'OPĆI DIO'!$C$1","v":"1812 Sveučilište u Zagrebu FAKULTET PROMETNIH ZNANOSTI"}]
[41,"41 Prihodi od igara na sreću",null,null,{"$f":"SUMIF('Unos prihoda i primitaka'!$D$3:$D$505,$A12,'Unos prihoda i primitaka'!I$3:I$505)","v":0},{"$f":"SUMIF('Unos prihoda i primitaka'!$D$3:$D$505,$A12,'Unos prihoda i primitaka'!J$3:J$505)","v":0},{"$f":"SUMIF('Unos prihoda i primitaka'!$D$3:$D$505,$A12,'Unos prihoda i primitaka'!K$3:K$505)","v":0},{"$f":"'OPĆI DIO'!$C$1","v":"1812 Sveučilište u Zagrebu FAKULTET PROMETNIH ZNANOSTI"}]
[43,"43  Prihodi za posebne namjene ",{"v":779165.73,"d":"779,166"},{"v":597252,"d":"597,252"},{"$f":"SUMIF('Unos prihoda i primitaka'!$C$3:$C$505,$A13,'Unos prihoda i primitaka'!I$3:I$505)-'B.2 RAČUN FINANC IF'!E7","v":{"v":825000,"d":"825,000"}},{"$f":"SUMIF('Unos prihoda i primitaka'!$C$3:$C$505,$A13,'Unos prihoda i primitaka'!J$3:J$505)-'B.2 RAČUN FINANC IF'!F7","v":{"v":850000,"d":"850,000"}},{"$f":"SUMIF('Unos prihoda i primitaka'!$C$3:$C$505,$A13,'Unos prihoda i primitaka'!K$3:K$505)-'B.2 RAČUN FINANC IF'!G7","v":{"v":875000,"d":"875,000"}},{"$f":"'OPĆI DIO'!$C$1","v":"1812 Sveučilište u Zagrebu FAKULTET PROMETNIH ZNANOSTI"}]
[5,"5 Pomoći",{"$f":"+C15+C23+C29+C30+C35+C37+C42+C46","v":{"v":3064418.19,"d":"3,064,418"}},{"$f":"+D15+D23+D29+D30+D35+D37+D42+D46","v":{"v":2122841,"d":"2,122,841"}},{"$f":"SUM(E34:E46)+E30+E29+E23+E15","v":{"v":1845150,"d":"1,845,150"}},{"$f":"SUM(F34:F46)+F30+F29+F23+F15","v":{"v":1463357,"d":"1,463,357"}},{"v":1247131,"d":"1,247,131"},{"$f":"'OPĆI DIO'!$C$1","v":"1812 Sveučilište u Zagrebu FAKULTET PROMETNIH ZNANOSTI"}]
[50,"50 Pomoći iz DP",{"$f":"SUM(C16:C22)","v":0},{"$f":"SUM(D16:D22)","v":0},{"$f":"SUM(E16:E22)","v":{"v":90000,"d":"90,000"}},{"v":90000,"d":"90,000"},{"v":90000,"d":"90,000"}]
[5011,"5011 Pomoći iz državnog proračuna kroz opće prihode i primitke",null,null,{"$f":"SUMIF('Unos prihoda i primitaka'!$D$3:$D$505,$A16,'Unos prihoda i primitaka'!I$3:I$505)","v":{"v":90000,"d":"90,000"}},{"$f":"SUMIF('Unos prihoda i primitaka'!$D$3:$D$505,$A16,'Unos prihoda i primitaka'!J$3:J$505)","v":{"v":90000,"d":"90,000"}},{"$f":"SUMIF('Unos prihoda i primitaka'!$D$3:$D$505,$A16,'Unos prihoda i primitaka'!K$3:K$505)","v":{"v":90000,"d":"90,000"}}]
[5012,"5012 Pomoći iz državnog proračuna kroz nacionalno sufinanciranje EU projekata",null,null,{"$f":"SUMIF('Unos prihoda i primitaka'!$D$3:$D$505,$A17,'Unos prihoda i primitaka'!I$3:I$505)","v":0},{"$f":"SUMIF('Unos prihoda i primitaka'!$D$3:$D$505,$A17,'Unos prihoda i primitaka'!J$3:J$505)","v":0},{"$f":"SUMIF('Unos prihoda i primitaka'!$D$3:$D$505,$A17,'Unos prihoda i primitaka'!K$3:K$505)","v":0}]
[5041,"5041 Pomoći iz državnog proračuna kroz prihode od igara na sreću",null,null,{"$f":"SUMIF('Unos prihoda i primitaka'!$D$3:$D$505,$A18,'Unos prihoda i primitaka'!I$3:I$505)","v":0},{"$f":"SUMIF('Unos prihoda i primitaka'!$D$3:$D$505,$A18,'Unos prihoda i primitaka'!J$3:J$505)","v":0},{"$f":"SUMIF('Unos prihoda i primitaka'!$D$3:$D$505,$A18,'Unos prihoda i primitaka'!K$3:K$505)","v":0}]
[5043,"5043 Pomoći iz državnog proračuna kroz ostale prihode za posebne namjene",null,null,{"$f":"SUMIF('Unos prihoda i primitaka'!$D$3:$D$505,$A19,'Unos prihoda i primitaka'!I$3:I$505)","v":0},{"$f":"SUMIF('Unos prihoda i primitaka'!$D$3:$D$505,$A19,'Unos prihoda i primitaka'!J$3:J$505)","v":0},{"$f":"SUMIF('Unos prihoda i primitaka'!$D$3:$D$505,$A19,'Unos prihoda i primitaka'!K$3:K$505)","v":0}]
[5052,"5052 Pomoći iz državnog proračuna kroz ostale pomoći",null,null,{"$f":"SUMIF('Unos prihoda i primitaka'!$D$3:$D$505,$A20,'Unos prihoda i primitaka'!I$3:I$505)","v":0},{"$f":"SUMIF('Unos prihoda i primitaka'!$D$3:$D$505,$A20,'Unos prihoda i primitaka'!J$3:J$505)","v":0},{"$f":"SUMIF('Unos prihoda i primitaka'!$D$3:$D$505,$A20,'Unos prihoda i primitaka'!K$3:K$505)","v":0}]
[50810,"50810 Pomoći iz državnog proračuna kroz namjenske primitke od zaduživanja – ostali",null,null,{"$f":"SUMIF('Unos prihoda i primitaka'!$D$3:$D$505,$A21,'Unos prihoda i primitaka'!I$3:I$505)","v":0},{"$f":"SUMIF('Unos prihoda i primitaka'!$D$3:$D$505,$A21,'Unos prihoda i primitaka'!J$3:J$505)","v":0},{"$f":"SUMIF('Unos prihoda i primitaka'!$D$3:$D$505,$A21,'Unos prihoda i primitaka'!K$3:K$505)","v":0}]
[50815,"50815 Pomoći iz državnog proračuna kroz namjenske primitke od zaduživanja – NPOO",null,null,{"$f":"SUMIF('Unos prihoda i primitaka'!$D$3:$D$505,$A22,'Unos prihoda i primitaka'!I$3:I$505)","v":0},{"$f":"SUMIF('Unos prihoda i primitaka'!$D$3:$D$505,$A22,'Unos prihoda i primitaka'!J$3:J$505)","v":0},{"$f":"SUMIF('Unos prihoda i primitaka'!$D$3:$D$505,$A22,'Unos prihoda i primitaka'!K$3:K$505)","v":0}]
[51,"51 Programi unije",{"$f":"SUM(C24:C28)","v":{"v":2156482.77,"d":"2,156,483"}},{"$f":"SUM(D24:D28)","v":{"v":1057921,"d":"1,057,921"}},{"$f":"SUM(E24:E28)","v":{"v":846895,"d":"846,895"}},{"v":987540,"d":"987,540"},{"v":715000,"d":"715,000"},0,0,0,0,0,0,0,0,0,0,0,0,0,0,0,0,0,0,0,0,0,0,0,0,0,0,0,0,0,0,0,0,0,0,0,0,0,0,0,0,0,0,0,0,0,0,0,0,0,0,0,0,0,0,0,0,0,0,0,0,{"$f":"SUM(BP24:BP28)","v":0},0,0,0,0,0,0,0,0,0,0,0,0,0,0,0,0,0,0,0,0,0,0,0,0,0,0,0,0,0,0,0,0,0,0,0,0,0,0,0,0,0,0,0,0,0,0,0,0,0,0,0,0,0,0,0,0,0,0,0,0,0,0,0,{"$f":"SUM(EB24:EB28)","v":0},0,0,0,0,0,0,0,0,0,0,0,0,0,0,0,0,0,0,0,0,0,0,0,0,0,0,0,0,0,0,0,0,0,0,0,0,0,0,0,0,0,0,0,0,0,0,0,0,0,0,0,0,0,0,0,0,0,0,0,0,0,0,0,{"$f":"SUM(GN24:GN28)","v":0},0,0,0,0,0,0,0,0,0,0,0,0,0,0,0,0,0,0,0,0,0,0,0,0,0,0,0,0,0,0,0,0,0,0,0,0,0,0,0,0,0,0,0,0,0,0,0,0,0,0,0,0,0,0,0,0,0,0,0,0,0,0,0,{"$f":"SUM(IZ24:IZ28)","v":0},0,0,0,0,0,0,0,0,0,0,0,0,0,0,0,0,0,0,0,0,0,0,0,0,0,0,0,0,0,0,0,0,0,0,0,0,0,0,0,0,0,0,0,0,0,0,0,0,0,0,0,0,0,0,0,0,0,0,0,0,0,0,0,{"$f":"SUM(LL24:LL28)","v":0},0,0,0,0,0,0,0,0,0,0,0,0,0,0,0,0,0,0,0,0,0,0,0,0,0,0,0,0,0,0,0,0,0,0,0,0,0,0,0,0,0,0,0,0,0,0,0,0,0,0,0,0,0,0,0,0,0,0,0,0,0,0,0,{"$f":"SUM(NX24:NX28)","v":0},0,0,0,0,0,0,0,0,0,0,0,0,0,0,0,0,0,0,0,0,0,0,0,0,0,0,0,0,0,0,0,0,0,0,0,0,0,0,0,0,0,0,0,0,0,0,0,0,0,0,0,0,0,0,0,0,0,0,0,0,0,0,0,{"$f":"SUM(QJ24:QJ28)","v":0},0,0,0,0,0,0,0,0,0,0,0,0,0,0,0,0,0,0,0,0,0,0,0,0,0,0,0,0,0,0,0,0,0,0,0,0,0,0,0,0,0,0,0,0,0,0,0,0,0,0,0,0,0,0,0,0,0,0,0,0,0,0,0,{"$f":"SUM(SV24:SV28)","v":0},0,0,0,0,0,0,0,0,0,0,0,0,0,0,0,0,0,0,0,0,0,0,0,0,0,0,0,0,0,0,0,0,0,0,0,0,0,0,0,0,0,0,0,0,0,0,0,0,0,0,0,0,0,0,0,0,0,0,0,0,0,0,0,{"$f":"SUM(VH24:VH28)","v":0},0,0,0,0,0,0,0,0,0,0,0,0,0,0,0,0,0,0,0,0,0,0,0,0,0,0,0,0,0,0,0,0,0,0,0,0,0,0,0,0,0,0,0,0,0,0,0,0,0,0,0,0,0,0,0,0,0,0,0,0,0,0,0,{"$f":"SUM(XT24:XT28)","v":0},0,0,0,0,0,0,0,0,0,0,0,0,0,0,0,0,0,0,0,0,0,0,0,0,0,0,0,0,0,0,0,0,0,0,0,0,0,0,0,0,0,0,0,0,0,0,0,0,0,0,0,0,0,0,0,0,0,0,0,0,0,0,0,{"$f":"SUM(AAF24:AAF28)","v":0},0,0,0,0,0,0,0,0,0,0,0,0,0,0,0,0,0,0,0,0,0,0,0,0,0,0,0,0,0,0,0,0,0,0,0,0,0,0,0,0,0,0,0,0,0,0,0,0,0,0,0,0,0,0,0,0,0,0,0,0,0,0,0,{"$f":"SUM(ACR24:ACR28)","v":0},0,0,0,0,0,0,0,0,0,0,0,0,0,0,0,0,0,0,0,0,0,0,0,0,0,0,0,0,0,0,0,0,0,0,0,0,0,0,0,0,0,0,0,0,0,0,0,0,0,0,0,0,0,0,0,0,0,0,0,0,0,0,0,{"$f":"SUM(AFD24:AFD28)","v":0},0,0,0,0,0,0,0,0,0,0,0,0,0,0,0,0,0,0,0,0,0,0,0,0,0,0,0,0,0,0,0,0,0,0,0,0,0,0,0,0,0,0,0,0,0,0,0,0,0,0,0,0,0,0,0,0,0,0,0,0,0,0,0,{"$f":"SUM(AHP24:AHP28)","v":0},0,0,0,0,0,0,0,0,0,0,0,0,0,0,0,0,0,0,0,0,0,0,0,0,0,0,0,0,0,0,0,0,0,0,0,0,0,0,0,0,0,0,0,0,0,0,0,0,0,0,0,0,0,0,0,0,0,0,0,0,0,0,0,{"$f":"SUM(AKB24:AKB28)","v":0},0,0,0,0,0,0,0,0,0,0,0,0,0,0,0,0,0,0,0,0,0,0,0,0,0,0,0,0,0,0,0,0,0,0,0,0,0,0,0,0,0,0,0,0,0,0,0,0,0,0,0,0,0,0,0,0,0,0,0,0,0,0,0,{"$f":"SUM(AMN24:AMN28)","v":0},0,0,0,0,0,0,0,0,0,0,0,0,0,0,0,0,0,0,0,0,0,0,0,0,0,0,0,0,0,0,0,0,0,0,0,0,0,0,0,0,0,0,0,0,0,0,0,0,0,0,0,0,0,0,0,0,0,0,0,0,0,0,0,{"$f":"SUM(AOZ24:AOZ28)","v":0},0,0,0,0,0,0,0,0,0,0,0,0,0,0,0,0,0,0,0,0,0,0,0,0,0,0,0,0,0,0,0,0,0,0,0,0,0,0,0,0,0,0,0,0,0,0,0,0,0,0,0,0,0,0,0,0,0,0,0,0,0,0,0,{"$f":"SUM(ARL24:ARL28)","v":0},0,0,0,0,0,0,0,0,0,0,0,0,0,0,0,0,0,0,0,0,0,0,0,0,0,0,0,0,0,0,0,0,0,0,0,0,0,0,0,0,0,0,0,0,0,0,0,0,0,0,0,0,0,0,0,0,0,0,0,0,0,0,0,{"$f":"SUM(ATX24:ATX28)","v":0},0,0,0,0,0,0,0,0,0,0,0,0,0,0,0,0,0,0,0,0,0,0,0,0,0,0,0,0,0,0,0,0,0,0,0,0,0,0,0,0,0,0,0,0,0,0,0,0,0,0,0,0,0,0,0,0,0,0,0,0,0,0,0,{"$f":"SUM(AWJ24:AWJ28)","v":0},0,0,0,0,0,0,0,0,0,0,0,0,0,0,0,0,0,0,0,0,0,0,0,0,0,0,0,0,0,0,0,0,0,0,0,0,0,0,0,0,0,0,0,0,0,0,0,0,0,0,0,0,0,0,0,0,0,0,0,0,0,0,0,{"$f":"SUM(AYV24:AYV28)","v":0},0,0,0,0,0,0,0,0,0,0,0,0,0,0,0,0,0,0,0,0,0,0,0,0,0,0,0,0,0,0,0,0,0,0,0,0,0,0,0,0,0,0,0,0,0,0,0,0,0,0,0,0,0,0,0,0,0,0,0,0,0,0,0,{"$f":"SUM(BBH24:BBH28)","v":0},0,0,0,0,0,0,0,0,0,0,0,0,0,0,0,0,0,0,0,0,0,0,0,0,0,0,0,0,0,0,0,0,0,0,0,0,0,0,0,0,0,0,0,0,0,0,0,0,0,0,0,0,0,0,0,0,0,0,0,0,0,0,0,{"$f":"SUM(BDT24:BDT28)","v":0},0,0,0,0,0,0,0,0,0,0,0,0,0,0,0,0,0,0,0,0,0,0,0,0,0,0,0,0,0,0,0,0,0,0,0,0,0,0,0,0,0,0,0,0,0,0,0,0,0,0,0,0,0,0,0,0,0,0,0,0,0,0,0,{"$f":"SUM(BGF24:BGF28)","v":0},0,0,0,0,0,0,0,0,0,0,0,0,0,0,0,0,0,0,0,0,0,0,0,0,0,0,0,0,0,0,0,0,0,0,0,0,0,0,0,0,0,0,0,0,0,0,0,0,0,0,0,0,0,0,0,0,0,0,0,0,0,0,0,{"$f":"SUM(BIR24:BIR28)","v":0},0,0,0,0,0,0,0,0,0,0,0,0,0,0,0,0,0,0,0,0,0,0,0,0,0,0,0,0,0,0,0,0,0,0,0,0,0,0,0,0,0,0,0,0,0,0,0,0,0,0,0,0,0,0,0,0,0,0,0,0,0,0,0,{"$f":"SUM(BLD24:BLD28)","v":0},0,0,0,0,0,0,0,0,0,0,0,0,0,0,0,0,0,0,0,0,0,0,0,0,0,0,0,0,0,0,0,0,0,0,0,0,0,0,0,0,0,0,0,0,0,0,0,0,0,0,0,0,0,0,0,0,0,0,0,0,0,0,0,{"$f":"SUM(BNP24:BNP28)","v":0},0,0,0,0,0,0,0,0,0,0,0,0,0,0,0,0,0,0,0,0,0,0,0,0,0,0,0,0,0,0,0,0,0,0,0,0,0,0,0,0,0,0,0,0,0,0,0,0,0,0,0,0,0,0,0,0,0,0,0,0,0,0,0,{"$f":"SUM(BQB24:BQB28)","v":0},0,0,0,0,0,0,0,0,0,0,0,0,0,0,0,0,0,0,0,0,0,0,0,0,0,0,0,0,0,0,0,0,0,0,0,0,0,0,0,0,0,0,0,0,0,0,0,0,0,0,0,0,0,0,0,0,0,0,0,0,0,0,0,{"$f":"SUM(BSN24:BSN28)","v":0},0,0,0,0,0,0,0,0,0,0,0,0,0,0,0,0,0,0,0,0,0,0,0,0,0,0,0,0,0,0,0,0,0,0,0,0,0,0,0,0,0,0,0,0,0,0,0,0,0,0,0,0,0,0,0,0,0,0,0,0,0,0,0,{"$f":"SUM(BUZ24:BUZ28)","v":0},0,0,0,0,0,0,0,0,0,0,0,0,0,0,0,0,0,0,0,0,0,0,0,0,0,0,0,0,0,0,0,0,0,0,0,0,0,0,0,0,0,0,0,0,0,0,0,0,0,0,0,0,0,0,0,0,0,0,0,0,0,0,0,{"$f":"SUM(BXL24:BXL28)","v":0},0,0,0,0,0,0,0,0,0,0,0,0,0,0,0,0,0,0,0,0,0,0,0,0,0,0,0,0,0,0,0,0,0,0,0,0,0,0,0,0,0,0,0,0,0,0,0,0,0,0,0,0,0,0,0,0,0,0,0,0,0,0,0,{"$f":"SUM(BZX24:BZX28)","v":0},0,0,0,0,0,0,0,0,0,0,0,0,0,0,0,0,0,0,0,0,0,0,0,0,0,0,0,0,0,0,0,0,0,0,0,0,0,0,0,0,0,0,0,0,0,0,0,0,0,0,0,0,0,0,0,0,0,0,0,0,0,0,0,{"$f":"SUM(CCJ24:CCJ28)","v":0},0,0,0,0,0,0,0,0,0,0,0,0,0,0,0,0,0,0,0,0,0,0,0,0,0,0,0,0,0,0,0,0,0,0,0,0,0,0,0,0,0,0,0,0,0,0,0,0,0,0,0,0,0,0,0,0,0,0,0,0,0,0,0,{"$f":"SUM(CEV24:CEV28)","v":0},0,0,0,0,0,0,0,0,0,0,0,0,0,0,0,0,0,0,0,0,0,0,0,0,0,0,0,0,0,0,0,0,0,0,0,0,0,0,0,0,0,0,0,0,0,0,0,0,0,0,0,0,0,0,0,0,0,0,0,0,0,0,0,{"$f":"SUM(CHH24:CHH28)","v":0},0,0,0,0,0,0,0,0,0,0,0,0,0,0,0,0,0,0,0,0,0,0,0,0,0,0,0,0,0,0,0,0,0,0,0,0,0,0,0,0,0,0,0,0,0,0,0,0,0,0,0,0,0,0,0,0,0,0,0,0,0,0,0,{"$f":"SUM(CJT24:CJT28)","v":0},0,0,0,0,0,0,0,0,0,0,0,0,0,0,0,0,0,0,0,0,0,0,0,0,0,0,0,0,0,0,0,0,0,0,0,0,0,0,0,0,0,0,0,0,0,0,0,0,0,0,0,0,0,0,0,0,0,0,0,0,0,0,0,{"$f":"SUM(CMF24:CMF28)","v":0},0,0,0,0,0,0,0,0,0,0,0,0,0,0,0,0,0,0,0,0,0,0,0,0,0,0,0,0,0,0,0,0,0,0,0,0,0,0,0,0,0,0,0,0,0,0,0,0,0,0,0,0,0,0,0,0,0,0,0,0,0,0,0,{"$f":"SUM(COR24:COR28)","v":0},0,0,0,0,0,0,0,0,0,0,0,0,0,0,0,0,0,0,0,0,0,0,0,0,0,0,0,0,0,0,0,0,0,0,0,0,0,0,0,0,0,0,0,0,0,0,0,0,0,0,0,0,0,0,0,0,0,0,0,0,0,0,0,{"$f":"SUM(CRD24:CRD28)","v":0},0,0,0,0,0,0,0,0,0,0,0,0,0,0,0,0,0,0,0,0,0,0,0,0,0,0,0,0,0,0,0,0,0,0,0,0,0,0,0,0,0,0,0,0,0,0,0,0,0,0,0,0,0,0,0,0,0,0,0,0,0,0,0,{"$f":"SUM(CTP24:CTP28)","v":0},0,0,0,0,0,0,0,0,0,0,0,0,0,0,0,0,0,0,0,0,0,0,0,0,0,0,0,0,0,0,0,0,0,0,0,0,0,0,0,0,0,0,0,0,0,0,0,0,0,0,0,0,0,0,0,0,0,0,0,0,0,0,0,{"$f":"SUM(CWB24:CWB28)","v":0},0,0,0,0,0,0,0,0,0,0,0,0,0,0,0,0,0,0,0,0,0,0,0,0,0,0,0,0,0,0,0,0,0,0,0,0,0,0,0,0,0,0,0,0,0,0,0,0,0,0,0,0,0,0,0,0,0,0,0,0,0,0,0,{"$f":"SUM(CYN24:CYN28)","v":0},0,0,0,0,0,0,0,0,0,0,0,0,0,0,0,0,0,0,0,0,0,0,0,0,0,0,0,0,0,0,0,0,0,0,0,0,0,0,0,0,0,0,0,0,0,0,0,0,0,0,0,0,0,0,0,0,0,0,0,0,0,0,0,{"$f":"SUM(DAZ24:DAZ28)","v":0},0,0,0,0,0,0,0,0,0,0,0,0,0,0,0,0,0,0,0,0,0,0,0,0,0,0,0,0,0,0,0,0,0,0,0,0,0,0,0,0,0,0,0,0,0,0,0,0,0,0,0,0,0,0,0,0,0,0,0,0,0,0,0,{"$f":"SUM(DDL24:DDL28)","v":0},0,0,0,0,0,0,0,0,0,0,0,0,0,0,0,0,0,0,0,0,0,0,0,0,0,0,0,0,0,0,0,0,0,0,0,0,0,0,0,0,0,0,0,0,0,0,0,0,0,0,0,0,0,0,0,0,0,0,0,0,0,0,0,{"$f":"SUM(DFX24:DFX28)","v":0},0,0,0,0,0,0,0,0,0,0,0,0,0,0,0,0,0,0,0,0,0,0,0,0,0,0,0,0,0,0,0,0,0,0,0,0,0,0,0,0,0,0,0,0,0,0,0,0,0,0,0,0,0,0,0,0,0,0,0,0,0,0,0,{"$f":"SUM(DIJ24:DIJ28)","v":0},0,0,0,0,0,0,0,0,0,0,0,0,0,0,0,0,0,0,0,0,0,0,0,0,0,0,0,0,0,0,0,0,0,0,0,0,0,0,0,0,0,0,0,0,0,0,0,0,0,0,0,0,0,0,0,0,0,0,0,0,0,0,0,{"$f":"SUM(DKV24:DKV28)","v":0},0,0,0,0,0,0,0,0,0,0,0,0,0,0,0,0,0,0,0,0,0,0,0,0,0,0,0,0,0,0,0,0,0,0,0,0,0,0,0,0,0,0,0,0,0,0,0,0,0,0,0,0,0,0,0,0,0,0,0,0,0,0,0,{"$f":"SUM(DNH24:DNH28)","v":0},0,0,0,0,0,0,0,0,0,0,0,0,0,0,0,0,0,0,0,0,0,0,0,0,0,0,0,0,0,0,0,0,0,0,0,0,0,0,0,0,0,0,0,0,0,0,0,0,0,0,0,0,0,0,0,0,0,0,0,0,0,0,0,{"$f":"SUM(DPT24:DPT28)","v":0},0,0,0,0,0,0,0,0,0,0,0,0,0,0,0,0,0,0,0,0,0,0,0,0,0,0,0,0,0,0,0,0,0,0,0,0,0,0,0,0,0,0,0,0,0,0,0,0,0,0,0,0,0,0,0,0,0,0,0,0,0,0,0,{"$f":"SUM(DSF24:DSF28)","v":0},0,0,0,0,0,0,0,0,0,0,0,0,0,0,0,0,0,0,0,0,0,0,0,0,0,0,0,0,0,0,0,0,0,0,0,0,0,0,0,0,0,0,0,0,0,0,0,0,0,0,0,0,0,0,0,0,0,0,0,0,0,0,0,{"$f":"SUM(DUR24:DUR28)","v":0},0,0,0,0,0,0,0,0,0,0,0,0,0,0,0,0,0,0,0,0,0,0,0,0,0,0,0,0,0,0,0,0,0,0,0,0,0,0,0,0,0,0,0,0,0,0,0,0,0,0,0,0,0,0,0,0,0,0,0,0,0,0,0,{"$f":"SUM(DXD24:DXD28)","v":0},0,0,0,0,0,0,0,0,0,0,0,0,0,0,0,0,0,0,0,0,0,0,0,0,0,0,0,0,0,0,0,0,0,0,0,0,0,0,0,0,0,0,0,0,0,0,0,0,0,0,0,0,0,0,0,0,0,0,0,0,0,0,0,{"$f":"SUM(DZP24:DZP28)","v":0},0,0,0,0,0,0,0,0,0,0,0,0,0,0,0,0,0,0,0,0,0,0,0,0,0,0,0,0,0,0,0,0,0,0,0,0,0,0,0,0,0,0,0,0,0,0,0,0,0,0,0,0,0,0,0,0,0,0,0,0,0,0,0,{"$f":"SUM(ECB24:ECB28)","v":0},0,0,0,0,0,0,0,0,0,0,0,0,0,0,0,0,0,0,0,0,0,0,0,0,0,0,0,0,0,0,0,0,0,0,0,0,0,0,0,0,0,0,0,0,0,0,0,0,0,0,0,0,0,0,0,0,0,0,0,0,0,0,0,{"$f":"SUM(EEN24:EEN28)","v":0},0,0,0,0,0,0,0,0,0,0,0,0,0,0,0,0,0,0,0,0,0,0,0,0,0,0,0,0,0,0,0,0,0,0,0,0,0,0,0,0,0,0,0,0,0,0,0,0,0,0,0,0,0,0,0,0,0,0,0,0,0,0,0,{"$f":"SUM(EGZ24:EGZ28)","v":0},0,0,0,0,0,0,0,0,0,0,0,0,0,0,0,0,0,0,0,0,0,0,0,0,0,0,0,0,0,0,0,0,0,0,0,0,0,0,0,0,0,0,0,0,0,0,0,0,0,0,0,0,0,0,0,0,0,0,0,0,0,0,0,{"$f":"SUM(EJL24:EJL28)","v":0},0,0,0,0,0,0,0,0,0,0,0,0,0,0,0,0,0,0,0,0,0,0,0,0,0,0,0,0,0,0,0,0,0,0,0,0,0,0,0,0,0,0,0,0,0,0,0,0,0,0,0,0,0,0,0,0,0,0,0,0,0,0,0,{"$f":"SUM(ELX24:ELX28)","v":0},0,0,0,0,0,0,0,0,0,0,0,0,0,0,0,0,0,0,0,0,0,0,0,0,0,0,0,0,0,0,0,0,0,0,0,0,0,0,0,0,0,0,0,0,0,0,0,0,0,0,0,0,0,0,0,0,0,0,0,0,0,0,0,{"$f":"SUM(EOJ24:EOJ28)","v":0},0,0,0,0,0,0,0,0,0,0,0,0,0,0,0,0,0,0,0,0,0,0,0,0,0,0,0,0,0,0,0,0,0,0,0,0,0,0,0,0,0,0,0,0,0,0,0,0,0,0,0,0,0,0,0,0,0,0,0,0,0,0,0,{"$f":"SUM(EQV24:EQV28)","v":0},0,0,0,0,0,0,0,0,0,0,0,0,0,0,0,0,0,0,0,0,0,0,0,0,0,0,0,0,0,0,0,0,0,0,0,0,0,0,0,0,0,0,0,0,0,0,0,0,0,0,0,0,0,0,0,0,0,0,0,0,0,0,0,{"$f":"SUM(ETH24:ETH28)","v":0},0,0,0,0,0,0,0,0,0,0,0,0,0,0,0,0,0,0,0,0,0,0,0,0,0,0,0,0,0,0,0,0,0,0,0,0,0,0,0,0,0,0,0,0,0,0,0,0,0,0,0,0,0,0,0,0,0,0,0,0,0,0,0,{"$f":"SUM(EVT24:EVT28)","v":0},0,0,0,0,0,0,0,0,0,0,0,0,0,0,0,0,0,0,0,0,0,0,0,0,0,0,0,0,0,0,0,0,0,0,0,0,0,0,0,0,0,0,0,0,0,0,0,0,0,0,0,0,0,0,0,0,0,0,0,0,0,0,0,{"$f":"SUM(EYF24:EYF28)","v":0},0,0,0,0,0,0,0,0,0,0,0,0,0,0,0,0,0,0,0,0,0,0,0,0,0,0,0,0,0,0,0,0,0,0,0,0,0,0,0,0,0,0,0,0,0,0,0,0,0,0,0,0,0,0,0,0,0,0,0,0,0,0,0,{"$f":"SUM(FAR24:FAR28)","v":0},0,0,0,0,0,0,0,0,0,0,0,0,0,0,0,0,0,0,0,0,0,0,0,0,0,0,0,0,0,0,0,0,0,0,0,0,0,0,0,0,0,0,0,0,0,0,0,0,0,0,0,0,0,0,0,0,0,0,0,0,0,0,0,{"$f":"SUM(FDD24:FDD28)","v":0},0,0,0,0,0,0,0,0,0,0,0,0,0,0,0,0,0,0,0,0,0,0,0,0,0,0,0,0,0,0,0,0,0,0,0,0,0,0,0,0,0,0,0,0,0,0,0,0,0,0,0,0,0,0,0,0,0,0,0,0,0,0,0,{"$f":"SUM(FFP24:FFP28)","v":0},0,0,0,0,0,0,0,0,0,0,0,0,0,0,0,0,0,0,0,0,0,0,0,0,0,0,0,0,0,0,0,0,0,0,0,0,0,0,0,0,0,0,0,0,0,0,0,0,0,0,0,0,0,0,0,0,0,0,0,0,0,0,0,{"$f":"SUM(FIB24:FIB28)","v":0},0,0,0,0,0,0,0,0,0,0,0,0,0,0,0,0,0,0,0,0,0,0,0,0,0,0,0,0,0,0,0,0,0,0,0,0,0,0,0,0,0,0,0,0,0,0,0,0,0,0,0,0,0,0,0,0,0,0,0,0,0,0,0,{"$f":"SUM(FKN24:FKN28)","v":0},0,0,0,0,0,0,0,0,0,0,0,0,0,0,0,0,0,0,0,0,0,0,0,0,0,0,0,0,0,0,0,0,0,0,0,0,0,0,0,0,0,0,0,0,0,0,0,0,0,0,0,0,0,0,0,0,0,0,0,0,0,0,0,{"$f":"SUM(FMZ24:FMZ28)","v":0},0,0,0,0,0,0,0,0,0,0,0,0,0,0,0,0,0,0,0,0,0,0,0,0,0,0,0,0,0,0,0,0,0,0,0,0,0,0,0,0,0,0,0,0,0,0,0,0,0,0,0,0,0,0,0,0,0,0,0,0,0,0,0,{"$f":"SUM(FPL24:FPL28)","v":0},0,0,0,0,0,0,0,0,0,0,0,0,0,0,0,0,0,0,0,0,0,0,0,0,0,0,0,0,0,0,0,0,0,0,0,0,0,0,0,0,0,0,0,0,0,0,0,0,0,0,0,0,0,0,0,0,0,0,0,0,0,0,0,{"$f":"SUM(FRX24:FRX28)","v":0},0,0,0,0,0,0,0,0,0,0,0,0,0,0,0,0,0,0,0,0,0,0,0,0,0,0,0,0,0,0,0,0,0,0,0,0,0,0,0,0,0,0,0,0,0,0,0,0,0,0,0,0,0,0,0,0,0,0,0,0,0,0,0,{"$f":"SUM(FUJ24:FUJ28)","v":0},0,0,0,0,0,0,0,0,0,0,0,0,0,0,0,0,0,0,0,0,0,0,0,0,0,0,0,0,0,0,0,0,0,0,0,0,0,0,0,0,0,0,0,0,0,0,0,0,0,0,0,0,0,0,0,0,0,0,0,0,0,0,0,{"$f":"SUM(FWV24:FWV28)","v":0},0,0,0,0,0,0,0,0,0,0,0,0,0,0,0,0,0,0,0,0,0,0,0,0,0,0,0,0,0,0,0,0,0,0,0,0,0,0,0,0,0,0,0,0,0,0,0,0,0,0,0,0,0,0,0,0,0,0,0,0,0,0,0,{"$f":"SUM(FZH24:FZH28)","v":0},0,0,0,0,0,0,0,0,0,0,0,0,0,0,0,0,0,0,0,0,0,0,0,0,0,0,0,0,0,0,0,0,0,0,0,0,0,0,0,0,0,0,0,0,0,0,0,0,0,0,0,0,0,0,0,0,0,0,0,0,0,0,0,{"$f":"SUM(GBT24:GBT28)","v":0},0,0,0,0,0,0,0,0,0,0,0,0,0,0,0,0,0,0,0,0,0,0,0,0,0,0,0,0,0,0,0,0,0,0,0,0,0,0,0,0,0,0,0,0,0,0,0,0,0,0,0,0,0,0,0,0,0,0,0,0,0,0,0,{"$f":"SUM(GEF24:GEF28)","v":0},0,0,0,0,0,0,0,0,0,0,0,0,0,0,0,0,0,0,0,0,0,0,0,0,0,0,0,0,0,0,0,0,0,0,0,0,0,0,0,0,0,0,0,0,0,0,0,0,0,0,0,0,0,0,0,0,0,0,0,0,0,0,0,{"$f":"SUM(GGR24:GGR28)","v":0},0,0,0,0,0,0,0,0,0,0,0,0,0,0,0,0,0,0,0,0,0,0,0,0,0,0,0,0,0,0,0,0,0,0,0,0,0,0,0,0,0,0,0,0,0,0,0,0,0,0,0,0,0,0,0,0,0,0,0,0,0,0,0,{"$f":"SUM(GJD24:GJD28)","v":0},0,0,0,0,0,0,0,0,0,0,0,0,0,0,0,0,0,0,0,0,0,0,0,0,0,0,0,0,0,0,0,0,0,0,0,0,0,0,0,0,0,0,0,0,0,0,0,0,0,0,0,0,0,0,0,0,0,0,0,0,0,0,0,{"$f":"SUM(GLP24:GLP28)","v":0},0,0,0,0,0,0,0,0,0,0,0,0,0,0,0,0,0,0,0,0,0,0,0,0,0,0,0,0,0,0,0,0,0,0,0,0,0,0,0,0,0,0,0,0,0,0,0,0,0,0,0,0,0,0,0,0,0,0,0,0,0,0,0,{"$f":"SUM(GOB24:GOB28)","v":0},0,0,0,0,0,0,0,0,0,0,0,0,0,0,0,0,0,0,0,0,0,0,0,0,0,0,0,0,0,0,0,0,0,0,0,0,0,0,0,0,0,0,0,0,0,0,0,0,0,0,0,0,0,0,0,0,0,0,0,0,0,0,0,{"$f":"SUM(GQN24:GQN28)","v":0},0,0,0,0,0,0,0,0,0,0,0,0,0,0,0,0,0,0,0,0,0,0,0,0,0,0,0,0,0,0,0,0,0,0,0,0,0,0,0,0,0,0,0,0,0,0,0,0,0,0,0,0,0,0,0,0,0,0,0,0,0,0,0,{"$f":"SUM(GSZ24:GSZ28)","v":0},0,0,0,0,0,0,0,0,0,0,0,0,0,0,0,0,0,0,0,0,0,0,0,0,0,0,0,0,0,0,0,0,0,0,0,0,0,0,0,0,0,0,0,0,0,0,0,0,0,0,0,0,0,0,0,0,0,0,0,0,0,0,0,{"$f":"SUM(GVL24:GVL28)","v":0},0,0,0,0,0,0,0,0,0,0,0,0,0,0,0,0,0,0,0,0,0,0,0,0,0,0,0,0,0,0,0,0,0,0,0,0,0,0,0,0,0,0,0,0,0,0,0,0,0,0,0,0,0,0,0,0,0,0,0,0,0,0,0,{"$f":"SUM(GXX24:GXX28)","v":0},0,0,0,0,0,0,0,0,0,0,0,0,0,0,0,0,0,0,0,0,0,0,0,0,0,0,0,0,0,0,0,0,0,0,0,0,0,0,0,0,0,0,0,0,0,0,0,0,0,0,0,0,0,0,0,0,0,0,0,0,0,0,0,{"$f":"SUM(HAJ24:HAJ28)","v":0},0,0,0,0,0,0,0,0,0,0,0,0,0,0,0,0,0,0,0,0,0,0,0,0,0,0,0,0,0,0,0,0,0,0,0,0,0,0,0,0,0,0,0,0,0,0,0,0,0,0,0,0,0,0,0,0,0,0,0,0,0,0,0,{"$f":"SUM(HCV24:HCV28)","v":0},0,0,0,0,0,0,0,0,0,0,0,0,0,0,0,0,0,0,0,0,0,0,0,0,0,0,0,0,0,0,0,0,0,0,0,0,0,0,0,0,0,0,0,0,0,0,0,0,0,0,0,0,0,0,0,0,0,0,0,0,0,0,0,{"$f":"SUM(HFH24:HFH28)","v":0},0,0,0,0,0,0,0,0,0,0,0,0,0,0,0,0,0,0,0,0,0,0,0,0,0,0,0,0,0,0,0,0,0,0,0,0,0,0,0,0,0,0,0,0,0,0,0,0,0,0,0,0,0,0,0,0,0,0,0,0,0,0,0,{"$f":"SUM(HHT24:HHT28)","v":0},0,0,0,0,0,0,0,0,0,0,0,0,0,0,0,0,0,0,0,0,0,0,0,0,0,0,0,0,0,0,0,0,0,0,0,0,0,0,0,0,0,0,0,0,0,0,0,0,0,0,0,0,0,0,0,0,0,0,0,0,0,0,0,{"$f":"SUM(HKF24:HKF28)","v":0},0,0,0,0,0,0,0,0,0,0,0,0,0,0,0,0,0,0,0,0,0,0,0,0,0,0,0,0,0,0,0,0,0,0,0,0,0,0,0,0,0,0,0,0,0,0,0,0,0,0,0,0,0,0,0,0,0,0,0,0,0,0,0,{"$f":"SUM(HMR24:HMR28)","v":0},0,0,0,0,0,0,0,0,0,0,0,0,0,0,0,0,0,0,0,0,0,0,0,0,0,0,0,0,0,0,0,0,0,0,0,0,0,0,0,0,0,0,0,0,0,0,0,0,0,0,0,0,0,0,0,0,0,0,0,0,0,0,0,{"$f":"SUM(HPD24:HPD28)","v":0},0,0,0,0,0,0,0,0,0,0,0,0,0,0,0,0,0,0,0,0,0,0,0,0,0,0,0,0,0,0,0,0,0,0,0,0,0,0,0,0,0,0,0,0,0,0,0,0,0,0,0,0,0,0,0,0,0,0,0,0,0,0,0,{"$f":"SUM(HRP24:HRP28)","v":0},0,0,0,0,0,0,0,0,0,0,0,0,0,0,0,0,0,0,0,0,0,0,0,0,0,0,0,0,0,0,0,0,0,0,0,0,0,0,0,0,0,0,0,0,0,0,0,0,0,0,0,0,0,0,0,0,0,0,0,0,0,0,0,{"$f":"SUM(HUB24:HUB28)","v":0},0,0,0,0,0,0,0,0,0,0,0,0,0,0,0,0,0,0,0,0,0,0,0,0,0,0,0,0,0,0,0,0,0,0,0,0,0,0,0,0,0,0,0,0,0,0,0,0,0,0,0,0,0,0,0,0,0,0,0,0,0,0,0,{"$f":"SUM(HWN24:HWN28)","v":0},0,0,0,0,0,0,0,0,0,0,0,0,0,0,0,0,0,0,0,0,0,0,0,0,0,0,0,0,0,0,0,0,0,0,0,0,0,0,0,0,0,0,0,0,0,0,0,0,0,0,0,0,0,0,0,0,0,0,0,0,0,0,0,{"$f":"SUM(HYZ24:HYZ28)","v":0},0,0,0,0,0,0,0,0,0,0,0,0,0,0,0,0,0,0,0,0,0,0,0,0,0,0,0,0,0,0,0,0,0,0,0,0,0,0,0,0,0,0,0,0,0,0,0,0,0,0,0,0,0,0,0,0,0,0,0,0,0,0,0,{"$f":"SUM(IBL24:IBL28)","v":0},0,0,0,0,0,0,0,0,0,0,0,0,0,0,0,0,0,0,0,0,0,0,0,0,0,0,0,0,0,0,0,0,0,0,0,0,0,0,0,0,0,0,0,0,0,0,0,0,0,0,0,0,0,0,0,0,0,0,0,0,0,0,0,{"$f":"SUM(IDX24:IDX28)","v":0},0,0,0,0,0,0,0,0,0,0,0,0,0,0,0,0,0,0,0,0,0,0,0,0,0,0,0,0,0,0,0,0,0,0,0,0,0,0,0,0,0,0,0,0,0,0,0,0,0,0,0,0,0,0,0,0,0,0,0,0,0,0,0,{"$f":"SUM(IGJ24:IGJ28)","v":0},0,0,0,0,0,0,0,0,0,0,0,0,0,0,0,0,0,0,0,0,0,0,0,0,0,0,0,0,0,0,0,0,0,0,0,0,0,0,0,0,0,0,0,0,0,0,0,0,0,0,0,0,0,0,0,0,0,0,0,0,0,0,0,{"$f":"SUM(IIV24:IIV28)","v":0},0,0,0,0,0,0,0,0,0,0,0,0,0,0,0,0,0,0,0,0,0,0,0,0,0,0,0,0,0,0,0,0,0,0,0,0,0,0,0,0,0,0,0,0,0,0,0,0,0,0,0,0,0,0,0,0,0,0,0,0,0,0,0,{"$f":"SUM(ILH24:ILH28)","v":0},0,0,0,0,0,0,0,0,0,0,0,0,0,0,0,0,0,0,0,0,0,0,0,0,0,0,0,0,0,0,0,0,0,0,0,0,0,0,0,0,0,0,0,0,0,0,0,0,0,0,0,0,0,0,0,0,0,0,0,0,0,0,0,{"$f":"SUM(INT24:INT28)","v":0},0,0,0,0,0,0,0,0,0,0,0,0,0,0,0,0,0,0,0,0,0,0,0,0,0,0,0,0,0,0,0,0,0,0,0,0,0,0,0,0,0,0,0,0,0,0,0,0,0,0,0,0,0,0,0,0,0,0,0,0,0,0,0,{"$f":"SUM(IQF24:IQF28)","v":0},0,0,0,0,0,0,0,0,0,0,0,0,0,0,0,0,0,0,0,0,0,0,0,0,0,0,0,0,0,0,0,0,0,0,0,0,0,0,0,0,0,0,0,0,0,0,0,0,0,0,0,0,0,0,0,0,0,0,0,0,0,0,0,{"$f":"SUM(ISR24:ISR28)","v":0},0,0,0,0,0,0,0,0,0,0,0,0,0,0,0,0,0,0,0,0,0,0,0,0,0,0,0,0,0,0,0,0,0,0,0,0,0,0,0,0,0,0,0,0,0,0,0,0,0,0,0,0,0,0,0,0,0,0,0,0,0,0,0,{"$f":"SUM(IVD24:IVD28)","v":0},0,0,0,0,0,0,0,0,0,0,0,0,0,0,0,0,0,0,0,0,0,0,0,0,0,0,0,0,0,0,0,0,0,0,0,0,0,0,0,0,0,0,0,0,0,0,0,0,0,0,0,0,0,0,0,0,0,0,0,0,0,0,0,{"$f":"SUM(IXP24:IXP28)","v":0},0,0,0,0,0,0,0,0,0,0,0,0,0,0,0,0,0,0,0,0,0,0,0,0,0,0,0,0,0,0,0,0,0,0,0,0,0,0,0,0,0,0,0,0,0,0,0,0,0,0,0,0,0,0,0,0,0,0,0,0,0,0,0,{"$f":"SUM(JAB24:JAB28)","v":0},0,0,0,0,0,0,0,0,0,0,0,0,0,0,0,0,0,0,0,0,0,0,0,0,0,0,0,0,0,0,0,0,0,0,0,0,0,0,0,0,0,0,0,0,0,0,0,0,0,0,0,0,0,0,0,0,0,0,0,0,0,0,0,{"$f":"SUM(JCN24:JCN28)","v":0},0,0,0,0,0,0,0,0,0,0,0,0,0,0,0,0,0,0,0,0,0,0,0,0,0,0,0,0,0,0,0,0,0,0,0,0,0,0,0,0,0,0,0,0,0,0,0,0,0,0,0,0,0,0,0,0,0,0,0,0,0,0,0,{"$f":"SUM(JEZ24:JEZ28)","v":0},0,0,0,0,0,0,0,0,0,0,0,0,0,0,0,0,0,0,0,0,0,0,0,0,0,0,0,0,0,0,0,0,0,0,0,0,0,0,0,0,0,0,0,0,0,0,0,0,0,0,0,0,0,0,0,0,0,0,0,0,0,0,0,{"$f":"SUM(JHL24:JHL28)","v":0},0,0,0,0,0,0,0,0,0,0,0,0,0,0,0,0,0,0,0,0,0,0,0,0,0,0,0,0,0,0,0,0,0,0,0,0,0,0,0,0,0,0,0,0,0,0,0,0,0,0,0,0,0,0,0,0,0,0,0,0,0,0,0,{"$f":"SUM(JJX24:JJX28)","v":0},0,0,0,0,0,0,0,0,0,0,0,0,0,0,0,0,0,0,0,0,0,0,0,0,0,0,0,0,0,0,0,0,0,0,0,0,0,0,0,0,0,0,0,0,0,0,0,0,0,0,0,0,0,0,0,0,0,0,0,0,0,0,0,{"$f":"SUM(JMJ24:JMJ28)","v":0},0,0,0,0,0,0,0,0,0,0,0,0,0,0,0,0,0,0,0,0,0,0,0,0,0,0,0,0,0,0,0,0,0,0,0,0,0,0,0,0,0,0,0,0,0,0,0,0,0,0,0,0,0,0,0,0,0,0,0,0,0,0,0,{"$f":"SUM(JOV24:JOV28)","v":0},0,0,0,0,0,0,0,0,0,0,0,0,0,0,0,0,0,0,0,0,0,0,0,0,0,0,0,0,0,0,0,0,0,0,0,0,0,0,0,0,0,0,0,0,0,0,0,0,0,0,0,0,0,0,0,0,0,0,0,0,0,0,0,{"$f":"SUM(JRH24:JRH28)","v":0},0,0,0,0,0,0,0,0,0,0,0,0,0,0,0,0,0,0,0,0,0,0,0,0,0,0,0,0,0,0,0,0,0,0,0,0,0,0,0,0,0,0,0,0,0,0,0,0,0,0,0,0,0,0,0,0,0,0,0,0,0,0,0,{"$f":"SUM(JTT24:JTT28)","v":0},0,0,0,0,0,0,0,0,0,0,0,0,0,0,0,0,0,0,0,0,0,0,0,0,0,0,0,0,0,0,0,0,0,0,0,0,0,0,0,0,0,0,0,0,0,0,0,0,0,0,0,0,0,0,0,0,0,0,0,0,0,0,0,{"$f":"SUM(JWF24:JWF28)","v":0},0,0,0,0,0,0,0,0,0,0,0,0,0,0,0,0,0,0,0,0,0,0,0,0,0,0,0,0,0,0,0,0,0,0,0,0,0,0,0,0,0,0,0,0,0,0,0,0,0,0,0,0,0,0,0,0,0,0,0,0,0,0,0,{"$f":"SUM(JYR24:JYR28)","v":0},0,0,0,0,0,0,0,0,0,0,0,0,0,0,0,0,0,0,0,0,0,0,0,0,0,0,0,0,0,0,0,0,0,0,0,0,0,0,0,0,0,0,0,0,0,0,0,0,0,0,0,0,0,0,0,0,0,0,0,0,0,0,0,{"$f":"SUM(KBD24:KBD28)","v":0},0,0,0,0,0,0,0,0,0,0,0,0,0,0,0,0,0,0,0,0,0,0,0,0,0,0,0,0,0,0,0,0,0,0,0,0,0,0,0,0,0,0,0,0,0,0,0,0,0,0,0,0,0,0,0,0,0,0,0,0,0,0,0,{"$f":"SUM(KDP24:KDP28)","v":0},0,0,0,0,0,0,0,0,0,0,0,0,0,0,0,0,0,0,0,0,0,0,0,0,0,0,0,0,0,0,0,0,0,0,0,0,0,0,0,0,0,0,0,0,0,0,0,0,0,0,0,0,0,0,0,0,0,0,0,0,0,0,0,{"$f":"SUM(KGB24:KGB28)","v":0},0,0,0,0,0,0,0,0,0,0,0,0,0,0,0,0,0,0,0,0,0,0,0,0,0,0,0,0,0,0,0,0,0,0,0,0,0,0,0,0,0,0,0,0,0,0,0,0,0,0,0,0,0,0,0,0,0,0,0,0,0,0,0,{"$f":"SUM(KIN24:KIN28)","v":0},0,0,0,0,0,0,0,0,0,0,0,0,0,0,0,0,0,0,0,0,0,0,0,0,0,0,0,0,0,0,0,0,0,0,0,0,0,0,0,0,0,0,0,0,0,0,0,0,0,0,0,0,0,0,0,0,0,0,0,0,0,0,0,{"$f":"SUM(KKZ24:KKZ28)","v":0},0,0,0,0,0,0,0,0,0,0,0,0,0,0,0,0,0,0,0,0,0,0,0,0,0,0,0,0,0,0,0,0,0,0,0,0,0,0,0,0,0,0,0,0,0,0,0,0,0,0,0,0,0,0,0,0,0,0,0,0,0,0,0,{"$f":"SUM(KNL24:KNL28)","v":0},0,0,0,0,0,0,0,0,0,0,0,0,0,0,0,0,0,0,0,0,0,0,0,0,0,0,0,0,0,0,0,0,0,0,0,0,0,0,0,0,0,0,0,0,0,0,0,0,0,0,0,0,0,0,0,0,0,0,0,0,0,0,0,{"$f":"SUM(KPX24:KPX28)","v":0},0,0,0,0,0,0,0,0,0,0,0,0,0,0,0,0,0,0,0,0,0,0,0,0,0,0,0,0,0,0,0,0,0,0,0,0,0,0,0,0,0,0,0,0,0,0,0,0,0,0,0,0,0,0,0,0,0,0,0,0,0,0,0,{"$f":"SUM(KSJ24:KSJ28)","v":0},0,0,0,0,0,0,0,0,0,0,0,0,0,0,0,0,0,0,0,0,0,0,0,0,0,0,0,0,0,0,0,0,0,0,0,0,0,0,0,0,0,0,0,0,0,0,0,0,0,0,0,0,0,0,0,0,0,0,0,0,0,0,0,{"$f":"SUM(KUV24:KUV28)","v":0},0,0,0,0,0,0,0,0,0,0,0,0,0,0,0,0,0,0,0,0,0,0,0,0,0,0,0,0,0,0,0,0,0,0,0,0,0,0,0,0,0,0,0,0,0,0,0,0,0,0,0,0,0,0,0,0,0,0,0,0,0,0,0,{"$f":"SUM(KXH24:KXH28)","v":0},0,0,0,0,0,0,0,0,0,0,0,0,0,0,0,0,0,0,0,0,0,0,0,0,0,0,0,0,0,0,0,0,0,0,0,0,0,0,0,0,0,0,0,0,0,0,0,0,0,0,0,0,0,0,0,0,0,0,0,0,0,0,0,{"$f":"SUM(KZT24:KZT28)","v":0},0,0,0,0,0,0,0,0,0,0,0,0,0,0,0,0,0,0,0,0,0,0,0,0,0,0,0,0,0,0,0,0,0,0,0,0,0,0,0,0,0,0,0,0,0,0,0,0,0,0,0,0,0,0,0,0,0,0,0,0,0,0,0,{"$f":"SUM(LCF24:LCF28)","v":0},0,0,0,0,0,0,0,0,0,0,0,0,0,0,0,0,0,0,0,0,0,0,0,0,0,0,0,0,0,0,0,0,0,0,0,0,0,0,0,0,0,0,0,0,0,0,0,0,0,0,0,0,0,0,0,0,0,0,0,0,0,0,0,{"$f":"SUM(LER24:LER28)","v":0},0,0,0,0,0,0,0,0,0,0,0,0,0,0,0,0,0,0,0,0,0,0,0,0,0,0,0,0,0,0,0,0,0,0,0,0,0,0,0,0,0,0,0,0,0,0,0,0,0,0,0,0,0,0,0,0,0,0,0,0,0,0,0,{"$f":"SUM(LHD24:LHD28)","v":0},0,0,0,0,0,0,0,0,0,0,0,0,0,0,0,0,0,0,0,0,0,0,0,0,0,0,0,0,0,0,0,0,0,0,0,0,0,0,0,0,0,0,0,0,0,0,0,0,0,0,0,0,0,0,0,0,0,0,0,0,0,0,0,{"$f":"SUM(LJP24:LJP28)","v":0},0,0,0,0,0,0,0,0,0,0,0,0,0,0,0,0,0,0,0,0,0,0,0,0,0,0,0,0,0,0,0,0,0,0,0,0,0,0,0,0,0,0,0,0,0,0,0,0,0,0,0,0,0,0,0,0,0,0,0,0,0,0,0,{"$f":"SUM(LMB24:LMB28)","v":0},0,0,0,0,0,0,0,0,0,0,0,0,0,0,0,0,0,0,0,0,0,0,0,0,0,0,0,0,0,0,0,0,0,0,0,0,0,0,0,0,0,0,0,0,0,0,0,0,0,0,0,0,0,0,0,0,0,0,0,0,0,0,0,{"$f":"SUM(LON24:LON28)","v":0},0,0,0,0,0,0,0,0,0,0,0,0,0,0,0,0,0,0,0,0,0,0,0,0,0,0,0,0,0,0,0,0,0,0,0,0,0,0,0,0,0,0,0,0,0,0,0,0,0,0,0,0,0,0,0,0,0,0,0,0,0,0,0,{"$f":"SUM(LQZ24:LQZ28)","v":0},0,0,0,0,0,0,0,0,0,0,0,0,0,0,0,0,0,0,0,0,0,0,0,0,0,0,0,0,0,0,0,0,0,0,0,0,0,0,0,0,0,0,0,0,0,0,0,0,0,0,0,0,0,0,0,0,0,0,0,0,0,0,0,{"$f":"SUM(LTL24:LTL28)","v":0},0,0,0,0,0,0,0,0,0,0,0,0,0,0,0,0,0,0,0,0,0,0,0,0,0,0,0,0,0,0,0,0,0,0,0,0,0,0,0,0,0,0,0,0,0,0,0,0,0,0,0,0,0,0,0,0,0,0,0,0,0,0,0,{"$f":"SUM(LVX24:LVX28)","v":0},0,0,0,0,0,0,0,0,0,0,0,0,0,0,0,0,0,0,0,0,0,0,0,0,0,0,0,0,0,0,0,0,0,0,0,0,0,0,0,0,0,0,0,0,0,0,0,0,0,0,0,0,0,0,0,0,0,0,0,0,0,0,0,{"$f":"SUM(LYJ24:LYJ28)","v":0},0,0,0,0,0,0,0,0,0,0,0,0,0,0,0,0,0,0,0,0,0,0,0,0,0,0,0,0,0,0,0,0,0,0,0,0,0,0,0,0,0,0,0,0,0,0,0,0,0,0,0,0,0,0,0,0,0,0,0,0,0,0,0,{"$f":"SUM(MAV24:MAV28)","v":0},0,0,0,0,0,0,0,0,0,0,0,0,0,0,0,0,0,0,0,0,0,0,0,0,0,0,0,0,0,0,0,0,0,0,0,0,0,0,0,0,0,0,0,0,0,0,0,0,0,0,0,0,0,0,0,0,0,0,0,0,0,0,0,{"$f":"SUM(MDH24:MDH28)","v":0},0,0,0,0,0,0,0,0,0,0,0,0,0,0,0,0,0,0,0,0,0,0,0,0,0,0,0,0,0,0,0,0,0,0,0,0,0,0,0,0,0,0,0,0,0,0,0,0,0,0,0,0,0,0,0,0,0,0,0,0,0,0,0,{"$f":"SUM(MFT24:MFT28)","v":0},0,0,0,0,0,0,0,0,0,0,0,0,0,0,0,0,0,0,0,0,0,0,0,0,0,0,0,0,0,0,0,0,0,0,0,0,0,0,0,0,0,0,0,0,0,0,0,0,0,0,0,0,0,0,0,0,0,0,0,0,0,0,0,{"$f":"SUM(MIF24:MIF28)","v":0},0,0,0,0,0,0,0,0,0,0,0,0,0,0,0,0,0,0,0,0,0,0,0,0,0,0,0,0,0,0,0,0,0,0,0,0,0,0,0,0,0,0,0,0,0,0,0,0,0,0,0,0,0,0,0,0,0,0,0,0,0,0,0,{"$f":"SUM(MKR24:MKR28)","v":0},0,0,0,0,0,0,0,0,0,0,0,0,0,0,0,0,0,0,0,0,0,0,0,0,0,0,0,0,0,0,0,0,0,0,0,0,0,0,0,0,0,0,0,0,0,0,0,0,0,0,0,0,0,0,0,0,0,0,0,0,0,0,0,{"$f":"SUM(MND24:MND28)","v":0},0,0,0,0,0,0,0,0,0,0,0,0,0,0,0,0,0,0,0,0,0,0,0,0,0,0,0,0,0,0,0,0,0,0,0,0,0,0,0,0,0,0,0,0,0,0,0,0,0,0,0,0,0,0,0,0,0,0,0,0,0,0,0,{"$f":"SUM(MPP24:MPP28)","v":0},0,0,0,0,0,0,0,0,0,0,0,0,0,0,0,0,0,0,0,0,0,0,0,0,0,0,0,0,0,0,0,0,0,0,0,0,0,0,0,0,0,0,0,0,0,0,0,0,0,0,0,0,0,0,0,0,0,0,0,0,0,0,0,{"$f":"SUM(MSB24:MSB28)","v":0},0,0,0,0,0,0,0,0,0,0,0,0,0,0,0,0,0,0,0,0,0,0,0,0,0,0,0,0,0,0,0,0,0,0,0,0,0,0,0,0,0,0,0,0,0,0,0,0,0,0,0,0,0,0,0,0,0,0,0,0,0,0,0,{"$f":"SUM(MUN24:MUN28)","v":0},0,0,0,0,0,0,0,0,0,0,0,0,0,0,0,0,0,0,0,0,0,0,0,0,0,0,0,0,0,0,0,0,0,0,0,0,0,0,0,0,0,0,0,0,0,0,0,0,0,0,0,0,0,0,0,0,0,0,0,0,0,0,0,{"$f":"SUM(MWZ24:MWZ28)","v":0},0,0,0,0,0,0,0,0,0,0,0,0,0,0,0,0,0,0,0,0,0,0,0,0,0,0,0,0,0,0,0,0,0,0,0,0,0,0,0,0,0,0,0,0,0,0,0,0,0,0,0,0,0,0,0,0,0,0,0,0,0,0,0,{"$f":"SUM(MZL24:MZL28)","v":0},0,0,0,0,0,0,0,0,0,0,0,0,0,0,0,0,0,0,0,0,0,0,0,0,0,0,0,0,0,0,0,0,0,0,0,0,0,0,0,0,0,0,0,0,0,0,0,0,0,0,0,0,0,0,0,0,0,0,0,0,0,0,0,{"$f":"SUM(NBX24:NBX28)","v":0},0,0,0,0,0,0,0,0,0,0,0,0,0,0,0,0,0,0,0,0,0,0,0,0,0,0,0,0,0,0,0,0,0,0,0,0,0,0,0,0,0,0,0,0,0,0,0,0,0,0,0,0,0,0,0,0,0,0,0,0,0,0,0,{"$f":"SUM(NEJ24:NEJ28)","v":0},0,0,0,0,0,0,0,0,0,0,0,0,0,0,0,0,0,0,0,0,0,0,0,0,0,0,0,0,0,0,0,0,0,0,0,0,0,0,0,0,0,0,0,0,0,0,0,0,0,0,0,0,0,0,0,0,0,0,0,0,0,0,0,{"$f":"SUM(NGV24:NGV28)","v":0},0,0,0,0,0,0,0,0,0,0,0,0,0,0,0,0,0,0,0,0,0,0,0,0,0,0,0,0,0,0,0,0,0,0,0,0,0,0,0,0,0,0,0,0,0,0,0,0,0,0,0,0,0,0,0,0,0,0,0,0,0,0,0,{"$f":"SUM(NJH24:NJH28)","v":0},0,0,0,0,0,0,0,0,0,0,0,0,0,0,0,0,0,0,0,0,0,0,0,0,0,0,0,0,0,0,0,0,0,0,0,0,0,0,0,0,0,0,0,0,0,0,0,0,0,0,0,0,0,0,0,0,0,0,0,0,0,0,0,{"$f":"SUM(NLT24:NLT28)","v":0},0,0,0,0,0,0,0,0,0,0,0,0,0,0,0,0,0,0,0,0,0,0,0,0,0,0,0,0,0,0,0,0,0,0,0,0,0,0,0,0,0,0,0,0,0,0,0,0,0,0,0,0,0,0,0,0,0,0,0,0,0,0,0,{"$f":"SUM(NOF24:NOF28)","v":0},0,0,0,0,0,0,0,0,0,0,0,0,0,0,0,0,0,0,0,0,0,0,0,0,0,0,0,0,0,0,0,0,0,0,0,0,0,0,0,0,0,0,0,0,0,0,0,0,0,0,0,0,0,0,0,0,0,0,0,0,0,0,0,{"$f":"SUM(NQR24:NQR28)","v":0},0,0,0,0,0,0,0,0,0,0,0,0,0,0,0,0,0,0,0,0,0,0,0,0,0,0,0,0,0,0,0,0,0,0,0,0,0,0,0,0,0,0,0,0,0,0,0,0,0,0,0,0,0,0,0,0,0,0,0,0,0,0,0,{"$f":"SUM(NTD24:NTD28)","v":0},0,0,0,0,0,0,0,0,0,0,0,0,0,0,0,0,0,0,0,0,0,0,0,0,0,0,0,0,0,0,0,0,0,0,0,0,0,0,0,0,0,0,0,0,0,0,0,0,0,0,0,0,0,0,0,0,0,0,0,0,0,0,0,{"$f":"SUM(NVP24:NVP28)","v":0},0,0,0,0,0,0,0,0,0,0,0,0,0,0,0,0,0,0,0,0,0,0,0,0,0,0,0,0,0,0,0,0,0,0,0,0,0,0,0,0,0,0,0,0,0,0,0,0,0,0,0,0,0,0,0,0,0,0,0,0,0,0,0,{"$f":"SUM(NYB24:NYB28)","v":0},0,0,0,0,0,0,0,0,0,0,0,0,0,0,0,0,0,0,0,0,0,0,0,0,0,0,0,0,0,0,0,0,0,0,0,0,0,0,0,0,0,0,0,0,0,0,0,0,0,0,0,0,0,0,0,0,0,0,0,0,0,0,0,{"$f":"SUM(OAN24:OAN28)","v":0},0,0,0,0,0,0,0,0,0,0,0,0,0,0,0,0,0,0,0,0,0,0,0,0,0,0,0,0,0,0,0,0,0,0,0,0,0,0,0,0,0,0,0,0,0,0,0,0,0,0,0,0,0,0,0,0,0,0,0,0,0,0,0,{"$f":"SUM(OCZ24:OCZ28)","v":0},0,0,0,0,0,0,0,0,0,0,0,0,0,0,0,0,0,0,0,0,0,0,0,0,0,0,0,0,0,0,0,0,0,0,0,0,0,0,0,0,0,0,0,0,0,0,0,0,0,0,0,0,0,0,0,0,0,0,0,0,0,0,0,{"$f":"SUM(OFL24:OFL28)","v":0},0,0,0,0,0,0,0,0,0,0,0,0,0,0,0,0,0,0,0,0,0,0,0,0,0,0,0,0,0,0,0,0,0,0,0,0,0,0,0,0,0,0,0,0,0,0,0,0,0,0,0,0,0,0,0,0,0,0,0,0,0,0,0,{"$f":"SUM(OHX24:OHX28)","v":0},0,0,0,0,0,0,0,0,0,0,0,0,0,0,0,0,0,0,0,0,0,0,0,0,0,0,0,0,0,0,0,0,0,0,0,0,0,0,0,0,0,0,0,0,0,0,0,0,0,0,0,0,0,0,0,0,0,0,0,0,0,0,0,{"$f":"SUM(OKJ24:OKJ28)","v":0},0,0,0,0,0,0,0,0,0,0,0,0,0,0,0,0,0,0,0,0,0,0,0,0,0,0,0,0,0,0,0,0,0,0,0,0,0,0,0,0,0,0,0,0,0,0,0,0,0,0,0,0,0,0,0,0,0,0,0,0,0,0,0,{"$f":"SUM(OMV24:OMV28)","v":0},0,0,0,0,0,0,0,0,0,0,0,0,0,0,0,0,0,0,0,0,0,0,0,0,0,0,0,0,0,0,0,0,0,0,0,0,0,0,0,0,0,0,0,0,0,0,0,0,0,0,0,0,0,0,0,0,0,0,0,0,0,0,0,{"$f":"SUM(OPH24:OPH28)","v":0},0,0,0,0,0,0,0,0,0,0,0,0,0,0,0,0,0,0,0,0,0,0,0,0,0,0,0,0,0,0,0,0,0,0,0,0,0,0,0,0,0,0,0,0,0,0,0,0,0,0,0,0,0,0,0,0,0,0,0,0,0,0,0,{"$f":"SUM(ORT24:ORT28)","v":0},0,0,0,0,0,0,0,0,0,0,0,0,0,0,0,0,0,0,0,0,0,0,0,0,0,0,0,0,0,0,0,0,0,0,0,0,0,0,0,0,0,0,0,0,0,0,0,0,0,0,0,0,0,0,0,0,0,0,0,0,0,0,0,{"$f":"SUM(OUF24:OUF28)","v":0},0,0,0,0,0,0,0,0,0,0,0,0,0,0,0,0,0,0,0,0,0,0,0,0,0,0,0,0,0,0,0,0,0,0,0,0,0,0,0,0,0,0,0,0,0,0,0,0,0,0,0,0,0,0,0,0,0,0,0,0,0,0,0,{"$f":"SUM(OWR24:OWR28)","v":0},0,0,0,0,0,0,0,0,0,0,0,0,0,0,0,0,0,0,0,0,0,0,0,0,0,0,0,0,0,0,0,0,0,0,0,0,0,0,0,0,0,0,0,0,0,0,0,0,0,0,0,0,0,0,0,0,0,0,0,0,0,0,0,{"$f":"SUM(OZD24:OZD28)","v":0},0,0,0,0,0,0,0,0,0,0,0,0,0,0,0,0,0,0,0,0,0,0,0,0,0,0,0,0,0,0,0,0,0,0,0,0,0,0,0,0,0,0,0,0,0,0,0,0,0,0,0,0,0,0,0,0,0,0,0,0,0,0,0,{"$f":"SUM(PBP24:PBP28)","v":0},0,0,0,0,0,0,0,0,0,0,0,0,0,0,0,0,0,0,0,0,0,0,0,0,0,0,0,0,0,0,0,0,0,0,0,0,0,0,0,0,0,0,0,0,0,0,0,0,0,0,0,0,0,0,0,0,0,0,0,0,0,0,0,{"$f":"SUM(PEB24:PEB28)","v":0},0,0,0,0,0,0,0,0,0,0,0,0,0,0,0,0,0,0,0,0,0,0,0,0,0,0,0,0,0,0,0,0,0,0,0,0,0,0,0,0,0,0,0,0,0,0,0,0,0,0,0,0,0,0,0,0,0,0,0,0,0,0,0,{"$f":"SUM(PGN24:PGN28)","v":0},0,0,0,0,0,0,0,0,0,0,0,0,0,0,0,0,0,0,0,0,0,0,0,0,0,0,0,0,0,0,0,0,0,0,0,0,0,0,0,0,0,0,0,0,0,0,0,0,0,0,0,0,0,0,0,0,0,0,0,0,0,0,0,{"$f":"SUM(PIZ24:PIZ28)","v":0},0,0,0,0,0,0,0,0,0,0,0,0,0,0,0,0,0,0,0,0,0,0,0,0,0,0,0,0,0,0,0,0,0,0,0,0,0,0,0,0,0,0,0,0,0,0,0,0,0,0,0,0,0,0,0,0,0,0,0,0,0,0,0,{"$f":"SUM(PLL24:PLL28)","v":0},0,0,0,0,0,0,0,0,0,0,0,0,0,0,0,0,0,0,0,0,0,0,0,0,0,0,0,0,0,0,0,0,0,0,0,0,0,0,0,0,0,0,0,0,0,0,0,0,0,0,0,0,0,0,0,0,0,0,0,0,0,0,0,{"$f":"SUM(PNX24:PNX28)","v":0},0,0,0,0,0,0,0,0,0,0,0,0,0,0,0,0,0,0,0,0,0,0,0,0,0,0,0,0,0,0,0,0,0,0,0,0,0,0,0,0,0,0,0,0,0,0,0,0,0,0,0,0,0,0,0,0,0,0,0,0,0,0,0,{"$f":"SUM(PQJ24:PQJ28)","v":0},0,0,0,0,0,0,0,0,0,0,0,0,0,0,0,0,0,0,0,0,0,0,0,0,0,0,0,0,0,0,0,0,0,0,0,0,0,0,0,0,0,0,0,0,0,0,0,0,0,0,0,0,0,0,0,0,0,0,0,0,0,0,0,{"$f":"SUM(PSV24:PSV28)","v":0},0,0,0,0,0,0,0,0,0,0,0,0,0,0,0,0,0,0,0,0,0,0,0,0,0,0,0,0,0,0,0,0,0,0,0,0,0,0,0,0,0,0,0,0,0,0,0,0,0,0,0,0,0,0,0,0,0,0,0,0,0,0,0,{"$f":"SUM(PVH24:PVH28)","v":0},0,0,0,0,0,0,0,0,0,0,0,0,0,0,0,0,0,0,0,0,0,0,0,0,0,0,0,0,0,0,0,0,0,0,0,0,0,0,0,0,0,0,0,0,0,0,0,0,0,0,0,0,0,0,0,0,0,0,0,0,0,0,0,{"$f":"SUM(PXT24:PXT28)","v":0},0,0,0,0,0,0,0,0,0,0,0,0,0,0,0,0,0,0,0,0,0,0,0,0,0,0,0,0,0,0,0,0,0,0,0,0,0,0,0,0,0,0,0,0,0,0,0,0,0,0,0,0,0,0,0,0,0,0,0,0,0,0,0,{"$f":"SUM(QAF24:QAF28)","v":0},0,0,0,0,0,0,0,0,0,0,0,0,0,0,0,0,0,0,0,0,0,0,0,0,0,0,0,0,0,0,0,0,0,0,0,0,0,0,0,0,0,0,0,0,0,0,0,0,0,0,0,0,0,0,0,0,0,0,0,0,0,0,0,{"$f":"SUM(QCR24:QCR28)","v":0},0,0,0,0,0,0,0,0,0,0,0,0,0,0,0,0,0,0,0,0,0,0,0,0,0,0,0,0,0,0,0,0,0,0,0,0,0,0,0,0,0,0,0,0,0,0,0,0,0,0,0,0,0,0,0,0,0,0,0,0,0,0,0,{"$f":"SUM(QFD24:QFD28)","v":0},0,0,0,0,0,0,0,0,0,0,0,0,0,0,0,0,0,0,0,0,0,0,0,0,0,0,0,0,0,0,0,0,0,0,0,0,0,0,0,0,0,0,0,0,0,0,0,0,0,0,0,0,0,0,0,0,0,0,0,0,0,0,0,{"$f":"SUM(QHP24:QHP28)","v":0},0,0,0,0,0,0,0,0,0,0,0,0,0,0,0,0,0,0,0,0,0,0,0,0,0,0,0,0,0,0,0,0,0,0,0,0,0,0,0,0,0,0,0,0,0,0,0,0,0,0,0,0,0,0,0,0,0,0,0,0,0,0,0,{"$f":"SUM(QKB24:QKB28)","v":0},0,0,0,0,0,0,0,0,0,0,0,0,0,0,0,0,0,0,0,0,0,0,0,0,0,0,0,0,0,0,0,0,0,0,0,0,0,0,0,0,0,0,0,0,0,0,0,0,0,0,0,0,0,0,0,0,0,0,0,0,0,0,0,{"$f":"SUM(QMN24:QMN28)","v":0},0,0,0,0,0,0,0,0,0,0,0,0,0,0,0,0,0,0,0,0,0,0,0,0,0,0,0,0,0,0,0,0,0,0,0,0,0,0,0,0,0,0,0,0,0,0,0,0,0,0,0,0,0,0,0,0,0,0,0,0,0,0,0,{"$f":"SUM(QOZ24:QOZ28)","v":0},0,0,0,0,0,0,0,0,0,0,0,0,0,0,0,0,0,0,0,0,0,0,0,0,0,0,0,0,0,0,0,0,0,0,0,0,0,0,0,0,0,0,0,0,0,0,0,0,0,0,0,0,0,0,0,0,0,0,0,0,0,0,0,{"$f":"SUM(QRL24:QRL28)","v":0},0,0,0,0,0,0,0,0,0,0,0,0,0,0,0,0,0,0,0,0,0,0,0,0,0,0,0,0,0,0,0,0,0,0,0,0,0,0,0,0,0,0,0,0,0,0,0,0,0,0,0,0,0,0,0,0,0,0,0,0,0,0,0,{"$f":"SUM(QTX24:QTX28)","v":0},0,0,0,0,0,0,0,0,0,0,0,0,0,0,0,0,0,0,0,0,0,0,0,0,0,0,0,0,0,0,0,0,0,0,0,0,0,0,0,0,0,0,0,0,0,0,0,0,0,0,0,0,0,0,0,0,0,0,0,0,0,0,0,{"$f":"SUM(QWJ24:QWJ28)","v":0},0,0,0,0,0,0,0,0,0,0,0,0,0,0,0,0,0,0,0,0,0,0,0,0,0,0,0,0,0,0,0,0,0,0,0,0,0,0,0,0,0,0,0,0,0,0,0,0,0,0,0,0,0,0,0,0,0,0,0,0,0,0,0,{"$f":"SUM(QYV24:QYV28)","v":0},0,0,0,0,0,0,0,0,0,0,0,0,0,0,0,0,0,0,0,0,0,0,0,0,0,0,0,0,0,0,0,0,0,0,0,0,0,0,0,0,0,0,0,0,0,0,0,0,0,0,0,0,0,0,0,0,0,0,0,0,0,0,0,{"$f":"SUM(RBH24:RBH28)","v":0},0,0,0,0,0,0,0,0,0,0,0,0,0,0,0,0,0,0,0,0,0,0,0,0,0,0,0,0,0,0,0,0,0,0,0,0,0,0,0,0,0,0,0,0,0,0,0,0,0,0,0,0,0,0,0,0,0,0,0,0,0,0,0,{"$f":"SUM(RDT24:RDT28)","v":0},0,0,0,0,0,0,0,0,0,0,0,0,0,0,0,0,0,0,0,0,0,0,0,0,0,0,0,0,0,0,0,0,0,0,0,0,0,0,0,0,0,0,0,0,0,0,0,0,0,0,0,0,0,0,0,0,0,0,0,0,0,0,0,{"$f":"SUM(RGF24:RGF28)","v":0},0,0,0,0,0,0,0,0,0,0,0,0,0,0,0,0,0,0,0,0,0,0,0,0,0,0,0,0,0,0,0,0,0,0,0,0,0,0,0,0,0,0,0,0,0,0,0,0,0,0,0,0,0,0,0,0,0,0,0,0,0,0,0,{"$f":"SUM(RIR24:RIR28)","v":0},0,0,0,0,0,0,0,0,0,0,0,0,0,0,0,0,0,0,0,0,0,0,0,0,0,0,0,0,0,0,0,0,0,0,0,0,0,0,0,0,0,0,0,0,0,0,0,0,0,0,0,0,0,0,0,0,0,0,0,0,0,0,0,{"$f":"SUM(RLD24:RLD28)","v":0},0,0,0,0,0,0,0,0,0,0,0,0,0,0,0,0,0,0,0,0,0,0,0,0,0,0,0,0,0,0,0,0,0,0,0,0,0,0,0,0,0,0,0,0,0,0,0,0,0,0,0,0,0,0,0,0,0,0,0,0,0,0,0,{"$f":"SUM(RNP24:RNP28)","v":0},0,0,0,0,0,0,0,0,0,0,0,0,0,0,0,0,0,0,0,0,0,0,0,0,0,0,0,0,0,0,0,0,0,0,0,0,0,0,0,0,0,0,0,0,0,0,0,0,0,0,0,0,0,0,0,0,0,0,0,0,0,0,0,{"$f":"SUM(RQB24:RQB28)","v":0},0,0,0,0,0,0,0,0,0,0,0,0,0,0,0,0,0,0,0,0,0,0,0,0,0,0,0,0,0,0,0,0,0,0,0,0,0,0,0,0,0,0,0,0,0,0,0,0,0,0,0,0,0,0,0,0,0,0,0,0,0,0,0,{"$f":"SUM(RSN24:RSN28)","v":0},0,0,0,0,0,0,0,0,0,0,0,0,0,0,0,0,0,0,0,0,0,0,0,0,0,0,0,0,0,0,0,0,0,0,0,0,0,0,0,0,0,0,0,0,0,0,0,0,0,0,0,0,0,0,0,0,0,0,0,0,0,0,0,{"$f":"SUM(RUZ24:RUZ28)","v":0},0,0,0,0,0,0,0,0,0,0,0,0,0,0,0,0,0,0,0,0,0,0,0,0,0,0,0,0,0,0,0,0,0,0,0,0,0,0,0,0,0,0,0,0,0,0,0,0,0,0,0,0,0,0,0,0,0,0,0,0,0,0,0,{"$f":"SUM(RXL24:RXL28)","v":0},0,0,0,0,0,0,0,0,0,0,0,0,0,0,0,0,0,0,0,0,0,0,0,0,0,0,0,0,0,0,0,0,0,0,0,0,0,0,0,0,0,0,0,0,0,0,0,0,0,0,0,0,0,0,0,0,0,0,0,0,0,0,0,{"$f":"SUM(RZX24:RZX28)","v":0},0,0,0,0,0,0,0,0,0,0,0,0,0,0,0,0,0,0,0,0,0,0,0,0,0,0,0,0,0,0,0,0,0,0,0,0,0,0,0,0,0,0,0,0,0,0,0,0,0,0,0,0,0,0,0,0,0,0,0,0,0,0,0,{"$f":"SUM(SCJ24:SCJ28)","v":0},0,0,0,0,0,0,0,0,0,0,0,0,0,0,0,0,0,0,0,0,0,0,0,0,0,0,0,0,0,0,0,0,0,0,0,0,0,0,0,0,0,0,0,0,0,0,0,0,0,0,0,0,0,0,0,0,0,0,0,0,0,0,0,{"$f":"SUM(SEV24:SEV28)","v":0},0,0,0,0,0,0,0,0,0,0,0,0,0,0,0,0,0,0,0,0,0,0,0,0,0,0,0,0,0,0,0,0,0,0,0,0,0,0,0,0,0,0,0,0,0,0,0,0,0,0,0,0,0,0,0,0,0,0,0,0,0,0,0,{"$f":"SUM(SHH24:SHH28)","v":0},0,0,0,0,0,0,0,0,0,0,0,0,0,0,0,0,0,0,0,0,0,0,0,0,0,0,0,0,0,0,0,0,0,0,0,0,0,0,0,0,0,0,0,0,0,0,0,0,0,0,0,0,0,0,0,0,0,0,0,0,0,0,0,{"$f":"SUM(SJT24:SJT28)","v":0},0,0,0,0,0,0,0,0,0,0,0,0,0,0,0,0,0,0,0,0,0,0,0,0,0,0,0,0,0,0,0,0,0,0,0,0,0,0,0,0,0,0,0,0,0,0,0,0,0,0,0,0,0,0,0,0,0,0,0,0,0,0,0,{"$f":"SUM(SMF24:SMF28)","v":0},0,0,0,0,0,0,0,0,0,0,0,0,0,0,0,0,0,0,0,0,0,0,0,0,0,0,0,0,0,0,0,0,0,0,0,0,0,0,0,0,0,0,0,0,0,0,0,0,0,0,0,0,0,0,0,0,0,0,0,0,0,0,0,{"$f":"SUM(SOR24:SOR28)","v":0},0,0,0,0,0,0,0,0,0,0,0,0,0,0,0,0,0,0,0,0,0,0,0,0,0,0,0,0,0,0,0,0,0,0,0,0,0,0,0,0,0,0,0,0,0,0,0,0,0,0,0,0,0,0,0,0,0,0,0,0,0,0,0,{"$f":"SUM(SRD24:SRD28)","v":0},0,0,0,0,0,0,0,0,0,0,0,0,0,0,0,0,0,0,0,0,0,0,0,0,0,0,0,0,0,0,0,0,0,0,0,0,0,0,0,0,0,0,0,0,0,0,0,0,0,0,0,0,0,0,0,0,0,0,0,0,0,0,0,{"$f":"SUM(STP24:STP28)","v":0},0,0,0,0,0,0,0,0,0,0,0,0,0,0,0,0,0,0,0,0,0,0,0,0,0,0,0,0,0,0,0,0,0,0,0,0,0,0,0,0,0,0,0,0,0,0,0,0,0,0,0,0,0,0,0,0,0,0,0,0,0,0,0,{"$f":"SUM(SWB24:SWB28)","v":0},0,0,0,0,0,0,0,0,0,0,0,0,0,0,0,0,0,0,0,0,0,0,0,0,0,0,0,0,0,0,0,0,0,0,0,0,0,0,0,0,0,0,0,0,0,0,0,0,0,0,0,0,0,0,0,0,0,0,0,0,0,0,0,{"$f":"SUM(SYN24:SYN28)","v":0},0,0,0,0,0,0,0,0,0,0,0,0,0,0,0,0,0,0,0,0,0,0,0,0,0,0,0,0,0,0,0,0,0,0,0,0,0,0,0,0,0,0,0,0,0,0,0,0,0,0,0,0,0,0,0,0,0,0,0,0,0,0,0,{"$f":"SUM(TAZ24:TAZ28)","v":0},0,0,0,0,0,0,0,0,0,0,0,0,0,0,0,0,0,0,0,0,0,0,0,0,0,0,0,0,0,0,0,0,0,0,0,0,0,0,0,0,0,0,0,0,0,0,0,0,0,0,0,0,0,0,0,0,0,0,0,0,0,0,0,{"$f":"SUM(TDL24:TDL28)","v":0},0,0,0,0,0,0,0,0,0,0,0,0,0,0,0,0,0,0,0,0,0,0,0,0,0,0,0,0,0,0,0,0,0,0,0,0,0,0,0,0,0,0,0,0,0,0,0,0,0,0,0,0,0,0,0,0,0,0,0,0,0,0,0,{"$f":"SUM(TFX24:TFX28)","v":0},0,0,0,0,0,0,0,0,0,0,0,0,0,0,0,0,0,0,0,0,0,0,0,0,0,0,0,0,0,0,0,0,0,0,0,0,0,0,0,0,0,0,0,0,0,0,0,0,0,0,0,0,0,0,0,0,0,0,0,0,0,0,0,{"$f":"SUM(TIJ24:TIJ28)","v":0},0,0,0,0,0,0,0,0,0,0,0,0,0,0,0,0,0,0,0,0,0,0,0,0,0,0,0,0,0,0,0,0,0,0,0,0,0,0,0,0,0,0,0,0,0,0,0,0,0,0,0,0,0,0,0,0,0,0,0,0,0,0,0,{"$f":"SUM(TKV24:TKV28)","v":0},0,0,0,0,0,0,0,0,0,0,0,0,0,0,0,0,0,0,0,0,0,0,0,0,0,0,0,0,0,0,0,0,0,0,0,0,0,0,0,0,0,0,0,0,0,0,0,0,0,0,0,0,0,0,0,0,0,0,0,0,0,0,0,{"$f":"SUM(TNH24:TNH28)","v":0},0,0,0,0,0,0,0,0,0,0,0,0,0,0,0,0,0,0,0,0,0,0,0,0,0,0,0,0,0,0,0,0,0,0,0,0,0,0,0,0,0,0,0,0,0,0,0,0,0,0,0,0,0,0,0,0,0,0,0,0,0,0,0,{"$f":"SUM(TPT24:TPT28)","v":0},0,0,0,0,0,0,0,0,0,0,0,0,0,0,0,0,0,0,0,0,0,0,0,0,0,0,0,0,0,0,0,0,0,0,0,0,0,0,0,0,0,0,0,0,0,0,0,0,0,0,0,0,0,0,0,0,0,0,0,0,0,0,0,{"$f":"SUM(TSF24:TSF28)","v":0},0,0,0,0,0,0,0,0,0,0,0,0,0,0,0,0,0,0,0,0,0,0,0,0,0,0,0,0,0,0,0,0,0,0,0,0,0,0,0,0,0,0,0,0,0,0,0,0,0,0,0,0,0,0,0,0,0,0,0,0,0,0,0,{"$f":"SUM(TUR24:TUR28)","v":0},0,0,0,0,0,0,0,0,0,0,0,0,0,0,0,0,0,0,0,0,0,0,0,0,0,0,0,0,0,0,0,0,0,0,0,0,0,0,0,0,0,0,0,0,0,0,0,0,0,0,0,0,0,0,0,0,0,0,0,0,0,0,0,{"$f":"SUM(TXD24:TXD28)","v":0},0,0,0,0,0,0,0,0,0,0,0,0,0,0,0,0,0,0,0,0,0,0,0,0,0,0,0,0,0,0,0,0,0,0,0,0,0,0,0,0,0,0,0,0,0,0,0,0,0,0,0,0,0,0,0,0,0,0,0,0,0,0,0,{"$f":"SUM(TZP24:TZP28)","v":0},0,0,0,0,0,0,0,0,0,0,0,0,0,0,0,0,0,0,0,0,0,0,0,0,0,0,0,0,0,0,0,0,0,0,0,0,0,0,0,0,0,0,0,0,0,0,0,0,0,0,0,0,0,0,0,0,0,0,0,0,0,0,0,{"$f":"SUM(UCB24:UCB28)","v":0},0,0,0,0,0,0,0,0,0,0,0,0,0,0,0,0,0,0,0,0,0,0,0,0,0,0,0,0,0,0,0,0,0,0,0,0,0,0,0,0,0,0,0,0,0,0,0,0,0,0,0,0,0,0,0,0,0,0,0,0,0,0,0,{"$f":"SUM(UEN24:UEN28)","v":0},0,0,0,0,0,0,0,0,0,0,0,0,0,0,0,0,0,0,0,0,0,0,0,0,0,0,0,0,0,0,0,0,0,0,0,0,0,0,0,0,0,0,0,0,0,0,0,0,0,0,0,0,0,0,0,0,0,0,0,0,0,0,0,{"$f":"SUM(UGZ24:UGZ28)","v":0},0,0,0,0,0,0,0,0,0,0,0,0,0,0,0,0,0,0,0,0,0,0,0,0,0,0,0,0,0,0,0,0,0,0,0,0,0,0,0,0,0,0,0,0,0,0,0,0,0,0,0,0,0,0,0,0,0,0,0,0,0,0,0,{"$f":"SUM(UJL24:UJL28)","v":0},0,0,0,0,0,0,0,0,0,0,0,0,0,0,0,0,0,0,0,0,0,0,0,0,0,0,0,0,0,0,0,0,0,0,0,0,0,0,0,0,0,0,0,0,0,0,0,0,0,0,0,0,0,0,0,0,0,0,0,0,0,0,0,{"$f":"SUM(ULX24:ULX28)","v":0},0,0,0,0,0,0,0,0,0,0,0,0,0,0,0,0,0,0,0,0,0,0,0,0,0,0,0,0,0,0,0,0,0,0,0,0,0,0,0,0,0,0,0,0,0,0,0,0,0,0,0,0,0,0,0,0,0,0,0,0,0,0,0,{"$f":"SUM(UOJ24:UOJ28)","v":0},0,0,0,0,0,0,0,0,0,0,0,0,0,0,0,0,0,0,0,0,0,0,0,0,0,0,0,0,0,0,0,0,0,0,0,0,0,0,0,0,0,0,0,0,0,0,0,0,0,0,0,0,0,0,0,0,0,0,0,0,0,0,0,{"$f":"SUM(UQV24:UQV28)","v":0},0,0,0,0,0,0,0,0,0,0,0,0,0,0,0,0,0,0,0,0,0,0,0,0,0,0,0,0,0,0,0,0,0,0,0,0,0,0,0,0,0,0,0,0,0,0,0,0,0,0,0,0,0,0,0,0,0,0,0,0,0,0,0,{"$f":"SUM(UTH24:UTH28)","v":0},0,0,0,0,0,0,0,0,0,0,0,0,0,0,0,0,0,0,0,0,0,0,0,0,0,0,0,0,0,0,0,0,0,0,0,0,0,0,0,0,0,0,0,0,0,0,0,0,0,0,0,0,0,0,0,0,0,0,0,0,0,0,0,{"$f":"SUM(UVT24:UVT28)","v":0},0,0,0,0,0,0,0,0,0,0,0,0,0,0,0,0,0,0,0,0,0,0,0,0,0,0,0,0,0,0,0,0,0,0,0,0,0,0,0,0,0,0,0,0,0,0,0,0,0,0,0,0,0,0,0,0,0,0,0,0,0,0,0,{"$f":"SUM(UYF24:UYF28)","v":0},0,0,0,0,0,0,0,0,0,0,0,0,0,0,0,0,0,0,0,0,0,0,0,0,0,0,0,0,0,0,0,0,0,0,0,0,0,0,0,0,0,0,0,0,0,0,0,0,0,0,0,0,0,0,0,0,0,0,0,0,0,0,0,{"$f":"SUM(VAR24:VAR28)","v":0},0,0,0,0,0,0,0,0,0,0,0,0,0,0,0,0,0,0,0,0,0,0,0,0,0,0,0,0,0,0,0,0,0,0,0,0,0,0,0,0,0,0,0,0,0,0,0,0,0,0,0,0,0,0,0,0,0,0,0,0,0,0,0,{"$f":"SUM(VDD24:VDD28)","v":0},0,0,0,0,0,0,0,0,0,0,0,0,0,0,0,0,0,0,0,0,0,0,0,0,0,0,0,0,0,0,0,0,0,0,0,0,0,0,0,0,0,0,0,0,0,0,0,0,0,0,0,0,0,0,0,0,0,0,0,0,0,0,0,{"$f":"SUM(VFP24:VFP28)","v":0},0,0,0,0,0,0,0,0,0,0,0,0,0,0,0,0,0,0,0,0,0,0,0,0,0,0,0,0,0,0,0,0,0,0,0,0,0,0,0,0,0,0,0,0,0,0,0,0,0,0,0,0,0,0,0,0,0,0,0,0,0,0,0,{"$f":"SUM(VIB24:VIB28)","v":0},0,0,0,0,0,0,0,0,0,0,0,0,0,0,0,0,0,0,0,0,0,0,0,0,0,0,0,0,0,0,0,0,0,0,0,0,0,0,0,0,0,0,0,0,0,0,0,0,0,0,0,0,0,0,0,0,0,0,0,0,0,0,0,{"$f":"SUM(VKN24:VKN28)","v":0},0,0,0,0,0,0,0,0,0,0,0,0,0,0,0,0,0,0,0,0,0,0,0,0,0,0,0,0,0,0,0,0,0,0,0,0,0,0,0,0,0,0,0,0,0,0,0,0,0,0,0,0,0,0,0,0,0,0,0,0,0,0,0,{"$f":"SUM(VMZ24:VMZ28)","v":0},0,0,0,0,0,0,0,0,0,0,0,0,0,0,0,0,0,0,0,0,0,0,0,0,0,0,0,0,0,0,0,0,0,0,0,0,0,0,0,0,0,0,0,0,0,0,0,0,0,0,0,0,0,0,0,0,0,0,0,0,0,0,0,{"$f":"SUM(VPL24:VPL28)","v":0},0,0,0,0,0,0,0,0,0,0,0,0,0,0,0,0,0,0,0,0,0,0,0,0,0,0,0,0,0,0,0,0,0,0,0,0,0,0,0,0,0,0,0,0,0,0,0,0,0,0,0,0,0,0,0,0,0,0,0,0,0,0,0,{"$f":"SUM(VRX24:VRX28)","v":0},0,0,0,0,0,0,0,0,0,0,0,0,0,0,0,0,0,0,0,0,0,0,0,0,0,0,0,0,0,0,0,0,0,0,0,0,0,0,0,0,0,0,0,0,0,0,0,0,0,0,0,0,0,0,0,0,0,0,0,0,0,0,0,{"$f":"SUM(VUJ24:VUJ28)","v":0},0,0,0,0,0,0,0,0,0,0,0,0,0,0,0,0,0,0,0,0,0,0,0,0,0,0,0,0,0,0,0,0,0,0,0,0,0,0,0,0,0,0,0,0,0,0,0,0,0,0,0,0,0,0,0,0,0,0,0,0,0,0,0,{"$f":"SUM(VWV24:VWV28)","v":0},0,0,0,0,0,0,0,0,0,0,0,0,0,0,0,0,0,0,0,0,0,0,0,0,0,0,0,0,0,0,0,0,0,0,0,0,0,0,0,0,0,0,0,0,0,0,0,0,0,0,0,0,0,0,0,0,0,0,0,0,0,0,0,{"$f":"SUM(VZH24:VZH28)","v":0},0,0,0,0,0,0,0,0,0,0,0,0,0,0,0,0,0,0,0,0,0,0,0,0,0,0,0,0,0,0,0,0,0,0,0,0,0,0,0,0,0,0,0,0,0,0,0,0,0,0,0,0,0,0,0,0,0,0,0,0,0,0,0,{"$f":"SUM(WBT24:WBT28)","v":0},0,0,0,0,0,0,0,0,0,0,0,0,0,0,0,0,0,0,0,0,0,0,0,0,0,0,0,0,0,0,0,0,0,0,0,0,0,0,0,0,0,0,0,0,0,0,0,0,0,0,0,0,0,0,0,0,0,0,0,0,0,0,0,{"$f":"SUM(WEF24:WEF28)","v":0},0,0,0,0,0,0,0,0,0,0,0,0,0,0,0,0,0,0,0,0,0,0,0,0,0,0,0,0,0,0,0,0,0,0,0,0,0,0,0,0,0,0,0,0,0,0,0,0,0,0,0,0,0,0,0,0,0,0,0,0,0,0,0,{"$f":"SUM(WGR24:WGR28)","v":0},0,0,0,0,0,0,0,0,0,0,0,0,0,0,0,0,0,0,0,0,0,0,0,0,0,0,0,0,0,0,0,0,0,0,0,0,0,0,0,0,0,0,0,0,0,0,0,0,0,0,0,0,0,0,0,0,0,0,0,0,0,0,0,{"$f":"SUM(WJD24:WJD28)","v":0},0,0,0,0,0,0,0,0,0,0,0,0,0,0,0,0,0,0,0,0,0,0,0,0,0,0,0,0,0,0,0,0,0,0,0,0,0,0,0,0,0,0,0,0,0,0,0,0,0,0,0,0,0,0,0,0,0,0,0,0,0,0,0,{"$f":"SUM(WLP24:WLP28)","v":0},0,0,0,0,0,0,0,0,0,0,0,0,0,0,0,0,0,0,0,0,0,0,0,0,0,0,0,0,0,0,0,0,0,0,0,0,0,0,0,0,0,0,0,0,0,0,0,0,0,0,0,0,0,0,0,0,0,0,0,0,0,0,0,{"$f":"SUM(WOB24:WOB28)","v":0},0,0,0,0,0,0,0,0,0,0,0,0,0,0,0,0,0,0,0,0,0,0,0,0,0,0,0,0,0,0,0,0,0,0,0,0,0,0,0,0,0,0,0,0,0,0,0,0,0,0,0,0,0,0,0,0,0,0,0,0,0,0,0,{"$f":"SUM(WQN24:WQN28)","v":0},0,0,0,0,0,0,0,0,0,0,0,0,0,0,0,0,0,0,0,0,0,0,0,0,0,0,0,0,0,0,0,0,0,0,0,0,0,0,0,0,0,0,0,0,0,0,0,0,0,0,0,0,0,0,0,0,0,0,0,0,0,0,0,{"$f":"SUM(WSZ24:WSZ28)","v":0},0,0,0,0,0,0,0,0,0,0,0,0,0,0,0,0,0,0,0,0,0,0,0,0,0,0,0,0,0,0,0,0,0,0,0,0,0,0,0,0,0,0,0,0,0,0,0,0,0,0,0,0,0,0,0,0,0,0,0,0,0,0,0,{"$f":"SUM(WVL24:WVL28)","v":0},0,0,0,0,0,0,0,0,0,0,0,0,0,0,0,0,0,0,0,0,0,0,0,0,0,0,0,0,0,0,0,0,0,0,0,0,0,0,0,0,0,0,0,0,0,0,0,0,0,0,0,0,0,0,0,0,0,0,0,0,0,0,0,{"$f":"SUM(WXX24:WXX28)","v":0},0,0,0,0,0,0,0,0,0,0,0,0,0,0,0,0,0,0,0,0,0,0,0,0,0,0,0,0,0,0,0,0,0,0,0,0,0,0,0,0,0,0,0,0,0,0,0,0,0,0,0,0,0,0,0,0,0,0,0,0,0,0,0,{"$f":"SUM(XAJ24:XAJ28)","v":0},0,0,0,0,0,0,0,0,0,0,0,0,0,0,0,0,0,0,0,0,0,0,0,0,0,0,0,0,0,0,0,0,0,0,0,0,0,0,0,0,0,0,0,0,0,0,0,0,0,0,0,0,0,0,0,0,0,0,0,0,0,0,0,{"$f":"SUM(XCV24:XCV28)","v":0},0,0,0,0,0,0,0,0,0,0,0,0,0,0,0,0,0,0,0,0,0,0,0,0,0,0,0,0,0,0,0,0,0,0,0,0,0,0,0,0,0,0,0,0,0,0,0,0,0,0,0,0,0,0,0,0,0,0,0,0]
[51000,"51000 Programi Unije – raspoloživ predujam",{"v":2156482.77,"d":"2,156,483"},{"v":1057921,"d":"1,057,921"},{"$f":"SUMIF('Unos prihoda i primitaka'!$D$3:$D$505,$A24,'Unos prihoda i primitaka'!I$3:I$505)","v":{"v":846895,"d":"846,895"}},{"$f":"SUMIF('Unos prihoda i primitaka'!$D$3:$D$505,$A24,'Unos prihoda i primitaka'!J$3:J$505)","v":{"v":987540,"d":"987,540"}},{"$f":"SUMIF('Unos prihoda i primitaka'!$D$3:$D$505,$A24,'Unos prihoda i primitaka'!K$3:K$505)","v":{"v":715000,"d":"715,000"}}]
[51011,"51011 Programi Unije – predfinanciranje iz izvora 11 Opći prihodi i primici",null,null,{"$f":"SUMIF('Unos prihoda i primitaka'!$D$3:$D$505,$A25,'Unos prihoda i primitaka'!I$3:I$505)","v":0},{"$f":"SUMIF('Unos prihoda i primitaka'!$D$3:$D$505,$A25,'Unos prihoda i primitaka'!J$3:J$505)","v":0},{"$f":"SUMIF('Unos prihoda i primitaka'!$D$3:$D$505,$A25,'Unos prihoda i primitaka'!K$3:K$505)","v":0}]
[51031,"51031 Programi Unije – predfinanciranje iz izvora 31 Vlastiti prihodi",null,null,{"$f":"SUMIF('Unos prihoda i primitaka'!$D$3:$D$505,$A26,'Unos prihoda i primitaka'!I$3:I$505)","v":0},{"$f":"SUMIF('Unos prihoda i primitaka'!$D$3:$D$505,$A26,'Unos prihoda i primitaka'!J$3:J$505)","v":0},{"$f":"SUMIF('Unos prihoda i primitaka'!$D$3:$D$505,$A26,'Unos prihoda i primitaka'!K$3:K$505)","v":0}]
[51043,"51043 Programi Unije – predfinanciranje iz izvora 43 Ostali prihodi za posebne namjene",null,null,{"$f":"SUMIF('Unos prihoda i primitaka'!$D$3:$D$505,$A27,'Unos prihoda i primitaka'!I$3:I$505)","v":0},{"$f":"SUMIF('Unos prihoda i primitaka'!$D$3:$D$505,$A27,'Unos prihoda i primitaka'!J$3:J$505)","v":0},{"$f":"SUMIF('Unos prihoda i primitaka'!$D$3:$D$505,$A27,'Unos prihoda i primitaka'!K$3:K$505)","v":0}]
[51081,"51081 Programi Unije – predfinanciranje iz izvora 81 Namjenski primici od zaduživanja",null,null,{"$f":"SUMIF('Unos prihoda i primitaka'!$D$3:$D$505,$A28,'Unos prihoda i primitaka'!I$3:I$505)","v":0},{"$f":"SUMIF('Unos prihoda i primitaka'!$D$3:$D$505,$A28,'Unos prihoda i primitaka'!J$3:J$505)","v":0},{"$f":"SUMIF('Unos prihoda i primitaka'!$D$3:$D$505,$A28,'Unos prihoda i primitaka'!K$3:K$505)","v":0}]
[52,"52 Ostale pomoći ",{"v":907935.42,"d":"907,935"},{"v":1064920,"d":"1,064,920"},{"$f":"SUMIF('Unos prihoda i primitaka'!$D$3:$D$505,$A29,'Unos prihoda i primitaka'!I$3:I$505)","v":0},{"$f":"SUMIF('Unos prihoda i primitaka'!$D$3:$D$505,$A29,'Unos prihoda i primitaka'!J$3:J$505)","v":0},{"$f":"SUMIF('Unos prihoda i primitaka'!$D$3:$D$505,$A29,'Unos prihoda i primitaka'!K$3:K$505)","v":0},{"$f":"'OPĆI DIO'!$C$1","v":"1812 Sveučilište u Zagrebu FAKULTET PROMETNIH ZNANOSTI"}]
[53,"52 Ostale darovnice",{"$f":"SUM(C31:C33)","v":0},{"$f":"SUM(D31:D33)","v":0},{"$f":"SUM(E31:E33)","v":{"v":59360,"d":"59,360"}},0,0]
[531,"531 Švicarsko - hrvatski program suradnje",null,null,{"$f":"SUMIF('Unos prihoda i primitaka'!$C$3:$C$505,$A31,'Unos prihoda i primitaka'!I$3:I$505)","v":0},{"$f":"SUMIF('Unos prihoda i primitaka'!$C$3:$C$505,$A31,'Unos prihoda i primitaka'!J$3:J$505)","v":0},{"$f":"SUMIF('Unos prihoda i primitaka'!$C$3:$C$505,$A31,'Unos prihoda i primitaka'!K$3:K$505)","v":0},{"$f":"'OPĆI DIO'!$C$1","v":"1812 Sveučilište u Zagrebu FAKULTET PROMETNIH ZNANOSTI"}]
[532,"532 Financijski mehanizam Europskog gospodarskog prostora i Norveški financijski mehanizam",null,null,{"$f":"SUMIF('Unos prihoda i primitaka'!$D$3:$D$505,$A32,'Unos prihoda i primitaka'!I$3:I$505)","v":0},{"$f":"SUMIF('Unos prihoda i primitaka'!$D$3:$D$505,$A32,'Unos prihoda i primitaka'!J$3:J$505)","v":0},{"$f":"SUMIF('Unos prihoda i primitaka'!$D$3:$D$505,$A32,'Unos prihoda i primitaka'!K$3:K$505)","v":0}]
[533,"533 Ostale darovnice",null,null,{"$f":"SUMIF('Unos prihoda i primitaka'!$D$3:$D$505,$A33,'Unos prihoda i primitaka'!I$3:I$505)","v":{"v":59360,"d":"59,360"}},{"$f":"SUMIF('Unos prihoda i primitaka'!$D$3:$D$505,$A33,'Unos prihoda i primitaka'!J$3:J$505)","v":0},{"$f":"SUMIF('Unos prihoda i primitaka'!$D$3:$D$505,$A33,'Unos prihoda i primitaka'!K$3:K$505)","v":0}]
[54,"54 Europski poljoprivredni jamstveni fond (EAGF)",null,null,{"$f":"SUMIF('Unos prihoda i primitaka'!$D$3:$D$505,$A34,'Unos prihoda i primitaka'!I$3:I$505)","v":0},{"$f":"SUMIF('Unos prihoda i primitaka'!$D$3:$D$505,$A34,'Unos prihoda i primitaka'!J$3:J$505)","v":0},{"$f":"SUMIF('Unos prihoda i primitaka'!$D$3:$D$505,$A34,'Unos prihoda i primitaka'!K$3:K$505)","v":0}]
[561,"561 Europski socijalni fond (ESF)",null,null,{"$f":"SUMIF('Unos prihoda i primitaka'!$D$3:$D$505,$A35,'Unos prihoda i primitaka'!I$3:I$505)","v":0},{"$f":"SUMIF('Unos prihoda i primitaka'!$D$3:$D$505,$A35,'Unos prihoda i primitaka'!J$3:J$505)","v":0},{"$f":"SUMIF('Unos prihoda i primitaka'!$D$3:$D$505,$A35,'Unos prihoda i primitaka'!K$3:K$505)","v":0},{"$f":"'OPĆI DIO'!$C$1","v":"1812 Sveučilište u Zagrebu FAKULTET PROMETNIH ZNANOSTI"}]
[562,"562 Kohezijski fond",{"v":20594.04,"d":"20,594"},null,{"$f":"SUMIF('Unos prihoda i primitaka'!$D$3:$D$505,$A36,'Unos prihoda i primitaka'!I$3:I$505)","v":0},{"$f":"SUMIF('Unos prihoda i primitaka'!$D$3:$D$505,$A36,'Unos prihoda i primitaka'!J$3:J$505)","v":0},{"$f":"SUMIF('Unos prihoda i primitaka'!$D$3:$D$505,$A36,'Unos prihoda i primitaka'!K$3:K$505)","v":0}]
[563,"563 Europski fond za regionalni razvoj (EFRR)",null,null,{"$f":"SUMIF('Unos prihoda i primitaka'!$D$3:$D$505,$A37,'Unos prihoda i primitaka'!I$3:I$505)","v":{"v":217613,"d":"217,613"}},{"$f":"SUMIF('Unos prihoda i primitaka'!$D$3:$D$505,$A37,'Unos prihoda i primitaka'!J$3:J$505)","v":0},{"$f":"SUMIF('Unos prihoda i primitaka'!$D$3:$D$505,$A37,'Unos prihoda i primitaka'!K$3:K$505)","v":0},{"$f":"'OPĆI DIO'!$C$1","v":"1812 Sveučilište u Zagrebu FAKULTET PROMETNIH ZNANOSTI"}]
[564,"564 Fond za pomorstvo, ribarstvo i akvakulturu",null,null,{"$f":"SUMIF('Unos prihoda i primitaka'!$D$3:$D$505,$A38,'Unos prihoda i primitaka'!I$3:I$505)","v":0},{"$f":"SUMIF('Unos prihoda i primitaka'!$D$3:$D$505,$A38,'Unos prihoda i primitaka'!J$3:J$505)","v":0},{"$f":"SUMIF('Unos prihoda i primitaka'!$D$3:$D$505,$A38,'Unos prihoda i primitaka'!K$3:K$505)","v":0}]
[565,"565 Europski poljoprivredni fond za ruralni razvoj",null,null,{"$f":"SUMIF('Unos prihoda i primitaka'!$D$3:$D$505,$A39,'Unos prihoda i primitaka'!I$3:I$505)","v":0},{"$f":"SUMIF('Unos prihoda i primitaka'!$D$3:$D$505,$A39,'Unos prihoda i primitaka'!J$3:J$505)","v":0},{"$f":"SUMIF('Unos prihoda i primitaka'!$D$3:$D$505,$A39,'Unos prihoda i primitaka'!K$3:K$505)","v":0}]
[566,"566 Modernizacijski fond",null,null,{"$f":"SUMIF('Unos prihoda i primitaka'!$D$3:$D$505,$A40,'Unos prihoda i primitaka'!I$3:I$505)","v":0},{"$f":"SUMIF('Unos prihoda i primitaka'!$D$3:$D$505,$A40,'Unos prihoda i primitaka'!J$3:J$505)","v":0},{"$f":"SUMIF('Unos prihoda i primitaka'!$D$3:$D$505,$A40,'Unos prihoda i primitaka'!K$3:K$505)","v":0}]
[567,"567 Socijalni fond za klimatsku politiku",null,null,{"$f":"SUMIF('Unos prihoda i primitaka'!$D$3:$D$505,$A41,'Unos prihoda i primitaka'!I$3:I$505)","v":0},{"$f":"SUMIF('Unos prihoda i primitaka'!$D$3:$D$505,$A41,'Unos prihoda i primitaka'!J$3:J$505)","v":0},{"$f":"SUMIF('Unos prihoda i primitaka'!$D$3:$D$505,$A41,'Unos prihoda i primitaka'!K$3:K$505)","v":0}]
[575,"575 Fond za azil, migracije i integraciju",null,null,{"$f":"SUMIF('Unos prihoda i primitaka'!$D$3:$D$505,$A42,'Unos prihoda i primitaka'!I$3:I$505)","v":0},{"$f":"SUMIF('Unos prihoda i primitaka'!$D$3:$D$505,$A42,'Unos prihoda i primitaka'!J$3:J$505)","v":0},{"$f":"SUMIF('Unos prihoda i primitaka'!$D$3:$D$505,$A42,'Unos prihoda i primitaka'!K$3:K$505)","v":0},{"$f":"'OPĆI DIO'!$C$1","v":"1812 Sveučilište u Zagrebu FAKULTET PROMETNIH ZNANOSTI"}]
[577,"577 Fond za pravednu tranziciju",null,null,{"$f":"SUMIF('Unos prihoda i primitaka'!$D$3:$D$505,$A43,'Unos prihoda i primitaka'!I$3:I$505)","v":0},{"$f":"SUMIF('Unos prihoda i primitaka'!$D$3:$D$505,$A43,'Unos prihoda i primitaka'!J$3:J$505)","v":0},{"$f":"SUMIF('Unos prihoda i primitaka'!$D$3:$D$505,$A43,'Unos prihoda i primitaka'!K$3:K$505)","v":0}]
[578,"578 Fond za unutarnju sigurnost",null,null,{"$f":"SUMIF('Unos prihoda i primitaka'!$D$3:$D$505,$A44,'Unos prihoda i primitaka'!I$3:I$505)","v":0},{"$f":"SUMIF('Unos prihoda i primitaka'!$D$3:$D$505,$A44,'Unos prihoda i primitaka'!J$3:J$505)","v":0},{"$f":"SUMIF('Unos prihoda i primitaka'!$D$3:$D$505,$A44,'Unos prihoda i primitaka'!K$3:K$505)","v":0}]
[579,"579 Fond za integrirano upravljanje granicama",null,null,{"$f":"SUMIF('Unos prihoda i primitaka'!$D$3:$D$505,$A45,'Unos prihoda i primitaka'!I$3:I$505)","v":0},{"$f":"SUMIF('Unos prihoda i primitaka'!$D$3:$D$505,$A45,'Unos prihoda i primitaka'!J$3:J$505)","v":0},{"$f":"SUMIF('Unos prihoda i primitaka'!$D$3:$D$505,$A45,'Unos prihoda i primitaka'!K$3:K$505)","v":0}]
[581,"581 Mehanizam za oporavak i otpornost",null,null,{"$f":"SUMIF('Unos prihoda i primitaka'!$D$3:$D$505,$A46,'Unos prihoda i primitaka'!I$3:I$505)","v":{"v":631282,"d":"631,282"}},{"$f":"SUMIF('Unos prihoda i primitaka'!$D$3:$D$505,$A46,'Unos prihoda i primitaka'!J$3:J$505)","v":{"v":385817,"d":"385,817"}},{"$f":"SUMIF('Unos prihoda i primitaka'!$D$3:$D$505,$A46,'Unos prihoda i primitaka'!K$3:K$505)","v":{"v":442131,"d":"442,131"}},{"$f":"'OPĆI DIO'!$C$1","v":"1812 Sveučilište u Zagrebu FAKULTET PROMETNIH ZNANOSTI"}]
[6,"6 Donacije",{"$f":"SUM(C48:C48)","v":{"v":14960,"d":"14,960"}},{"$f":"SUM(D48:D48)","v":{"v":20000,"d":"20,000"}},{"$f":"SUM(E48:E48)","v":{"v":20000,"d":"20,000"}},{"$f":"SUM(F48:F48)","v":{"v":20000,"d":"20,000"}},{"$f":"SUM(G48:G48)","v":{"v":20000,"d":"20,000"}},{"$f":"'OPĆI DIO'!$C$1","v":"1812 Sveučilište u Zagrebu FAKULTET PROMETNIH ZNANOSTI"}]
[61,"61 Donacije ",{"v":14960,"d":"14,960"},{"v":20000,"d":"20,000"},{"$f":"SUMIF('Unos prihoda i primitaka'!$D$3:$D$505,$A48,'Unos prihoda i primitaka'!I$3:I$505)","v":{"v":20000,"d":"20,000"}},{"$f":"SUMIF('Unos prihoda i primitaka'!$D$3:$D$505,$A48,'Unos prihoda i primitaka'!J$3:J$505)","v":{"v":20000,"d":"20,000"}},{"$f":"SUMIF('Unos prihoda i primitaka'!$D$3:$D$505,$A48,'Unos prihoda i primitaka'!K$3:K$505)","v":{"v":20000,"d":"20,000"}},{"$f":"'OPĆI DIO'!$C$1","v":"1812 Sveučilište u Zagrebu FAKULTET PROMETNIH ZNANOSTI"}]
[7,"7 Prihodi od prodaje ili zamjene nefinancijske imovine i naknade s naslova osiguranja",{"$f":"+C50","v":0},{"$f":"+D50","v":0},{"$f":"+E50","v":0},{"$f":"+F50","v":0},{"$f":"+G50","v":0},{"$f":"'OPĆI DIO'!$C$1","v":"1812 Sveučilište u Zagrebu FAKULTET PROMETNIH ZNANOSTI"}]
[71,"71 Prihodi od nefin. imovine i nadoknade šteta s osnova osig.",null,null,{"$f":"SUMIF('Unos prihoda i primitaka'!$D$3:$D$505,$A50,'Unos prihoda i primitaka'!I$3:I$505)","v":0},{"$f":"SUMIF('Unos prihoda i primitaka'!$D$3:$D$505,$A50,'Unos prihoda i primitaka'!J$3:J$505)","v":0},{"$f":"SUMIF('Unos prihoda i primitaka'!$D$3:$D$505,$A50,'Unos prihoda i primitaka'!K$3:K$505)","v":0},{"$f":"'OPĆI DIO'!$C$1","v":"1812 Sveučilište u Zagrebu FAKULTET PROMETNIH ZNANOSTI"}]
[8,"Primici od financijske imovine i zaduživanja",{"$f":"+C52","v":0},{"$f":"+D52","v":0},{"$f":"+E52","v":0},{"$f":"+F52","v":0},{"$f":"+G52","v":0}]
[815,"Namjenski primitak - NPOO",null,null,{"$f":"SUMIF('Unos prihoda i primitaka'!$D$3:$D$505,$A52,'Unos prihoda i primitaka'!I$3:I$505)","v":0},{"$f":"SUMIF('Unos prihoda i primitaka'!$D$3:$D$505,$A52,'Unos prihoda i primitaka'!J$3:J$505)","v":0},{"$f":"SUMIF('Unos prihoda i primitaka'!$D$3:$D$505,$A52,'Unos prihoda i primitaka'!K$3:K$505)","v":0}]
[]
[0,"UKUPNO RASHODI",{"$f":"+C55+C58+C60+C63+C98+C101","v":{"v":13289293.75,"d":"13,289,294"}},{"$f":"+D55+D58+D60+D63+D98+D101","v":{"v":12128300,"d":"12,128,300"}},{"$f":"+E55+E58+E60+E63+E98+E101+E103","v":{"v":13960443.502375182,"d":"13,960,444"}},{"$f":"+F55+F58+F60+F63+F98+F101+F103","v":{"v":14437543.144830698,"d":"14,437,543"}},{"v":14849151.9534687,"d":"14,849,152"},{"$f":"'OPĆI DIO'!$C$1","v":"1812 Sveučilište u Zagrebu FAKULTET PROMETNIH ZNANOSTI"}]
[1,"1 Opći prihodi i primici",{"$f":"+C56+C57","v":{"v":6699685.84,"d":"6,699,686"}},{"$f":"+D56+D57","v":{"v":6946026,"d":"6,946,026"}},{"$f":"+E56+E57","v":{"v":7976669.502375183,"d":"7,976,670"}},{"$f":"+F56+F57","v":{"v":8503632.144830698,"d":"8,503,632"}},{"$f":"+G56+G57","v":{"v":9062780.9534687,"d":"9,062,781"}},{"$f":"'OPĆI DIO'!$C$1","v":"1812 Sveučilište u Zagrebu FAKULTET PROMETNIH ZNANOSTI"}]
[11,"11 Opći prihodi i primici",{"v":6699685.84,"d":"6,699,686"},{"v":6946026,"d":"6,946,026"},{"$f":"SUMIF('Unos rashoda i izdataka'!$D$3:$D$501,$A56,'Unos rashoda i izdataka'!K$3:K$501)+SUMIF('Unos rashoda P4'!$B$3:$B$501,$A56,'Unos rashoda P4'!I$3:I$501)","v":{"v":7976669.502375183,"d":"7,976,670"}},{"$f":"SUMIF('Unos rashoda i izdataka'!$D$3:$D$501,$A56,'Unos rashoda i izdataka'!L$3:L$501)+SUMIF('Unos rashoda P4'!$B$3:$B$501,$A56,'Unos rashoda P4'!J$3:J$501)","v":{"v":8503632.144830698,"d":"8,503,632"}},{"$f":"SUMIF('Unos rashoda i izdataka'!$D$3:$D$501,$A56,'Unos rashoda i izdataka'!M$3:M$501)+SUMIF('Unos rashoda P4'!$B$3:$B$501,$A56,'Unos rashoda P4'!K$3:K$501)","v":{"v":9062780.9534687,"d":"9,062,781"}},{"$f":"'OPĆI DIO'!$C$1","v":"1812 Sveučilište u Zagrebu FAKULTET PROMETNIH ZNANOSTI"}]
[12,"12 Sredstva učešća za pomoći",null,null,{"$f":"SUMIF('Unos rashoda i izdataka'!$D$3:$D$501,$A57,'Unos rashoda i izdataka'!K$3:K$501)+SUMIF('Unos rashoda P4'!$B$3:$B$501,$A57,'Unos rashoda P4'!I$3:I$501)","v":0},{"$f":"SUMIF('Unos rashoda i izdataka'!$D$3:$D$501,$A57,'Unos rashoda i izdataka'!L$3:L$501)+SUMIF('Unos rashoda P4'!$B$3:$B$501,$A57,'Unos rashoda P4'!J$3:J$501)","v":0},{"$f":"SUMIF('Unos rashoda i izdataka'!$D$3:$D$501,$A57,'Unos rashoda i izdataka'!M$3:M$501)+SUMIF('Unos rashoda P4'!$B$3:$B$501,$A57,'Unos rashoda P4'!K$3:K$501)","v":0},{"$f":"'OPĆI DIO'!$C$1","v":"1812 Sveučilište u Zagrebu FAKULTET PROMETNIH ZNANOSTI"}]
[3,"3 Vlastiti prihodi",{"$f":"+C59","v":{"v":3626216,"d":"3,626,216"}},{"$f":"+D59","v":{"v":3084116,"d":"3,084,116"}},{"$f":"+E59","v":{"v":3590000,"d":"3,590,000"}},{"$f":"+F59","v":{"v":3690000,"d":"3,690,000"}},{"$f":"+G59","v":{"v":3790000,"d":"3,790,000"}},{"$f":"'OPĆI DIO'!$C$1","v":"1812 Sveučilište u Zagrebu FAKULTET PROMETNIH ZNANOSTI"}]
[31,"31 Vlastiti prihodi",{"v":3626216,"d":"3,626,216"},{"v":3084116,"d":"3,084,116"},{"$f":"SUMIF('Unos rashoda i izdataka'!$D$3:$D$501,$A59,'Unos rashoda i izdataka'!K$3:K$501)+SUMIF('Unos rashoda P4'!$B$3:$B$501,$A59,'Unos rashoda P4'!I$3:I$501)","v":{"v":3590000,"d":"3,590,000"}},{"$f":"SUMIF('Unos rashoda i izdataka'!$D$3:$D$501,$A59,'Unos rashoda i izdataka'!L$3:L$501)+SUMIF('Unos rashoda P4'!$B$3:$B$501,$A59,'Unos rashoda P4'!J$3:J$501)","v":{"v":3690000,"d":"3,690,000"}},{"$f":"SUMIF('Unos rashoda i izdataka'!$D$3:$D$501,$A59,'Unos rashoda i izdataka'!M$3:M$501)+SUMIF('Unos rashoda P4'!$B$3:$B$501,$A59,'Unos rashoda P4'!K$3:K$501)","v":{"v":3790000,"d":"3,790,000"}},{"$f":"'OPĆI DIO'!$C$1","v":"1812 Sveučilište u Zagrebu FAKULTET PROMETNIH ZNANOSTI"}]
[4,"4 Prihodi za posebne namjene",{"$f":"+C61+C62","v":{"v":289383.46,"d":"289,383"}},{"$f":"+D61+D62","v":{"v":240083,"d":"240,083"}},{"$f":"+E61+E62","v":{"v":825000,"d":"825,000"}},{"$f":"+F61+F62","v":{"v":850000,"d":"850,000"}},{"$f":"+G61+G62","v":{"v":875000,"d":"875,000"}},{"$f":"'OPĆI DIO'!$C$1","v":"1812 Sveučilište u Zagrebu FAKULTET PROMETNIH ZNANOSTI"}]
[41,"41 Prihodi od igara na sreću",null,null,{"$f":"SUMIF('Unos rashoda i izdataka'!$D$3:$D$501,$A61,'Unos rashoda i izdataka'!K$3:K$501)+SUMIF('Unos rashoda P4'!$B$3:$B$501,$A61,'Unos rashoda P4'!I$3:I$501)","v":0},{"$f":"SUMIF('Unos rashoda i izdataka'!$D$3:$D$501,$A61,'Unos rashoda i izdataka'!L$3:L$501)+SUMIF('Unos rashoda P4'!$B$3:$B$501,$A61,'Unos rashoda P4'!J$3:J$501)","v":0},{"$f":"SUMIF('Unos rashoda i izdataka'!$D$3:$D$501,$A61,'Unos rashoda i izdataka'!M$3:M$501)+SUMIF('Unos rashoda P4'!$B$3:$B$501,$A61,'Unos rashoda P4'!K$3:K$501)","v":0},{"$f":"'OPĆI DIO'!$C$1","v":"1812 Sveučilište u Zagrebu FAKULTET PROMETNIH ZNANOSTI"}]
[43,"43  Prihodi za posebne namjene ",{"v":289383.46,"d":"289,383"},{"v":240083,"d":"240,083"},{"$f":"SUMIF('Unos rashoda i izdataka'!$D$3:$D$501,$A62,'Unos rashoda i izdataka'!K$3:K$501)+SUMIF('Unos rashoda P4'!$B$3:$B$501,$A62,'Unos rashoda P4'!I$3:I$501)","v":{"v":825000,"d":"825,000"}},{"$f":"SUMIF('Unos rashoda i izdataka'!$D$3:$D$501,$A62,'Unos rashoda i izdataka'!L$3:L$501)+SUMIF('Unos rashoda P4'!$B$3:$B$501,$A62,'Unos rashoda P4'!J$3:J$501)","v":{"v":850000,"d":"850,000"}},{"$f":"SUMIF('Unos rashoda i izdataka'!$D$3:$D$501,$A62,'Unos rashoda i izdataka'!M$3:M$501)+SUMIF('Unos rashoda P4'!$B$3:$B$501,$A62,'Unos rashoda P4'!K$3:K$501)","v":{"v":875000,"d":"875,000"}},{"$f":"'OPĆI DIO'!$C$1","v":"1812 Sveučilište u Zagrebu FAKULTET PROMETNIH ZNANOSTI"}]
[5,"5 Pomoći",{"$f":"+C64+C72+C78+C79+C84+C85+C86+C88+C93+C97","v":{"v":2674008.45,"d":"2,674,008"}},{"$f":"+D64+D72+D78+D79+D84+D85+D86+D88+D93+D97","v":{"v":1858075,"d":"1,858,075"}},{"$f":"SUM(E83:E97)+E79+E78+E72+E64","v":{"v":1548774,"d":"1,548,774"}},{"$f":"SUM(F83:F97)+F79+F78+F72+F64","v":{"v":1373911,"d":"1,373,911"}},{"v":1101371,"d":"1,101,371"},{"$f":"'OPĆI DIO'!$C$1","v":"1812 Sveučilište u Zagrebu FAKULTET PROMETNIH ZNANOSTI"}]
[50,"Pomoći iz DP",{"$f":"SUM(C65:C71)","v":0},{"$f":"SUM(D65:D71)","v":0},{"$f":"SUM(E65:E71)","v":{"v":90000,"d":"90,000"}},{"v":90000,"d":"90,000"},{"v":90000,"d":"90,000"}]
[5011,"5011 Pomoći iz državnog proračuna kroz opće prihode i primitke",null,null,{"$f":"SUMIF('Unos rashoda i izdataka'!$D$3:$D$501,$A65,'Unos rashoda i izdataka'!K$3:K$501)+SUMIF('Unos rashoda P4'!$B$3:$B$501,$A65,'Unos rashoda P4'!I$3:I$501)","v":{"v":90000,"d":"90,000"}},{"$f":"SUMIF('Unos rashoda i izdataka'!$D$3:$D$501,$A65,'Unos rashoda i izdataka'!L$3:L$501)+SUMIF('Unos rashoda P4'!$B$3:$B$501,$A65,'Unos rashoda P4'!J$3:J$501)","v":{"v":90000,"d":"90,000"}},{"$f":"SUMIF('Unos rashoda i izdataka'!$D$3:$D$501,$A65,'Unos rashoda i izdataka'!M$3:M$501)+SUMIF('Unos rashoda P4'!$B$3:$B$501,$A65,'Unos rashoda P4'!K$3:K$501)","v":{"v":90000,"d":"90,000"}}]
[5012,"5012 Pomoći iz državnog proračuna kroz nacionalno sufinanciranje EU projekata",null,null,{"$f":"SUMIF('Unos rashoda i izdataka'!$D$3:$D$501,$A66,'Unos rashoda i izdataka'!K$3:K$501)+SUMIF('Unos rashoda P4'!$B$3:$B$501,$A66,'Unos rashoda P4'!I$3:I$501)","v":0},{"$f":"SUMIF('Unos rashoda i izdataka'!$D$3:$D$501,$A66,'Unos rashoda i izdataka'!L$3:L$501)+SUMIF('Unos rashoda P4'!$B$3:$B$501,$A66,'Unos rashoda P4'!J$3:J$501)","v":0},{"$f":"SUMIF('Unos rashoda i izdataka'!$D$3:$D$501,$A66,'Unos rashoda i izdataka'!M$3:M$501)+SUMIF('Unos rashoda P4'!$B$3:$B$501,$A66,'Unos rashoda P4'!K$3:K$501)","v":0}]
[5041,"5041 Pomoći iz državnog proračuna kroz prihode od igara na sreću",null,null,{"$f":"SUMIF('Unos rashoda i izdataka'!$D$3:$D$501,$A67,'Unos rashoda i izdataka'!K$3:K$501)+SUMIF('Unos rashoda P4'!$B$3:$B$501,$A67,'Unos rashoda P4'!I$3:I$501)","v":0},{"$f":"SUMIF('Unos rashoda i izdataka'!$D$3:$D$501,$A67,'Unos rashoda i izdataka'!L$3:L$501)+SUMIF('Unos rashoda P4'!$B$3:$B$501,$A67,'Unos rashoda P4'!J$3:J$501)","v":0},{"$f":"SUMIF('Unos rashoda i izdataka'!$D$3:$D$501,$A67,'Unos rashoda i izdataka'!M$3:M$501)+SUMIF('Unos rashoda P4'!$B$3:$B$501,$A67,'Unos rashoda P4'!K$3:K$501)","v":0}]
[5043,"5043 Pomoći iz državnog proračuna kroz ostale prihode za posebne namjene",null,null,{"$f":"SUMIF('Unos rashoda i izdataka'!$D$3:$D$501,$A68,'Unos rashoda i izdataka'!K$3:K$501)+SUMIF('Unos rashoda P4'!$B$3:$B$501,$A68,'Unos rashoda P4'!I$3:I$501)","v":0},{"$f":"SUMIF('Unos rashoda i izdataka'!$D$3:$D$501,$A68,'Unos rashoda i izdataka'!L$3:L$501)+SUMIF('Unos rashoda P4'!$B$3:$B$501,$A68,'Unos rashoda P4'!J$3:J$501)","v":0},{"$f":"SUMIF('Unos rashoda i izdataka'!$D$3:$D$501,$A68,'Unos rashoda i izdataka'!M$3:M$501)+SUMIF('Unos rashoda P4'!$B$3:$B$501,$A68,'Unos rashoda P4'!K$3:K$501)","v":0}]
[5052,"5052 Pomoći iz državnog proračuna kroz ostale pomoći",null,null,{"$f":"SUMIF('Unos rashoda i izdataka'!$D$3:$D$501,$A69,'Unos rashoda i izdataka'!K$3:K$501)+SUMIF('Unos rashoda P4'!$B$3:$B$501,$A69,'Unos rashoda P4'!I$3:I$501)","v":0},{"$f":"SUMIF('Unos rashoda i izdataka'!$D$3:$D$501,$A69,'Unos rashoda i izdataka'!L$3:L$501)+SUMIF('Unos rashoda P4'!$B$3:$B$501,$A69,'Unos rashoda P4'!J$3:J$501)","v":0},{"$f":"SUMIF('Unos rashoda i izdataka'!$D$3:$D$501,$A69,'Unos rashoda i izdataka'!M$3:M$501)+SUMIF('Unos rashoda P4'!$B$3:$B$501,$A69,'Unos rashoda P4'!K$3:K$501)","v":0}]
[50810,"50810 Pomoći iz državnog proračuna kroz namjenske primitke od zaduživanja – ostali",null,null,{"$f":"SUMIF('Unos rashoda i izdataka'!$D$3:$D$501,$A70,'Unos rashoda i izdataka'!K$3:K$501)+SUMIF('Unos rashoda P4'!$B$3:$B$501,$A70,'Unos rashoda P4'!I$3:I$501)","v":0},{"$f":"SUMIF('Unos rashoda i izdataka'!$D$3:$D$501,$A70,'Unos rashoda i izdataka'!L$3:L$501)+SUMIF('Unos rashoda P4'!$B$3:$B$501,$A70,'Unos rashoda P4'!J$3:J$501)","v":0},{"$f":"SUMIF('Unos rashoda i izdataka'!$D$3:$D$501,$A70,'Unos rashoda i izdataka'!M$3:M$501)+SUMIF('Unos rashoda P4'!$B$3:$B$501,$A70,'Unos rashoda P4'!K$3:K$501)","v":0}]
[50815,"50815 Pomoći iz državnog proračuna kroz namjenske primitke od zaduživanja – NPOO",null,null,{"$f":"SUMIF('Unos rashoda i izdataka'!$D$3:$D$501,$A71,'Unos rashoda i izdataka'!K$3:K$501)+SUMIF('Unos rashoda P4'!$B$3:$B$501,$A71,'Unos rashoda P4'!I$3:I$501)","v":0},{"$f":"SUMIF('Unos rashoda i izdataka'!$D$3:$D$501,$A71,'Unos rashoda i izdataka'!L$3:L$501)+SUMIF('Unos rashoda P4'!$B$3:$B$501,$A71,'Unos rashoda P4'!J$3:J$501)","v":0},{"$f":"SUMIF('Unos rashoda i izdataka'!$D$3:$D$501,$A71,'Unos rashoda i izdataka'!M$3:M$501)+SUMIF('Unos rashoda P4'!$B$3:$B$501,$A71,'Unos rashoda P4'!K$3:K$501)","v":0}]
[51,"Programi unije",{"$f":"SUM(C73:C77)","v":{"v":1753517,"d":"1,753,517"}},{"$f":"SUM(D73:D77)","v":{"v":1057921,"d":"1,057,921"}},{"$f":"SUM(E73:E77)","v":{"v":846895,"d":"846,895"}},{"$f":"SUM(F73:F77)","v":{"v":987540,"d":"987,540"}},{"v":715000,"d":"715,000"},{"$f":"SUM(H73:H77)","v":0},{"$f":"SUM(I73:I77)","v":0},{"$f":"SUM(J73:J77)","v":0},{"$f":"SUM(K73:K77)","v":0},{"$f":"SUM(L73:L77)","v":0},{"$f":"SUM(M73:M77)","v":0},{"$f":"SUM(N73:N77)","v":0},{"$f":"SUM(O73:O77)","v":0},{"$f":"SUM(P73:P77)","v":0},{"$f":"SUM(Q73:Q77)","v":0},{"$f":"SUM(R73:R77)","v":0},{"$f":"SUM(S73:S77)","v":0},{"$f":"SUM(T73:T77)","v":0},{"$f":"SUM(U73:U77)","v":0},{"$f":"SUM(V73:V77)","v":0},{"$f":"SUM(W73:W77)","v":0},{"$f":"SUM(X73:X77)","v":0},{"$f":"SUM(Y73:Y77)","v":0},{"$f":"SUM(Z73:Z77)","v":0},{"$f":"SUM(AA73:AA77)","v":0},{"$f":"SUM(AB73:AB77)","v":0},{"$f":"SUM(AC73:AC77)","v":0},{"$f":"SUM(AD73:AD77)","v":0},{"$f":"SUM(AE73:AE77)","v":0},{"$f":"SUM(AF73:AF77)","v":0},{"$f":"SUM(AG73:AG77)","v":0},{"$f":"SUM(AH73:AH77)","v":0},{"$f":"SUM(AI73:AI77)","v":0},{"$f":"SUM(AJ73:AJ77)","v":0},{"$f":"SUM(AK73:AK77)","v":0},{"$f":"SUM(AL73:AL77)","v":0},{"$f":"SUM(AM73:AM77)","v":0},{"$f":"SUM(AN73:AN77)","v":0},{"$f":"SUM(AO73:AO77)","v":0},{"$f":"SUM(AP73:AP77)","v":0},{"$f":"SUM(AQ73:AQ77)","v":0},{"$f":"SUM(AR73:AR77)","v":0},{"$f":"SUM(AS73:AS77)","v":0},{"$f":"SUM(AT73:AT77)","v":0},{"$f":"SUM(AU73:AU77)","v":0},{"$f":"SUM(AV73:AV77)","v":0},{"$f":"SUM(AW73:AW77)","v":0},{"$f":"SUM(AX73:AX77)","v":0},{"$f":"SUM(AY73:AY77)","v":0},{"$f":"SUM(AZ73:AZ77)","v":0},{"$f":"SUM(BA73:BA77)","v":0},{"$f":"SUM(BB73:BB77)","v":0},{"$f":"SUM(BC73:BC77)","v":0},{"$f":"SUM(BD73:BD77)","v":0},{"$f":"SUM(BE73:BE77)","v":0},{"$f":"SUM(BF73:BF77)","v":0},{"$f":"SUM(BG73:BG77)","v":0},{"$f":"SUM(BH73:BH77)","v":0},{"$f":"SUM(BI73:BI77)","v":0},{"$f":"SUM(BJ73:BJ77)","v":0},{"$f":"SUM(BK73:BK77)","v":0},{"$f":"SUM(BL73:BL77)","v":0},{"$f":"SUM(BM73:BM77)","v":0},{"$f":"SUM(BN73:BN77)","v":0},{"$f":"SUM(BO73:BO77)","v":0},{"$f":"SUM(BP73:BP77)","v":0},{"$f":"SUM(BQ73:BQ77)","v":0},{"$f":"SUM(BR73:BR77)","v":0},{"$f":"SUM(BS73:BS77)","v":0},{"$f":"SUM(BT73:BT77)","v":0},{"$f":"SUM(BU73:BU77)","v":0},{"$f":"SUM(BV73:BV77)","v":0},{"$f":"SUM(BW73:BW77)","v":0},{"$f":"SUM(BX73:BX77)","v":0},{"$f":"SUM(BY73:BY77)","v":0},{"$f":"SUM(BZ73:BZ77)","v":0},{"$f":"SUM(CA73:CA77)","v":0},{"$f":"SUM(CB73:CB77)","v":0},{"$f":"SUM(CC73:CC77)","v":0},{"$f":"SUM(CD73:CD77)","v":0},{"$f":"SUM(CE73:CE77)","v":0},{"$f":"SUM(CF73:CF77)","v":0},{"$f":"SUM(CG73:CG77)","v":0},{"$f":"SUM(CH73:CH77)","v":0},{"$f":"SUM(CI73:CI77)","v":0},{"$f":"SUM(CJ73:CJ77)","v":0},{"$f":"SUM(CK73:CK77)","v":0},{"$f":"SUM(CL73:CL77)","v":0},{"$f":"SUM(CM73:CM77)","v":0},{"$f":"SUM(CN73:CN77)","v":0},{"$f":"SUM(CO73:CO77)","v":0},{"$f":"SUM(CP73:CP77)","v":0},{"$f":"SUM(CQ73:CQ77)","v":0},{"$f":"SUM(CR73:CR77)","v":0},{"$f":"SUM(CS73:CS77)","v":0},{"$f":"SUM(CT73:CT77)","v":0},{"$f":"SUM(CU73:CU77)","v":0},{"$f":"SUM(CV73:CV77)","v":0},{"$f":"SUM(CW73:CW77)","v":0},{"$f":"SUM(CX73:CX77)","v":0},{"$f":"SUM(CY73:CY77)","v":0},{"$f":"SUM(CZ73:CZ77)","v":0},{"$f":"SUM(DA73:DA77)","v":0},{"$f":"SUM(DB73:DB77)","v":0},{"$f":"SUM(DC73:DC77)","v":0},{"$f":"SUM(DD73:DD77)","v":0},{"$f":"SUM(DE73:DE77)","v":0},{"$f":"SUM(DF73:DF77)","v":0},{"$f":"SUM(DG73:DG77)","v":0},{"$f":"SUM(DH73:DH77)","v":0},{"$f":"SUM(DI73:DI77)","v":0},{"$f":"SUM(DJ73:DJ77)","v":0},{"$f":"SUM(DK73:DK77)","v":0},{"$f":"SUM(DL73:DL77)","v":0},{"$f":"SUM(DM73:DM77)","v":0},{"$f":"SUM(DN73:DN77)","v":0},{"$f":"SUM(DO73:DO77)","v":0},{"$f":"SUM(DP73:DP77)","v":0},{"$f":"SUM(DQ73:DQ77)","v":0},{"$f":"SUM(DR73:DR77)","v":0},{"$f":"SUM(DS73:DS77)","v":0},{"$f":"SUM(DT73:DT77)","v":0},{"$f":"SUM(DU73:DU77)","v":0},{"$f":"SUM(DV73:DV77)","v":0},{"$f":"SUM(DW73:DW77)","v":0},{"$f":"SUM(DX73:DX77)","v":0},{"$f":"SUM(DY73:DY77)","v":0},{"$f":"SUM(DZ73:DZ77)","v":0},{"$f":"SUM(EA73:EA77)","v":0},{"$f":"SUM(EB73:EB77)","v":0},{"$f":"SUM(EC73:EC77)","v":0},{"$f":"SUM(ED73:ED77)","v":0},{"$f":"SUM(EE73:EE77)","v":0},{"$f":"SUM(EF73:EF77)","v":0},{"$f":"SUM(EG73:EG77)","v":0},{"$f":"SUM(EH73:EH77)","v":0},{"$f":"SUM(EI73:EI77)","v":0},{"$f":"SUM(EJ73:EJ77)","v":0},{"$f":"SUM(EK73:EK77)","v":0},{"$f":"SUM(EL73:EL77)","v":0},{"$f":"SUM(EM73:EM77)","v":0},{"$f":"SUM(EN73:EN77)","v":0},{"$f":"SUM(EO73:EO77)","v":0},{"$f":"SUM(EP73:EP77)","v":0},{"$f":"SUM(EQ73:EQ77)","v":0},{"$f":"SUM(ER73:ER77)","v":0},{"$f":"SUM(ES73:ES77)","v":0},{"$f":"SUM(ET73:ET77)","v":0},{"$f":"SUM(EU73:EU77)","v":0},{"$f":"SUM(EV73:EV77)","v":0},{"$f":"SUM(EW73:EW77)","v":0},{"$f":"SUM(EX73:EX77)","v":0},{"$f":"SUM(EY73:EY77)","v":0},{"$f":"SUM(EZ73:EZ77)","v":0},{"$f":"SUM(FA73:FA77)","v":0},{"$f":"SUM(FB73:FB77)","v":0},{"$f":"SUM(FC73:FC77)","v":0},{"$f":"SUM(FD73:FD77)","v":0},{"$f":"SUM(FE73:FE77)","v":0},{"$f":"SUM(FF73:FF77)","v":0},{"$f":"SUM(FG73:FG77)","v":0},{"$f":"SUM(FH73:FH77)","v":0},{"$f":"SUM(FI73:FI77)","v":0},{"$f":"SUM(FJ73:FJ77)","v":0},{"$f":"SUM(FK73:FK77)","v":0},{"$f":"SUM(FL73:FL77)","v":0},{"$f":"SUM(FM73:FM77)","v":0},{"$f":"SUM(FN73:FN77)","v":0},{"$f":"SUM(FO73:FO77)","v":0},{"$f":"SUM(FP73:FP77)","v":0},{"$f":"SUM(FQ73:FQ77)","v":0},{"$f":"SUM(FR73:FR77)","v":0},{"$f":"SUM(FS73:FS77)","v":0},{"$f":"SUM(FT73:FT77)","v":0},{"$f":"SUM(FU73:FU77)","v":0},{"$f":"SUM(FV73:FV77)","v":0},{"$f":"SUM(FW73:FW77)","v":0},{"$f":"SUM(FX73:FX77)","v":0},{"$f":"SUM(FY73:FY77)","v":0},{"$f":"SUM(FZ73:FZ77)","v":0},{"$f":"SUM(GA73:GA77)","v":0},{"$f":"SUM(GB73:GB77)","v":0},{"$f":"SUM(GC73:GC77)","v":0},{"$f":"SUM(GD73:GD77)","v":0},{"$f":"SUM(GE73:GE77)","v":0},{"$f":"SUM(GF73:GF77)","v":0},{"$f":"SUM(GG73:GG77)","v":0},{"$f":"SUM(GH73:GH77)","v":0},{"$f":"SUM(GI73:GI77)","v":0},{"$f":"SUM(GJ73:GJ77)","v":0},{"$f":"SUM(GK73:GK77)","v":0},{"$f":"SUM(GL73:GL77)","v":0},{"$f":"SUM(GM73:GM77)","v":0},{"$f":"SUM(GN73:GN77)","v":0},{"$f":"SUM(GO73:GO77)","v":0},{"$f":"SUM(GP73:GP77)","v":0},{"$f":"SUM(GQ73:GQ77)","v":0},{"$f":"SUM(GR73:GR77)","v":0},{"$f":"SUM(GS73:GS77)","v":0},{"$f":"SUM(GT73:GT77)","v":0},{"$f":"SUM(GU73:GU77)","v":0},{"$f":"SUM(GV73:GV77)","v":0},{"$f":"SUM(GW73:GW77)","v":0},{"$f":"SUM(GX73:GX77)","v":0},{"$f":"SUM(GY73:GY77)","v":0},{"$f":"SUM(GZ73:GZ77)","v":0},{"$f":"SUM(HA73:HA77)","v":0},{"$f":"SUM(HB73:HB77)","v":0},{"$f":"SUM(HC73:HC77)","v":0},{"$f":"SUM(HD73:HD77)","v":0},{"$f":"SUM(HE73:HE77)","v":0},{"$f":"SUM(HF73:HF77)","v":0},{"$f":"SUM(HG73:HG77)","v":0},{"$f":"SUM(HH73:HH77)","v":0},{"$f":"SUM(HI73:HI77)","v":0},{"$f":"SUM(HJ73:HJ77)","v":0},{"$f":"SUM(HK73:HK77)","v":0},{"$f":"SUM(HL73:HL77)","v":0},{"$f":"SUM(HM73:HM77)","v":0},{"$f":"SUM(HN73:HN77)","v":0},{"$f":"SUM(HO73:HO77)","v":0},{"$f":"SUM(HP73:HP77)","v":0},{"$f":"SUM(HQ73:HQ77)","v":0},{"$f":"SUM(HR73:HR77)","v":0},{"$f":"SUM(HS73:HS77)","v":0},{"$f":"SUM(HT73:HT77)","v":0},{"$f":"SUM(HU73:HU77)","v":0},{"$f":"SUM(HV73:HV77)","v":0},{"$f":"SUM(HW73:HW77)","v":0},{"$f":"SUM(HX73:HX77)","v":0},{"$f":"SUM(HY73:HY77)","v":0},{"$f":"SUM(HZ73:HZ77)","v":0},{"$f":"SUM(IA73:IA77)","v":0},{"$f":"SUM(IB73:IB77)","v":0},{"$f":"SUM(IC73:IC77)","v":0},{"$f":"SUM(ID73:ID77)","v":0},{"$f":"SUM(IE73:IE77)","v":0},{"$f":"SUM(IF73:IF77)","v":0},{"$f":"SUM(IG73:IG77)","v":0},{"$f":"SUM(IH73:IH77)","v":0},{"$f":"SUM(II73:II77)","v":0},{"$f":"SUM(IJ73:IJ77)","v":0},{"$f":"SUM(IK73:IK77)","v":0},{"$f":"SUM(IL73:IL77)","v":0},{"$f":"SUM(IM73:IM77)","v":0},{"$f":"SUM(IN73:IN77)","v":0},{"$f":"SUM(IO73:IO77)","v":0},{"$f":"SUM(IP73:IP77)","v":0},{"$f":"SUM(IQ73:IQ77)","v":0},{"$f":"SUM(IR73:IR77)","v":0},{"$f":"SUM(IS73:IS77)","v":0},{"$f":"SUM(IT73:IT77)","v":0},{"$f":"SUM(IU73:IU77)","v":0},{"$f":"SUM(IV73:IV77)","v":0},{"$f":"SUM(IW73:IW77)","v":0},{"$f":"SUM(IX73:IX77)","v":0},{"$f":"SUM(IY73:IY77)","v":0},{"$f":"SUM(IZ73:IZ77)","v":0},{"$f":"SUM(JA73:JA77)","v":0},{"$f":"SUM(JB73:JB77)","v":0},{"$f":"SUM(JC73:JC77)","v":0},{"$f":"SUM(JD73:JD77)","v":0},{"$f":"SUM(JE73:JE77)","v":0},{"$f":"SUM(JF73:JF77)","v":0},{"$f":"SUM(JG73:JG77)","v":0},{"$f":"SUM(JH73:JH77)","v":0},{"$f":"SUM(JI73:JI77)","v":0},{"$f":"SUM(JJ73:JJ77)","v":0},{"$f":"SUM(JK73:JK77)","v":0},{"$f":"SUM(JL73:JL77)","v":0},{"$f":"SUM(JM73:JM77)","v":0},{"$f":"SUM(JN73:JN77)","v":0},{"$f":"SUM(JO73:JO77)","v":0},{"$f":"SUM(JP73:JP77)","v":0},{"$f":"SUM(JQ73:JQ77)","v":0},{"$f":"SUM(JR73:JR77)","v":0},{"$f":"SUM(JS73:JS77)","v":0},{"$f":"SUM(JT73:JT77)","v":0},{"$f":"SUM(JU73:JU77)","v":0},{"$f":"SUM(JV73:JV77)","v":0},{"$f":"SUM(JW73:JW77)","v":0},{"$f":"SUM(JX73:JX77)","v":0},{"$f":"SUM(JY73:JY77)","v":0},{"$f":"SUM(JZ73:JZ77)","v":0},{"$f":"SUM(KA73:KA77)","v":0},{"$f":"SUM(KB73:KB77)","v":0},{"$f":"SUM(KC73:KC77)","v":0},{"$f":"SUM(KD73:KD77)","v":0},{"$f":"SUM(KE73:KE77)","v":0},{"$f":"SUM(KF73:KF77)","v":0},{"$f":"SUM(KG73:KG77)","v":0},{"$f":"SUM(KH73:KH77)","v":0},{"$f":"SUM(KI73:KI77)","v":0},{"$f":"SUM(KJ73:KJ77)","v":0},{"$f":"SUM(KK73:KK77)","v":0},{"$f":"SUM(KL73:KL77)","v":0},{"$f":"SUM(KM73:KM77)","v":0},{"$f":"SUM(KN73:KN77)","v":0},{"$f":"SUM(KO73:KO77)","v":0},{"$f":"SUM(KP73:KP77)","v":0},{"$f":"SUM(KQ73:KQ77)","v":0},{"$f":"SUM(KR73:KR77)","v":0},{"$f":"SUM(KS73:KS77)","v":0},{"$f":"SUM(KT73:KT77)","v":0},{"$f":"SUM(KU73:KU77)","v":0},{"$f":"SUM(KV73:KV77)","v":0},{"$f":"SUM(KW73:KW77)","v":0},{"$f":"SUM(KX73:KX77)","v":0},{"$f":"SUM(KY73:KY77)","v":0},{"$f":"SUM(KZ73:KZ77)","v":0},{"$f":"SUM(LA73:LA77)","v":0},{"$f":"SUM(LB73:LB77)","v":0},{"$f":"SUM(LC73:LC77)","v":0},{"$f":"SUM(LD73:LD77)","v":0},{"$f":"SUM(LE73:LE77)","v":0},{"$f":"SUM(LF73:LF77)","v":0},{"$f":"SUM(LG73:LG77)","v":0},{"$f":"SUM(LH73:LH77)","v":0},{"$f":"SUM(LI73:LI77)","v":0},{"$f":"SUM(LJ73:LJ77)","v":0},{"$f":"SUM(LK73:LK77)","v":0},{"$f":"SUM(LL73:LL77)","v":0},{"$f":"SUM(LM73:LM77)","v":0},{"$f":"SUM(LN73:LN77)","v":0},{"$f":"SUM(LO73:LO77)","v":0},{"$f":"SUM(LP73:LP77)","v":0},{"$f":"SUM(LQ73:LQ77)","v":0},{"$f":"SUM(LR73:LR77)","v":0},{"$f":"SUM(LS73:LS77)","v":0},{"$f":"SUM(LT73:LT77)","v":0},{"$f":"SUM(LU73:LU77)","v":0},{"$f":"SUM(LV73:LV77)","v":0},{"$f":"SUM(LW73:LW77)","v":0},{"$f":"SUM(LX73:LX77)","v":0},{"$f":"SUM(LY73:LY77)","v":0},{"$f":"SUM(LZ73:LZ77)","v":0},{"$f":"SUM(MA73:MA77)","v":0},{"$f":"SUM(MB73:MB77)","v":0},{"$f":"SUM(MC73:MC77)","v":0},{"$f":"SUM(MD73:MD77)","v":0},{"$f":"SUM(ME73:ME77)","v":0},{"$f":"SUM(MF73:MF77)","v":0},{"$f":"SUM(MG73:MG77)","v":0},{"$f":"SUM(MH73:MH77)","v":0},{"$f":"SUM(MI73:MI77)","v":0},{"$f":"SUM(MJ73:MJ77)","v":0},{"$f":"SUM(MK73:MK77)","v":0},{"$f":"SUM(ML73:ML77)","v":0},{"$f":"SUM(MM73:MM77)","v":0},{"$f":"SUM(MN73:MN77)","v":0},{"$f":"SUM(MO73:MO77)","v":0},{"$f":"SUM(MP73:MP77)","v":0},{"$f":"SUM(MQ73:MQ77)","v":0},{"$f":"SUM(MR73:MR77)","v":0},{"$f":"SUM(MS73:MS77)","v":0},{"$f":"SUM(MT73:MT77)","v":0},{"$f":"SUM(MU73:MU77)","v":0},{"$f":"SUM(MV73:MV77)","v":0},{"$f":"SUM(MW73:MW77)","v":0},{"$f":"SUM(MX73:MX77)","v":0},{"$f":"SUM(MY73:MY77)","v":0},{"$f":"SUM(MZ73:MZ77)","v":0},{"$f":"SUM(NA73:NA77)","v":0},{"$f":"SUM(NB73:NB77)","v":0},{"$f":"SUM(NC73:NC77)","v":0},{"$f":"SUM(ND73:ND77)","v":0},{"$f":"SUM(NE73:NE77)","v":0},{"$f":"SUM(NF73:NF77)","v":0},{"$f":"SUM(NG73:NG77)","v":0},{"$f":"SUM(NH73:NH77)","v":0},{"$f":"SUM(NI73:NI77)","v":0},{"$f":"SUM(NJ73:NJ77)","v":0},{"$f":"SUM(NK73:NK77)","v":0},{"$f":"SUM(NL73:NL77)","v":0},{"$f":"SUM(NM73:NM77)","v":0},{"$f":"SUM(NN73:NN77)","v":0},{"$f":"SUM(NO73:NO77)","v":0},{"$f":"SUM(NP73:NP77)","v":0},{"$f":"SUM(NQ73:NQ77)","v":0},{"$f":"SUM(NR73:NR77)","v":0},{"$f":"SUM(NS73:NS77)","v":0},{"$f":"SUM(NT73:NT77)","v":0},{"$f":"SUM(NU73:NU77)","v":0},{"$f":"SUM(NV73:NV77)","v":0},{"$f":"SUM(NW73:NW77)","v":0},{"$f":"SUM(NX73:NX77)","v":0},{"$f":"SUM(NY73:NY77)","v":0},{"$f":"SUM(NZ73:NZ77)","v":0},{"$f":"SUM(OA73:OA77)","v":0},{"$f":"SUM(OB73:OB77)","v":0},{"$f":"SUM(OC73:OC77)","v":0},{"$f":"SUM(OD73:OD77)","v":0},{"$f":"SUM(OE73:OE77)","v":0},{"$f":"SUM(OF73:OF77)","v":0},{"$f":"SUM(OG73:OG77)","v":0},{"$f":"SUM(OH73:OH77)","v":0},{"$f":"SUM(OI73:OI77)","v":0},{"$f":"SUM(OJ73:OJ77)","v":0},{"$f":"SUM(OK73:OK77)","v":0},{"$f":"SUM(OL73:OL77)","v":0},{"$f":"SUM(OM73:OM77)","v":0},{"$f":"SUM(ON73:ON77)","v":0},{"$f":"SUM(OO73:OO77)","v":0},{"$f":"SUM(OP73:OP77)","v":0},{"$f":"SUM(OQ73:OQ77)","v":0},{"$f":"SUM(OR73:OR77)","v":0},{"$f":"SUM(OS73:OS77)","v":0},{"$f":"SUM(OT73:OT77)","v":0},{"$f":"SUM(OU73:OU77)","v":0},{"$f":"SUM(OV73:OV77)","v":0},{"$f":"SUM(OW73:OW77)","v":0},{"$f":"SUM(OX73:OX77)","v":0},{"$f":"SUM(OY73:OY77)","v":0},{"$f":"SUM(OZ73:OZ77)","v":0},{"$f":"SUM(PA73:PA77)","v":0},{"$f":"SUM(PB73:PB77)","v":0},{"$f":"SUM(PC73:PC77)","v":0},{"$f":"SUM(PD73:PD77)","v":0},{"$f":"SUM(PE73:PE77)","v":0},{"$f":"SUM(PF73:PF77)","v":0},{"$f":"SUM(PG73:PG77)","v":0},{"$f":"SUM(PH73:PH77)","v":0},{"$f":"SUM(PI73:PI77)","v":0},{"$f":"SUM(PJ73:PJ77)","v":0},{"$f":"SUM(PK73:PK77)","v":0},{"$f":"SUM(PL73:PL77)","v":0},{"$f":"SUM(PM73:PM77)","v":0},{"$f":"SUM(PN73:PN77)","v":0},{"$f":"SUM(PO73:PO77)","v":0},{"$f":"SUM(PP73:PP77)","v":0},{"$f":"SUM(PQ73:PQ77)","v":0},{"$f":"SUM(PR73:PR77)","v":0},{"$f":"SUM(PS73:PS77)","v":0},{"$f":"SUM(PT73:PT77)","v":0},{"$f":"SUM(PU73:PU77)","v":0},{"$f":"SUM(PV73:PV77)","v":0},{"$f":"SUM(PW73:PW77)","v":0},{"$f":"SUM(PX73:PX77)","v":0},{"$f":"SUM(PY73:PY77)","v":0},{"$f":"SUM(PZ73:PZ77)","v":0},{"$f":"SUM(QA73:QA77)","v":0},{"$f":"SUM(QB73:QB77)","v":0},{"$f":"SUM(QC73:QC77)","v":0},{"$f":"SUM(QD73:QD77)","v":0},{"$f":"SUM(QE73:QE77)","v":0},{"$f":"SUM(QF73:QF77)","v":0},{"$f":"SUM(QG73:QG77)","v":0},{"$f":"SUM(QH73:QH77)","v":0},{"$f":"SUM(QI73:QI77)","v":0},{"$f":"SUM(QJ73:QJ77)","v":0},{"$f":"SUM(QK73:QK77)","v":0},{"$f":"SUM(QL73:QL77)","v":0},{"$f":"SUM(QM73:QM77)","v":0},{"$f":"SUM(QN73:QN77)","v":0},{"$f":"SUM(QO73:QO77)","v":0},{"$f":"SUM(QP73:QP77)","v":0},{"$f":"SUM(QQ73:QQ77)","v":0},{"$f":"SUM(QR73:QR77)","v":0},{"$f":"SUM(QS73:QS77)","v":0},{"$f":"SUM(QT73:QT77)","v":0},{"$f":"SUM(QU73:QU77)","v":0},{"$f":"SUM(QV73:QV77)","v":0},{"$f":"SUM(QW73:QW77)","v":0},{"$f":"SUM(QX73:QX77)","v":0},{"$f":"SUM(QY73:QY77)","v":0},{"$f":"SUM(QZ73:QZ77)","v":0},{"$f":"SUM(RA73:RA77)","v":0},{"$f":"SUM(RB73:RB77)","v":0},{"$f":"SUM(RC73:RC77)","v":0},{"$f":"SUM(RD73:RD77)","v":0},{"$f":"SUM(RE73:RE77)","v":0},{"$f":"SUM(RF73:RF77)","v":0},{"$f":"SUM(RG73:RG77)","v":0},{"$f":"SUM(RH73:RH77)","v":0},{"$f":"SUM(RI73:RI77)","v":0},{"$f":"SUM(RJ73:RJ77)","v":0},{"$f":"SUM(RK73:RK77)","v":0},{"$f":"SUM(RL73:RL77)","v":0},{"$f":"SUM(RM73:RM77)","v":0},{"$f":"SUM(RN73:RN77)","v":0},{"$f":"SUM(RO73:RO77)","v":0},{"$f":"SUM(RP73:RP77)","v":0},{"$f":"SUM(RQ73:RQ77)","v":0},{"$f":"SUM(RR73:RR77)","v":0},{"$f":"SUM(RS73:RS77)","v":0},{"$f":"SUM(RT73:RT77)","v":0},{"$f":"SUM(RU73:RU77)","v":0},{"$f":"SUM(RV73:RV77)","v":0},{"$f":"SUM(RW73:RW77)","v":0},{"$f":"SUM(RX73:RX77)","v":0},{"$f":"SUM(RY73:RY77)","v":0},{"$f":"SUM(RZ73:RZ77)","v":0},{"$f":"SUM(SA73:SA77)","v":0},{"$f":"SUM(SB73:SB77)","v":0},{"$f":"SUM(SC73:SC77)","v":0},{"$f":"SUM(SD73:SD77)","v":0},{"$f":"SUM(SE73:SE77)","v":0},{"$f":"SUM(SF73:SF77)","v":0},{"$f":"SUM(SG73:SG77)","v":0},{"$f":"SUM(SH73:SH77)","v":0},{"$f":"SUM(SI73:SI77)","v":0},{"$f":"SUM(SJ73:SJ77)","v":0},{"$f":"SUM(SK73:SK77)","v":0},{"$f":"SUM(SL73:SL77)","v":0},{"$f":"SUM(SM73:SM77)","v":0},{"$f":"SUM(SN73:SN77)","v":0},{"$f":"SUM(SO73:SO77)","v":0},{"$f":"SUM(SP73:SP77)","v":0},{"$f":"SUM(SQ73:SQ77)","v":0},{"$f":"SUM(SR73:SR77)","v":0},{"$f":"SUM(SS73:SS77)","v":0},{"$f":"SUM(ST73:ST77)","v":0},{"$f":"SUM(SU73:SU77)","v":0},{"$f":"SUM(SV73:SV77)","v":0},{"$f":"SUM(SW73:SW77)","v":0},{"$f":"SUM(SX73:SX77)","v":0},{"$f":"SUM(SY73:SY77)","v":0},{"$f":"SUM(SZ73:SZ77)","v":0},{"$f":"SUM(TA73:TA77)","v":0},{"$f":"SUM(TB73:TB77)","v":0},{"$f":"SUM(TC73:TC77)","v":0},{"$f":"SUM(TD73:TD77)","v":0},{"$f":"SUM(TE73:TE77)","v":0},{"$f":"SUM(TF73:TF77)","v":0},{"$f":"SUM(TG73:TG77)","v":0},{"$f":"SUM(TH73:TH77)","v":0},{"$f":"SUM(TI73:TI77)","v":0},{"$f":"SUM(TJ73:TJ77)","v":0},{"$f":"SUM(TK73:TK77)","v":0},{"$f":"SUM(TL73:TL77)","v":0},{"$f":"SUM(TM73:TM77)","v":0},{"$f":"SUM(TN73:TN77)","v":0},{"$f":"SUM(TO73:TO77)","v":0},{"$f":"SUM(TP73:TP77)","v":0},{"$f":"SUM(TQ73:TQ77)","v":0},{"$f":"SUM(TR73:TR77)","v":0},{"$f":"SUM(TS73:TS77)","v":0},{"$f":"SUM(TT73:TT77)","v":0},{"$f":"SUM(TU73:TU77)","v":0},{"$f":"SUM(TV73:TV77)","v":0},{"$f":"SUM(TW73:TW77)","v":0},{"$f":"SUM(TX73:TX77)","v":0},{"$f":"SUM(TY73:TY77)","v":0},{"$f":"SUM(TZ73:TZ77)","v":0},{"$f":"SUM(UA73:UA77)","v":0},{"$f":"SUM(UB73:UB77)","v":0},{"$f":"SUM(UC73:UC77)","v":0},{"$f":"SUM(UD73:UD77)","v":0},{"$f":"SUM(UE73:UE77)","v":0},{"$f":"SUM(UF73:UF77)","v":0},{"$f":"SUM(UG73:UG77)","v":0},{"$f":"SUM(UH73:UH77)","v":0},{"$f":"SUM(UI73:UI77)","v":0},{"$f":"SUM(UJ73:UJ77)","v":0},{"$f":"SUM(UK73:UK77)","v":0},{"$f":"SUM(UL73:UL77)","v":0},{"$f":"SUM(UM73:UM77)","v":0},{"$f":"SUM(UN73:UN77)","v":0},{"$f":"SUM(UO73:UO77)","v":0},{"$f":"SUM(UP73:UP77)","v":0},{"$f":"SUM(UQ73:UQ77)","v":0},{"$f":"SUM(UR73:UR77)","v":0},{"$f":"SUM(US73:US77)","v":0},{"$f":"SUM(UT73:UT77)","v":0},{"$f":"SUM(UU73:UU77)","v":0},{"$f":"SUM(UV73:UV77)","v":0},{"$f":"SUM(UW73:UW77)","v":0},{"$f":"SUM(UX73:UX77)","v":0},{"$f":"SUM(UY73:UY77)","v":0},{"$f":"SUM(UZ73:UZ77)","v":0},{"$f":"SUM(VA73:VA77)","v":0},{"$f":"SUM(VB73:VB77)","v":0},{"$f":"SUM(VC73:VC77)","v":0},{"$f":"SUM(VD73:VD77)","v":0},{"$f":"SUM(VE73:VE77)","v":0},{"$f":"SUM(VF73:VF77)","v":0},{"$f":"SUM(VG73:VG77)","v":0},{"$f":"SUM(VH73:VH77)","v":0},{"$f":"SUM(VI73:VI77)","v":0},{"$f":"SUM(VJ73:VJ77)","v":0},{"$f":"SUM(VK73:VK77)","v":0},{"$f":"SUM(VL73:VL77)","v":0},{"$f":"SUM(VM73:VM77)","v":0},{"$f":"SUM(VN73:VN77)","v":0},{"$f":"SUM(VO73:VO77)","v":0},{"$f":"SUM(VP73:VP77)","v":0},{"$f":"SUM(VQ73:VQ77)","v":0},{"$f":"SUM(VR73:VR77)","v":0},{"$f":"SUM(VS73:VS77)","v":0},{"$f":"SUM(VT73:VT77)","v":0},{"$f":"SUM(VU73:VU77)","v":0},{"$f":"SUM(VV73:VV77)","v":0},{"$f":"SUM(VW73:VW77)","v":0},{"$f":"SUM(VX73:VX77)","v":0},{"$f":"SUM(VY73:VY77)","v":0},{"$f":"SUM(VZ73:VZ77)","v":0},{"$f":"SUM(WA73:WA77)","v":0},{"$f":"SUM(WB73:WB77)","v":0},{"$f":"SUM(WC73:WC77)","v":0},{"$f":"SUM(WD73:WD77)","v":0},{"$f":"SUM(WE73:WE77)","v":0},{"$f":"SUM(WF73:WF77)","v":0},{"$f":"SUM(WG73:WG77)","v":0},{"$f":"SUM(WH73:WH77)","v":0},{"$f":"SUM(WI73:WI77)","v":0},{"$f":"SUM(WJ73:WJ77)","v":0},{"$f":"SUM(WK73:WK77)","v":0},{"$f":"SUM(WL73:WL77)","v":0},{"$f":"SUM(WM73:WM77)","v":0},{"$f":"SUM(WN73:WN77)","v":0},{"$f":"SUM(WO73:WO77)","v":0},{"$f":"SUM(WP73:WP77)","v":0},{"$f":"SUM(WQ73:WQ77)","v":0},{"$f":"SUM(WR73:WR77)","v":0},{"$f":"SUM(WS73:WS77)","v":0},{"$f":"SUM(WT73:WT77)","v":0},{"$f":"SUM(WU73:WU77)","v":0},{"$f":"SUM(WV73:WV77)","v":0},{"$f":"SUM(WW73:WW77)","v":0},{"$f":"SUM(WX73:WX77)","v":0},{"$f":"SUM(WY73:WY77)","v":0},{"$f":"SUM(WZ73:WZ77)","v":0},{"$f":"SUM(XA73:XA77)","v":0},{"$f":"SUM(XB73:XB77)","v":0},{"$f":"SUM(XC73:XC77)","v":0},{"$f":"SUM(XD73:XD77)","v":0},{"$f":"SUM(XE73:XE77)","v":0},{"$f":"SUM(XF73:XF77)","v":0},{"$f":"SUM(XG73:XG77)","v":0},{"$f":"SUM(XH73:XH77)","v":0},{"$f":"SUM(XI73:XI77)","v":0},{"$f":"SUM(XJ73:XJ77)","v":0},{"$f":"SUM(XK73:XK77)","v":0},{"$f":"SUM(XL73:XL77)","v":0},{"$f":"SUM(XM73:XM77)","v":0},{"$f":"SUM(XN73:XN77)","v":0},{"$f":"SUM(XO73:XO77)","v":0},{"$f":"SUM(XP73:XP77)","v":0},{"$f":"SUM(XQ73:XQ77)","v":0},{"$f":"SUM(XR73:XR77)","v":0},{"$f":"SUM(XS73:XS77)","v":0},{"$f":"SUM(XT73:XT77)","v":0},{"$f":"SUM(XU73:XU77)","v":0},{"$f":"SUM(XV73:XV77)","v":0},{"$f":"SUM(XW73:XW77)","v":0},{"$f":"SUM(XX73:XX77)","v":0},{"$f":"SUM(XY73:XY77)","v":0},{"$f":"SUM(XZ73:XZ77)","v":0},{"$f":"SUM(YA73:YA77)","v":0},{"$f":"SUM(YB73:YB77)","v":0},{"$f":"SUM(YC73:YC77)","v":0},{"$f":"SUM(YD73:YD77)","v":0},{"$f":"SUM(YE73:YE77)","v":0},{"$f":"SUM(YF73:YF77)","v":0},{"$f":"SUM(YG73:YG77)","v":0},{"$f":"SUM(YH73:YH77)","v":0},{"$f":"SUM(YI73:YI77)","v":0},{"$f":"SUM(YJ73:YJ77)","v":0},{"$f":"SUM(YK73:YK77)","v":0},{"$f":"SUM(YL73:YL77)","v":0},{"$f":"SUM(YM73:YM77)","v":0},{"$f":"SUM(YN73:YN77)","v":0},{"$f":"SUM(YO73:YO77)","v":0},{"$f":"SUM(YP73:YP77)","v":0},{"$f":"SUM(YQ73:YQ77)","v":0},{"$f":"SUM(YR73:YR77)","v":0},{"$f":"SUM(YS73:YS77)","v":0},{"$f":"SUM(YT73:YT77)","v":0},{"$f":"SUM(YU73:YU77)","v":0},{"$f":"SUM(YV73:YV77)","v":0},{"$f":"SUM(YW73:YW77)","v":0},{"$f":"SUM(YX73:YX77)","v":0},{"$f":"SUM(YY73:YY77)","v":0},{"$f":"SUM(YZ73:YZ77)","v":0},{"$f":"SUM(ZA73:ZA77)","v":0},{"$f":"SUM(ZB73:ZB77)","v":0},{"$f":"SUM(ZC73:ZC77)","v":0},{"$f":"SUM(ZD73:ZD77)","v":0},{"$f":"SUM(ZE73:ZE77)","v":0},{"$f":"SUM(ZF73:ZF77)","v":0},{"$f":"SUM(ZG73:ZG77)","v":0},{"$f":"SUM(ZH73:ZH77)","v":0},{"$f":"SUM(ZI73:ZI77)","v":0},{"$f":"SUM(ZJ73:ZJ77)","v":0},{"$f":"SUM(ZK73:ZK77)","v":0},{"$f":"SUM(ZL73:ZL77)","v":0},{"$f":"SUM(ZM73:ZM77)","v":0},{"$f":"SUM(ZN73:ZN77)","v":0},{"$f":"SUM(ZO73:ZO77)","v":0},{"$f":"SUM(ZP73:ZP77)","v":0},{"$f":"SUM(ZQ73:ZQ77)","v":0},{"$f":"SUM(ZR73:ZR77)","v":0},{"$f":"SUM(ZS73:ZS77)","v":0},{"$f":"SUM(ZT73:ZT77)","v":0},{"$f":"SUM(ZU73:ZU77)","v":0},{"$f":"SUM(ZV73:ZV77)","v":0},{"$f":"SUM(ZW73:ZW77)","v":0},{"$f":"SUM(ZX73:ZX77)","v":0},{"$f":"SUM(ZY73:ZY77)","v":0},{"$f":"SUM(ZZ73:ZZ77)","v":0},{"$f":"SUM(AAA73:AAA77)","v":0},{"$f":"SUM(AAB73:AAB77)","v":0},{"$f":"SUM(AAC73:AAC77)","v":0},{"$f":"SUM(AAD73:AAD77)","v":0},{"$f":"SUM(AAE73:AAE77)","v":0},{"$f":"SUM(AAF73:AAF77)","v":0},{"$f":"SUM(AAG73:AAG77)","v":0},{"$f":"SUM(AAH73:AAH77)","v":0},{"$f":"SUM(AAI73:AAI77)","v":0},{"$f":"SUM(AAJ73:AAJ77)","v":0},{"$f":"SUM(AAK73:AAK77)","v":0},{"$f":"SUM(AAL73:AAL77)","v":0},{"$f":"SUM(AAM73:AAM77)","v":0},{"$f":"SUM(AAN73:AAN77)","v":0},{"$f":"SUM(AAO73:AAO77)","v":0},{"$f":"SUM(AAP73:AAP77)","v":0},{"$f":"SUM(AAQ73:AAQ77)","v":0},{"$f":"SUM(AAR73:AAR77)","v":0},{"$f":"SUM(AAS73:AAS77)","v":0},{"$f":"SUM(AAT73:AAT77)","v":0},{"$f":"SUM(AAU73:AAU77)","v":0},{"$f":"SUM(AAV73:AAV77)","v":0},{"$f":"SUM(AAW73:AAW77)","v":0},{"$f":"SUM(AAX73:AAX77)","v":0},{"$f":"SUM(AAY73:AAY77)","v":0},{"$f":"SUM(AAZ73:AAZ77)","v":0},{"$f":"SUM(ABA73:ABA77)","v":0},{"$f":"SUM(ABB73:ABB77)","v":0},{"$f":"SUM(ABC73:ABC77)","v":0},{"$f":"SUM(ABD73:ABD77)","v":0},{"$f":"SUM(ABE73:ABE77)","v":0},{"$f":"SUM(ABF73:ABF77)","v":0},{"$f":"SUM(ABG73:ABG77)","v":0},{"$f":"SUM(ABH73:ABH77)","v":0},{"$f":"SUM(ABI73:ABI77)","v":0},{"$f":"SUM(ABJ73:ABJ77)","v":0},{"$f":"SUM(ABK73:ABK77)","v":0},{"$f":"SUM(ABL73:ABL77)","v":0},{"$f":"SUM(ABM73:ABM77)","v":0},{"$f":"SUM(ABN73:ABN77)","v":0},{"$f":"SUM(ABO73:ABO77)","v":0},{"$f":"SUM(ABP73:ABP77)","v":0},{"$f":"SUM(ABQ73:ABQ77)","v":0},{"$f":"SUM(ABR73:ABR77)","v":0},{"$f":"SUM(ABS73:ABS77)","v":0},{"$f":"SUM(ABT73:ABT77)","v":0},{"$f":"SUM(ABU73:ABU77)","v":0},{"$f":"SUM(ABV73:ABV77)","v":0},{"$f":"SUM(ABW73:ABW77)","v":0},{"$f":"SUM(ABX73:ABX77)","v":0},{"$f":"SUM(ABY73:ABY77)","v":0},{"$f":"SUM(ABZ73:ABZ77)","v":0},{"$f":"SUM(ACA73:ACA77)","v":0},{"$f":"SUM(ACB73:ACB77)","v":0},{"$f":"SUM(ACC73:ACC77)","v":0},{"$f":"SUM(ACD73:ACD77)","v":0},{"$f":"SUM(ACE73:ACE77)","v":0},{"$f":"SUM(ACF73:ACF77)","v":0},{"$f":"SUM(ACG73:ACG77)","v":0},{"$f":"SUM(ACH73:ACH77)","v":0},{"$f":"SUM(ACI73:ACI77)","v":0},{"$f":"SUM(ACJ73:ACJ77)","v":0},{"$f":"SUM(ACK73:ACK77)","v":0},{"$f":"SUM(ACL73:ACL77)","v":0},{"$f":"SUM(ACM73:ACM77)","v":0},{"$f":"SUM(ACN73:ACN77)","v":0},{"$f":"SUM(ACO73:ACO77)","v":0},{"$f":"SUM(ACP73:ACP77)","v":0},{"$f":"SUM(ACQ73:ACQ77)","v":0},{"$f":"SUM(ACR73:ACR77)","v":0},{"$f":"SUM(ACS73:ACS77)","v":0},{"$f":"SUM(ACT73:ACT77)","v":0},{"$f":"SUM(ACU73:ACU77)","v":0},{"$f":"SUM(ACV73:ACV77)","v":0},{"$f":"SUM(ACW73:ACW77)","v":0},{"$f":"SUM(ACX73:ACX77)","v":0},{"$f":"SUM(ACY73:ACY77)","v":0},{"$f":"SUM(ACZ73:ACZ77)","v":0},{"$f":"SUM(ADA73:ADA77)","v":0},{"$f":"SUM(ADB73:ADB77)","v":0},{"$f":"SUM(ADC73:ADC77)","v":0},{"$f":"SUM(ADD73:ADD77)","v":0},{"$f":"SUM(ADE73:ADE77)","v":0},{"$f":"SUM(ADF73:ADF77)","v":0},{"$f":"SUM(ADG73:ADG77)","v":0},{"$f":"SUM(ADH73:ADH77)","v":0},{"$f":"SUM(ADI73:ADI77)","v":0},{"$f":"SUM(ADJ73:ADJ77)","v":0},{"$f":"SUM(ADK73:ADK77)","v":0},{"$f":"SUM(ADL73:ADL77)","v":0},{"$f":"SUM(ADM73:ADM77)","v":0},{"$f":"SUM(ADN73:ADN77)","v":0},{"$f":"SUM(ADO73:ADO77)","v":0},{"$f":"SUM(ADP73:ADP77)","v":0},{"$f":"SUM(ADQ73:ADQ77)","v":0},{"$f":"SUM(ADR73:ADR77)","v":0},{"$f":"SUM(ADS73:ADS77)","v":0},{"$f":"SUM(ADT73:ADT77)","v":0},{"$f":"SUM(ADU73:ADU77)","v":0},{"$f":"SUM(ADV73:ADV77)","v":0},{"$f":"SUM(ADW73:ADW77)","v":0},{"$f":"SUM(ADX73:ADX77)","v":0},{"$f":"SUM(ADY73:ADY77)","v":0},{"$f":"SUM(ADZ73:ADZ77)","v":0},{"$f":"SUM(AEA73:AEA77)","v":0},{"$f":"SUM(AEB73:AEB77)","v":0},{"$f":"SUM(AEC73:AEC77)","v":0},{"$f":"SUM(AED73:AED77)","v":0},{"$f":"SUM(AEE73:AEE77)","v":0},{"$f":"SUM(AEF73:AEF77)","v":0},{"$f":"SUM(AEG73:AEG77)","v":0},{"$f":"SUM(AEH73:AEH77)","v":0},{"$f":"SUM(AEI73:AEI77)","v":0},{"$f":"SUM(AEJ73:AEJ77)","v":0},{"$f":"SUM(AEK73:AEK77)","v":0},{"$f":"SUM(AEL73:AEL77)","v":0},{"$f":"SUM(AEM73:AEM77)","v":0},{"$f":"SUM(AEN73:AEN77)","v":0},{"$f":"SUM(AEO73:AEO77)","v":0},{"$f":"SUM(AEP73:AEP77)","v":0},{"$f":"SUM(AEQ73:AEQ77)","v":0},{"$f":"SUM(AER73:AER77)","v":0},{"$f":"SUM(AES73:AES77)","v":0},{"$f":"SUM(AET73:AET77)","v":0},{"$f":"SUM(AEU73:AEU77)","v":0},{"$f":"SUM(AEV73:AEV77)","v":0},{"$f":"SUM(AEW73:AEW77)","v":0},{"$f":"SUM(AEX73:AEX77)","v":0},{"$f":"SUM(AEY73:AEY77)","v":0},{"$f":"SUM(AEZ73:AEZ77)","v":0},{"$f":"SUM(AFA73:AFA77)","v":0},{"$f":"SUM(AFB73:AFB77)","v":0},{"$f":"SUM(AFC73:AFC77)","v":0},{"$f":"SUM(AFD73:AFD77)","v":0},{"$f":"SUM(AFE73:AFE77)","v":0},{"$f":"SUM(AFF73:AFF77)","v":0},{"$f":"SUM(AFG73:AFG77)","v":0},{"$f":"SUM(AFH73:AFH77)","v":0},{"$f":"SUM(AFI73:AFI77)","v":0},{"$f":"SUM(AFJ73:AFJ77)","v":0},{"$f":"SUM(AFK73:AFK77)","v":0},{"$f":"SUM(AFL73:AFL77)","v":0},{"$f":"SUM(AFM73:AFM77)","v":0},{"$f":"SUM(AFN73:AFN77)","v":0},{"$f":"SUM(AFO73:AFO77)","v":0},{"$f":"SUM(AFP73:AFP77)","v":0},{"$f":"SUM(AFQ73:AFQ77)","v":0},{"$f":"SUM(AFR73:AFR77)","v":0},{"$f":"SUM(AFS73:AFS77)","v":0},{"$f":"SUM(AFT73:AFT77)","v":0},{"$f":"SUM(AFU73:AFU77)","v":0},{"$f":"SUM(AFV73:AFV77)","v":0},{"$f":"SUM(AFW73:AFW77)","v":0},{"$f":"SUM(AFX73:AFX77)","v":0},{"$f":"SUM(AFY73:AFY77)","v":0},{"$f":"SUM(AFZ73:AFZ77)","v":0},{"$f":"SUM(AGA73:AGA77)","v":0},{"$f":"SUM(AGB73:AGB77)","v":0},{"$f":"SUM(AGC73:AGC77)","v":0},{"$f":"SUM(AGD73:AGD77)","v":0},{"$f":"SUM(AGE73:AGE77)","v":0},{"$f":"SUM(AGF73:AGF77)","v":0},{"$f":"SUM(AGG73:AGG77)","v":0},{"$f":"SUM(AGH73:AGH77)","v":0},{"$f":"SUM(AGI73:AGI77)","v":0},{"$f":"SUM(AGJ73:AGJ77)","v":0},{"$f":"SUM(AGK73:AGK77)","v":0},{"$f":"SUM(AGL73:AGL77)","v":0},{"$f":"SUM(AGM73:AGM77)","v":0},{"$f":"SUM(AGN73:AGN77)","v":0},{"$f":"SUM(AGO73:AGO77)","v":0},{"$f":"SUM(AGP73:AGP77)","v":0},{"$f":"SUM(AGQ73:AGQ77)","v":0},{"$f":"SUM(AGR73:AGR77)","v":0},{"$f":"SUM(AGS73:AGS77)","v":0},{"$f":"SUM(AGT73:AGT77)","v":0},{"$f":"SUM(AGU73:AGU77)","v":0},{"$f":"SUM(AGV73:AGV77)","v":0},{"$f":"SUM(AGW73:AGW77)","v":0},{"$f":"SUM(AGX73:AGX77)","v":0},{"$f":"SUM(AGY73:AGY77)","v":0},{"$f":"SUM(AGZ73:AGZ77)","v":0},{"$f":"SUM(AHA73:AHA77)","v":0},{"$f":"SUM(AHB73:AHB77)","v":0},{"$f":"SUM(AHC73:AHC77)","v":0},{"$f":"SUM(AHD73:AHD77)","v":0},{"$f":"SUM(AHE73:AHE77)","v":0},{"$f":"SUM(AHF73:AHF77)","v":0},{"$f":"SUM(AHG73:AHG77)","v":0},{"$f":"SUM(AHH73:AHH77)","v":0},{"$f":"SUM(AHI73:AHI77)","v":0},{"$f":"SUM(AHJ73:AHJ77)","v":0},{"$f":"SUM(AHK73:AHK77)","v":0},{"$f":"SUM(AHL73:AHL77)","v":0},{"$f":"SUM(AHM73:AHM77)","v":0},{"$f":"SUM(AHN73:AHN77)","v":0},{"$f":"SUM(AHO73:AHO77)","v":0},{"$f":"SUM(AHP73:AHP77)","v":0},{"$f":"SUM(AHQ73:AHQ77)","v":0},{"$f":"SUM(AHR73:AHR77)","v":0},{"$f":"SUM(AHS73:AHS77)","v":0},{"$f":"SUM(AHT73:AHT77)","v":0},{"$f":"SUM(AHU73:AHU77)","v":0},{"$f":"SUM(AHV73:AHV77)","v":0},{"$f":"SUM(AHW73:AHW77)","v":0},{"$f":"SUM(AHX73:AHX77)","v":0},{"$f":"SUM(AHY73:AHY77)","v":0},{"$f":"SUM(AHZ73:AHZ77)","v":0},{"$f":"SUM(AIA73:AIA77)","v":0},{"$f":"SUM(AIB73:AIB77)","v":0},{"$f":"SUM(AIC73:AIC77)","v":0},{"$f":"SUM(AID73:AID77)","v":0},{"$f":"SUM(AIE73:AIE77)","v":0},{"$f":"SUM(AIF73:AIF77)","v":0},{"$f":"SUM(AIG73:AIG77)","v":0},{"$f":"SUM(AIH73:AIH77)","v":0},{"$f":"SUM(AII73:AII77)","v":0},{"$f":"SUM(AIJ73:AIJ77)","v":0},{"$f":"SUM(AIK73:AIK77)","v":0},{"$f":"SUM(AIL73:AIL77)","v":0},{"$f":"SUM(AIM73:AIM77)","v":0},{"$f":"SUM(AIN73:AIN77)","v":0},{"$f":"SUM(AIO73:AIO77)","v":0},{"$f":"SUM(AIP73:AIP77)","v":0},{"$f":"SUM(AIQ73:AIQ77)","v":0},{"$f":"SUM(AIR73:AIR77)","v":0},{"$f":"SUM(AIS73:AIS77)","v":0},{"$f":"SUM(AIT73:AIT77)","v":0},{"$f":"SUM(AIU73:AIU77)","v":0},{"$f":"SUM(AIV73:AIV77)","v":0},{"$f":"SUM(AIW73:AIW77)","v":0},{"$f":"SUM(AIX73:AIX77)","v":0},{"$f":"SUM(AIY73:AIY77)","v":0},{"$f":"SUM(AIZ73:AIZ77)","v":0},{"$f":"SUM(AJA73:AJA77)","v":0},{"$f":"SUM(AJB73:AJB77)","v":0},{"$f":"SUM(AJC73:AJC77)","v":0},{"$f":"SUM(AJD73:AJD77)","v":0},{"$f":"SUM(AJE73:AJE77)","v":0},{"$f":"SUM(AJF73:AJF77)","v":0},{"$f":"SUM(AJG73:AJG77)","v":0},{"$f":"SUM(AJH73:AJH77)","v":0},{"$f":"SUM(AJI73:AJI77)","v":0},{"$f":"SUM(AJJ73:AJJ77)","v":0},{"$f":"SUM(AJK73:AJK77)","v":0},{"$f":"SUM(AJL73:AJL77)","v":0},{"$f":"SUM(AJM73:AJM77)","v":0},{"$f":"SUM(AJN73:AJN77)","v":0},{"$f":"SUM(AJO73:AJO77)","v":0},{"$f":"SUM(AJP73:AJP77)","v":0},{"$f":"SUM(AJQ73:AJQ77)","v":0},{"$f":"SUM(AJR73:AJR77)","v":0},{"$f":"SUM(AJS73:AJS77)","v":0},{"$f":"SUM(AJT73:AJT77)","v":0},{"$f":"SUM(AJU73:AJU77)","v":0},{"$f":"SUM(AJV73:AJV77)","v":0},{"$f":"SUM(AJW73:AJW77)","v":0},{"$f":"SUM(AJX73:AJX77)","v":0},{"$f":"SUM(AJY73:AJY77)","v":0},{"$f":"SUM(AJZ73:AJZ77)","v":0},{"$f":"SUM(AKA73:AKA77)","v":0},{"$f":"SUM(AKB73:AKB77)","v":0},{"$f":"SUM(AKC73:AKC77)","v":0},{"$f":"SUM(AKD73:AKD77)","v":0},{"$f":"SUM(AKE73:AKE77)","v":0},{"$f":"SUM(AKF73:AKF77)","v":0},{"$f":"SUM(AKG73:AKG77)","v":0},{"$f":"SUM(AKH73:AKH77)","v":0},{"$f":"SUM(AKI73:AKI77)","v":0},{"$f":"SUM(AKJ73:AKJ77)","v":0},{"$f":"SUM(AKK73:AKK77)","v":0},{"$f":"SUM(AKL73:AKL77)","v":0},{"$f":"SUM(AKM73:AKM77)","v":0},{"$f":"SUM(AKN73:AKN77)","v":0},{"$f":"SUM(AKO73:AKO77)","v":0},{"$f":"SUM(AKP73:AKP77)","v":0},{"$f":"SUM(AKQ73:AKQ77)","v":0},{"$f":"SUM(AKR73:AKR77)","v":0},{"$f":"SUM(AKS73:AKS77)","v":0},{"$f":"SUM(AKT73:AKT77)","v":0},{"$f":"SUM(AKU73:AKU77)","v":0},{"$f":"SUM(AKV73:AKV77)","v":0},{"$f":"SUM(AKW73:AKW77)","v":0},{"$f":"SUM(AKX73:AKX77)","v":0},{"$f":"SUM(AKY73:AKY77)","v":0},{"$f":"SUM(AKZ73:AKZ77)","v":0},{"$f":"SUM(ALA73:ALA77)","v":0},{"$f":"SUM(ALB73:ALB77)","v":0},{"$f":"SUM(ALC73:ALC77)","v":0},{"$f":"SUM(ALD73:ALD77)","v":0},{"$f":"SUM(ALE73:ALE77)","v":0},{"$f":"SUM(ALF73:ALF77)","v":0},{"$f":"SUM(ALG73:ALG77)","v":0},{"$f":"SUM(ALH73:ALH77)","v":0},{"$f":"SUM(ALI73:ALI77)","v":0},{"$f":"SUM(ALJ73:ALJ77)","v":0},{"$f":"SUM(ALK73:ALK77)","v":0},{"$f":"SUM(ALL73:ALL77)","v":0},{"$f":"SUM(ALM73:ALM77)","v":0},{"$f":"SUM(ALN73:ALN77)","v":0},{"$f":"SUM(ALO73:ALO77)","v":0},{"$f":"SUM(ALP73:ALP77)","v":0},{"$f":"SUM(ALQ73:ALQ77)","v":0},{"$f":"SUM(ALR73:ALR77)","v":0},{"$f":"SUM(ALS73:ALS77)","v":0},{"$f":"SUM(ALT73:ALT77)","v":0},{"$f":"SUM(ALU73:ALU77)","v":0},{"$f":"SUM(ALV73:ALV77)","v":0},{"$f":"SUM(ALW73:ALW77)","v":0},{"$f":"SUM(ALX73:ALX77)","v":0},{"$f":"SUM(ALY73:ALY77)","v":0},{"$f":"SUM(ALZ73:ALZ77)","v":0},{"$f":"SUM(AMA73:AMA77)","v":0},{"$f":"SUM(AMB73:AMB77)","v":0},{"$f":"SUM(AMC73:AMC77)","v":0},{"$f":"SUM(AMD73:AMD77)","v":0},{"$f":"SUM(AME73:AME77)","v":0},{"$f":"SUM(AMF73:AMF77)","v":0},{"$f":"SUM(AMG73:AMG77)","v":0},{"$f":"SUM(AMH73:AMH77)","v":0},{"$f":"SUM(AMI73:AMI77)","v":0},{"$f":"SUM(AMJ73:AMJ77)","v":0},{"$f":"SUM(AMK73:AMK77)","v":0},{"$f":"SUM(AML73:AML77)","v":0},{"$f":"SUM(AMM73:AMM77)","v":0},{"$f":"SUM(AMN73:AMN77)","v":0},{"$f":"SUM(AMO73:AMO77)","v":0},{"$f":"SUM(AMP73:AMP77)","v":0},{"$f":"SUM(AMQ73:AMQ77)","v":0},{"$f":"SUM(AMR73:AMR77)","v":0},{"$f":"SUM(AMS73:AMS77)","v":0},{"$f":"SUM(AMT73:AMT77)","v":0},{"$f":"SUM(AMU73:AMU77)","v":0},{"$f":"SUM(AMV73:AMV77)","v":0},{"$f":"SUM(AMW73:AMW77)","v":0},{"$f":"SUM(AMX73:AMX77)","v":0},{"$f":"SUM(AMY73:AMY77)","v":0},{"$f":"SUM(AMZ73:AMZ77)","v":0},{"$f":"SUM(ANA73:ANA77)","v":0},{"$f":"SUM(ANB73:ANB77)","v":0},{"$f":"SUM(ANC73:ANC77)","v":0},{"$f":"SUM(AND73:AND77)","v":0},{"$f":"SUM(ANE73:ANE77)","v":0},{"$f":"SUM(ANF73:ANF77)","v":0},{"$f":"SUM(ANG73:ANG77)","v":0},{"$f":"SUM(ANH73:ANH77)","v":0},{"$f":"SUM(ANI73:ANI77)","v":0},{"$f":"SUM(ANJ73:ANJ77)","v":0},{"$f":"SUM(ANK73:ANK77)","v":0},{"$f":"SUM(ANL73:ANL77)","v":0},{"$f":"SUM(ANM73:ANM77)","v":0},{"$f":"SUM(ANN73:ANN77)","v":0},{"$f":"SUM(ANO73:ANO77)","v":0},{"$f":"SUM(ANP73:ANP77)","v":0},{"$f":"SUM(ANQ73:ANQ77)","v":0},{"$f":"SUM(ANR73:ANR77)","v":0},{"$f":"SUM(ANS73:ANS77)","v":0},{"$f":"SUM(ANT73:ANT77)","v":0},{"$f":"SUM(ANU73:ANU77)","v":0},{"$f":"SUM(ANV73:ANV77)","v":0},{"$f":"SUM(ANW73:ANW77)","v":0},{"$f":"SUM(ANX73:ANX77)","v":0},{"$f":"SUM(ANY73:ANY77)","v":0},{"$f":"SUM(ANZ73:ANZ77)","v":0},{"$f":"SUM(AOA73:AOA77)","v":0},{"$f":"SUM(AOB73:AOB77)","v":0},{"$f":"SUM(AOC73:AOC77)","v":0},{"$f":"SUM(AOD73:AOD77)","v":0},{"$f":"SUM(AOE73:AOE77)","v":0},{"$f":"SUM(AOF73:AOF77)","v":0},{"$f":"SUM(AOG73:AOG77)","v":0},{"$f":"SUM(AOH73:AOH77)","v":0},{"$f":"SUM(AOI73:AOI77)","v":0},{"$f":"SUM(AOJ73:AOJ77)","v":0},{"$f":"SUM(AOK73:AOK77)","v":0},{"$f":"SUM(AOL73:AOL77)","v":0},{"$f":"SUM(AOM73:AOM77)","v":0},{"$f":"SUM(AON73:AON77)","v":0},{"$f":"SUM(AOO73:AOO77)","v":0},{"$f":"SUM(AOP73:AOP77)","v":0},{"$f":"SUM(AOQ73:AOQ77)","v":0},{"$f":"SUM(AOR73:AOR77)","v":0},{"$f":"SUM(AOS73:AOS77)","v":0},{"$f":"SUM(AOT73:AOT77)","v":0},{"$f":"SUM(AOU73:AOU77)","v":0},{"$f":"SUM(AOV73:AOV77)","v":0},{"$f":"SUM(AOW73:AOW77)","v":0},{"$f":"SUM(AOX73:AOX77)","v":0},{"$f":"SUM(AOY73:AOY77)","v":0},{"$f":"SUM(AOZ73:AOZ77)","v":0},{"$f":"SUM(APA73:APA77)","v":0},{"$f":"SUM(APB73:APB77)","v":0},{"$f":"SUM(APC73:APC77)","v":0},{"$f":"SUM(APD73:APD77)","v":0},{"$f":"SUM(APE73:APE77)","v":0},{"$f":"SUM(APF73:APF77)","v":0},{"$f":"SUM(APG73:APG77)","v":0},{"$f":"SUM(APH73:APH77)","v":0},{"$f":"SUM(API73:API77)","v":0},{"$f":"SUM(APJ73:APJ77)","v":0},{"$f":"SUM(APK73:APK77)","v":0},{"$f":"SUM(APL73:APL77)","v":0},{"$f":"SUM(APM73:APM77)","v":0},{"$f":"SUM(APN73:APN77)","v":0},{"$f":"SUM(APO73:APO77)","v":0},{"$f":"SUM(APP73:APP77)","v":0},{"$f":"SUM(APQ73:APQ77)","v":0},{"$f":"SUM(APR73:APR77)","v":0},{"$f":"SUM(APS73:APS77)","v":0},{"$f":"SUM(APT73:APT77)","v":0},{"$f":"SUM(APU73:APU77)","v":0},{"$f":"SUM(APV73:APV77)","v":0},{"$f":"SUM(APW73:APW77)","v":0},{"$f":"SUM(APX73:APX77)","v":0},{"$f":"SUM(APY73:APY77)","v":0},{"$f":"SUM(APZ73:APZ77)","v":0},{"$f":"SUM(AQA73:AQA77)","v":0},{"$f":"SUM(AQB73:AQB77)","v":0},{"$f":"SUM(AQC73:AQC77)","v":0},{"$f":"SUM(AQD73:AQD77)","v":0},{"$f":"SUM(AQE73:AQE77)","v":0},{"$f":"SUM(AQF73:AQF77)","v":0},{"$f":"SUM(AQG73:AQG77)","v":0},{"$f":"SUM(AQH73:AQH77)","v":0},{"$f":"SUM(AQI73:AQI77)","v":0},{"$f":"SUM(AQJ73:AQJ77)","v":0},{"$f":"SUM(AQK73:AQK77)","v":0},{"$f":"SUM(AQL73:AQL77)","v":0},{"$f":"SUM(AQM73:AQM77)","v":0},{"$f":"SUM(AQN73:AQN77)","v":0},{"$f":"SUM(AQO73:AQO77)","v":0},{"$f":"SUM(AQP73:AQP77)","v":0},{"$f":"SUM(AQQ73:AQQ77)","v":0},{"$f":"SUM(AQR73:AQR77)","v":0},{"$f":"SUM(AQS73:AQS77)","v":0},{"$f":"SUM(AQT73:AQT77)","v":0},{"$f":"SUM(AQU73:AQU77)","v":0},{"$f":"SUM(AQV73:AQV77)","v":0},{"$f":"SUM(AQW73:AQW77)","v":0},{"$f":"SUM(AQX73:AQX77)","v":0},{"$f":"SUM(AQY73:AQY77)","v":0},{"$f":"SUM(AQZ73:AQZ77)","v":0},{"$f":"SUM(ARA73:ARA77)","v":0},{"$f":"SUM(ARB73:ARB77)","v":0},{"$f":"SUM(ARC73:ARC77)","v":0},{"$f":"SUM(ARD73:ARD77)","v":0},{"$f":"SUM(ARE73:ARE77)","v":0},{"$f":"SUM(ARF73:ARF77)","v":0},{"$f":"SUM(ARG73:ARG77)","v":0},{"$f":"SUM(ARH73:ARH77)","v":0},{"$f":"SUM(ARI73:ARI77)","v":0},{"$f":"SUM(ARJ73:ARJ77)","v":0},{"$f":"SUM(ARK73:ARK77)","v":0},{"$f":"SUM(ARL73:ARL77)","v":0},{"$f":"SUM(ARM73:ARM77)","v":0},{"$f":"SUM(ARN73:ARN77)","v":0},{"$f":"SUM(ARO73:ARO77)","v":0},{"$f":"SUM(ARP73:ARP77)","v":0},{"$f":"SUM(ARQ73:ARQ77)","v":0},{"$f":"SUM(ARR73:ARR77)","v":0},{"$f":"SUM(ARS73:ARS77)","v":0},{"$f":"SUM(ART73:ART77)","v":0},{"$f":"SUM(ARU73:ARU77)","v":0},{"$f":"SUM(ARV73:ARV77)","v":0},{"$f":"SUM(ARW73:ARW77)","v":0},{"$f":"SUM(ARX73:ARX77)","v":0},{"$f":"SUM(ARY73:ARY77)","v":0},{"$f":"SUM(ARZ73:ARZ77)","v":0},{"$f":"SUM(ASA73:ASA77)","v":0},{"$f":"SUM(ASB73:ASB77)","v":0},{"$f":"SUM(ASC73:ASC77)","v":0},{"$f":"SUM(ASD73:ASD77)","v":0},{"$f":"SUM(ASE73:ASE77)","v":0},{"$f":"SUM(ASF73:ASF77)","v":0},{"$f":"SUM(ASG73:ASG77)","v":0},{"$f":"SUM(ASH73:ASH77)","v":0},{"$f":"SUM(ASI73:ASI77)","v":0},{"$f":"SUM(ASJ73:ASJ77)","v":0},{"$f":"SUM(ASK73:ASK77)","v":0},{"$f":"SUM(ASL73:ASL77)","v":0},{"$f":"SUM(ASM73:ASM77)","v":0},{"$f":"SUM(ASN73:ASN77)","v":0},{"$f":"SUM(ASO73:ASO77)","v":0},{"$f":"SUM(ASP73:ASP77)","v":0},{"$f":"SUM(ASQ73:ASQ77)","v":0},{"$f":"SUM(ASR73:ASR77)","v":0},{"$f":"SUM(ASS73:ASS77)","v":0},{"$f":"SUM(AST73:AST77)","v":0},{"$f":"SUM(ASU73:ASU77)","v":0},{"$f":"SUM(ASV73:ASV77)","v":0},{"$f":"SUM(ASW73:ASW77)","v":0},{"$f":"SUM(ASX73:ASX77)","v":0},{"$f":"SUM(ASY73:ASY77)","v":0},{"$f":"SUM(ASZ73:ASZ77)","v":0},{"$f":"SUM(ATA73:ATA77)","v":0},{"$f":"SUM(ATB73:ATB77)","v":0},{"$f":"SUM(ATC73:ATC77)","v":0},{"$f":"SUM(ATD73:ATD77)","v":0},{"$f":"SUM(ATE73:ATE77)","v":0},{"$f":"SUM(ATF73:ATF77)","v":0},{"$f":"SUM(ATG73:ATG77)","v":0},{"$f":"SUM(ATH73:ATH77)","v":0},{"$f":"SUM(ATI73:ATI77)","v":0},{"$f":"SUM(ATJ73:ATJ77)","v":0},{"$f":"SUM(ATK73:ATK77)","v":0},{"$f":"SUM(ATL73:ATL77)","v":0},{"$f":"SUM(ATM73:ATM77)","v":0},{"$f":"SUM(ATN73:ATN77)","v":0},{"$f":"SUM(ATO73:ATO77)","v":0},{"$f":"SUM(ATP73:ATP77)","v":0},{"$f":"SUM(ATQ73:ATQ77)","v":0},{"$f":"SUM(ATR73:ATR77)","v":0},{"$f":"SUM(ATS73:ATS77)","v":0},{"$f":"SUM(ATT73:ATT77)","v":0},{"$f":"SUM(ATU73:ATU77)","v":0},{"$f":"SUM(ATV73:ATV77)","v":0},{"$f":"SUM(ATW73:ATW77)","v":0},{"$f":"SUM(ATX73:ATX77)","v":0},{"$f":"SUM(ATY73:ATY77)","v":0},{"$f":"SUM(ATZ73:ATZ77)","v":0},{"$f":"SUM(AUA73:AUA77)","v":0},{"$f":"SUM(AUB73:AUB77)","v":0},{"$f":"SUM(AUC73:AUC77)","v":0},{"$f":"SUM(AUD73:AUD77)","v":0},{"$f":"SUM(AUE73:AUE77)","v":0},{"$f":"SUM(AUF73:AUF77)","v":0},{"$f":"SUM(AUG73:AUG77)","v":0},{"$f":"SUM(AUH73:AUH77)","v":0},{"$f":"SUM(AUI73:AUI77)","v":0},{"$f":"SUM(AUJ73:AUJ77)","v":0},{"$f":"SUM(AUK73:AUK77)","v":0},{"$f":"SUM(AUL73:AUL77)","v":0},{"$f":"SUM(AUM73:AUM77)","v":0},{"$f":"SUM(AUN73:AUN77)","v":0},{"$f":"SUM(AUO73:AUO77)","v":0},{"$f":"SUM(AUP73:AUP77)","v":0},{"$f":"SUM(AUQ73:AUQ77)","v":0},{"$f":"SUM(AUR73:AUR77)","v":0},{"$f":"SUM(AUS73:AUS77)","v":0},{"$f":"SUM(AUT73:AUT77)","v":0},{"$f":"SUM(AUU73:AUU77)","v":0},{"$f":"SUM(AUV73:AUV77)","v":0},{"$f":"SUM(AUW73:AUW77)","v":0},{"$f":"SUM(AUX73:AUX77)","v":0},{"$f":"SUM(AUY73:AUY77)","v":0},{"$f":"SUM(AUZ73:AUZ77)","v":0},{"$f":"SUM(AVA73:AVA77)","v":0},{"$f":"SUM(AVB73:AVB77)","v":0},{"$f":"SUM(AVC73:AVC77)","v":0},{"$f":"SUM(AVD73:AVD77)","v":0},{"$f":"SUM(AVE73:AVE77)","v":0},{"$f":"SUM(AVF73:AVF77)","v":0},{"$f":"SUM(AVG73:AVG77)","v":0},{"$f":"SUM(AVH73:AVH77)","v":0},{"$f":"SUM(AVI73:AVI77)","v":0},{"$f":"SUM(AVJ73:AVJ77)","v":0},{"$f":"SUM(AVK73:AVK77)","v":0},{"$f":"SUM(AVL73:AVL77)","v":0},{"$f":"SUM(AVM73:AVM77)","v":0},{"$f":"SUM(AVN73:AVN77)","v":0},{"$f":"SUM(AVO73:AVO77)","v":0},{"$f":"SUM(AVP73:AVP77)","v":0},{"$f":"SUM(AVQ73:AVQ77)","v":0},{"$f":"SUM(AVR73:AVR77)","v":0},{"$f":"SUM(AVS73:AVS77)","v":0},{"$f":"SUM(AVT73:AVT77)","v":0},{"$f":"SUM(AVU73:AVU77)","v":0},{"$f":"SUM(AVV73:AVV77)","v":0},{"$f":"SUM(AVW73:AVW77)","v":0},{"$f":"SUM(AVX73:AVX77)","v":0},{"$f":"SUM(AVY73:AVY77)","v":0},{"$f":"SUM(AVZ73:AVZ77)","v":0},{"$f":"SUM(AWA73:AWA77)","v":0},{"$f":"SUM(AWB73:AWB77)","v":0},{"$f":"SUM(AWC73:AWC77)","v":0},{"$f":"SUM(AWD73:AWD77)","v":0},{"$f":"SUM(AWE73:AWE77)","v":0},{"$f":"SUM(AWF73:AWF77)","v":0},{"$f":"SUM(AWG73:AWG77)","v":0},{"$f":"SUM(AWH73:AWH77)","v":0},{"$f":"SUM(AWI73:AWI77)","v":0},{"$f":"SUM(AWJ73:AWJ77)","v":0},{"$f":"SUM(AWK73:AWK77)","v":0},{"$f":"SUM(AWL73:AWL77)","v":0},{"$f":"SUM(AWM73:AWM77)","v":0},{"$f":"SUM(AWN73:AWN77)","v":0},{"$f":"SUM(AWO73:AWO77)","v":0},{"$f":"SUM(AWP73:AWP77)","v":0},{"$f":"SUM(AWQ73:AWQ77)","v":0},{"$f":"SUM(AWR73:AWR77)","v":0},{"$f":"SUM(AWS73:AWS77)","v":0},{"$f":"SUM(AWT73:AWT77)","v":0},{"$f":"SUM(AWU73:AWU77)","v":0},{"$f":"SUM(AWV73:AWV77)","v":0},{"$f":"SUM(AWW73:AWW77)","v":0},{"$f":"SUM(AWX73:AWX77)","v":0},{"$f":"SUM(AWY73:AWY77)","v":0},{"$f":"SUM(AWZ73:AWZ77)","v":0},{"$f":"SUM(AXA73:AXA77)","v":0},{"$f":"SUM(AXB73:AXB77)","v":0},{"$f":"SUM(AXC73:AXC77)","v":0},{"$f":"SUM(AXD73:AXD77)","v":0},{"$f":"SUM(AXE73:AXE77)","v":0},{"$f":"SUM(AXF73:AXF77)","v":0},{"$f":"SUM(AXG73:AXG77)","v":0},{"$f":"SUM(AXH73:AXH77)","v":0},{"$f":"SUM(AXI73:AXI77)","v":0},{"$f":"SUM(AXJ73:AXJ77)","v":0},{"$f":"SUM(AXK73:AXK77)","v":0},{"$f":"SUM(AXL73:AXL77)","v":0},{"$f":"SUM(AXM73:AXM77)","v":0},{"$f":"SUM(AXN73:AXN77)","v":0},{"$f":"SUM(AXO73:AXO77)","v":0},{"$f":"SUM(AXP73:AXP77)","v":0},{"$f":"SUM(AXQ73:AXQ77)","v":0},{"$f":"SUM(AXR73:AXR77)","v":0},{"$f":"SUM(AXS73:AXS77)","v":0},{"$f":"SUM(AXT73:AXT77)","v":0},{"$f":"SUM(AXU73:AXU77)","v":0},{"$f":"SUM(AXV73:AXV77)","v":0},{"$f":"SUM(AXW73:AXW77)","v":0},{"$f":"SUM(AXX73:AXX77)","v":0},{"$f":"SUM(AXY73:AXY77)","v":0},{"$f":"SUM(AXZ73:AXZ77)","v":0},{"$f":"SUM(AYA73:AYA77)","v":0},{"$f":"SUM(AYB73:AYB77)","v":0},{"$f":"SUM(AYC73:AYC77)","v":0},{"$f":"SUM(AYD73:AYD77)","v":0},{"$f":"SUM(AYE73:AYE77)","v":0},{"$f":"SUM(AYF73:AYF77)","v":0},{"$f":"SUM(AYG73:AYG77)","v":0},{"$f":"SUM(AYH73:AYH77)","v":0},{"$f":"SUM(AYI73:AYI77)","v":0},{"$f":"SUM(AYJ73:AYJ77)","v":0},{"$f":"SUM(AYK73:AYK77)","v":0},{"$f":"SUM(AYL73:AYL77)","v":0},{"$f":"SUM(AYM73:AYM77)","v":0},{"$f":"SUM(AYN73:AYN77)","v":0},{"$f":"SUM(AYO73:AYO77)","v":0},{"$f":"SUM(AYP73:AYP77)","v":0},{"$f":"SUM(AYQ73:AYQ77)","v":0},{"$f":"SUM(AYR73:AYR77)","v":0},{"$f":"SUM(AYS73:AYS77)","v":0},{"$f":"SUM(AYT73:AYT77)","v":0},{"$f":"SUM(AYU73:AYU77)","v":0},{"$f":"SUM(AYV73:AYV77)","v":0},{"$f":"SUM(AYW73:AYW77)","v":0},{"$f":"SUM(AYX73:AYX77)","v":0},{"$f":"SUM(AYY73:AYY77)","v":0},{"$f":"SUM(AYZ73:AYZ77)","v":0},{"$f":"SUM(AZA73:AZA77)","v":0},{"$f":"SUM(AZB73:AZB77)","v":0},{"$f":"SUM(AZC73:AZC77)","v":0},{"$f":"SUM(AZD73:AZD77)","v":0},{"$f":"SUM(AZE73:AZE77)","v":0},{"$f":"SUM(AZF73:AZF77)","v":0},{"$f":"SUM(AZG73:AZG77)","v":0},{"$f":"SUM(AZH73:AZH77)","v":0},{"$f":"SUM(AZI73:AZI77)","v":0},{"$f":"SUM(AZJ73:AZJ77)","v":0},{"$f":"SUM(AZK73:AZK77)","v":0},{"$f":"SUM(AZL73:AZL77)","v":0},{"$f":"SUM(AZM73:AZM77)","v":0},{"$f":"SUM(AZN73:AZN77)","v":0},{"$f":"SUM(AZO73:AZO77)","v":0},{"$f":"SUM(AZP73:AZP77)","v":0},{"$f":"SUM(AZQ73:AZQ77)","v":0},{"$f":"SUM(AZR73:AZR77)","v":0},{"$f":"SUM(AZS73:AZS77)","v":0},{"$f":"SUM(AZT73:AZT77)","v":0},{"$f":"SUM(AZU73:AZU77)","v":0},{"$f":"SUM(AZV73:AZV77)","v":0},{"$f":"SUM(AZW73:AZW77)","v":0},{"$f":"SUM(AZX73:AZX77)","v":0},{"$f":"SUM(AZY73:AZY77)","v":0},{"$f":"SUM(AZZ73:AZZ77)","v":0},{"$f":"SUM(BAA73:BAA77)","v":0},{"$f":"SUM(BAB73:BAB77)","v":0},{"$f":"SUM(BAC73:BAC77)","v":0},{"$f":"SUM(BAD73:BAD77)","v":0},{"$f":"SUM(BAE73:BAE77)","v":0},{"$f":"SUM(BAF73:BAF77)","v":0},{"$f":"SUM(BAG73:BAG77)","v":0},{"$f":"SUM(BAH73:BAH77)","v":0},{"$f":"SUM(BAI73:BAI77)","v":0},{"$f":"SUM(BAJ73:BAJ77)","v":0},{"$f":"SUM(BAK73:BAK77)","v":0},{"$f":"SUM(BAL73:BAL77)","v":0},{"$f":"SUM(BAM73:BAM77)","v":0},{"$f":"SUM(BAN73:BAN77)","v":0},{"$f":"SUM(BAO73:BAO77)","v":0},{"$f":"SUM(BAP73:BAP77)","v":0},{"$f":"SUM(BAQ73:BAQ77)","v":0},{"$f":"SUM(BAR73:BAR77)","v":0},{"$f":"SUM(BAS73:BAS77)","v":0},{"$f":"SUM(BAT73:BAT77)","v":0},{"$f":"SUM(BAU73:BAU77)","v":0},{"$f":"SUM(BAV73:BAV77)","v":0},{"$f":"SUM(BAW73:BAW77)","v":0},{"$f":"SUM(BAX73:BAX77)","v":0},{"$f":"SUM(BAY73:BAY77)","v":0},{"$f":"SUM(BAZ73:BAZ77)","v":0},{"$f":"SUM(BBA73:BBA77)","v":0},{"$f":"SUM(BBB73:BBB77)","v":0},{"$f":"SUM(BBC73:BBC77)","v":0},{"$f":"SUM(BBD73:BBD77)","v":0},{"$f":"SUM(BBE73:BBE77)","v":0},{"$f":"SUM(BBF73:BBF77)","v":0},{"$f":"SUM(BBG73:BBG77)","v":0},{"$f":"SUM(BBH73:BBH77)","v":0},{"$f":"SUM(BBI73:BBI77)","v":0},{"$f":"SUM(BBJ73:BBJ77)","v":0},{"$f":"SUM(BBK73:BBK77)","v":0},{"$f":"SUM(BBL73:BBL77)","v":0},{"$f":"SUM(BBM73:BBM77)","v":0},{"$f":"SUM(BBN73:BBN77)","v":0},{"$f":"SUM(BBO73:BBO77)","v":0},{"$f":"SUM(BBP73:BBP77)","v":0},{"$f":"SUM(BBQ73:BBQ77)","v":0},{"$f":"SUM(BBR73:BBR77)","v":0},{"$f":"SUM(BBS73:BBS77)","v":0},{"$f":"SUM(BBT73:BBT77)","v":0},{"$f":"SUM(BBU73:BBU77)","v":0},{"$f":"SUM(BBV73:BBV77)","v":0},{"$f":"SUM(BBW73:BBW77)","v":0},{"$f":"SUM(BBX73:BBX77)","v":0},{"$f":"SUM(BBY73:BBY77)","v":0},{"$f":"SUM(BBZ73:BBZ77)","v":0},{"$f":"SUM(BCA73:BCA77)","v":0},{"$f":"SUM(BCB73:BCB77)","v":0},{"$f":"SUM(BCC73:BCC77)","v":0},{"$f":"SUM(BCD73:BCD77)","v":0},{"$f":"SUM(BCE73:BCE77)","v":0},{"$f":"SUM(BCF73:BCF77)","v":0},{"$f":"SUM(BCG73:BCG77)","v":0},{"$f":"SUM(BCH73:BCH77)","v":0},{"$f":"SUM(BCI73:BCI77)","v":0},{"$f":"SUM(BCJ73:BCJ77)","v":0},{"$f":"SUM(BCK73:BCK77)","v":0},{"$f":"SUM(BCL73:BCL77)","v":0},{"$f":"SUM(BCM73:BCM77)","v":0},{"$f":"SUM(BCN73:BCN77)","v":0},{"$f":"SUM(BCO73:BCO77)","v":0},{"$f":"SUM(BCP73:BCP77)","v":0},{"$f":"SUM(BCQ73:BCQ77)","v":0},{"$f":"SUM(BCR73:BCR77)","v":0},{"$f":"SUM(BCS73:BCS77)","v":0},{"$f":"SUM(BCT73:BCT77)","v":0},{"$f":"SUM(BCU73:BCU77)","v":0},{"$f":"SUM(BCV73:BCV77)","v":0},{"$f":"SUM(BCW73:BCW77)","v":0},{"$f":"SUM(BCX73:BCX77)","v":0},{"$f":"SUM(BCY73:BCY77)","v":0},{"$f":"SUM(BCZ73:BCZ77)","v":0},{"$f":"SUM(BDA73:BDA77)","v":0},{"$f":"SUM(BDB73:BDB77)","v":0},{"$f":"SUM(BDC73:BDC77)","v":0},{"$f":"SUM(BDD73:BDD77)","v":0},{"$f":"SUM(BDE73:BDE77)","v":0},{"$f":"SUM(BDF73:BDF77)","v":0},{"$f":"SUM(BDG73:BDG77)","v":0},{"$f":"SUM(BDH73:BDH77)","v":0},{"$f":"SUM(BDI73:BDI77)","v":0},{"$f":"SUM(BDJ73:BDJ77)","v":0},{"$f":"SUM(BDK73:BDK77)","v":0},{"$f":"SUM(BDL73:BDL77)","v":0},{"$f":"SUM(BDM73:BDM77)","v":0},{"$f":"SUM(BDN73:BDN77)","v":0},{"$f":"SUM(BDO73:BDO77)","v":0},{"$f":"SUM(BDP73:BDP77)","v":0},{"$f":"SUM(BDQ73:BDQ77)","v":0},{"$f":"SUM(BDR73:BDR77)","v":0},{"$f":"SUM(BDS73:BDS77)","v":0},{"$f":"SUM(BDT73:BDT77)","v":0},{"$f":"SUM(BDU73:BDU77)","v":0},{"$f":"SUM(BDV73:BDV77)","v":0},{"$f":"SUM(BDW73:BDW77)","v":0},{"$f":"SUM(BDX73:BDX77)","v":0},{"$f":"SUM(BDY73:BDY77)","v":0},{"$f":"SUM(BDZ73:BDZ77)","v":0},{"$f":"SUM(BEA73:BEA77)","v":0},{"$f":"SUM(BEB73:BEB77)","v":0},{"$f":"SUM(BEC73:BEC77)","v":0},{"$f":"SUM(BED73:BED77)","v":0},{"$f":"SUM(BEE73:BEE77)","v":0},{"$f":"SUM(BEF73:BEF77)","v":0},{"$f":"SUM(BEG73:BEG77)","v":0},{"$f":"SUM(BEH73:BEH77)","v":0},{"$f":"SUM(BEI73:BEI77)","v":0},{"$f":"SUM(BEJ73:BEJ77)","v":0},{"$f":"SUM(BEK73:BEK77)","v":0},{"$f":"SUM(BEL73:BEL77)","v":0},{"$f":"SUM(BEM73:BEM77)","v":0},{"$f":"SUM(BEN73:BEN77)","v":0},{"$f":"SUM(BEO73:BEO77)","v":0},{"$f":"SUM(BEP73:BEP77)","v":0},{"$f":"SUM(BEQ73:BEQ77)","v":0},{"$f":"SUM(BER73:BER77)","v":0},{"$f":"SUM(BES73:BES77)","v":0},{"$f":"SUM(BET73:BET77)","v":0},{"$f":"SUM(BEU73:BEU77)","v":0},{"$f":"SUM(BEV73:BEV77)","v":0},{"$f":"SUM(BEW73:BEW77)","v":0},{"$f":"SUM(BEX73:BEX77)","v":0},{"$f":"SUM(BEY73:BEY77)","v":0},{"$f":"SUM(BEZ73:BEZ77)","v":0},{"$f":"SUM(BFA73:BFA77)","v":0},{"$f":"SUM(BFB73:BFB77)","v":0},{"$f":"SUM(BFC73:BFC77)","v":0},{"$f":"SUM(BFD73:BFD77)","v":0},{"$f":"SUM(BFE73:BFE77)","v":0},{"$f":"SUM(BFF73:BFF77)","v":0},{"$f":"SUM(BFG73:BFG77)","v":0},{"$f":"SUM(BFH73:BFH77)","v":0},{"$f":"SUM(BFI73:BFI77)","v":0},{"$f":"SUM(BFJ73:BFJ77)","v":0},{"$f":"SUM(BFK73:BFK77)","v":0},{"$f":"SUM(BFL73:BFL77)","v":0},{"$f":"SUM(BFM73:BFM77)","v":0},{"$f":"SUM(BFN73:BFN77)","v":0},{"$f":"SUM(BFO73:BFO77)","v":0},{"$f":"SUM(BFP73:BFP77)","v":0},{"$f":"SUM(BFQ73:BFQ77)","v":0},{"$f":"SUM(BFR73:BFR77)","v":0},{"$f":"SUM(BFS73:BFS77)","v":0},{"$f":"SUM(BFT73:BFT77)","v":0},{"$f":"SUM(BFU73:BFU77)","v":0},{"$f":"SUM(BFV73:BFV77)","v":0},{"$f":"SUM(BFW73:BFW77)","v":0},{"$f":"SUM(BFX73:BFX77)","v":0},{"$f":"SUM(BFY73:BFY77)","v":0},{"$f":"SUM(BFZ73:BFZ77)","v":0},{"$f":"SUM(BGA73:BGA77)","v":0},{"$f":"SUM(BGB73:BGB77)","v":0},{"$f":"SUM(BGC73:BGC77)","v":0},{"$f":"SUM(BGD73:BGD77)","v":0},{"$f":"SUM(BGE73:BGE77)","v":0},{"$f":"SUM(BGF73:BGF77)","v":0},{"$f":"SUM(BGG73:BGG77)","v":0},{"$f":"SUM(BGH73:BGH77)","v":0},{"$f":"SUM(BGI73:BGI77)","v":0},{"$f":"SUM(BGJ73:BGJ77)","v":0},{"$f":"SUM(BGK73:BGK77)","v":0},{"$f":"SUM(BGL73:BGL77)","v":0},{"$f":"SUM(BGM73:BGM77)","v":0},{"$f":"SUM(BGN73:BGN77)","v":0},{"$f":"SUM(BGO73:BGO77)","v":0},{"$f":"SUM(BGP73:BGP77)","v":0},{"$f":"SUM(BGQ73:BGQ77)","v":0},{"$f":"SUM(BGR73:BGR77)","v":0},{"$f":"SUM(BGS73:BGS77)","v":0},{"$f":"SUM(BGT73:BGT77)","v":0},{"$f":"SUM(BGU73:BGU77)","v":0},{"$f":"SUM(BGV73:BGV77)","v":0},{"$f":"SUM(BGW73:BGW77)","v":0},{"$f":"SUM(BGX73:BGX77)","v":0},{"$f":"SUM(BGY73:BGY77)","v":0},{"$f":"SUM(BGZ73:BGZ77)","v":0},{"$f":"SUM(BHA73:BHA77)","v":0},{"$f":"SUM(BHB73:BHB77)","v":0},{"$f":"SUM(BHC73:BHC77)","v":0},{"$f":"SUM(BHD73:BHD77)","v":0},{"$f":"SUM(BHE73:BHE77)","v":0},{"$f":"SUM(BHF73:BHF77)","v":0},{"$f":"SUM(BHG73:BHG77)","v":0},{"$f":"SUM(BHH73:BHH77)","v":0},{"$f":"SUM(BHI73:BHI77)","v":0},{"$f":"SUM(BHJ73:BHJ77)","v":0},{"$f":"SUM(BHK73:BHK77)","v":0},{"$f":"SUM(BHL73:BHL77)","v":0},{"$f":"SUM(BHM73:BHM77)","v":0},{"$f":"SUM(BHN73:BHN77)","v":0},{"$f":"SUM(BHO73:BHO77)","v":0},{"$f":"SUM(BHP73:BHP77)","v":0},{"$f":"SUM(BHQ73:BHQ77)","v":0},{"$f":"SUM(BHR73:BHR77)","v":0},{"$f":"SUM(BHS73:BHS77)","v":0},{"$f":"SUM(BHT73:BHT77)","v":0},{"$f":"SUM(BHU73:BHU77)","v":0},{"$f":"SUM(BHV73:BHV77)","v":0},{"$f":"SUM(BHW73:BHW77)","v":0},{"$f":"SUM(BHX73:BHX77)","v":0},{"$f":"SUM(BHY73:BHY77)","v":0},{"$f":"SUM(BHZ73:BHZ77)","v":0},{"$f":"SUM(BIA73:BIA77)","v":0},{"$f":"SUM(BIB73:BIB77)","v":0},{"$f":"SUM(BIC73:BIC77)","v":0},{"$f":"SUM(BID73:BID77)","v":0},{"$f":"SUM(BIE73:BIE77)","v":0},{"$f":"SUM(BIF73:BIF77)","v":0},{"$f":"SUM(BIG73:BIG77)","v":0},{"$f":"SUM(BIH73:BIH77)","v":0},{"$f":"SUM(BII73:BII77)","v":0},{"$f":"SUM(BIJ73:BIJ77)","v":0},{"$f":"SUM(BIK73:BIK77)","v":0},{"$f":"SUM(BIL73:BIL77)","v":0},{"$f":"SUM(BIM73:BIM77)","v":0},{"$f":"SUM(BIN73:BIN77)","v":0},{"$f":"SUM(BIO73:BIO77)","v":0},{"$f":"SUM(BIP73:BIP77)","v":0},{"$f":"SUM(BIQ73:BIQ77)","v":0},{"$f":"SUM(BIR73:BIR77)","v":0},{"$f":"SUM(BIS73:BIS77)","v":0},{"$f":"SUM(BIT73:BIT77)","v":0},{"$f":"SUM(BIU73:BIU77)","v":0},{"$f":"SUM(BIV73:BIV77)","v":0},{"$f":"SUM(BIW73:BIW77)","v":0},{"$f":"SUM(BIX73:BIX77)","v":0},{"$f":"SUM(BIY73:BIY77)","v":0},{"$f":"SUM(BIZ73:BIZ77)","v":0},{"$f":"SUM(BJA73:BJA77)","v":0},{"$f":"SUM(BJB73:BJB77)","v":0},{"$f":"SUM(BJC73:BJC77)","v":0},{"$f":"SUM(BJD73:BJD77)","v":0},{"$f":"SUM(BJE73:BJE77)","v":0},{"$f":"SUM(BJF73:BJF77)","v":0},{"$f":"SUM(BJG73:BJG77)","v":0},{"$f":"SUM(BJH73:BJH77)","v":0},{"$f":"SUM(BJI73:BJI77)","v":0},{"$f":"SUM(BJJ73:BJJ77)","v":0},{"$f":"SUM(BJK73:BJK77)","v":0},{"$f":"SUM(BJL73:BJL77)","v":0},{"$f":"SUM(BJM73:BJM77)","v":0},{"$f":"SUM(BJN73:BJN77)","v":0},{"$f":"SUM(BJO73:BJO77)","v":0},{"$f":"SUM(BJP73:BJP77)","v":0},{"$f":"SUM(BJQ73:BJQ77)","v":0},{"$f":"SUM(BJR73:BJR77)","v":0},{"$f":"SUM(BJS73:BJS77)","v":0},{"$f":"SUM(BJT73:BJT77)","v":0},{"$f":"SUM(BJU73:BJU77)","v":0},{"$f":"SUM(BJV73:BJV77)","v":0},{"$f":"SUM(BJW73:BJW77)","v":0},{"$f":"SUM(BJX73:BJX77)","v":0},{"$f":"SUM(BJY73:BJY77)","v":0},{"$f":"SUM(BJZ73:BJZ77)","v":0},{"$f":"SUM(BKA73:BKA77)","v":0},{"$f":"SUM(BKB73:BKB77)","v":0},{"$f":"SUM(BKC73:BKC77)","v":0},{"$f":"SUM(BKD73:BKD77)","v":0},{"$f":"SUM(BKE73:BKE77)","v":0},{"$f":"SUM(BKF73:BKF77)","v":0},{"$f":"SUM(BKG73:BKG77)","v":0},{"$f":"SUM(BKH73:BKH77)","v":0},{"$f":"SUM(BKI73:BKI77)","v":0},{"$f":"SUM(BKJ73:BKJ77)","v":0},{"$f":"SUM(BKK73:BKK77)","v":0},{"$f":"SUM(BKL73:BKL77)","v":0},{"$f":"SUM(BKM73:BKM77)","v":0},{"$f":"SUM(BKN73:BKN77)","v":0},{"$f":"SUM(BKO73:BKO77)","v":0},{"$f":"SUM(BKP73:BKP77)","v":0},{"$f":"SUM(BKQ73:BKQ77)","v":0},{"$f":"SUM(BKR73:BKR77)","v":0},{"$f":"SUM(BKS73:BKS77)","v":0},{"$f":"SUM(BKT73:BKT77)","v":0},{"$f":"SUM(BKU73:BKU77)","v":0},{"$f":"SUM(BKV73:BKV77)","v":0},{"$f":"SUM(BKW73:BKW77)","v":0},{"$f":"SUM(BKX73:BKX77)","v":0},{"$f":"SUM(BKY73:BKY77)","v":0},{"$f":"SUM(BKZ73:BKZ77)","v":0},{"$f":"SUM(BLA73:BLA77)","v":0},{"$f":"SUM(BLB73:BLB77)","v":0},{"$f":"SUM(BLC73:BLC77)","v":0},{"$f":"SUM(BLD73:BLD77)","v":0},{"$f":"SUM(BLE73:BLE77)","v":0},{"$f":"SUM(BLF73:BLF77)","v":0},{"$f":"SUM(BLG73:BLG77)","v":0},{"$f":"SUM(BLH73:BLH77)","v":0},{"$f":"SUM(BLI73:BLI77)","v":0},{"$f":"SUM(BLJ73:BLJ77)","v":0},{"$f":"SUM(BLK73:BLK77)","v":0},{"$f":"SUM(BLL73:BLL77)","v":0},{"$f":"SUM(BLM73:BLM77)","v":0},{"$f":"SUM(BLN73:BLN77)","v":0},{"$f":"SUM(BLO73:BLO77)","v":0},{"$f":"SUM(BLP73:BLP77)","v":0},{"$f":"SUM(BLQ73:BLQ77)","v":0},{"$f":"SUM(BLR73:BLR77)","v":0},{"$f":"SUM(BLS73:BLS77)","v":0},{"$f":"SUM(BLT73:BLT77)","v":0},{"$f":"SUM(BLU73:BLU77)","v":0},{"$f":"SUM(BLV73:BLV77)","v":0},{"$f":"SUM(BLW73:BLW77)","v":0},{"$f":"SUM(BLX73:BLX77)","v":0},{"$f":"SUM(BLY73:BLY77)","v":0},{"$f":"SUM(BLZ73:BLZ77)","v":0},{"$f":"SUM(BMA73:BMA77)","v":0},{"$f":"SUM(BMB73:BMB77)","v":0},{"$f":"SUM(BMC73:BMC77)","v":0},{"$f":"SUM(BMD73:BMD77)","v":0},{"$f":"SUM(BME73:BME77)","v":0},{"$f":"SUM(BMF73:BMF77)","v":0},{"$f":"SUM(BMG73:BMG77)","v":0},{"$f":"SUM(BMH73:BMH77)","v":0},{"$f":"SUM(BMI73:BMI77)","v":0},{"$f":"SUM(BMJ73:BMJ77)","v":0},{"$f":"SUM(BMK73:BMK77)","v":0},{"$f":"SUM(BML73:BML77)","v":0},{"$f":"SUM(BMM73:BMM77)","v":0},{"$f":"SUM(BMN73:BMN77)","v":0},{"$f":"SUM(BMO73:BMO77)","v":0},{"$f":"SUM(BMP73:BMP77)","v":0},{"$f":"SUM(BMQ73:BMQ77)","v":0},{"$f":"SUM(BMR73:BMR77)","v":0},{"$f":"SUM(BMS73:BMS77)","v":0},{"$f":"SUM(BMT73:BMT77)","v":0},{"$f":"SUM(BMU73:BMU77)","v":0},{"$f":"SUM(BMV73:BMV77)","v":0},{"$f":"SUM(BMW73:BMW77)","v":0},{"$f":"SUM(BMX73:BMX77)","v":0},{"$f":"SUM(BMY73:BMY77)","v":0},{"$f":"SUM(BMZ73:BMZ77)","v":0},{"$f":"SUM(BNA73:BNA77)","v":0},{"$f":"SUM(BNB73:BNB77)","v":0},{"$f":"SUM(BNC73:BNC77)","v":0},{"$f":"SUM(BND73:BND77)","v":0},{"$f":"SUM(BNE73:BNE77)","v":0},{"$f":"SUM(BNF73:BNF77)","v":0},{"$f":"SUM(BNG73:BNG77)","v":0},{"$f":"SUM(BNH73:BNH77)","v":0},{"$f":"SUM(BNI73:BNI77)","v":0},{"$f":"SUM(BNJ73:BNJ77)","v":0},{"$f":"SUM(BNK73:BNK77)","v":0},{"$f":"SUM(BNL73:BNL77)","v":0},{"$f":"SUM(BNM73:BNM77)","v":0},{"$f":"SUM(BNN73:BNN77)","v":0},{"$f":"SUM(BNO73:BNO77)","v":0},{"$f":"SUM(BNP73:BNP77)","v":0},{"$f":"SUM(BNQ73:BNQ77)","v":0},{"$f":"SUM(BNR73:BNR77)","v":0},{"$f":"SUM(BNS73:BNS77)","v":0},{"$f":"SUM(BNT73:BNT77)","v":0},{"$f":"SUM(BNU73:BNU77)","v":0},{"$f":"SUM(BNV73:BNV77)","v":0},{"$f":"SUM(BNW73:BNW77)","v":0},{"$f":"SUM(BNX73:BNX77)","v":0},{"$f":"SUM(BNY73:BNY77)","v":0},{"$f":"SUM(BNZ73:BNZ77)","v":0},{"$f":"SUM(BOA73:BOA77)","v":0},{"$f":"SUM(BOB73:BOB77)","v":0},{"$f":"SUM(BOC73:BOC77)","v":0},{"$f":"SUM(BOD73:BOD77)","v":0},{"$f":"SUM(BOE73:BOE77)","v":0},{"$f":"SUM(BOF73:BOF77)","v":0},{"$f":"SUM(BOG73:BOG77)","v":0},{"$f":"SUM(BOH73:BOH77)","v":0},{"$f":"SUM(BOI73:BOI77)","v":0},{"$f":"SUM(BOJ73:BOJ77)","v":0},{"$f":"SUM(BOK73:BOK77)","v":0},{"$f":"SUM(BOL73:BOL77)","v":0},{"$f":"SUM(BOM73:BOM77)","v":0},{"$f":"SUM(BON73:BON77)","v":0},{"$f":"SUM(BOO73:BOO77)","v":0},{"$f":"SUM(BOP73:BOP77)","v":0},{"$f":"SUM(BOQ73:BOQ77)","v":0},{"$f":"SUM(BOR73:BOR77)","v":0},{"$f":"SUM(BOS73:BOS77)","v":0},{"$f":"SUM(BOT73:BOT77)","v":0},{"$f":"SUM(BOU73:BOU77)","v":0},{"$f":"SUM(BOV73:BOV77)","v":0},{"$f":"SUM(BOW73:BOW77)","v":0},{"$f":"SUM(BOX73:BOX77)","v":0},{"$f":"SUM(BOY73:BOY77)","v":0},{"$f":"SUM(BOZ73:BOZ77)","v":0},{"$f":"SUM(BPA73:BPA77)","v":0},{"$f":"SUM(BPB73:BPB77)","v":0},{"$f":"SUM(BPC73:BPC77)","v":0},{"$f":"SUM(BPD73:BPD77)","v":0},{"$f":"SUM(BPE73:BPE77)","v":0},{"$f":"SUM(BPF73:BPF77)","v":0},{"$f":"SUM(BPG73:BPG77)","v":0},{"$f":"SUM(BPH73:BPH77)","v":0},{"$f":"SUM(BPI73:BPI77)","v":0},{"$f":"SUM(BPJ73:BPJ77)","v":0},{"$f":"SUM(BPK73:BPK77)","v":0},{"$f":"SUM(BPL73:BPL77)","v":0},{"$f":"SUM(BPM73:BPM77)","v":0},{"$f":"SUM(BPN73:BPN77)","v":0},{"$f":"SUM(BPO73:BPO77)","v":0},{"$f":"SUM(BPP73:BPP77)","v":0},{"$f":"SUM(BPQ73:BPQ77)","v":0},{"$f":"SUM(BPR73:BPR77)","v":0},{"$f":"SUM(BPS73:BPS77)","v":0},{"$f":"SUM(BPT73:BPT77)","v":0},{"$f":"SUM(BPU73:BPU77)","v":0},{"$f":"SUM(BPV73:BPV77)","v":0},{"$f":"SUM(BPW73:BPW77)","v":0},{"$f":"SUM(BPX73:BPX77)","v":0},{"$f":"SUM(BPY73:BPY77)","v":0},{"$f":"SUM(BPZ73:BPZ77)","v":0},{"$f":"SUM(BQA73:BQA77)","v":0},{"$f":"SUM(BQB73:BQB77)","v":0},{"$f":"SUM(BQC73:BQC77)","v":0},{"$f":"SUM(BQD73:BQD77)","v":0},{"$f":"SUM(BQE73:BQE77)","v":0},{"$f":"SUM(BQF73:BQF77)","v":0},{"$f":"SUM(BQG73:BQG77)","v":0},{"$f":"SUM(BQH73:BQH77)","v":0},{"$f":"SUM(BQI73:BQI77)","v":0},{"$f":"SUM(BQJ73:BQJ77)","v":0},{"$f":"SUM(BQK73:BQK77)","v":0},{"$f":"SUM(BQL73:BQL77)","v":0},{"$f":"SUM(BQM73:BQM77)","v":0},{"$f":"SUM(BQN73:BQN77)","v":0},{"$f":"SUM(BQO73:BQO77)","v":0},{"$f":"SUM(BQP73:BQP77)","v":0},{"$f":"SUM(BQQ73:BQQ77)","v":0},{"$f":"SUM(BQR73:BQR77)","v":0},{"$f":"SUM(BQS73:BQS77)","v":0},{"$f":"SUM(BQT73:BQT77)","v":0},{"$f":"SUM(BQU73:BQU77)","v":0},{"$f":"SUM(BQV73:BQV77)","v":0},{"$f":"SUM(BQW73:BQW77)","v":0},{"$f":"SUM(BQX73:BQX77)","v":0},{"$f":"SUM(BQY73:BQY77)","v":0},{"$f":"SUM(BQZ73:BQZ77)","v":0},{"$f":"SUM(BRA73:BRA77)","v":0},{"$f":"SUM(BRB73:BRB77)","v":0},{"$f":"SUM(BRC73:BRC77)","v":0},{"$f":"SUM(BRD73:BRD77)","v":0},{"$f":"SUM(BRE73:BRE77)","v":0},{"$f":"SUM(BRF73:BRF77)","v":0},{"$f":"SUM(BRG73:BRG77)","v":0},{"$f":"SUM(BRH73:BRH77)","v":0},{"$f":"SUM(BRI73:BRI77)","v":0},{"$f":"SUM(BRJ73:BRJ77)","v":0},{"$f":"SUM(BRK73:BRK77)","v":0},{"$f":"SUM(BRL73:BRL77)","v":0},{"$f":"SUM(BRM73:BRM77)","v":0},{"$f":"SUM(BRN73:BRN77)","v":0},{"$f":"SUM(BRO73:BRO77)","v":0},{"$f":"SUM(BRP73:BRP77)","v":0},{"$f":"SUM(BRQ73:BRQ77)","v":0},{"$f":"SUM(BRR73:BRR77)","v":0},{"$f":"SUM(BRS73:BRS77)","v":0},{"$f":"SUM(BRT73:BRT77)","v":0},{"$f":"SUM(BRU73:BRU77)","v":0},{"$f":"SUM(BRV73:BRV77)","v":0},{"$f":"SUM(BRW73:BRW77)","v":0},{"$f":"SUM(BRX73:BRX77)","v":0},{"$f":"SUM(BRY73:BRY77)","v":0},{"$f":"SUM(BRZ73:BRZ77)","v":0},{"$f":"SUM(BSA73:BSA77)","v":0},{"$f":"SUM(BSB73:BSB77)","v":0},{"$f":"SUM(BSC73:BSC77)","v":0},{"$f":"SUM(BSD73:BSD77)","v":0},{"$f":"SUM(BSE73:BSE77)","v":0},{"$f":"SUM(BSF73:BSF77)","v":0},{"$f":"SUM(BSG73:BSG77)","v":0},{"$f":"SUM(BSH73:BSH77)","v":0},{"$f":"SUM(BSI73:BSI77)","v":0},{"$f":"SUM(BSJ73:BSJ77)","v":0},{"$f":"SUM(BSK73:BSK77)","v":0},{"$f":"SUM(BSL73:BSL77)","v":0},{"$f":"SUM(BSM73:BSM77)","v":0},{"$f":"SUM(BSN73:BSN77)","v":0},{"$f":"SUM(BSO73:BSO77)","v":0},{"$f":"SUM(BSP73:BSP77)","v":0},{"$f":"SUM(BSQ73:BSQ77)","v":0},{"$f":"SUM(BSR73:BSR77)","v":0},{"$f":"SUM(BSS73:BSS77)","v":0},{"$f":"SUM(BST73:BST77)","v":0},{"$f":"SUM(BSU73:BSU77)","v":0},{"$f":"SUM(BSV73:BSV77)","v":0},{"$f":"SUM(BSW73:BSW77)","v":0},{"$f":"SUM(BSX73:BSX77)","v":0},{"$f":"SUM(BSY73:BSY77)","v":0},{"$f":"SUM(BSZ73:BSZ77)","v":0},{"$f":"SUM(BTA73:BTA77)","v":0},{"$f":"SUM(BTB73:BTB77)","v":0},{"$f":"SUM(BTC73:BTC77)","v":0},{"$f":"SUM(BTD73:BTD77)","v":0},{"$f":"SUM(BTE73:BTE77)","v":0},{"$f":"SUM(BTF73:BTF77)","v":0},{"$f":"SUM(BTG73:BTG77)","v":0},{"$f":"SUM(BTH73:BTH77)","v":0},{"$f":"SUM(BTI73:BTI77)","v":0},{"$f":"SUM(BTJ73:BTJ77)","v":0},{"$f":"SUM(BTK73:BTK77)","v":0},{"$f":"SUM(BTL73:BTL77)","v":0},{"$f":"SUM(BTM73:BTM77)","v":0},{"$f":"SUM(BTN73:BTN77)","v":0},{"$f":"SUM(BTO73:BTO77)","v":0},{"$f":"SUM(BTP73:BTP77)","v":0},{"$f":"SUM(BTQ73:BTQ77)","v":0},{"$f":"SUM(BTR73:BTR77)","v":0},{"$f":"SUM(BTS73:BTS77)","v":0},{"$f":"SUM(BTT73:BTT77)","v":0},{"$f":"SUM(BTU73:BTU77)","v":0},{"$f":"SUM(BTV73:BTV77)","v":0},{"$f":"SUM(BTW73:BTW77)","v":0},{"$f":"SUM(BTX73:BTX77)","v":0},{"$f":"SUM(BTY73:BTY77)","v":0},{"$f":"SUM(BTZ73:BTZ77)","v":0},{"$f":"SUM(BUA73:BUA77)","v":0},{"$f":"SUM(BUB73:BUB77)","v":0},{"$f":"SUM(BUC73:BUC77)","v":0},{"$f":"SUM(BUD73:BUD77)","v":0},{"$f":"SUM(BUE73:BUE77)","v":0},{"$f":"SUM(BUF73:BUF77)","v":0},{"$f":"SUM(BUG73:BUG77)","v":0},{"$f":"SUM(BUH73:BUH77)","v":0},{"$f":"SUM(BUI73:BUI77)","v":0},{"$f":"SUM(BUJ73:BUJ77)","v":0},{"$f":"SUM(BUK73:BUK77)","v":0},{"$f":"SUM(BUL73:BUL77)","v":0},{"$f":"SUM(BUM73:BUM77)","v":0},{"$f":"SUM(BUN73:BUN77)","v":0},{"$f":"SUM(BUO73:BUO77)","v":0},{"$f":"SUM(BUP73:BUP77)","v":0},{"$f":"SUM(BUQ73:BUQ77)","v":0},{"$f":"SUM(BUR73:BUR77)","v":0},{"$f":"SUM(BUS73:BUS77)","v":0},{"$f":"SUM(BUT73:BUT77)","v":0},{"$f":"SUM(BUU73:BUU77)","v":0},{"$f":"SUM(BUV73:BUV77)","v":0},{"$f":"SUM(BUW73:BUW77)","v":0},{"$f":"SUM(BUX73:BUX77)","v":0},{"$f":"SUM(BUY73:BUY77)","v":0},{"$f":"SUM(BUZ73:BUZ77)","v":0},{"$f":"SUM(BVA73:BVA77)","v":0},{"$f":"SUM(BVB73:BVB77)","v":0},{"$f":"SUM(BVC73:BVC77)","v":0},{"$f":"SUM(BVD73:BVD77)","v":0},{"$f":"SUM(BVE73:BVE77)","v":0},{"$f":"SUM(BVF73:BVF77)","v":0},{"$f":"SUM(BVG73:BVG77)","v":0},{"$f":"SUM(BVH73:BVH77)","v":0},{"$f":"SUM(BVI73:BVI77)","v":0},{"$f":"SUM(BVJ73:BVJ77)","v":0},{"$f":"SUM(BVK73:BVK77)","v":0},{"$f":"SUM(BVL73:BVL77)","v":0},{"$f":"SUM(BVM73:BVM77)","v":0},{"$f":"SUM(BVN73:BVN77)","v":0},{"$f":"SUM(BVO73:BVO77)","v":0},{"$f":"SUM(BVP73:BVP77)","v":0},{"$f":"SUM(BVQ73:BVQ77)","v":0},{"$f":"SUM(BVR73:BVR77)","v":0},{"$f":"SUM(BVS73:BVS77)","v":0},{"$f":"SUM(BVT73:BVT77)","v":0},{"$f":"SUM(BVU73:BVU77)","v":0},{"$f":"SUM(BVV73:BVV77)","v":0},{"$f":"SUM(BVW73:BVW77)","v":0},{"$f":"SUM(BVX73:BVX77)","v":0},{"$f":"SUM(BVY73:BVY77)","v":0},{"$f":"SUM(BVZ73:BVZ77)","v":0},{"$f":"SUM(BWA73:BWA77)","v":0},{"$f":"SUM(BWB73:BWB77)","v":0},{"$f":"SUM(BWC73:BWC77)","v":0},{"$f":"SUM(BWD73:BWD77)","v":0},{"$f":"SUM(BWE73:BWE77)","v":0},{"$f":"SUM(BWF73:BWF77)","v":0},{"$f":"SUM(BWG73:BWG77)","v":0},{"$f":"SUM(BWH73:BWH77)","v":0},{"$f":"SUM(BWI73:BWI77)","v":0},{"$f":"SUM(BWJ73:BWJ77)","v":0},{"$f":"SUM(BWK73:BWK77)","v":0},{"$f":"SUM(BWL73:BWL77)","v":0},{"$f":"SUM(BWM73:BWM77)","v":0},{"$f":"SUM(BWN73:BWN77)","v":0},{"$f":"SUM(BWO73:BWO77)","v":0},{"$f":"SUM(BWP73:BWP77)","v":0},{"$f":"SUM(BWQ73:BWQ77)","v":0},{"$f":"SUM(BWR73:BWR77)","v":0},{"$f":"SUM(BWS73:BWS77)","v":0},{"$f":"SUM(BWT73:BWT77)","v":0},{"$f":"SUM(BWU73:BWU77)","v":0},{"$f":"SUM(BWV73:BWV77)","v":0},{"$f":"SUM(BWW73:BWW77)","v":0},{"$f":"SUM(BWX73:BWX77)","v":0},{"$f":"SUM(BWY73:BWY77)","v":0},{"$f":"SUM(BWZ73:BWZ77)","v":0},{"$f":"SUM(BXA73:BXA77)","v":0},{"$f":"SUM(BXB73:BXB77)","v":0},{"$f":"SUM(BXC73:BXC77)","v":0},{"$f":"SUM(BXD73:BXD77)","v":0},{"$f":"SUM(BXE73:BXE77)","v":0},{"$f":"SUM(BXF73:BXF77)","v":0},{"$f":"SUM(BXG73:BXG77)","v":0},{"$f":"SUM(BXH73:BXH77)","v":0},{"$f":"SUM(BXI73:BXI77)","v":0},{"$f":"SUM(BXJ73:BXJ77)","v":0},{"$f":"SUM(BXK73:BXK77)","v":0},{"$f":"SUM(BXL73:BXL77)","v":0},{"$f":"SUM(BXM73:BXM77)","v":0},{"$f":"SUM(BXN73:BXN77)","v":0},{"$f":"SUM(BXO73:BXO77)","v":0},{"$f":"SUM(BXP73:BXP77)","v":0},{"$f":"SUM(BXQ73:BXQ77)","v":0},{"$f":"SUM(BXR73:BXR77)","v":0},{"$f":"SUM(BXS73:BXS77)","v":0},{"$f":"SUM(BXT73:BXT77)","v":0},{"$f":"SUM(BXU73:BXU77)","v":0},{"$f":"SUM(BXV73:BXV77)","v":0},{"$f":"SUM(BXW73:BXW77)","v":0},{"$f":"SUM(BXX73:BXX77)","v":0},{"$f":"SUM(BXY73:BXY77)","v":0},{"$f":"SUM(BXZ73:BXZ77)","v":0},{"$f":"SUM(BYA73:BYA77)","v":0},{"$f":"SUM(BYB73:BYB77)","v":0},{"$f":"SUM(BYC73:BYC77)","v":0},{"$f":"SUM(BYD73:BYD77)","v":0},{"$f":"SUM(BYE73:BYE77)","v":0},{"$f":"SUM(BYF73:BYF77)","v":0},{"$f":"SUM(BYG73:BYG77)","v":0},{"$f":"SUM(BYH73:BYH77)","v":0},{"$f":"SUM(BYI73:BYI77)","v":0},{"$f":"SUM(BYJ73:BYJ77)","v":0},{"$f":"SUM(BYK73:BYK77)","v":0},{"$f":"SUM(BYL73:BYL77)","v":0},{"$f":"SUM(BYM73:BYM77)","v":0},{"$f":"SUM(BYN73:BYN77)","v":0},{"$f":"SUM(BYO73:BYO77)","v":0},{"$f":"SUM(BYP73:BYP77)","v":0},{"$f":"SUM(BYQ73:BYQ77)","v":0},{"$f":"SUM(BYR73:BYR77)","v":0},{"$f":"SUM(BYS73:BYS77)","v":0},{"$f":"SUM(BYT73:BYT77)","v":0},{"$f":"SUM(BYU73:BYU77)","v":0},{"$f":"SUM(BYV73:BYV77)","v":0},{"$f":"SUM(BYW73:BYW77)","v":0},{"$f":"SUM(BYX73:BYX77)","v":0},{"$f":"SUM(BYY73:BYY77)","v":0},{"$f":"SUM(BYZ73:BYZ77)","v":0},{"$f":"SUM(BZA73:BZA77)","v":0},{"$f":"SUM(BZB73:BZB77)","v":0},{"$f":"SUM(BZC73:BZC77)","v":0},{"$f":"SUM(BZD73:BZD77)","v":0},{"$f":"SUM(BZE73:BZE77)","v":0},{"$f":"SUM(BZF73:BZF77)","v":0},{"$f":"SUM(BZG73:BZG77)","v":0},{"$f":"SUM(BZH73:BZH77)","v":0},{"$f":"SUM(BZI73:BZI77)","v":0},{"$f":"SUM(BZJ73:BZJ77)","v":0},{"$f":"SUM(BZK73:BZK77)","v":0},{"$f":"SUM(BZL73:BZL77)","v":0},{"$f":"SUM(BZM73:BZM77)","v":0},{"$f":"SUM(BZN73:BZN77)","v":0},{"$f":"SUM(BZO73:BZO77)","v":0},{"$f":"SUM(BZP73:BZP77)","v":0},{"$f":"SUM(BZQ73:BZQ77)","v":0},{"$f":"SUM(BZR73:BZR77)","v":0},{"$f":"SUM(BZS73:BZS77)","v":0},{"$f":"SUM(BZT73:BZT77)","v":0},{"$f":"SUM(BZU73:BZU77)","v":0},{"$f":"SUM(BZV73:BZV77)","v":0},{"$f":"SUM(BZW73:BZW77)","v":0},{"$f":"SUM(BZX73:BZX77)","v":0},{"$f":"SUM(BZY73:BZY77)","v":0},{"$f":"SUM(BZZ73:BZZ77)","v":0},{"$f":"SUM(CAA73:CAA77)","v":0},{"$f":"SUM(CAB73:CAB77)","v":0},{"$f":"SUM(CAC73:CAC77)","v":0},{"$f":"SUM(CAD73:CAD77)","v":0},{"$f":"SUM(CAE73:CAE77)","v":0},{"$f":"SUM(CAF73:CAF77)","v":0},{"$f":"SUM(CAG73:CAG77)","v":0},{"$f":"SUM(CAH73:CAH77)","v":0},{"$f":"SUM(CAI73:CAI77)","v":0},{"$f":"SUM(CAJ73:CAJ77)","v":0},{"$f":"SUM(CAK73:CAK77)","v":0},{"$f":"SUM(CAL73:CAL77)","v":0},{"$f":"SUM(CAM73:CAM77)","v":0},{"$f":"SUM(CAN73:CAN77)","v":0},{"$f":"SUM(CAO73:CAO77)","v":0},{"$f":"SUM(CAP73:CAP77)","v":0},{"$f":"SUM(CAQ73:CAQ77)","v":0},{"$f":"SUM(CAR73:CAR77)","v":0},{"$f":"SUM(CAS73:CAS77)","v":0},{"$f":"SUM(CAT73:CAT77)","v":0},{"$f":"SUM(CAU73:CAU77)","v":0},{"$f":"SUM(CAV73:CAV77)","v":0},{"$f":"SUM(CAW73:CAW77)","v":0},{"$f":"SUM(CAX73:CAX77)","v":0},{"$f":"SUM(CAY73:CAY77)","v":0},{"$f":"SUM(CAZ73:CAZ77)","v":0},{"$f":"SUM(CBA73:CBA77)","v":0},{"$f":"SUM(CBB73:CBB77)","v":0},{"$f":"SUM(CBC73:CBC77)","v":0},{"$f":"SUM(CBD73:CBD77)","v":0},{"$f":"SUM(CBE73:CBE77)","v":0},{"$f":"SUM(CBF73:CBF77)","v":0},{"$f":"SUM(CBG73:CBG77)","v":0},{"$f":"SUM(CBH73:CBH77)","v":0},{"$f":"SUM(CBI73:CBI77)","v":0},{"$f":"SUM(CBJ73:CBJ77)","v":0},{"$f":"SUM(CBK73:CBK77)","v":0},{"$f":"SUM(CBL73:CBL77)","v":0},{"$f":"SUM(CBM73:CBM77)","v":0},{"$f":"SUM(CBN73:CBN77)","v":0},{"$f":"SUM(CBO73:CBO77)","v":0},{"$f":"SUM(CBP73:CBP77)","v":0},{"$f":"SUM(CBQ73:CBQ77)","v":0},{"$f":"SUM(CBR73:CBR77)","v":0},{"$f":"SUM(CBS73:CBS77)","v":0},{"$f":"SUM(CBT73:CBT77)","v":0},{"$f":"SUM(CBU73:CBU77)","v":0},{"$f":"SUM(CBV73:CBV77)","v":0},{"$f":"SUM(CBW73:CBW77)","v":0},{"$f":"SUM(CBX73:CBX77)","v":0},{"$f":"SUM(CBY73:CBY77)","v":0},{"$f":"SUM(CBZ73:CBZ77)","v":0},{"$f":"SUM(CCA73:CCA77)","v":0},{"$f":"SUM(CCB73:CCB77)","v":0},{"$f":"SUM(CCC73:CCC77)","v":0},{"$f":"SUM(CCD73:CCD77)","v":0},{"$f":"SUM(CCE73:CCE77)","v":0},{"$f":"SUM(CCF73:CCF77)","v":0},{"$f":"SUM(CCG73:CCG77)","v":0},{"$f":"SUM(CCH73:CCH77)","v":0},{"$f":"SUM(CCI73:CCI77)","v":0},{"$f":"SUM(CCJ73:CCJ77)","v":0},{"$f":"SUM(CCK73:CCK77)","v":0},{"$f":"SUM(CCL73:CCL77)","v":0},{"$f":"SUM(CCM73:CCM77)","v":0},{"$f":"SUM(CCN73:CCN77)","v":0},{"$f":"SUM(CCO73:CCO77)","v":0},{"$f":"SUM(CCP73:CCP77)","v":0},{"$f":"SUM(CCQ73:CCQ77)","v":0},{"$f":"SUM(CCR73:CCR77)","v":0},{"$f":"SUM(CCS73:CCS77)","v":0},{"$f":"SUM(CCT73:CCT77)","v":0},{"$f":"SUM(CCU73:CCU77)","v":0},{"$f":"SUM(CCV73:CCV77)","v":0},{"$f":"SUM(CCW73:CCW77)","v":0},{"$f":"SUM(CCX73:CCX77)","v":0},{"$f":"SUM(CCY73:CCY77)","v":0},{"$f":"SUM(CCZ73:CCZ77)","v":0},{"$f":"SUM(CDA73:CDA77)","v":0},{"$f":"SUM(CDB73:CDB77)","v":0},{"$f":"SUM(CDC73:CDC77)","v":0},{"$f":"SUM(CDD73:CDD77)","v":0},{"$f":"SUM(CDE73:CDE77)","v":0},{"$f":"SUM(CDF73:CDF77)","v":0},{"$f":"SUM(CDG73:CDG77)","v":0},{"$f":"SUM(CDH73:CDH77)","v":0},{"$f":"SUM(CDI73:CDI77)","v":0},{"$f":"SUM(CDJ73:CDJ77)","v":0},{"$f":"SUM(CDK73:CDK77)","v":0},{"$f":"SUM(CDL73:CDL77)","v":0},{"$f":"SUM(CDM73:CDM77)","v":0},{"$f":"SUM(CDN73:CDN77)","v":0},{"$f":"SUM(CDO73:CDO77)","v":0},{"$f":"SUM(CDP73:CDP77)","v":0},{"$f":"SUM(CDQ73:CDQ77)","v":0},{"$f":"SUM(CDR73:CDR77)","v":0},{"$f":"SUM(CDS73:CDS77)","v":0},{"$f":"SUM(CDT73:CDT77)","v":0},{"$f":"SUM(CDU73:CDU77)","v":0},{"$f":"SUM(CDV73:CDV77)","v":0},{"$f":"SUM(CDW73:CDW77)","v":0},{"$f":"SUM(CDX73:CDX77)","v":0},{"$f":"SUM(CDY73:CDY77)","v":0},{"$f":"SUM(CDZ73:CDZ77)","v":0},{"$f":"SUM(CEA73:CEA77)","v":0},{"$f":"SUM(CEB73:CEB77)","v":0},{"$f":"SUM(CEC73:CEC77)","v":0},{"$f":"SUM(CED73:CED77)","v":0},{"$f":"SUM(CEE73:CEE77)","v":0},{"$f":"SUM(CEF73:CEF77)","v":0},{"$f":"SUM(CEG73:CEG77)","v":0},{"$f":"SUM(CEH73:CEH77)","v":0},{"$f":"SUM(CEI73:CEI77)","v":0},{"$f":"SUM(CEJ73:CEJ77)","v":0},{"$f":"SUM(CEK73:CEK77)","v":0},{"$f":"SUM(CEL73:CEL77)","v":0},{"$f":"SUM(CEM73:CEM77)","v":0},{"$f":"SUM(CEN73:CEN77)","v":0},{"$f":"SUM(CEO73:CEO77)","v":0},{"$f":"SUM(CEP73:CEP77)","v":0},{"$f":"SUM(CEQ73:CEQ77)","v":0},{"$f":"SUM(CER73:CER77)","v":0},{"$f":"SUM(CES73:CES77)","v":0},{"$f":"SUM(CET73:CET77)","v":0},{"$f":"SUM(CEU73:CEU77)","v":0},{"$f":"SUM(CEV73:CEV77)","v":0},{"$f":"SUM(CEW73:CEW77)","v":0},{"$f":"SUM(CEX73:CEX77)","v":0},{"$f":"SUM(CEY73:CEY77)","v":0},{"$f":"SUM(CEZ73:CEZ77)","v":0},{"$f":"SUM(CFA73:CFA77)","v":0},{"$f":"SUM(CFB73:CFB77)","v":0},{"$f":"SUM(CFC73:CFC77)","v":0},{"$f":"SUM(CFD73:CFD77)","v":0},{"$f":"SUM(CFE73:CFE77)","v":0},{"$f":"SUM(CFF73:CFF77)","v":0},{"$f":"SUM(CFG73:CFG77)","v":0},{"$f":"SUM(CFH73:CFH77)","v":0},{"$f":"SUM(CFI73:CFI77)","v":0},{"$f":"SUM(CFJ73:CFJ77)","v":0},{"$f":"SUM(CFK73:CFK77)","v":0},{"$f":"SUM(CFL73:CFL77)","v":0},{"$f":"SUM(CFM73:CFM77)","v":0},{"$f":"SUM(CFN73:CFN77)","v":0},{"$f":"SUM(CFO73:CFO77)","v":0},{"$f":"SUM(CFP73:CFP77)","v":0},{"$f":"SUM(CFQ73:CFQ77)","v":0},{"$f":"SUM(CFR73:CFR77)","v":0},{"$f":"SUM(CFS73:CFS77)","v":0},{"$f":"SUM(CFT73:CFT77)","v":0},{"$f":"SUM(CFU73:CFU77)","v":0},{"$f":"SUM(CFV73:CFV77)","v":0},{"$f":"SUM(CFW73:CFW77)","v":0},{"$f":"SUM(CFX73:CFX77)","v":0},{"$f":"SUM(CFY73:CFY77)","v":0},{"$f":"SUM(CFZ73:CFZ77)","v":0},{"$f":"SUM(CGA73:CGA77)","v":0},{"$f":"SUM(CGB73:CGB77)","v":0},{"$f":"SUM(CGC73:CGC77)","v":0},{"$f":"SUM(CGD73:CGD77)","v":0},{"$f":"SUM(CGE73:CGE77)","v":0},{"$f":"SUM(CGF73:CGF77)","v":0},{"$f":"SUM(CGG73:CGG77)","v":0},{"$f":"SUM(CGH73:CGH77)","v":0},{"$f":"SUM(CGI73:CGI77)","v":0},{"$f":"SUM(CGJ73:CGJ77)","v":0},{"$f":"SUM(CGK73:CGK77)","v":0},{"$f":"SUM(CGL73:CGL77)","v":0},{"$f":"SUM(CGM73:CGM77)","v":0},{"$f":"SUM(CGN73:CGN77)","v":0},{"$f":"SUM(CGO73:CGO77)","v":0},{"$f":"SUM(CGP73:CGP77)","v":0},{"$f":"SUM(CGQ73:CGQ77)","v":0},{"$f":"SUM(CGR73:CGR77)","v":0},{"$f":"SUM(CGS73:CGS77)","v":0},{"$f":"SUM(CGT73:CGT77)","v":0},{"$f":"SUM(CGU73:CGU77)","v":0},{"$f":"SUM(CGV73:CGV77)","v":0},{"$f":"SUM(CGW73:CGW77)","v":0},{"$f":"SUM(CGX73:CGX77)","v":0},{"$f":"SUM(CGY73:CGY77)","v":0},{"$f":"SUM(CGZ73:CGZ77)","v":0},{"$f":"SUM(CHA73:CHA77)","v":0},{"$f":"SUM(CHB73:CHB77)","v":0},{"$f":"SUM(CHC73:CHC77)","v":0},{"$f":"SUM(CHD73:CHD77)","v":0},{"$f":"SUM(CHE73:CHE77)","v":0},{"$f":"SUM(CHF73:CHF77)","v":0},{"$f":"SUM(CHG73:CHG77)","v":0},{"$f":"SUM(CHH73:CHH77)","v":0},{"$f":"SUM(CHI73:CHI77)","v":0},{"$f":"SUM(CHJ73:CHJ77)","v":0},{"$f":"SUM(CHK73:CHK77)","v":0},{"$f":"SUM(CHL73:CHL77)","v":0},{"$f":"SUM(CHM73:CHM77)","v":0},{"$f":"SUM(CHN73:CHN77)","v":0},{"$f":"SUM(CHO73:CHO77)","v":0},{"$f":"SUM(CHP73:CHP77)","v":0},{"$f":"SUM(CHQ73:CHQ77)","v":0},{"$f":"SUM(CHR73:CHR77)","v":0},{"$f":"SUM(CHS73:CHS77)","v":0},{"$f":"SUM(CHT73:CHT77)","v":0},{"$f":"SUM(CHU73:CHU77)","v":0},{"$f":"SUM(CHV73:CHV77)","v":0},{"$f":"SUM(CHW73:CHW77)","v":0},{"$f":"SUM(CHX73:CHX77)","v":0},{"$f":"SUM(CHY73:CHY77)","v":0},{"$f":"SUM(CHZ73:CHZ77)","v":0},{"$f":"SUM(CIA73:CIA77)","v":0},{"$f":"SUM(CIB73:CIB77)","v":0},{"$f":"SUM(CIC73:CIC77)","v":0},{"$f":"SUM(CID73:CID77)","v":0},{"$f":"SUM(CIE73:CIE77)","v":0},{"$f":"SUM(CIF73:CIF77)","v":0},{"$f":"SUM(CIG73:CIG77)","v":0},{"$f":"SUM(CIH73:CIH77)","v":0},{"$f":"SUM(CII73:CII77)","v":0},{"$f":"SUM(CIJ73:CIJ77)","v":0},{"$f":"SUM(CIK73:CIK77)","v":0},{"$f":"SUM(CIL73:CIL77)","v":0},{"$f":"SUM(CIM73:CIM77)","v":0},{"$f":"SUM(CIN73:CIN77)","v":0},{"$f":"SUM(CIO73:CIO77)","v":0},{"$f":"SUM(CIP73:CIP77)","v":0},{"$f":"SUM(CIQ73:CIQ77)","v":0},{"$f":"SUM(CIR73:CIR77)","v":0},{"$f":"SUM(CIS73:CIS77)","v":0},{"$f":"SUM(CIT73:CIT77)","v":0},{"$f":"SUM(CIU73:CIU77)","v":0},{"$f":"SUM(CIV73:CIV77)","v":0},{"$f":"SUM(CIW73:CIW77)","v":0},{"$f":"SUM(CIX73:CIX77)","v":0},{"$f":"SUM(CIY73:CIY77)","v":0},{"$f":"SUM(CIZ73:CIZ77)","v":0},{"$f":"SUM(CJA73:CJA77)","v":0},{"$f":"SUM(CJB73:CJB77)","v":0},{"$f":"SUM(CJC73:CJC77)","v":0},{"$f":"SUM(CJD73:CJD77)","v":0},{"$f":"SUM(CJE73:CJE77)","v":0},{"$f":"SUM(CJF73:CJF77)","v":0},{"$f":"SUM(CJG73:CJG77)","v":0},{"$f":"SUM(CJH73:CJH77)","v":0},{"$f":"SUM(CJI73:CJI77)","v":0},{"$f":"SUM(CJJ73:CJJ77)","v":0},{"$f":"SUM(CJK73:CJK77)","v":0},{"$f":"SUM(CJL73:CJL77)","v":0},{"$f":"SUM(CJM73:CJM77)","v":0},{"$f":"SUM(CJN73:CJN77)","v":0},{"$f":"SUM(CJO73:CJO77)","v":0},{"$f":"SUM(CJP73:CJP77)","v":0},{"$f":"SUM(CJQ73:CJQ77)","v":0},{"$f":"SUM(CJR73:CJR77)","v":0},{"$f":"SUM(CJS73:CJS77)","v":0},{"$f":"SUM(CJT73:CJT77)","v":0},{"$f":"SUM(CJU73:CJU77)","v":0},{"$f":"SUM(CJV73:CJV77)","v":0},{"$f":"SUM(CJW73:CJW77)","v":0},{"$f":"SUM(CJX73:CJX77)","v":0},{"$f":"SUM(CJY73:CJY77)","v":0},{"$f":"SUM(CJZ73:CJZ77)","v":0},{"$f":"SUM(CKA73:CKA77)","v":0},{"$f":"SUM(CKB73:CKB77)","v":0},{"$f":"SUM(CKC73:CKC77)","v":0},{"$f":"SUM(CKD73:CKD77)","v":0},{"$f":"SUM(CKE73:CKE77)","v":0},{"$f":"SUM(CKF73:CKF77)","v":0},{"$f":"SUM(CKG73:CKG77)","v":0},{"$f":"SUM(CKH73:CKH77)","v":0},{"$f":"SUM(CKI73:CKI77)","v":0},{"$f":"SUM(CKJ73:CKJ77)","v":0},{"$f":"SUM(CKK73:CKK77)","v":0},{"$f":"SUM(CKL73:CKL77)","v":0},{"$f":"SUM(CKM73:CKM77)","v":0},{"$f":"SUM(CKN73:CKN77)","v":0},{"$f":"SUM(CKO73:CKO77)","v":0},{"$f":"SUM(CKP73:CKP77)","v":0},{"$f":"SUM(CKQ73:CKQ77)","v":0},{"$f":"SUM(CKR73:CKR77)","v":0},{"$f":"SUM(CKS73:CKS77)","v":0},{"$f":"SUM(CKT73:CKT77)","v":0},{"$f":"SUM(CKU73:CKU77)","v":0},{"$f":"SUM(CKV73:CKV77)","v":0},{"$f":"SUM(CKW73:CKW77)","v":0},{"$f":"SUM(CKX73:CKX77)","v":0},{"$f":"SUM(CKY73:CKY77)","v":0},{"$f":"SUM(CKZ73:CKZ77)","v":0},{"$f":"SUM(CLA73:CLA77)","v":0},{"$f":"SUM(CLB73:CLB77)","v":0},{"$f":"SUM(CLC73:CLC77)","v":0},{"$f":"SUM(CLD73:CLD77)","v":0},{"$f":"SUM(CLE73:CLE77)","v":0},{"$f":"SUM(CLF73:CLF77)","v":0},{"$f":"SUM(CLG73:CLG77)","v":0},{"$f":"SUM(CLH73:CLH77)","v":0},{"$f":"SUM(CLI73:CLI77)","v":0},{"$f":"SUM(CLJ73:CLJ77)","v":0},{"$f":"SUM(CLK73:CLK77)","v":0},{"$f":"SUM(CLL73:CLL77)","v":0},{"$f":"SUM(CLM73:CLM77)","v":0},{"$f":"SUM(CLN73:CLN77)","v":0},{"$f":"SUM(CLO73:CLO77)","v":0},{"$f":"SUM(CLP73:CLP77)","v":0},{"$f":"SUM(CLQ73:CLQ77)","v":0},{"$f":"SUM(CLR73:CLR77)","v":0},{"$f":"SUM(CLS73:CLS77)","v":0},{"$f":"SUM(CLT73:CLT77)","v":0},{"$f":"SUM(CLU73:CLU77)","v":0},{"$f":"SUM(CLV73:CLV77)","v":0},{"$f":"SUM(CLW73:CLW77)","v":0},{"$f":"SUM(CLX73:CLX77)","v":0},{"$f":"SUM(CLY73:CLY77)","v":0},{"$f":"SUM(CLZ73:CLZ77)","v":0},{"$f":"SUM(CMA73:CMA77)","v":0},{"$f":"SUM(CMB73:CMB77)","v":0},{"$f":"SUM(CMC73:CMC77)","v":0},{"$f":"SUM(CMD73:CMD77)","v":0},{"$f":"SUM(CME73:CME77)","v":0},{"$f":"SUM(CMF73:CMF77)","v":0},{"$f":"SUM(CMG73:CMG77)","v":0},{"$f":"SUM(CMH73:CMH77)","v":0},{"$f":"SUM(CMI73:CMI77)","v":0},{"$f":"SUM(CMJ73:CMJ77)","v":0},{"$f":"SUM(CMK73:CMK77)","v":0},{"$f":"SUM(CML73:CML77)","v":0},{"$f":"SUM(CMM73:CMM77)","v":0},{"$f":"SUM(CMN73:CMN77)","v":0},{"$f":"SUM(CMO73:CMO77)","v":0},{"$f":"SUM(CMP73:CMP77)","v":0},{"$f":"SUM(CMQ73:CMQ77)","v":0},{"$f":"SUM(CMR73:CMR77)","v":0},{"$f":"SUM(CMS73:CMS77)","v":0},{"$f":"SUM(CMT73:CMT77)","v":0},{"$f":"SUM(CMU73:CMU77)","v":0},{"$f":"SUM(CMV73:CMV77)","v":0},{"$f":"SUM(CMW73:CMW77)","v":0},{"$f":"SUM(CMX73:CMX77)","v":0},{"$f":"SUM(CMY73:CMY77)","v":0},{"$f":"SUM(CMZ73:CMZ77)","v":0},{"$f":"SUM(CNA73:CNA77)","v":0},{"$f":"SUM(CNB73:CNB77)","v":0},{"$f":"SUM(CNC73:CNC77)","v":0},{"$f":"SUM(CND73:CND77)","v":0},{"$f":"SUM(CNE73:CNE77)","v":0},{"$f":"SUM(CNF73:CNF77)","v":0},{"$f":"SUM(CNG73:CNG77)","v":0},{"$f":"SUM(CNH73:CNH77)","v":0},{"$f":"SUM(CNI73:CNI77)","v":0},{"$f":"SUM(CNJ73:CNJ77)","v":0},{"$f":"SUM(CNK73:CNK77)","v":0},{"$f":"SUM(CNL73:CNL77)","v":0},{"$f":"SUM(CNM73:CNM77)","v":0},{"$f":"SUM(CNN73:CNN77)","v":0},{"$f":"SUM(CNO73:CNO77)","v":0},{"$f":"SUM(CNP73:CNP77)","v":0},{"$f":"SUM(CNQ73:CNQ77)","v":0},{"$f":"SUM(CNR73:CNR77)","v":0},{"$f":"SUM(CNS73:CNS77)","v":0},{"$f":"SUM(CNT73:CNT77)","v":0},{"$f":"SUM(CNU73:CNU77)","v":0},{"$f":"SUM(CNV73:CNV77)","v":0},{"$f":"SUM(CNW73:CNW77)","v":0},{"$f":"SUM(CNX73:CNX77)","v":0},{"$f":"SUM(CNY73:CNY77)","v":0},{"$f":"SUM(CNZ73:CNZ77)","v":0},{"$f":"SUM(COA73:COA77)","v":0},{"$f":"SUM(COB73:COB77)","v":0},{"$f":"SUM(COC73:COC77)","v":0},{"$f":"SUM(COD73:COD77)","v":0},{"$f":"SUM(COE73:COE77)","v":0},{"$f":"SUM(COF73:COF77)","v":0},{"$f":"SUM(COG73:COG77)","v":0},{"$f":"SUM(COH73:COH77)","v":0},{"$f":"SUM(COI73:COI77)","v":0},{"$f":"SUM(COJ73:COJ77)","v":0},{"$f":"SUM(COK73:COK77)","v":0},{"$f":"SUM(COL73:COL77)","v":0},{"$f":"SUM(COM73:COM77)","v":0},{"$f":"SUM(CON73:CON77)","v":0},{"$f":"SUM(COO73:COO77)","v":0},{"$f":"SUM(COP73:COP77)","v":0},{"$f":"SUM(COQ73:COQ77)","v":0},{"$f":"SUM(COR73:COR77)","v":0},{"$f":"SUM(COS73:COS77)","v":0},{"$f":"SUM(COT73:COT77)","v":0},{"$f":"SUM(COU73:COU77)","v":0},{"$f":"SUM(COV73:COV77)","v":0},{"$f":"SUM(COW73:COW77)","v":0},{"$f":"SUM(COX73:COX77)","v":0},{"$f":"SUM(COY73:COY77)","v":0},{"$f":"SUM(COZ73:COZ77)","v":0},{"$f":"SUM(CPA73:CPA77)","v":0},{"$f":"SUM(CPB73:CPB77)","v":0},{"$f":"SUM(CPC73:CPC77)","v":0},{"$f":"SUM(CPD73:CPD77)","v":0},{"$f":"SUM(CPE73:CPE77)","v":0},{"$f":"SUM(CPF73:CPF77)","v":0},{"$f":"SUM(CPG73:CPG77)","v":0},{"$f":"SUM(CPH73:CPH77)","v":0},{"$f":"SUM(CPI73:CPI77)","v":0},{"$f":"SUM(CPJ73:CPJ77)","v":0},{"$f":"SUM(CPK73:CPK77)","v":0},{"$f":"SUM(CPL73:CPL77)","v":0},{"$f":"SUM(CPM73:CPM77)","v":0},{"$f":"SUM(CPN73:CPN77)","v":0},{"$f":"SUM(CPO73:CPO77)","v":0},{"$f":"SUM(CPP73:CPP77)","v":0},{"$f":"SUM(CPQ73:CPQ77)","v":0},{"$f":"SUM(CPR73:CPR77)","v":0},{"$f":"SUM(CPS73:CPS77)","v":0},{"$f":"SUM(CPT73:CPT77)","v":0},{"$f":"SUM(CPU73:CPU77)","v":0},{"$f":"SUM(CPV73:CPV77)","v":0},{"$f":"SUM(CPW73:CPW77)","v":0},{"$f":"SUM(CPX73:CPX77)","v":0},{"$f":"SUM(CPY73:CPY77)","v":0},{"$f":"SUM(CPZ73:CPZ77)","v":0},{"$f":"SUM(CQA73:CQA77)","v":0},{"$f":"SUM(CQB73:CQB77)","v":0},{"$f":"SUM(CQC73:CQC77)","v":0},{"$f":"SUM(CQD73:CQD77)","v":0},{"$f":"SUM(CQE73:CQE77)","v":0},{"$f":"SUM(CQF73:CQF77)","v":0},{"$f":"SUM(CQG73:CQG77)","v":0},{"$f":"SUM(CQH73:CQH77)","v":0},{"$f":"SUM(CQI73:CQI77)","v":0},{"$f":"SUM(CQJ73:CQJ77)","v":0},{"$f":"SUM(CQK73:CQK77)","v":0},{"$f":"SUM(CQL73:CQL77)","v":0},{"$f":"SUM(CQM73:CQM77)","v":0},{"$f":"SUM(CQN73:CQN77)","v":0},{"$f":"SUM(CQO73:CQO77)","v":0},{"$f":"SUM(CQP73:CQP77)","v":0},{"$f":"SUM(CQQ73:CQQ77)","v":0},{"$f":"SUM(CQR73:CQR77)","v":0},{"$f":"SUM(CQS73:CQS77)","v":0},{"$f":"SUM(CQT73:CQT77)","v":0},{"$f":"SUM(CQU73:CQU77)","v":0},{"$f":"SUM(CQV73:CQV77)","v":0},{"$f":"SUM(CQW73:CQW77)","v":0},{"$f":"SUM(CQX73:CQX77)","v":0},{"$f":"SUM(CQY73:CQY77)","v":0},{"$f":"SUM(CQZ73:CQZ77)","v":0},{"$f":"SUM(CRA73:CRA77)","v":0},{"$f":"SUM(CRB73:CRB77)","v":0},{"$f":"SUM(CRC73:CRC77)","v":0},{"$f":"SUM(CRD73:CRD77)","v":0},{"$f":"SUM(CRE73:CRE77)","v":0},{"$f":"SUM(CRF73:CRF77)","v":0},{"$f":"SUM(CRG73:CRG77)","v":0},{"$f":"SUM(CRH73:CRH77)","v":0},{"$f":"SUM(CRI73:CRI77)","v":0},{"$f":"SUM(CRJ73:CRJ77)","v":0},{"$f":"SUM(CRK73:CRK77)","v":0},{"$f":"SUM(CRL73:CRL77)","v":0},{"$f":"SUM(CRM73:CRM77)","v":0},{"$f":"SUM(CRN73:CRN77)","v":0},{"$f":"SUM(CRO73:CRO77)","v":0},{"$f":"SUM(CRP73:CRP77)","v":0},{"$f":"SUM(CRQ73:CRQ77)","v":0},{"$f":"SUM(CRR73:CRR77)","v":0},{"$f":"SUM(CRS73:CRS77)","v":0},{"$f":"SUM(CRT73:CRT77)","v":0},{"$f":"SUM(CRU73:CRU77)","v":0},{"$f":"SUM(CRV73:CRV77)","v":0},{"$f":"SUM(CRW73:CRW77)","v":0},{"$f":"SUM(CRX73:CRX77)","v":0},{"$f":"SUM(CRY73:CRY77)","v":0},{"$f":"SUM(CRZ73:CRZ77)","v":0},{"$f":"SUM(CSA73:CSA77)","v":0},{"$f":"SUM(CSB73:CSB77)","v":0},{"$f":"SUM(CSC73:CSC77)","v":0},{"$f":"SUM(CSD73:CSD77)","v":0},{"$f":"SUM(CSE73:CSE77)","v":0},{"$f":"SUM(CSF73:CSF77)","v":0},{"$f":"SUM(CSG73:CSG77)","v":0},{"$f":"SUM(CSH73:CSH77)","v":0},{"$f":"SUM(CSI73:CSI77)","v":0},{"$f":"SUM(CSJ73:CSJ77)","v":0},{"$f":"SUM(CSK73:CSK77)","v":0},{"$f":"SUM(CSL73:CSL77)","v":0},{"$f":"SUM(CSM73:CSM77)","v":0},{"$f":"SUM(CSN73:CSN77)","v":0},{"$f":"SUM(CSO73:CSO77)","v":0},{"$f":"SUM(CSP73:CSP77)","v":0},{"$f":"SUM(CSQ73:CSQ77)","v":0},{"$f":"SUM(CSR73:CSR77)","v":0},{"$f":"SUM(CSS73:CSS77)","v":0},{"$f":"SUM(CST73:CST77)","v":0},{"$f":"SUM(CSU73:CSU77)","v":0},{"$f":"SUM(CSV73:CSV77)","v":0},{"$f":"SUM(CSW73:CSW77)","v":0},{"$f":"SUM(CSX73:CSX77)","v":0},{"$f":"SUM(CSY73:CSY77)","v":0},{"$f":"SUM(CSZ73:CSZ77)","v":0},{"$f":"SUM(CTA73:CTA77)","v":0},{"$f":"SUM(CTB73:CTB77)","v":0},{"$f":"SUM(CTC73:CTC77)","v":0},{"$f":"SUM(CTD73:CTD77)","v":0},{"$f":"SUM(CTE73:CTE77)","v":0},{"$f":"SUM(CTF73:CTF77)","v":0},{"$f":"SUM(CTG73:CTG77)","v":0},{"$f":"SUM(CTH73:CTH77)","v":0},{"$f":"SUM(CTI73:CTI77)","v":0},{"$f":"SUM(CTJ73:CTJ77)","v":0},{"$f":"SUM(CTK73:CTK77)","v":0},{"$f":"SUM(CTL73:CTL77)","v":0},{"$f":"SUM(CTM73:CTM77)","v":0},{"$f":"SUM(CTN73:CTN77)","v":0},{"$f":"SUM(CTO73:CTO77)","v":0},{"$f":"SUM(CTP73:CTP77)","v":0},{"$f":"SUM(CTQ73:CTQ77)","v":0},{"$f":"SUM(CTR73:CTR77)","v":0},{"$f":"SUM(CTS73:CTS77)","v":0},{"$f":"SUM(CTT73:CTT77)","v":0},{"$f":"SUM(CTU73:CTU77)","v":0},{"$f":"SUM(CTV73:CTV77)","v":0},{"$f":"SUM(CTW73:CTW77)","v":0},{"$f":"SUM(CTX73:CTX77)","v":0},{"$f":"SUM(CTY73:CTY77)","v":0},{"$f":"SUM(CTZ73:CTZ77)","v":0},{"$f":"SUM(CUA73:CUA77)","v":0},{"$f":"SUM(CUB73:CUB77)","v":0},{"$f":"SUM(CUC73:CUC77)","v":0},{"$f":"SUM(CUD73:CUD77)","v":0},{"$f":"SUM(CUE73:CUE77)","v":0},{"$f":"SUM(CUF73:CUF77)","v":0},{"$f":"SUM(CUG73:CUG77)","v":0},{"$f":"SUM(CUH73:CUH77)","v":0},{"$f":"SUM(CUI73:CUI77)","v":0},{"$f":"SUM(CUJ73:CUJ77)","v":0},{"$f":"SUM(CUK73:CUK77)","v":0},{"$f":"SUM(CUL73:CUL77)","v":0},{"$f":"SUM(CUM73:CUM77)","v":0},{"$f":"SUM(CUN73:CUN77)","v":0},{"$f":"SUM(CUO73:CUO77)","v":0},{"$f":"SUM(CUP73:CUP77)","v":0},{"$f":"SUM(CUQ73:CUQ77)","v":0},{"$f":"SUM(CUR73:CUR77)","v":0},{"$f":"SUM(CUS73:CUS77)","v":0},{"$f":"SUM(CUT73:CUT77)","v":0},{"$f":"SUM(CUU73:CUU77)","v":0},{"$f":"SUM(CUV73:CUV77)","v":0},{"$f":"SUM(CUW73:CUW77)","v":0},{"$f":"SUM(CUX73:CUX77)","v":0},{"$f":"SUM(CUY73:CUY77)","v":0},{"$f":"SUM(CUZ73:CUZ77)","v":0},{"$f":"SUM(CVA73:CVA77)","v":0},{"$f":"SUM(CVB73:CVB77)","v":0},{"$f":"SUM(CVC73:CVC77)","v":0},{"$f":"SUM(CVD73:CVD77)","v":0},{"$f":"SUM(CVE73:CVE77)","v":0},{"$f":"SUM(CVF73:CVF77)","v":0},{"$f":"SUM(CVG73:CVG77)","v":0},{"$f":"SUM(CVH73:CVH77)","v":0},{"$f":"SUM(CVI73:CVI77)","v":0},{"$f":"SUM(CVJ73:CVJ77)","v":0},{"$f":"SUM(CVK73:CVK77)","v":0},{"$f":"SUM(CVL73:CVL77)","v":0},{"$f":"SUM(CVM73:CVM77)","v":0},{"$f":"SUM(CVN73:CVN77)","v":0},{"$f":"SUM(CVO73:CVO77)","v":0},{"$f":"SUM(CVP73:CVP77)","v":0},{"$f":"SUM(CVQ73:CVQ77)","v":0},{"$f":"SUM(CVR73:CVR77)","v":0},{"$f":"SUM(CVS73:CVS77)","v":0},{"$f":"SUM(CVT73:CVT77)","v":0},{"$f":"SUM(CVU73:CVU77)","v":0},{"$f":"SUM(CVV73:CVV77)","v":0},{"$f":"SUM(CVW73:CVW77)","v":0},{"$f":"SUM(CVX73:CVX77)","v":0},{"$f":"SUM(CVY73:CVY77)","v":0},{"$f":"SUM(CVZ73:CVZ77)","v":0},{"$f":"SUM(CWA73:CWA77)","v":0},{"$f":"SUM(CWB73:CWB77)","v":0},{"$f":"SUM(CWC73:CWC77)","v":0},{"$f":"SUM(CWD73:CWD77)","v":0},{"$f":"SUM(CWE73:CWE77)","v":0},{"$f":"SUM(CWF73:CWF77)","v":0},{"$f":"SUM(CWG73:CWG77)","v":0},{"$f":"SUM(CWH73:CWH77)","v":0},{"$f":"SUM(CWI73:CWI77)","v":0},{"$f":"SUM(CWJ73:CWJ77)","v":0},{"$f":"SUM(CWK73:CWK77)","v":0},{"$f":"SUM(CWL73:CWL77)","v":0},{"$f":"SUM(CWM73:CWM77)","v":0},{"$f":"SUM(CWN73:CWN77)","v":0},{"$f":"SUM(CWO73:CWO77)","v":0},{"$f":"SUM(CWP73:CWP77)","v":0},{"$f":"SUM(CWQ73:CWQ77)","v":0},{"$f":"SUM(CWR73:CWR77)","v":0},{"$f":"SUM(CWS73:CWS77)","v":0},{"$f":"SUM(CWT73:CWT77)","v":0},{"$f":"SUM(CWU73:CWU77)","v":0},{"$f":"SUM(CWV73:CWV77)","v":0},{"$f":"SUM(CWW73:CWW77)","v":0},{"$f":"SUM(CWX73:CWX77)","v":0},{"$f":"SUM(CWY73:CWY77)","v":0},{"$f":"SUM(CWZ73:CWZ77)","v":0},{"$f":"SUM(CXA73:CXA77)","v":0},{"$f":"SUM(CXB73:CXB77)","v":0},{"$f":"SUM(CXC73:CXC77)","v":0},{"$f":"SUM(CXD73:CXD77)","v":0},{"$f":"SUM(CXE73:CXE77)","v":0},{"$f":"SUM(CXF73:CXF77)","v":0},{"$f":"SUM(CXG73:CXG77)","v":0},{"$f":"SUM(CXH73:CXH77)","v":0},{"$f":"SUM(CXI73:CXI77)","v":0},{"$f":"SUM(CXJ73:CXJ77)","v":0},{"$f":"SUM(CXK73:CXK77)","v":0},{"$f":"SUM(CXL73:CXL77)","v":0},{"$f":"SUM(CXM73:CXM77)","v":0},{"$f":"SUM(CXN73:CXN77)","v":0},{"$f":"SUM(CXO73:CXO77)","v":0},{"$f":"SUM(CXP73:CXP77)","v":0},{"$f":"SUM(CXQ73:CXQ77)","v":0},{"$f":"SUM(CXR73:CXR77)","v":0},{"$f":"SUM(CXS73:CXS77)","v":0},{"$f":"SUM(CXT73:CXT77)","v":0},{"$f":"SUM(CXU73:CXU77)","v":0},{"$f":"SUM(CXV73:CXV77)","v":0},{"$f":"SUM(CXW73:CXW77)","v":0},{"$f":"SUM(CXX73:CXX77)","v":0},{"$f":"SUM(CXY73:CXY77)","v":0},{"$f":"SUM(CXZ73:CXZ77)","v":0},{"$f":"SUM(CYA73:CYA77)","v":0},{"$f":"SUM(CYB73:CYB77)","v":0},{"$f":"SUM(CYC73:CYC77)","v":0},{"$f":"SUM(CYD73:CYD77)","v":0},{"$f":"SUM(CYE73:CYE77)","v":0},{"$f":"SUM(CYF73:CYF77)","v":0},{"$f":"SUM(CYG73:CYG77)","v":0},{"$f":"SUM(CYH73:CYH77)","v":0},{"$f":"SUM(CYI73:CYI77)","v":0},{"$f":"SUM(CYJ73:CYJ77)","v":0},{"$f":"SUM(CYK73:CYK77)","v":0},{"$f":"SUM(CYL73:CYL77)","v":0},{"$f":"SUM(CYM73:CYM77)","v":0},{"$f":"SUM(CYN73:CYN77)","v":0},{"$f":"SUM(CYO73:CYO77)","v":0},{"$f":"SUM(CYP73:CYP77)","v":0},{"$f":"SUM(CYQ73:CYQ77)","v":0},{"$f":"SUM(CYR73:CYR77)","v":0},{"$f":"SUM(CYS73:CYS77)","v":0},{"$f":"SUM(CYT73:CYT77)","v":0},{"$f":"SUM(CYU73:CYU77)","v":0},{"$f":"SUM(CYV73:CYV77)","v":0},{"$f":"SUM(CYW73:CYW77)","v":0},{"$f":"SUM(CYX73:CYX77)","v":0},{"$f":"SUM(CYY73:CYY77)","v":0},{"$f":"SUM(CYZ73:CYZ77)","v":0},{"$f":"SUM(CZA73:CZA77)","v":0},{"$f":"SUM(CZB73:CZB77)","v":0},{"$f":"SUM(CZC73:CZC77)","v":0},{"$f":"SUM(CZD73:CZD77)","v":0},{"$f":"SUM(CZE73:CZE77)","v":0},{"$f":"SUM(CZF73:CZF77)","v":0},{"$f":"SUM(CZG73:CZG77)","v":0},{"$f":"SUM(CZH73:CZH77)","v":0},{"$f":"SUM(CZI73:CZI77)","v":0},{"$f":"SUM(CZJ73:CZJ77)","v":0},{"$f":"SUM(CZK73:CZK77)","v":0},{"$f":"SUM(CZL73:CZL77)","v":0},{"$f":"SUM(CZM73:CZM77)","v":0},{"$f":"SUM(CZN73:CZN77)","v":0},{"$f":"SUM(CZO73:CZO77)","v":0},{"$f":"SUM(CZP73:CZP77)","v":0},{"$f":"SUM(CZQ73:CZQ77)","v":0},{"$f":"SUM(CZR73:CZR77)","v":0},{"$f":"SUM(CZS73:CZS77)","v":0},{"$f":"SUM(CZT73:CZT77)","v":0},{"$f":"SUM(CZU73:CZU77)","v":0},{"$f":"SUM(CZV73:CZV77)","v":0},{"$f":"SUM(CZW73:CZW77)","v":0},{"$f":"SUM(CZX73:CZX77)","v":0},{"$f":"SUM(CZY73:CZY77)","v":0},{"$f":"SUM(CZZ73:CZZ77)","v":0},{"$f":"SUM(DAA73:DAA77)","v":0},{"$f":"SUM(DAB73:DAB77)","v":0},{"$f":"SUM(DAC73:DAC77)","v":0},{"$f":"SUM(DAD73:DAD77)","v":0},{"$f":"SUM(DAE73:DAE77)","v":0},{"$f":"SUM(DAF73:DAF77)","v":0},{"$f":"SUM(DAG73:DAG77)","v":0},{"$f":"SUM(DAH73:DAH77)","v":0},{"$f":"SUM(DAI73:DAI77)","v":0},{"$f":"SUM(DAJ73:DAJ77)","v":0},{"$f":"SUM(DAK73:DAK77)","v":0},{"$f":"SUM(DAL73:DAL77)","v":0},{"$f":"SUM(DAM73:DAM77)","v":0},{"$f":"SUM(DAN73:DAN77)","v":0},{"$f":"SUM(DAO73:DAO77)","v":0},{"$f":"SUM(DAP73:DAP77)","v":0},{"$f":"SUM(DAQ73:DAQ77)","v":0},{"$f":"SUM(DAR73:DAR77)","v":0},{"$f":"SUM(DAS73:DAS77)","v":0},{"$f":"SUM(DAT73:DAT77)","v":0},{"$f":"SUM(DAU73:DAU77)","v":0},{"$f":"SUM(DAV73:DAV77)","v":0},{"$f":"SUM(DAW73:DAW77)","v":0},{"$f":"SUM(DAX73:DAX77)","v":0},{"$f":"SUM(DAY73:DAY77)","v":0},{"$f":"SUM(DAZ73:DAZ77)","v":0},{"$f":"SUM(DBA73:DBA77)","v":0},{"$f":"SUM(DBB73:DBB77)","v":0},{"$f":"SUM(DBC73:DBC77)","v":0},{"$f":"SUM(DBD73:DBD77)","v":0},{"$f":"SUM(DBE73:DBE77)","v":0},{"$f":"SUM(DBF73:DBF77)","v":0},{"$f":"SUM(DBG73:DBG77)","v":0},{"$f":"SUM(DBH73:DBH77)","v":0},{"$f":"SUM(DBI73:DBI77)","v":0},{"$f":"SUM(DBJ73:DBJ77)","v":0},{"$f":"SUM(DBK73:DBK77)","v":0},{"$f":"SUM(DBL73:DBL77)","v":0},{"$f":"SUM(DBM73:DBM77)","v":0},{"$f":"SUM(DBN73:DBN77)","v":0},{"$f":"SUM(DBO73:DBO77)","v":0},{"$f":"SUM(DBP73:DBP77)","v":0},{"$f":"SUM(DBQ73:DBQ77)","v":0},{"$f":"SUM(DBR73:DBR77)","v":0},{"$f":"SUM(DBS73:DBS77)","v":0},{"$f":"SUM(DBT73:DBT77)","v":0},{"$f":"SUM(DBU73:DBU77)","v":0},{"$f":"SUM(DBV73:DBV77)","v":0},{"$f":"SUM(DBW73:DBW77)","v":0},{"$f":"SUM(DBX73:DBX77)","v":0},{"$f":"SUM(DBY73:DBY77)","v":0},{"$f":"SUM(DBZ73:DBZ77)","v":0},{"$f":"SUM(DCA73:DCA77)","v":0},{"$f":"SUM(DCB73:DCB77)","v":0},{"$f":"SUM(DCC73:DCC77)","v":0},{"$f":"SUM(DCD73:DCD77)","v":0},{"$f":"SUM(DCE73:DCE77)","v":0},{"$f":"SUM(DCF73:DCF77)","v":0},{"$f":"SUM(DCG73:DCG77)","v":0},{"$f":"SUM(DCH73:DCH77)","v":0},{"$f":"SUM(DCI73:DCI77)","v":0},{"$f":"SUM(DCJ73:DCJ77)","v":0},{"$f":"SUM(DCK73:DCK77)","v":0},{"$f":"SUM(DCL73:DCL77)","v":0},{"$f":"SUM(DCM73:DCM77)","v":0},{"$f":"SUM(DCN73:DCN77)","v":0},{"$f":"SUM(DCO73:DCO77)","v":0},{"$f":"SUM(DCP73:DCP77)","v":0},{"$f":"SUM(DCQ73:DCQ77)","v":0},{"$f":"SUM(DCR73:DCR77)","v":0},{"$f":"SUM(DCS73:DCS77)","v":0},{"$f":"SUM(DCT73:DCT77)","v":0},{"$f":"SUM(DCU73:DCU77)","v":0},{"$f":"SUM(DCV73:DCV77)","v":0},{"$f":"SUM(DCW73:DCW77)","v":0},{"$f":"SUM(DCX73:DCX77)","v":0},{"$f":"SUM(DCY73:DCY77)","v":0},{"$f":"SUM(DCZ73:DCZ77)","v":0},{"$f":"SUM(DDA73:DDA77)","v":0},{"$f":"SUM(DDB73:DDB77)","v":0},{"$f":"SUM(DDC73:DDC77)","v":0},{"$f":"SUM(DDD73:DDD77)","v":0},{"$f":"SUM(DDE73:DDE77)","v":0},{"$f":"SUM(DDF73:DDF77)","v":0},{"$f":"SUM(DDG73:DDG77)","v":0},{"$f":"SUM(DDH73:DDH77)","v":0},{"$f":"SUM(DDI73:DDI77)","v":0},{"$f":"SUM(DDJ73:DDJ77)","v":0},{"$f":"SUM(DDK73:DDK77)","v":0},{"$f":"SUM(DDL73:DDL77)","v":0},{"$f":"SUM(DDM73:DDM77)","v":0},{"$f":"SUM(DDN73:DDN77)","v":0},{"$f":"SUM(DDO73:DDO77)","v":0},{"$f":"SUM(DDP73:DDP77)","v":0},{"$f":"SUM(DDQ73:DDQ77)","v":0},{"$f":"SUM(DDR73:DDR77)","v":0},{"$f":"SUM(DDS73:DDS77)","v":0},{"$f":"SUM(DDT73:DDT77)","v":0},{"$f":"SUM(DDU73:DDU77)","v":0},{"$f":"SUM(DDV73:DDV77)","v":0},{"$f":"SUM(DDW73:DDW77)","v":0},{"$f":"SUM(DDX73:DDX77)","v":0},{"$f":"SUM(DDY73:DDY77)","v":0},{"$f":"SUM(DDZ73:DDZ77)","v":0},{"$f":"SUM(DEA73:DEA77)","v":0},{"$f":"SUM(DEB73:DEB77)","v":0},{"$f":"SUM(DEC73:DEC77)","v":0},{"$f":"SUM(DED73:DED77)","v":0},{"$f":"SUM(DEE73:DEE77)","v":0},{"$f":"SUM(DEF73:DEF77)","v":0},{"$f":"SUM(DEG73:DEG77)","v":0},{"$f":"SUM(DEH73:DEH77)","v":0},{"$f":"SUM(DEI73:DEI77)","v":0},{"$f":"SUM(DEJ73:DEJ77)","v":0},{"$f":"SUM(DEK73:DEK77)","v":0},{"$f":"SUM(DEL73:DEL77)","v":0},{"$f":"SUM(DEM73:DEM77)","v":0},{"$f":"SUM(DEN73:DEN77)","v":0},{"$f":"SUM(DEO73:DEO77)","v":0},{"$f":"SUM(DEP73:DEP77)","v":0},{"$f":"SUM(DEQ73:DEQ77)","v":0},{"$f":"SUM(DER73:DER77)","v":0},{"$f":"SUM(DES73:DES77)","v":0},{"$f":"SUM(DET73:DET77)","v":0},{"$f":"SUM(DEU73:DEU77)","v":0},{"$f":"SUM(DEV73:DEV77)","v":0},{"$f":"SUM(DEW73:DEW77)","v":0},{"$f":"SUM(DEX73:DEX77)","v":0},{"$f":"SUM(DEY73:DEY77)","v":0},{"$f":"SUM(DEZ73:DEZ77)","v":0},{"$f":"SUM(DFA73:DFA77)","v":0},{"$f":"SUM(DFB73:DFB77)","v":0},{"$f":"SUM(DFC73:DFC77)","v":0},{"$f":"SUM(DFD73:DFD77)","v":0},{"$f":"SUM(DFE73:DFE77)","v":0},{"$f":"SUM(DFF73:DFF77)","v":0},{"$f":"SUM(DFG73:DFG77)","v":0},{"$f":"SUM(DFH73:DFH77)","v":0},{"$f":"SUM(DFI73:DFI77)","v":0},{"$f":"SUM(DFJ73:DFJ77)","v":0},{"$f":"SUM(DFK73:DFK77)","v":0},{"$f":"SUM(DFL73:DFL77)","v":0},{"$f":"SUM(DFM73:DFM77)","v":0},{"$f":"SUM(DFN73:DFN77)","v":0},{"$f":"SUM(DFO73:DFO77)","v":0},{"$f":"SUM(DFP73:DFP77)","v":0},{"$f":"SUM(DFQ73:DFQ77)","v":0},{"$f":"SUM(DFR73:DFR77)","v":0},{"$f":"SUM(DFS73:DFS77)","v":0},{"$f":"SUM(DFT73:DFT77)","v":0},{"$f":"SUM(DFU73:DFU77)","v":0},{"$f":"SUM(DFV73:DFV77)","v":0},{"$f":"SUM(DFW73:DFW77)","v":0},{"$f":"SUM(DFX73:DFX77)","v":0},{"$f":"SUM(DFY73:DFY77)","v":0},{"$f":"SUM(DFZ73:DFZ77)","v":0},{"$f":"SUM(DGA73:DGA77)","v":0},{"$f":"SUM(DGB73:DGB77)","v":0},{"$f":"SUM(DGC73:DGC77)","v":0},{"$f":"SUM(DGD73:DGD77)","v":0},{"$f":"SUM(DGE73:DGE77)","v":0},{"$f":"SUM(DGF73:DGF77)","v":0},{"$f":"SUM(DGG73:DGG77)","v":0},{"$f":"SUM(DGH73:DGH77)","v":0},{"$f":"SUM(DGI73:DGI77)","v":0},{"$f":"SUM(DGJ73:DGJ77)","v":0},{"$f":"SUM(DGK73:DGK77)","v":0},{"$f":"SUM(DGL73:DGL77)","v":0},{"$f":"SUM(DGM73:DGM77)","v":0},{"$f":"SUM(DGN73:DGN77)","v":0},{"$f":"SUM(DGO73:DGO77)","v":0},{"$f":"SUM(DGP73:DGP77)","v":0},{"$f":"SUM(DGQ73:DGQ77)","v":0},{"$f":"SUM(DGR73:DGR77)","v":0},{"$f":"SUM(DGS73:DGS77)","v":0},{"$f":"SUM(DGT73:DGT77)","v":0},{"$f":"SUM(DGU73:DGU77)","v":0},{"$f":"SUM(DGV73:DGV77)","v":0},{"$f":"SUM(DGW73:DGW77)","v":0},{"$f":"SUM(DGX73:DGX77)","v":0},{"$f":"SUM(DGY73:DGY77)","v":0},{"$f":"SUM(DGZ73:DGZ77)","v":0},{"$f":"SUM(DHA73:DHA77)","v":0},{"$f":"SUM(DHB73:DHB77)","v":0},{"$f":"SUM(DHC73:DHC77)","v":0},{"$f":"SUM(DHD73:DHD77)","v":0},{"$f":"SUM(DHE73:DHE77)","v":0},{"$f":"SUM(DHF73:DHF77)","v":0},{"$f":"SUM(DHG73:DHG77)","v":0},{"$f":"SUM(DHH73:DHH77)","v":0},{"$f":"SUM(DHI73:DHI77)","v":0},{"$f":"SUM(DHJ73:DHJ77)","v":0},{"$f":"SUM(DHK73:DHK77)","v":0},{"$f":"SUM(DHL73:DHL77)","v":0},{"$f":"SUM(DHM73:DHM77)","v":0},{"$f":"SUM(DHN73:DHN77)","v":0},{"$f":"SUM(DHO73:DHO77)","v":0},{"$f":"SUM(DHP73:DHP77)","v":0},{"$f":"SUM(DHQ73:DHQ77)","v":0},{"$f":"SUM(DHR73:DHR77)","v":0},{"$f":"SUM(DHS73:DHS77)","v":0},{"$f":"SUM(DHT73:DHT77)","v":0},{"$f":"SUM(DHU73:DHU77)","v":0},{"$f":"SUM(DHV73:DHV77)","v":0},{"$f":"SUM(DHW73:DHW77)","v":0},{"$f":"SUM(DHX73:DHX77)","v":0},{"$f":"SUM(DHY73:DHY77)","v":0},{"$f":"SUM(DHZ73:DHZ77)","v":0},{"$f":"SUM(DIA73:DIA77)","v":0},{"$f":"SUM(DIB73:DIB77)","v":0},{"$f":"SUM(DIC73:DIC77)","v":0},{"$f":"SUM(DID73:DID77)","v":0},{"$f":"SUM(DIE73:DIE77)","v":0},{"$f":"SUM(DIF73:DIF77)","v":0},{"$f":"SUM(DIG73:DIG77)","v":0},{"$f":"SUM(DIH73:DIH77)","v":0},{"$f":"SUM(DII73:DII77)","v":0},{"$f":"SUM(DIJ73:DIJ77)","v":0},{"$f":"SUM(DIK73:DIK77)","v":0},{"$f":"SUM(DIL73:DIL77)","v":0},{"$f":"SUM(DIM73:DIM77)","v":0},{"$f":"SUM(DIN73:DIN77)","v":0},{"$f":"SUM(DIO73:DIO77)","v":0},{"$f":"SUM(DIP73:DIP77)","v":0},{"$f":"SUM(DIQ73:DIQ77)","v":0},{"$f":"SUM(DIR73:DIR77)","v":0},{"$f":"SUM(DIS73:DIS77)","v":0},{"$f":"SUM(DIT73:DIT77)","v":0},{"$f":"SUM(DIU73:DIU77)","v":0},{"$f":"SUM(DIV73:DIV77)","v":0},{"$f":"SUM(DIW73:DIW77)","v":0},{"$f":"SUM(DIX73:DIX77)","v":0},{"$f":"SUM(DIY73:DIY77)","v":0},{"$f":"SUM(DIZ73:DIZ77)","v":0},{"$f":"SUM(DJA73:DJA77)","v":0},{"$f":"SUM(DJB73:DJB77)","v":0},{"$f":"SUM(DJC73:DJC77)","v":0},{"$f":"SUM(DJD73:DJD77)","v":0},{"$f":"SUM(DJE73:DJE77)","v":0},{"$f":"SUM(DJF73:DJF77)","v":0},{"$f":"SUM(DJG73:DJG77)","v":0},{"$f":"SUM(DJH73:DJH77)","v":0},{"$f":"SUM(DJI73:DJI77)","v":0},{"$f":"SUM(DJJ73:DJJ77)","v":0},{"$f":"SUM(DJK73:DJK77)","v":0},{"$f":"SUM(DJL73:DJL77)","v":0},{"$f":"SUM(DJM73:DJM77)","v":0},{"$f":"SUM(DJN73:DJN77)","v":0},{"$f":"SUM(DJO73:DJO77)","v":0},{"$f":"SUM(DJP73:DJP77)","v":0},{"$f":"SUM(DJQ73:DJQ77)","v":0},{"$f":"SUM(DJR73:DJR77)","v":0},{"$f":"SUM(DJS73:DJS77)","v":0},{"$f":"SUM(DJT73:DJT77)","v":0},{"$f":"SUM(DJU73:DJU77)","v":0},{"$f":"SUM(DJV73:DJV77)","v":0},{"$f":"SUM(DJW73:DJW77)","v":0},{"$f":"SUM(DJX73:DJX77)","v":0},{"$f":"SUM(DJY73:DJY77)","v":0},{"$f":"SUM(DJZ73:DJZ77)","v":0},{"$f":"SUM(DKA73:DKA77)","v":0},{"$f":"SUM(DKB73:DKB77)","v":0},{"$f":"SUM(DKC73:DKC77)","v":0},{"$f":"SUM(DKD73:DKD77)","v":0},{"$f":"SUM(DKE73:DKE77)","v":0},{"$f":"SUM(DKF73:DKF77)","v":0},{"$f":"SUM(DKG73:DKG77)","v":0},{"$f":"SUM(DKH73:DKH77)","v":0},{"$f":"SUM(DKI73:DKI77)","v":0},{"$f":"SUM(DKJ73:DKJ77)","v":0},{"$f":"SUM(DKK73:DKK77)","v":0},{"$f":"SUM(DKL73:DKL77)","v":0},{"$f":"SUM(DKM73:DKM77)","v":0},{"$f":"SUM(DKN73:DKN77)","v":0},{"$f":"SUM(DKO73:DKO77)","v":0},{"$f":"SUM(DKP73:DKP77)","v":0},{"$f":"SUM(DKQ73:DKQ77)","v":0},{"$f":"SUM(DKR73:DKR77)","v":0},{"$f":"SUM(DKS73:DKS77)","v":0},{"$f":"SUM(DKT73:DKT77)","v":0},{"$f":"SUM(DKU73:DKU77)","v":0},{"$f":"SUM(DKV73:DKV77)","v":0},{"$f":"SUM(DKW73:DKW77)","v":0},{"$f":"SUM(DKX73:DKX77)","v":0},{"$f":"SUM(DKY73:DKY77)","v":0},{"$f":"SUM(DKZ73:DKZ77)","v":0},{"$f":"SUM(DLA73:DLA77)","v":0},{"$f":"SUM(DLB73:DLB77)","v":0},{"$f":"SUM(DLC73:DLC77)","v":0},{"$f":"SUM(DLD73:DLD77)","v":0},{"$f":"SUM(DLE73:DLE77)","v":0},{"$f":"SUM(DLF73:DLF77)","v":0},{"$f":"SUM(DLG73:DLG77)","v":0},{"$f":"SUM(DLH73:DLH77)","v":0},{"$f":"SUM(DLI73:DLI77)","v":0},{"$f":"SUM(DLJ73:DLJ77)","v":0},{"$f":"SUM(DLK73:DLK77)","v":0},{"$f":"SUM(DLL73:DLL77)","v":0},{"$f":"SUM(DLM73:DLM77)","v":0},{"$f":"SUM(DLN73:DLN77)","v":0},{"$f":"SUM(DLO73:DLO77)","v":0},{"$f":"SUM(DLP73:DLP77)","v":0},{"$f":"SUM(DLQ73:DLQ77)","v":0},{"$f":"SUM(DLR73:DLR77)","v":0},{"$f":"SUM(DLS73:DLS77)","v":0},{"$f":"SUM(DLT73:DLT77)","v":0},{"$f":"SUM(DLU73:DLU77)","v":0},{"$f":"SUM(DLV73:DLV77)","v":0},{"$f":"SUM(DLW73:DLW77)","v":0},{"$f":"SUM(DLX73:DLX77)","v":0},{"$f":"SUM(DLY73:DLY77)","v":0},{"$f":"SUM(DLZ73:DLZ77)","v":0},{"$f":"SUM(DMA73:DMA77)","v":0},{"$f":"SUM(DMB73:DMB77)","v":0},{"$f":"SUM(DMC73:DMC77)","v":0},{"$f":"SUM(DMD73:DMD77)","v":0},{"$f":"SUM(DME73:DME77)","v":0},{"$f":"SUM(DMF73:DMF77)","v":0},{"$f":"SUM(DMG73:DMG77)","v":0},{"$f":"SUM(DMH73:DMH77)","v":0},{"$f":"SUM(DMI73:DMI77)","v":0},{"$f":"SUM(DMJ73:DMJ77)","v":0},{"$f":"SUM(DMK73:DMK77)","v":0},{"$f":"SUM(DML73:DML77)","v":0},{"$f":"SUM(DMM73:DMM77)","v":0},{"$f":"SUM(DMN73:DMN77)","v":0},{"$f":"SUM(DMO73:DMO77)","v":0},{"$f":"SUM(DMP73:DMP77)","v":0},{"$f":"SUM(DMQ73:DMQ77)","v":0},{"$f":"SUM(DMR73:DMR77)","v":0},{"$f":"SUM(DMS73:DMS77)","v":0},{"$f":"SUM(DMT73:DMT77)","v":0},{"$f":"SUM(DMU73:DMU77)","v":0},{"$f":"SUM(DMV73:DMV77)","v":0},{"$f":"SUM(DMW73:DMW77)","v":0},{"$f":"SUM(DMX73:DMX77)","v":0},{"$f":"SUM(DMY73:DMY77)","v":0},{"$f":"SUM(DMZ73:DMZ77)","v":0},{"$f":"SUM(DNA73:DNA77)","v":0},{"$f":"SUM(DNB73:DNB77)","v":0},{"$f":"SUM(DNC73:DNC77)","v":0},{"$f":"SUM(DND73:DND77)","v":0},{"$f":"SUM(DNE73:DNE77)","v":0},{"$f":"SUM(DNF73:DNF77)","v":0},{"$f":"SUM(DNG73:DNG77)","v":0},{"$f":"SUM(DNH73:DNH77)","v":0},{"$f":"SUM(DNI73:DNI77)","v":0},{"$f":"SUM(DNJ73:DNJ77)","v":0},{"$f":"SUM(DNK73:DNK77)","v":0},{"$f":"SUM(DNL73:DNL77)","v":0},{"$f":"SUM(DNM73:DNM77)","v":0},{"$f":"SUM(DNN73:DNN77)","v":0},{"$f":"SUM(DNO73:DNO77)","v":0},{"$f":"SUM(DNP73:DNP77)","v":0},{"$f":"SUM(DNQ73:DNQ77)","v":0},{"$f":"SUM(DNR73:DNR77)","v":0},{"$f":"SUM(DNS73:DNS77)","v":0},{"$f":"SUM(DNT73:DNT77)","v":0},{"$f":"SUM(DNU73:DNU77)","v":0},{"$f":"SUM(DNV73:DNV77)","v":0},{"$f":"SUM(DNW73:DNW77)","v":0},{"$f":"SUM(DNX73:DNX77)","v":0},{"$f":"SUM(DNY73:DNY77)","v":0},{"$f":"SUM(DNZ73:DNZ77)","v":0},{"$f":"SUM(DOA73:DOA77)","v":0},{"$f":"SUM(DOB73:DOB77)","v":0},{"$f":"SUM(DOC73:DOC77)","v":0},{"$f":"SUM(DOD73:DOD77)","v":0},{"$f":"SUM(DOE73:DOE77)","v":0},{"$f":"SUM(DOF73:DOF77)","v":0},{"$f":"SUM(DOG73:DOG77)","v":0},{"$f":"SUM(DOH73:DOH77)","v":0},{"$f":"SUM(DOI73:DOI77)","v":0},{"$f":"SUM(DOJ73:DOJ77)","v":0},{"$f":"SUM(DOK73:DOK77)","v":0},{"$f":"SUM(DOL73:DOL77)","v":0},{"$f":"SUM(DOM73:DOM77)","v":0},{"$f":"SUM(DON73:DON77)","v":0},{"$f":"SUM(DOO73:DOO77)","v":0},{"$f":"SUM(DOP73:DOP77)","v":0},{"$f":"SUM(DOQ73:DOQ77)","v":0},{"$f":"SUM(DOR73:DOR77)","v":0},{"$f":"SUM(DOS73:DOS77)","v":0},{"$f":"SUM(DOT73:DOT77)","v":0},{"$f":"SUM(DOU73:DOU77)","v":0},{"$f":"SUM(DOV73:DOV77)","v":0},{"$f":"SUM(DOW73:DOW77)","v":0},{"$f":"SUM(DOX73:DOX77)","v":0},{"$f":"SUM(DOY73:DOY77)","v":0},{"$f":"SUM(DOZ73:DOZ77)","v":0},{"$f":"SUM(DPA73:DPA77)","v":0},{"$f":"SUM(DPB73:DPB77)","v":0},{"$f":"SUM(DPC73:DPC77)","v":0},{"$f":"SUM(DPD73:DPD77)","v":0},{"$f":"SUM(DPE73:DPE77)","v":0},{"$f":"SUM(DPF73:DPF77)","v":0},{"$f":"SUM(DPG73:DPG77)","v":0},{"$f":"SUM(DPH73:DPH77)","v":0},{"$f":"SUM(DPI73:DPI77)","v":0},{"$f":"SUM(DPJ73:DPJ77)","v":0},{"$f":"SUM(DPK73:DPK77)","v":0},{"$f":"SUM(DPL73:DPL77)","v":0},{"$f":"SUM(DPM73:DPM77)","v":0},{"$f":"SUM(DPN73:DPN77)","v":0},{"$f":"SUM(DPO73:DPO77)","v":0},{"$f":"SUM(DPP73:DPP77)","v":0},{"$f":"SUM(DPQ73:DPQ77)","v":0},{"$f":"SUM(DPR73:DPR77)","v":0},{"$f":"SUM(DPS73:DPS77)","v":0},{"$f":"SUM(DPT73:DPT77)","v":0},{"$f":"SUM(DPU73:DPU77)","v":0},{"$f":"SUM(DPV73:DPV77)","v":0},{"$f":"SUM(DPW73:DPW77)","v":0},{"$f":"SUM(DPX73:DPX77)","v":0},{"$f":"SUM(DPY73:DPY77)","v":0},{"$f":"SUM(DPZ73:DPZ77)","v":0},{"$f":"SUM(DQA73:DQA77)","v":0},{"$f":"SUM(DQB73:DQB77)","v":0},{"$f":"SUM(DQC73:DQC77)","v":0},{"$f":"SUM(DQD73:DQD77)","v":0},{"$f":"SUM(DQE73:DQE77)","v":0},{"$f":"SUM(DQF73:DQF77)","v":0},{"$f":"SUM(DQG73:DQG77)","v":0},{"$f":"SUM(DQH73:DQH77)","v":0},{"$f":"SUM(DQI73:DQI77)","v":0},{"$f":"SUM(DQJ73:DQJ77)","v":0},{"$f":"SUM(DQK73:DQK77)","v":0},{"$f":"SUM(DQL73:DQL77)","v":0},{"$f":"SUM(DQM73:DQM77)","v":0},{"$f":"SUM(DQN73:DQN77)","v":0},{"$f":"SUM(DQO73:DQO77)","v":0},{"$f":"SUM(DQP73:DQP77)","v":0},{"$f":"SUM(DQQ73:DQQ77)","v":0},{"$f":"SUM(DQR73:DQR77)","v":0},{"$f":"SUM(DQS73:DQS77)","v":0},{"$f":"SUM(DQT73:DQT77)","v":0},{"$f":"SUM(DQU73:DQU77)","v":0},{"$f":"SUM(DQV73:DQV77)","v":0},{"$f":"SUM(DQW73:DQW77)","v":0},{"$f":"SUM(DQX73:DQX77)","v":0},{"$f":"SUM(DQY73:DQY77)","v":0},{"$f":"SUM(DQZ73:DQZ77)","v":0},{"$f":"SUM(DRA73:DRA77)","v":0},{"$f":"SUM(DRB73:DRB77)","v":0},{"$f":"SUM(DRC73:DRC77)","v":0},{"$f":"SUM(DRD73:DRD77)","v":0},{"$f":"SUM(DRE73:DRE77)","v":0},{"$f":"SUM(DRF73:DRF77)","v":0},{"$f":"SUM(DRG73:DRG77)","v":0},{"$f":"SUM(DRH73:DRH77)","v":0},{"$f":"SUM(DRI73:DRI77)","v":0},{"$f":"SUM(DRJ73:DRJ77)","v":0},{"$f":"SUM(DRK73:DRK77)","v":0},{"$f":"SUM(DRL73:DRL77)","v":0},{"$f":"SUM(DRM73:DRM77)","v":0},{"$f":"SUM(DRN73:DRN77)","v":0},{"$f":"SUM(DRO73:DRO77)","v":0},{"$f":"SUM(DRP73:DRP77)","v":0},{"$f":"SUM(DRQ73:DRQ77)","v":0},{"$f":"SUM(DRR73:DRR77)","v":0},{"$f":"SUM(DRS73:DRS77)","v":0},{"$f":"SUM(DRT73:DRT77)","v":0},{"$f":"SUM(DRU73:DRU77)","v":0},{"$f":"SUM(DRV73:DRV77)","v":0},{"$f":"SUM(DRW73:DRW77)","v":0},{"$f":"SUM(DRX73:DRX77)","v":0},{"$f":"SUM(DRY73:DRY77)","v":0},{"$f":"SUM(DRZ73:DRZ77)","v":0},{"$f":"SUM(DSA73:DSA77)","v":0},{"$f":"SUM(DSB73:DSB77)","v":0},{"$f":"SUM(DSC73:DSC77)","v":0},{"$f":"SUM(DSD73:DSD77)","v":0},{"$f":"SUM(DSE73:DSE77)","v":0},{"$f":"SUM(DSF73:DSF77)","v":0},{"$f":"SUM(DSG73:DSG77)","v":0},{"$f":"SUM(DSH73:DSH77)","v":0},{"$f":"SUM(DSI73:DSI77)","v":0},{"$f":"SUM(DSJ73:DSJ77)","v":0},{"$f":"SUM(DSK73:DSK77)","v":0},{"$f":"SUM(DSL73:DSL77)","v":0},{"$f":"SUM(DSM73:DSM77)","v":0},{"$f":"SUM(DSN73:DSN77)","v":0},{"$f":"SUM(DSO73:DSO77)","v":0},{"$f":"SUM(DSP73:DSP77)","v":0},{"$f":"SUM(DSQ73:DSQ77)","v":0},{"$f":"SUM(DSR73:DSR77)","v":0},{"$f":"SUM(DSS73:DSS77)","v":0},{"$f":"SUM(DST73:DST77)","v":0},{"$f":"SUM(DSU73:DSU77)","v":0},{"$f":"SUM(DSV73:DSV77)","v":0},{"$f":"SUM(DSW73:DSW77)","v":0},{"$f":"SUM(DSX73:DSX77)","v":0},{"$f":"SUM(DSY73:DSY77)","v":0},{"$f":"SUM(DSZ73:DSZ77)","v":0},{"$f":"SUM(DTA73:DTA77)","v":0},{"$f":"SUM(DTB73:DTB77)","v":0},{"$f":"SUM(DTC73:DTC77)","v":0},{"$f":"SUM(DTD73:DTD77)","v":0},{"$f":"SUM(DTE73:DTE77)","v":0},{"$f":"SUM(DTF73:DTF77)","v":0},{"$f":"SUM(DTG73:DTG77)","v":0},{"$f":"SUM(DTH73:DTH77)","v":0},{"$f":"SUM(DTI73:DTI77)","v":0},{"$f":"SUM(DTJ73:DTJ77)","v":0},{"$f":"SUM(DTK73:DTK77)","v":0},{"$f":"SUM(DTL73:DTL77)","v":0},{"$f":"SUM(DTM73:DTM77)","v":0},{"$f":"SUM(DTN73:DTN77)","v":0},{"$f":"SUM(DTO73:DTO77)","v":0},{"$f":"SUM(DTP73:DTP77)","v":0},{"$f":"SUM(DTQ73:DTQ77)","v":0},{"$f":"SUM(DTR73:DTR77)","v":0},{"$f":"SUM(DTS73:DTS77)","v":0},{"$f":"SUM(DTT73:DTT77)","v":0},{"$f":"SUM(DTU73:DTU77)","v":0},{"$f":"SUM(DTV73:DTV77)","v":0},{"$f":"SUM(DTW73:DTW77)","v":0},{"$f":"SUM(DTX73:DTX77)","v":0},{"$f":"SUM(DTY73:DTY77)","v":0},{"$f":"SUM(DTZ73:DTZ77)","v":0},{"$f":"SUM(DUA73:DUA77)","v":0},{"$f":"SUM(DUB73:DUB77)","v":0},{"$f":"SUM(DUC73:DUC77)","v":0},{"$f":"SUM(DUD73:DUD77)","v":0},{"$f":"SUM(DUE73:DUE77)","v":0},{"$f":"SUM(DUF73:DUF77)","v":0},{"$f":"SUM(DUG73:DUG77)","v":0},{"$f":"SUM(DUH73:DUH77)","v":0},{"$f":"SUM(DUI73:DUI77)","v":0},{"$f":"SUM(DUJ73:DUJ77)","v":0},{"$f":"SUM(DUK73:DUK77)","v":0},{"$f":"SUM(DUL73:DUL77)","v":0},{"$f":"SUM(DUM73:DUM77)","v":0},{"$f":"SUM(DUN73:DUN77)","v":0},{"$f":"SUM(DUO73:DUO77)","v":0},{"$f":"SUM(DUP73:DUP77)","v":0},{"$f":"SUM(DUQ73:DUQ77)","v":0},{"$f":"SUM(DUR73:DUR77)","v":0},{"$f":"SUM(DUS73:DUS77)","v":0},{"$f":"SUM(DUT73:DUT77)","v":0},{"$f":"SUM(DUU73:DUU77)","v":0},{"$f":"SUM(DUV73:DUV77)","v":0},{"$f":"SUM(DUW73:DUW77)","v":0},{"$f":"SUM(DUX73:DUX77)","v":0},{"$f":"SUM(DUY73:DUY77)","v":0},{"$f":"SUM(DUZ73:DUZ77)","v":0},{"$f":"SUM(DVA73:DVA77)","v":0},{"$f":"SUM(DVB73:DVB77)","v":0},{"$f":"SUM(DVC73:DVC77)","v":0},{"$f":"SUM(DVD73:DVD77)","v":0},{"$f":"SUM(DVE73:DVE77)","v":0},{"$f":"SUM(DVF73:DVF77)","v":0},{"$f":"SUM(DVG73:DVG77)","v":0},{"$f":"SUM(DVH73:DVH77)","v":0},{"$f":"SUM(DVI73:DVI77)","v":0},{"$f":"SUM(DVJ73:DVJ77)","v":0},{"$f":"SUM(DVK73:DVK77)","v":0},{"$f":"SUM(DVL73:DVL77)","v":0},{"$f":"SUM(DVM73:DVM77)","v":0},{"$f":"SUM(DVN73:DVN77)","v":0},{"$f":"SUM(DVO73:DVO77)","v":0},{"$f":"SUM(DVP73:DVP77)","v":0},{"$f":"SUM(DVQ73:DVQ77)","v":0},{"$f":"SUM(DVR73:DVR77)","v":0},{"$f":"SUM(DVS73:DVS77)","v":0},{"$f":"SUM(DVT73:DVT77)","v":0},{"$f":"SUM(DVU73:DVU77)","v":0},{"$f":"SUM(DVV73:DVV77)","v":0},{"$f":"SUM(DVW73:DVW77)","v":0},{"$f":"SUM(DVX73:DVX77)","v":0},{"$f":"SUM(DVY73:DVY77)","v":0},{"$f":"SUM(DVZ73:DVZ77)","v":0},{"$f":"SUM(DWA73:DWA77)","v":0},{"$f":"SUM(DWB73:DWB77)","v":0},{"$f":"SUM(DWC73:DWC77)","v":0},{"$f":"SUM(DWD73:DWD77)","v":0},{"$f":"SUM(DWE73:DWE77)","v":0},{"$f":"SUM(DWF73:DWF77)","v":0},{"$f":"SUM(DWG73:DWG77)","v":0},{"$f":"SUM(DWH73:DWH77)","v":0},{"$f":"SUM(DWI73:DWI77)","v":0},{"$f":"SUM(DWJ73:DWJ77)","v":0},{"$f":"SUM(DWK73:DWK77)","v":0},{"$f":"SUM(DWL73:DWL77)","v":0},{"$f":"SUM(DWM73:DWM77)","v":0},{"$f":"SUM(DWN73:DWN77)","v":0},{"$f":"SUM(DWO73:DWO77)","v":0},{"$f":"SUM(DWP73:DWP77)","v":0},{"$f":"SUM(DWQ73:DWQ77)","v":0},{"$f":"SUM(DWR73:DWR77)","v":0},{"$f":"SUM(DWS73:DWS77)","v":0},{"$f":"SUM(DWT73:DWT77)","v":0},{"$f":"SUM(DWU73:DWU77)","v":0},{"$f":"SUM(DWV73:DWV77)","v":0},{"$f":"SUM(DWW73:DWW77)","v":0},{"$f":"SUM(DWX73:DWX77)","v":0},{"$f":"SUM(DWY73:DWY77)","v":0},{"$f":"SUM(DWZ73:DWZ77)","v":0},{"$f":"SUM(DXA73:DXA77)","v":0},{"$f":"SUM(DXB73:DXB77)","v":0},{"$f":"SUM(DXC73:DXC77)","v":0},{"$f":"SUM(DXD73:DXD77)","v":0},{"$f":"SUM(DXE73:DXE77)","v":0},{"$f":"SUM(DXF73:DXF77)","v":0},{"$f":"SUM(DXG73:DXG77)","v":0},{"$f":"SUM(DXH73:DXH77)","v":0},{"$f":"SUM(DXI73:DXI77)","v":0},{"$f":"SUM(DXJ73:DXJ77)","v":0},{"$f":"SUM(DXK73:DXK77)","v":0},{"$f":"SUM(DXL73:DXL77)","v":0},{"$f":"SUM(DXM73:DXM77)","v":0},{"$f":"SUM(DXN73:DXN77)","v":0},{"$f":"SUM(DXO73:DXO77)","v":0},{"$f":"SUM(DXP73:DXP77)","v":0},{"$f":"SUM(DXQ73:DXQ77)","v":0},{"$f":"SUM(DXR73:DXR77)","v":0},{"$f":"SUM(DXS73:DXS77)","v":0},{"$f":"SUM(DXT73:DXT77)","v":0},{"$f":"SUM(DXU73:DXU77)","v":0},{"$f":"SUM(DXV73:DXV77)","v":0},{"$f":"SUM(DXW73:DXW77)","v":0},{"$f":"SUM(DXX73:DXX77)","v":0},{"$f":"SUM(DXY73:DXY77)","v":0},{"$f":"SUM(DXZ73:DXZ77)","v":0},{"$f":"SUM(DYA73:DYA77)","v":0},{"$f":"SUM(DYB73:DYB77)","v":0},{"$f":"SUM(DYC73:DYC77)","v":0},{"$f":"SUM(DYD73:DYD77)","v":0},{"$f":"SUM(DYE73:DYE77)","v":0},{"$f":"SUM(DYF73:DYF77)","v":0},{"$f":"SUM(DYG73:DYG77)","v":0},{"$f":"SUM(DYH73:DYH77)","v":0},{"$f":"SUM(DYI73:DYI77)","v":0},{"$f":"SUM(DYJ73:DYJ77)","v":0},{"$f":"SUM(DYK73:DYK77)","v":0},{"$f":"SUM(DYL73:DYL77)","v":0},{"$f":"SUM(DYM73:DYM77)","v":0},{"$f":"SUM(DYN73:DYN77)","v":0},{"$f":"SUM(DYO73:DYO77)","v":0},{"$f":"SUM(DYP73:DYP77)","v":0},{"$f":"SUM(DYQ73:DYQ77)","v":0},{"$f":"SUM(DYR73:DYR77)","v":0},{"$f":"SUM(DYS73:DYS77)","v":0},{"$f":"SUM(DYT73:DYT77)","v":0},{"$f":"SUM(DYU73:DYU77)","v":0},{"$f":"SUM(DYV73:DYV77)","v":0},{"$f":"SUM(DYW73:DYW77)","v":0},{"$f":"SUM(DYX73:DYX77)","v":0},{"$f":"SUM(DYY73:DYY77)","v":0},{"$f":"SUM(DYZ73:DYZ77)","v":0},{"$f":"SUM(DZA73:DZA77)","v":0},{"$f":"SUM(DZB73:DZB77)","v":0},{"$f":"SUM(DZC73:DZC77)","v":0},{"$f":"SUM(DZD73:DZD77)","v":0},{"$f":"SUM(DZE73:DZE77)","v":0},{"$f":"SUM(DZF73:DZF77)","v":0},{"$f":"SUM(DZG73:DZG77)","v":0},{"$f":"SUM(DZH73:DZH77)","v":0},{"$f":"SUM(DZI73:DZI77)","v":0},{"$f":"SUM(DZJ73:DZJ77)","v":0},{"$f":"SUM(DZK73:DZK77)","v":0},{"$f":"SUM(DZL73:DZL77)","v":0},{"$f":"SUM(DZM73:DZM77)","v":0},{"$f":"SUM(DZN73:DZN77)","v":0},{"$f":"SUM(DZO73:DZO77)","v":0},{"$f":"SUM(DZP73:DZP77)","v":0},{"$f":"SUM(DZQ73:DZQ77)","v":0},{"$f":"SUM(DZR73:DZR77)","v":0},{"$f":"SUM(DZS73:DZS77)","v":0},{"$f":"SUM(DZT73:DZT77)","v":0},{"$f":"SUM(DZU73:DZU77)","v":0},{"$f":"SUM(DZV73:DZV77)","v":0},{"$f":"SUM(DZW73:DZW77)","v":0},{"$f":"SUM(DZX73:DZX77)","v":0},{"$f":"SUM(DZY73:DZY77)","v":0},{"$f":"SUM(DZZ73:DZZ77)","v":0},{"$f":"SUM(EAA73:EAA77)","v":0},{"$f":"SUM(EAB73:EAB77)","v":0},{"$f":"SUM(EAC73:EAC77)","v":0},{"$f":"SUM(EAD73:EAD77)","v":0},{"$f":"SUM(EAE73:EAE77)","v":0},{"$f":"SUM(EAF73:EAF77)","v":0},{"$f":"SUM(EAG73:EAG77)","v":0},{"$f":"SUM(EAH73:EAH77)","v":0},{"$f":"SUM(EAI73:EAI77)","v":0},{"$f":"SUM(EAJ73:EAJ77)","v":0},{"$f":"SUM(EAK73:EAK77)","v":0},{"$f":"SUM(EAL73:EAL77)","v":0},{"$f":"SUM(EAM73:EAM77)","v":0},{"$f":"SUM(EAN73:EAN77)","v":0},{"$f":"SUM(EAO73:EAO77)","v":0},{"$f":"SUM(EAP73:EAP77)","v":0},{"$f":"SUM(EAQ73:EAQ77)","v":0},{"$f":"SUM(EAR73:EAR77)","v":0},{"$f":"SUM(EAS73:EAS77)","v":0},{"$f":"SUM(EAT73:EAT77)","v":0},{"$f":"SUM(EAU73:EAU77)","v":0},{"$f":"SUM(EAV73:EAV77)","v":0},{"$f":"SUM(EAW73:EAW77)","v":0},{"$f":"SUM(EAX73:EAX77)","v":0},{"$f":"SUM(EAY73:EAY77)","v":0},{"$f":"SUM(EAZ73:EAZ77)","v":0},{"$f":"SUM(EBA73:EBA77)","v":0},{"$f":"SUM(EBB73:EBB77)","v":0},{"$f":"SUM(EBC73:EBC77)","v":0},{"$f":"SUM(EBD73:EBD77)","v":0},{"$f":"SUM(EBE73:EBE77)","v":0},{"$f":"SUM(EBF73:EBF77)","v":0},{"$f":"SUM(EBG73:EBG77)","v":0},{"$f":"SUM(EBH73:EBH77)","v":0},{"$f":"SUM(EBI73:EBI77)","v":0},{"$f":"SUM(EBJ73:EBJ77)","v":0},{"$f":"SUM(EBK73:EBK77)","v":0},{"$f":"SUM(EBL73:EBL77)","v":0},{"$f":"SUM(EBM73:EBM77)","v":0},{"$f":"SUM(EBN73:EBN77)","v":0},{"$f":"SUM(EBO73:EBO77)","v":0},{"$f":"SUM(EBP73:EBP77)","v":0},{"$f":"SUM(EBQ73:EBQ77)","v":0},{"$f":"SUM(EBR73:EBR77)","v":0},{"$f":"SUM(EBS73:EBS77)","v":0},{"$f":"SUM(EBT73:EBT77)","v":0},{"$f":"SUM(EBU73:EBU77)","v":0},{"$f":"SUM(EBV73:EBV77)","v":0},{"$f":"SUM(EBW73:EBW77)","v":0},{"$f":"SUM(EBX73:EBX77)","v":0},{"$f":"SUM(EBY73:EBY77)","v":0},{"$f":"SUM(EBZ73:EBZ77)","v":0},{"$f":"SUM(ECA73:ECA77)","v":0},{"$f":"SUM(ECB73:ECB77)","v":0},{"$f":"SUM(ECC73:ECC77)","v":0},{"$f":"SUM(ECD73:ECD77)","v":0},{"$f":"SUM(ECE73:ECE77)","v":0},{"$f":"SUM(ECF73:ECF77)","v":0},{"$f":"SUM(ECG73:ECG77)","v":0},{"$f":"SUM(ECH73:ECH77)","v":0},{"$f":"SUM(ECI73:ECI77)","v":0},{"$f":"SUM(ECJ73:ECJ77)","v":0},{"$f":"SUM(ECK73:ECK77)","v":0},{"$f":"SUM(ECL73:ECL77)","v":0},{"$f":"SUM(ECM73:ECM77)","v":0},{"$f":"SUM(ECN73:ECN77)","v":0},{"$f":"SUM(ECO73:ECO77)","v":0},{"$f":"SUM(ECP73:ECP77)","v":0},{"$f":"SUM(ECQ73:ECQ77)","v":0},{"$f":"SUM(ECR73:ECR77)","v":0},{"$f":"SUM(ECS73:ECS77)","v":0},{"$f":"SUM(ECT73:ECT77)","v":0},{"$f":"SUM(ECU73:ECU77)","v":0},{"$f":"SUM(ECV73:ECV77)","v":0},{"$f":"SUM(ECW73:ECW77)","v":0},{"$f":"SUM(ECX73:ECX77)","v":0},{"$f":"SUM(ECY73:ECY77)","v":0},{"$f":"SUM(ECZ73:ECZ77)","v":0},{"$f":"SUM(EDA73:EDA77)","v":0},{"$f":"SUM(EDB73:EDB77)","v":0},{"$f":"SUM(EDC73:EDC77)","v":0},{"$f":"SUM(EDD73:EDD77)","v":0},{"$f":"SUM(EDE73:EDE77)","v":0},{"$f":"SUM(EDF73:EDF77)","v":0},{"$f":"SUM(EDG73:EDG77)","v":0},{"$f":"SUM(EDH73:EDH77)","v":0},{"$f":"SUM(EDI73:EDI77)","v":0},{"$f":"SUM(EDJ73:EDJ77)","v":0},{"$f":"SUM(EDK73:EDK77)","v":0},{"$f":"SUM(EDL73:EDL77)","v":0},{"$f":"SUM(EDM73:EDM77)","v":0},{"$f":"SUM(EDN73:EDN77)","v":0},{"$f":"SUM(EDO73:EDO77)","v":0},{"$f":"SUM(EDP73:EDP77)","v":0},{"$f":"SUM(EDQ73:EDQ77)","v":0},{"$f":"SUM(EDR73:EDR77)","v":0},{"$f":"SUM(EDS73:EDS77)","v":0},{"$f":"SUM(EDT73:EDT77)","v":0},{"$f":"SUM(EDU73:EDU77)","v":0},{"$f":"SUM(EDV73:EDV77)","v":0},{"$f":"SUM(EDW73:EDW77)","v":0},{"$f":"SUM(EDX73:EDX77)","v":0},{"$f":"SUM(EDY73:EDY77)","v":0},{"$f":"SUM(EDZ73:EDZ77)","v":0},{"$f":"SUM(EEA73:EEA77)","v":0},{"$f":"SUM(EEB73:EEB77)","v":0},{"$f":"SUM(EEC73:EEC77)","v":0},{"$f":"SUM(EED73:EED77)","v":0},{"$f":"SUM(EEE73:EEE77)","v":0},{"$f":"SUM(EEF73:EEF77)","v":0},{"$f":"SUM(EEG73:EEG77)","v":0},{"$f":"SUM(EEH73:EEH77)","v":0},{"$f":"SUM(EEI73:EEI77)","v":0},{"$f":"SUM(EEJ73:EEJ77)","v":0},{"$f":"SUM(EEK73:EEK77)","v":0},{"$f":"SUM(EEL73:EEL77)","v":0},{"$f":"SUM(EEM73:EEM77)","v":0},{"$f":"SUM(EEN73:EEN77)","v":0},{"$f":"SUM(EEO73:EEO77)","v":0},{"$f":"SUM(EEP73:EEP77)","v":0},{"$f":"SUM(EEQ73:EEQ77)","v":0},{"$f":"SUM(EER73:EER77)","v":0},{"$f":"SUM(EES73:EES77)","v":0},{"$f":"SUM(EET73:EET77)","v":0},{"$f":"SUM(EEU73:EEU77)","v":0},{"$f":"SUM(EEV73:EEV77)","v":0},{"$f":"SUM(EEW73:EEW77)","v":0},{"$f":"SUM(EEX73:EEX77)","v":0},{"$f":"SUM(EEY73:EEY77)","v":0},{"$f":"SUM(EEZ73:EEZ77)","v":0},{"$f":"SUM(EFA73:EFA77)","v":0},{"$f":"SUM(EFB73:EFB77)","v":0},{"$f":"SUM(EFC73:EFC77)","v":0},{"$f":"SUM(EFD73:EFD77)","v":0},{"$f":"SUM(EFE73:EFE77)","v":0},{"$f":"SUM(EFF73:EFF77)","v":0},{"$f":"SUM(EFG73:EFG77)","v":0},{"$f":"SUM(EFH73:EFH77)","v":0},{"$f":"SUM(EFI73:EFI77)","v":0},{"$f":"SUM(EFJ73:EFJ77)","v":0},{"$f":"SUM(EFK73:EFK77)","v":0},{"$f":"SUM(EFL73:EFL77)","v":0},{"$f":"SUM(EFM73:EFM77)","v":0},{"$f":"SUM(EFN73:EFN77)","v":0},{"$f":"SUM(EFO73:EFO77)","v":0},{"$f":"SUM(EFP73:EFP77)","v":0},{"$f":"SUM(EFQ73:EFQ77)","v":0},{"$f":"SUM(EFR73:EFR77)","v":0},{"$f":"SUM(EFS73:EFS77)","v":0},{"$f":"SUM(EFT73:EFT77)","v":0},{"$f":"SUM(EFU73:EFU77)","v":0},{"$f":"SUM(EFV73:EFV77)","v":0},{"$f":"SUM(EFW73:EFW77)","v":0},{"$f":"SUM(EFX73:EFX77)","v":0},{"$f":"SUM(EFY73:EFY77)","v":0},{"$f":"SUM(EFZ73:EFZ77)","v":0},{"$f":"SUM(EGA73:EGA77)","v":0},{"$f":"SUM(EGB73:EGB77)","v":0},{"$f":"SUM(EGC73:EGC77)","v":0},{"$f":"SUM(EGD73:EGD77)","v":0},{"$f":"SUM(EGE73:EGE77)","v":0},{"$f":"SUM(EGF73:EGF77)","v":0},{"$f":"SUM(EGG73:EGG77)","v":0},{"$f":"SUM(EGH73:EGH77)","v":0},{"$f":"SUM(EGI73:EGI77)","v":0},{"$f":"SUM(EGJ73:EGJ77)","v":0},{"$f":"SUM(EGK73:EGK77)","v":0},{"$f":"SUM(EGL73:EGL77)","v":0},{"$f":"SUM(EGM73:EGM77)","v":0},{"$f":"SUM(EGN73:EGN77)","v":0},{"$f":"SUM(EGO73:EGO77)","v":0},{"$f":"SUM(EGP73:EGP77)","v":0},{"$f":"SUM(EGQ73:EGQ77)","v":0},{"$f":"SUM(EGR73:EGR77)","v":0},{"$f":"SUM(EGS73:EGS77)","v":0},{"$f":"SUM(EGT73:EGT77)","v":0},{"$f":"SUM(EGU73:EGU77)","v":0},{"$f":"SUM(EGV73:EGV77)","v":0},{"$f":"SUM(EGW73:EGW77)","v":0},{"$f":"SUM(EGX73:EGX77)","v":0},{"$f":"SUM(EGY73:EGY77)","v":0},{"$f":"SUM(EGZ73:EGZ77)","v":0},{"$f":"SUM(EHA73:EHA77)","v":0},{"$f":"SUM(EHB73:EHB77)","v":0},{"$f":"SUM(EHC73:EHC77)","v":0},{"$f":"SUM(EHD73:EHD77)","v":0},{"$f":"SUM(EHE73:EHE77)","v":0},{"$f":"SUM(EHF73:EHF77)","v":0},{"$f":"SUM(EHG73:EHG77)","v":0},{"$f":"SUM(EHH73:EHH77)","v":0},{"$f":"SUM(EHI73:EHI77)","v":0},{"$f":"SUM(EHJ73:EHJ77)","v":0},{"$f":"SUM(EHK73:EHK77)","v":0},{"$f":"SUM(EHL73:EHL77)","v":0},{"$f":"SUM(EHM73:EHM77)","v":0},{"$f":"SUM(EHN73:EHN77)","v":0},{"$f":"SUM(EHO73:EHO77)","v":0},{"$f":"SUM(EHP73:EHP77)","v":0},{"$f":"SUM(EHQ73:EHQ77)","v":0},{"$f":"SUM(EHR73:EHR77)","v":0},{"$f":"SUM(EHS73:EHS77)","v":0},{"$f":"SUM(EHT73:EHT77)","v":0},{"$f":"SUM(EHU73:EHU77)","v":0},{"$f":"SUM(EHV73:EHV77)","v":0},{"$f":"SUM(EHW73:EHW77)","v":0},{"$f":"SUM(EHX73:EHX77)","v":0},{"$f":"SUM(EHY73:EHY77)","v":0},{"$f":"SUM(EHZ73:EHZ77)","v":0},{"$f":"SUM(EIA73:EIA77)","v":0},{"$f":"SUM(EIB73:EIB77)","v":0},{"$f":"SUM(EIC73:EIC77)","v":0},{"$f":"SUM(EID73:EID77)","v":0},{"$f":"SUM(EIE73:EIE77)","v":0},{"$f":"SUM(EIF73:EIF77)","v":0},{"$f":"SUM(EIG73:EIG77)","v":0},{"$f":"SUM(EIH73:EIH77)","v":0},{"$f":"SUM(EII73:EII77)","v":0},{"$f":"SUM(EIJ73:EIJ77)","v":0},{"$f":"SUM(EIK73:EIK77)","v":0},{"$f":"SUM(EIL73:EIL77)","v":0},{"$f":"SUM(EIM73:EIM77)","v":0},{"$f":"SUM(EIN73:EIN77)","v":0},{"$f":"SUM(EIO73:EIO77)","v":0},{"$f":"SUM(EIP73:EIP77)","v":0},{"$f":"SUM(EIQ73:EIQ77)","v":0},{"$f":"SUM(EIR73:EIR77)","v":0},{"$f":"SUM(EIS73:EIS77)","v":0},{"$f":"SUM(EIT73:EIT77)","v":0},{"$f":"SUM(EIU73:EIU77)","v":0},{"$f":"SUM(EIV73:EIV77)","v":0},{"$f":"SUM(EIW73:EIW77)","v":0},{"$f":"SUM(EIX73:EIX77)","v":0},{"$f":"SUM(EIY73:EIY77)","v":0},{"$f":"SUM(EIZ73:EIZ77)","v":0},{"$f":"SUM(EJA73:EJA77)","v":0},{"$f":"SUM(EJB73:EJB77)","v":0},{"$f":"SUM(EJC73:EJC77)","v":0},{"$f":"SUM(EJD73:EJD77)","v":0},{"$f":"SUM(EJE73:EJE77)","v":0},{"$f":"SUM(EJF73:EJF77)","v":0},{"$f":"SUM(EJG73:EJG77)","v":0},{"$f":"SUM(EJH73:EJH77)","v":0},{"$f":"SUM(EJI73:EJI77)","v":0},{"$f":"SUM(EJJ73:EJJ77)","v":0},{"$f":"SUM(EJK73:EJK77)","v":0},{"$f":"SUM(EJL73:EJL77)","v":0},{"$f":"SUM(EJM73:EJM77)","v":0},{"$f":"SUM(EJN73:EJN77)","v":0},{"$f":"SUM(EJO73:EJO77)","v":0},{"$f":"SUM(EJP73:EJP77)","v":0},{"$f":"SUM(EJQ73:EJQ77)","v":0},{"$f":"SUM(EJR73:EJR77)","v":0},{"$f":"SUM(EJS73:EJS77)","v":0},{"$f":"SUM(EJT73:EJT77)","v":0},{"$f":"SUM(EJU73:EJU77)","v":0},{"$f":"SUM(EJV73:EJV77)","v":0},{"$f":"SUM(EJW73:EJW77)","v":0},{"$f":"SUM(EJX73:EJX77)","v":0},{"$f":"SUM(EJY73:EJY77)","v":0},{"$f":"SUM(EJZ73:EJZ77)","v":0},{"$f":"SUM(EKA73:EKA77)","v":0},{"$f":"SUM(EKB73:EKB77)","v":0},{"$f":"SUM(EKC73:EKC77)","v":0},{"$f":"SUM(EKD73:EKD77)","v":0},{"$f":"SUM(EKE73:EKE77)","v":0},{"$f":"SUM(EKF73:EKF77)","v":0},{"$f":"SUM(EKG73:EKG77)","v":0},{"$f":"SUM(EKH73:EKH77)","v":0},{"$f":"SUM(EKI73:EKI77)","v":0},{"$f":"SUM(EKJ73:EKJ77)","v":0},{"$f":"SUM(EKK73:EKK77)","v":0},{"$f":"SUM(EKL73:EKL77)","v":0},{"$f":"SUM(EKM73:EKM77)","v":0},{"$f":"SUM(EKN73:EKN77)","v":0},{"$f":"SUM(EKO73:EKO77)","v":0},{"$f":"SUM(EKP73:EKP77)","v":0},{"$f":"SUM(EKQ73:EKQ77)","v":0},{"$f":"SUM(EKR73:EKR77)","v":0},{"$f":"SUM(EKS73:EKS77)","v":0},{"$f":"SUM(EKT73:EKT77)","v":0},{"$f":"SUM(EKU73:EKU77)","v":0},{"$f":"SUM(EKV73:EKV77)","v":0},{"$f":"SUM(EKW73:EKW77)","v":0},{"$f":"SUM(EKX73:EKX77)","v":0},{"$f":"SUM(EKY73:EKY77)","v":0},{"$f":"SUM(EKZ73:EKZ77)","v":0},{"$f":"SUM(ELA73:ELA77)","v":0},{"$f":"SUM(ELB73:ELB77)","v":0},{"$f":"SUM(ELC73:ELC77)","v":0},{"$f":"SUM(ELD73:ELD77)","v":0},{"$f":"SUM(ELE73:ELE77)","v":0},{"$f":"SUM(ELF73:ELF77)","v":0},{"$f":"SUM(ELG73:ELG77)","v":0},{"$f":"SUM(ELH73:ELH77)","v":0},{"$f":"SUM(ELI73:ELI77)","v":0},{"$f":"SUM(ELJ73:ELJ77)","v":0},{"$f":"SUM(ELK73:ELK77)","v":0},{"$f":"SUM(ELL73:ELL77)","v":0},{"$f":"SUM(ELM73:ELM77)","v":0},{"$f":"SUM(ELN73:ELN77)","v":0},{"$f":"SUM(ELO73:ELO77)","v":0},{"$f":"SUM(ELP73:ELP77)","v":0},{"$f":"SUM(ELQ73:ELQ77)","v":0},{"$f":"SUM(ELR73:ELR77)","v":0},{"$f":"SUM(ELS73:ELS77)","v":0},{"$f":"SUM(ELT73:ELT77)","v":0},{"$f":"SUM(ELU73:ELU77)","v":0},{"$f":"SUM(ELV73:ELV77)","v":0},{"$f":"SUM(ELW73:ELW77)","v":0},{"$f":"SUM(ELX73:ELX77)","v":0},{"$f":"SUM(ELY73:ELY77)","v":0},{"$f":"SUM(ELZ73:ELZ77)","v":0},{"$f":"SUM(EMA73:EMA77)","v":0},{"$f":"SUM(EMB73:EMB77)","v":0},{"$f":"SUM(EMC73:EMC77)","v":0},{"$f":"SUM(EMD73:EMD77)","v":0},{"$f":"SUM(EME73:EME77)","v":0},{"$f":"SUM(EMF73:EMF77)","v":0},{"$f":"SUM(EMG73:EMG77)","v":0},{"$f":"SUM(EMH73:EMH77)","v":0},{"$f":"SUM(EMI73:EMI77)","v":0},{"$f":"SUM(EMJ73:EMJ77)","v":0},{"$f":"SUM(EMK73:EMK77)","v":0},{"$f":"SUM(EML73:EML77)","v":0},{"$f":"SUM(EMM73:EMM77)","v":0},{"$f":"SUM(EMN73:EMN77)","v":0},{"$f":"SUM(EMO73:EMO77)","v":0},{"$f":"SUM(EMP73:EMP77)","v":0},{"$f":"SUM(EMQ73:EMQ77)","v":0},{"$f":"SUM(EMR73:EMR77)","v":0},{"$f":"SUM(EMS73:EMS77)","v":0},{"$f":"SUM(EMT73:EMT77)","v":0},{"$f":"SUM(EMU73:EMU77)","v":0},{"$f":"SUM(EMV73:EMV77)","v":0},{"$f":"SUM(EMW73:EMW77)","v":0},{"$f":"SUM(EMX73:EMX77)","v":0},{"$f":"SUM(EMY73:EMY77)","v":0},{"$f":"SUM(EMZ73:EMZ77)","v":0},{"$f":"SUM(ENA73:ENA77)","v":0},{"$f":"SUM(ENB73:ENB77)","v":0},{"$f":"SUM(ENC73:ENC77)","v":0},{"$f":"SUM(END73:END77)","v":0},{"$f":"SUM(ENE73:ENE77)","v":0},{"$f":"SUM(ENF73:ENF77)","v":0},{"$f":"SUM(ENG73:ENG77)","v":0},{"$f":"SUM(ENH73:ENH77)","v":0},{"$f":"SUM(ENI73:ENI77)","v":0},{"$f":"SUM(ENJ73:ENJ77)","v":0},{"$f":"SUM(ENK73:ENK77)","v":0},{"$f":"SUM(ENL73:ENL77)","v":0},{"$f":"SUM(ENM73:ENM77)","v":0},{"$f":"SUM(ENN73:ENN77)","v":0},{"$f":"SUM(ENO73:ENO77)","v":0},{"$f":"SUM(ENP73:ENP77)","v":0},{"$f":"SUM(ENQ73:ENQ77)","v":0},{"$f":"SUM(ENR73:ENR77)","v":0},{"$f":"SUM(ENS73:ENS77)","v":0},{"$f":"SUM(ENT73:ENT77)","v":0},{"$f":"SUM(ENU73:ENU77)","v":0},{"$f":"SUM(ENV73:ENV77)","v":0},{"$f":"SUM(ENW73:ENW77)","v":0},{"$f":"SUM(ENX73:ENX77)","v":0},{"$f":"SUM(ENY73:ENY77)","v":0},{"$f":"SUM(ENZ73:ENZ77)","v":0},{"$f":"SUM(EOA73:EOA77)","v":0},{"$f":"SUM(EOB73:EOB77)","v":0},{"$f":"SUM(EOC73:EOC77)","v":0},{"$f":"SUM(EOD73:EOD77)","v":0},{"$f":"SUM(EOE73:EOE77)","v":0},{"$f":"SUM(EOF73:EOF77)","v":0},{"$f":"SUM(EOG73:EOG77)","v":0},{"$f":"SUM(EOH73:EOH77)","v":0},{"$f":"SUM(EOI73:EOI77)","v":0},{"$f":"SUM(EOJ73:EOJ77)","v":0},{"$f":"SUM(EOK73:EOK77)","v":0},{"$f":"SUM(EOL73:EOL77)","v":0},{"$f":"SUM(EOM73:EOM77)","v":0},{"$f":"SUM(EON73:EON77)","v":0},{"$f":"SUM(EOO73:EOO77)","v":0},{"$f":"SUM(EOP73:EOP77)","v":0},{"$f":"SUM(EOQ73:EOQ77)","v":0},{"$f":"SUM(EOR73:EOR77)","v":0},{"$f":"SUM(EOS73:EOS77)","v":0},{"$f":"SUM(EOT73:EOT77)","v":0},{"$f":"SUM(EOU73:EOU77)","v":0},{"$f":"SUM(EOV73:EOV77)","v":0},{"$f":"SUM(EOW73:EOW77)","v":0},{"$f":"SUM(EOX73:EOX77)","v":0},{"$f":"SUM(EOY73:EOY77)","v":0},{"$f":"SUM(EOZ73:EOZ77)","v":0},{"$f":"SUM(EPA73:EPA77)","v":0},{"$f":"SUM(EPB73:EPB77)","v":0},{"$f":"SUM(EPC73:EPC77)","v":0},{"$f":"SUM(EPD73:EPD77)","v":0},{"$f":"SUM(EPE73:EPE77)","v":0},{"$f":"SUM(EPF73:EPF77)","v":0},{"$f":"SUM(EPG73:EPG77)","v":0},{"$f":"SUM(EPH73:EPH77)","v":0},{"$f":"SUM(EPI73:EPI77)","v":0},{"$f":"SUM(EPJ73:EPJ77)","v":0},{"$f":"SUM(EPK73:EPK77)","v":0},{"$f":"SUM(EPL73:EPL77)","v":0},{"$f":"SUM(EPM73:EPM77)","v":0},{"$f":"SUM(EPN73:EPN77)","v":0},{"$f":"SUM(EPO73:EPO77)","v":0},{"$f":"SUM(EPP73:EPP77)","v":0},{"$f":"SUM(EPQ73:EPQ77)","v":0},{"$f":"SUM(EPR73:EPR77)","v":0},{"$f":"SUM(EPS73:EPS77)","v":0},{"$f":"SUM(EPT73:EPT77)","v":0},{"$f":"SUM(EPU73:EPU77)","v":0},{"$f":"SUM(EPV73:EPV77)","v":0},{"$f":"SUM(EPW73:EPW77)","v":0},{"$f":"SUM(EPX73:EPX77)","v":0},{"$f":"SUM(EPY73:EPY77)","v":0},{"$f":"SUM(EPZ73:EPZ77)","v":0},{"$f":"SUM(EQA73:EQA77)","v":0},{"$f":"SUM(EQB73:EQB77)","v":0},{"$f":"SUM(EQC73:EQC77)","v":0},{"$f":"SUM(EQD73:EQD77)","v":0},{"$f":"SUM(EQE73:EQE77)","v":0},{"$f":"SUM(EQF73:EQF77)","v":0},{"$f":"SUM(EQG73:EQG77)","v":0},{"$f":"SUM(EQH73:EQH77)","v":0},{"$f":"SUM(EQI73:EQI77)","v":0},{"$f":"SUM(EQJ73:EQJ77)","v":0},{"$f":"SUM(EQK73:EQK77)","v":0},{"$f":"SUM(EQL73:EQL77)","v":0},{"$f":"SUM(EQM73:EQM77)","v":0},{"$f":"SUM(EQN73:EQN77)","v":0},{"$f":"SUM(EQO73:EQO77)","v":0},{"$f":"SUM(EQP73:EQP77)","v":0},{"$f":"SUM(EQQ73:EQQ77)","v":0},{"$f":"SUM(EQR73:EQR77)","v":0},{"$f":"SUM(EQS73:EQS77)","v":0},{"$f":"SUM(EQT73:EQT77)","v":0},{"$f":"SUM(EQU73:EQU77)","v":0},{"$f":"SUM(EQV73:EQV77)","v":0},{"$f":"SUM(EQW73:EQW77)","v":0},{"$f":"SUM(EQX73:EQX77)","v":0},{"$f":"SUM(EQY73:EQY77)","v":0},{"$f":"SUM(EQZ73:EQZ77)","v":0},{"$f":"SUM(ERA73:ERA77)","v":0},{"$f":"SUM(ERB73:ERB77)","v":0},{"$f":"SUM(ERC73:ERC77)","v":0},{"$f":"SUM(ERD73:ERD77)","v":0},{"$f":"SUM(ERE73:ERE77)","v":0},{"$f":"SUM(ERF73:ERF77)","v":0},{"$f":"SUM(ERG73:ERG77)","v":0},{"$f":"SUM(ERH73:ERH77)","v":0},{"$f":"SUM(ERI73:ERI77)","v":0},{"$f":"SUM(ERJ73:ERJ77)","v":0},{"$f":"SUM(ERK73:ERK77)","v":0},{"$f":"SUM(ERL73:ERL77)","v":0},{"$f":"SUM(ERM73:ERM77)","v":0},{"$f":"SUM(ERN73:ERN77)","v":0},{"$f":"SUM(ERO73:ERO77)","v":0},{"$f":"SUM(ERP73:ERP77)","v":0},{"$f":"SUM(ERQ73:ERQ77)","v":0},{"$f":"SUM(ERR73:ERR77)","v":0},{"$f":"SUM(ERS73:ERS77)","v":0},{"$f":"SUM(ERT73:ERT77)","v":0},{"$f":"SUM(ERU73:ERU77)","v":0},{"$f":"SUM(ERV73:ERV77)","v":0},{"$f":"SUM(ERW73:ERW77)","v":0},{"$f":"SUM(ERX73:ERX77)","v":0},{"$f":"SUM(ERY73:ERY77)","v":0},{"$f":"SUM(ERZ73:ERZ77)","v":0},{"$f":"SUM(ESA73:ESA77)","v":0},{"$f":"SUM(ESB73:ESB77)","v":0},{"$f":"SUM(ESC73:ESC77)","v":0},{"$f":"SUM(ESD73:ESD77)","v":0},{"$f":"SUM(ESE73:ESE77)","v":0},{"$f":"SUM(ESF73:ESF77)","v":0},{"$f":"SUM(ESG73:ESG77)","v":0},{"$f":"SUM(ESH73:ESH77)","v":0},{"$f":"SUM(ESI73:ESI77)","v":0},{"$f":"SUM(ESJ73:ESJ77)","v":0},{"$f":"SUM(ESK73:ESK77)","v":0},{"$f":"SUM(ESL73:ESL77)","v":0},{"$f":"SUM(ESM73:ESM77)","v":0},{"$f":"SUM(ESN73:ESN77)","v":0},{"$f":"SUM(ESO73:ESO77)","v":0},{"$f":"SUM(ESP73:ESP77)","v":0},{"$f":"SUM(ESQ73:ESQ77)","v":0},{"$f":"SUM(ESR73:ESR77)","v":0},{"$f":"SUM(ESS73:ESS77)","v":0},{"$f":"SUM(EST73:EST77)","v":0},{"$f":"SUM(ESU73:ESU77)","v":0},{"$f":"SUM(ESV73:ESV77)","v":0},{"$f":"SUM(ESW73:ESW77)","v":0},{"$f":"SUM(ESX73:ESX77)","v":0},{"$f":"SUM(ESY73:ESY77)","v":0},{"$f":"SUM(ESZ73:ESZ77)","v":0},{"$f":"SUM(ETA73:ETA77)","v":0},{"$f":"SUM(ETB73:ETB77)","v":0},{"$f":"SUM(ETC73:ETC77)","v":0},{"$f":"SUM(ETD73:ETD77)","v":0},{"$f":"SUM(ETE73:ETE77)","v":0},{"$f":"SUM(ETF73:ETF77)","v":0},{"$f":"SUM(ETG73:ETG77)","v":0},{"$f":"SUM(ETH73:ETH77)","v":0},{"$f":"SUM(ETI73:ETI77)","v":0},{"$f":"SUM(ETJ73:ETJ77)","v":0},{"$f":"SUM(ETK73:ETK77)","v":0},{"$f":"SUM(ETL73:ETL77)","v":0},{"$f":"SUM(ETM73:ETM77)","v":0},{"$f":"SUM(ETN73:ETN77)","v":0},{"$f":"SUM(ETO73:ETO77)","v":0},{"$f":"SUM(ETP73:ETP77)","v":0},{"$f":"SUM(ETQ73:ETQ77)","v":0},{"$f":"SUM(ETR73:ETR77)","v":0},{"$f":"SUM(ETS73:ETS77)","v":0},{"$f":"SUM(ETT73:ETT77)","v":0},{"$f":"SUM(ETU73:ETU77)","v":0},{"$f":"SUM(ETV73:ETV77)","v":0},{"$f":"SUM(ETW73:ETW77)","v":0},{"$f":"SUM(ETX73:ETX77)","v":0},{"$f":"SUM(ETY73:ETY77)","v":0},{"$f":"SUM(ETZ73:ETZ77)","v":0},{"$f":"SUM(EUA73:EUA77)","v":0},{"$f":"SUM(EUB73:EUB77)","v":0},{"$f":"SUM(EUC73:EUC77)","v":0},{"$f":"SUM(EUD73:EUD77)","v":0},{"$f":"SUM(EUE73:EUE77)","v":0},{"$f":"SUM(EUF73:EUF77)","v":0},{"$f":"SUM(EUG73:EUG77)","v":0},{"$f":"SUM(EUH73:EUH77)","v":0},{"$f":"SUM(EUI73:EUI77)","v":0},{"$f":"SUM(EUJ73:EUJ77)","v":0},{"$f":"SUM(EUK73:EUK77)","v":0},{"$f":"SUM(EUL73:EUL77)","v":0},{"$f":"SUM(EUM73:EUM77)","v":0},{"$f":"SUM(EUN73:EUN77)","v":0},{"$f":"SUM(EUO73:EUO77)","v":0},{"$f":"SUM(EUP73:EUP77)","v":0},{"$f":"SUM(EUQ73:EUQ77)","v":0},{"$f":"SUM(EUR73:EUR77)","v":0},{"$f":"SUM(EUS73:EUS77)","v":0},{"$f":"SUM(EUT73:EUT77)","v":0},{"$f":"SUM(EUU73:EUU77)","v":0},{"$f":"SUM(EUV73:EUV77)","v":0},{"$f":"SUM(EUW73:EUW77)","v":0},{"$f":"SUM(EUX73:EUX77)","v":0},{"$f":"SUM(EUY73:EUY77)","v":0},{"$f":"SUM(EUZ73:EUZ77)","v":0},{"$f":"SUM(EVA73:EVA77)","v":0},{"$f":"SUM(EVB73:EVB77)","v":0},{"$f":"SUM(EVC73:EVC77)","v":0},{"$f":"SUM(EVD73:EVD77)","v":0},{"$f":"SUM(EVE73:EVE77)","v":0},{"$f":"SUM(EVF73:EVF77)","v":0},{"$f":"SUM(EVG73:EVG77)","v":0},{"$f":"SUM(EVH73:EVH77)","v":0},{"$f":"SUM(EVI73:EVI77)","v":0},{"$f":"SUM(EVJ73:EVJ77)","v":0},{"$f":"SUM(EVK73:EVK77)","v":0},{"$f":"SUM(EVL73:EVL77)","v":0},{"$f":"SUM(EVM73:EVM77)","v":0},{"$f":"SUM(EVN73:EVN77)","v":0},{"$f":"SUM(EVO73:EVO77)","v":0},{"$f":"SUM(EVP73:EVP77)","v":0},{"$f":"SUM(EVQ73:EVQ77)","v":0},{"$f":"SUM(EVR73:EVR77)","v":0},{"$f":"SUM(EVS73:EVS77)","v":0},{"$f":"SUM(EVT73:EVT77)","v":0},{"$f":"SUM(EVU73:EVU77)","v":0},{"$f":"SUM(EVV73:EVV77)","v":0},{"$f":"SUM(EVW73:EVW77)","v":0},{"$f":"SUM(EVX73:EVX77)","v":0},{"$f":"SUM(EVY73:EVY77)","v":0},{"$f":"SUM(EVZ73:EVZ77)","v":0},{"$f":"SUM(EWA73:EWA77)","v":0},{"$f":"SUM(EWB73:EWB77)","v":0},{"$f":"SUM(EWC73:EWC77)","v":0},{"$f":"SUM(EWD73:EWD77)","v":0},{"$f":"SUM(EWE73:EWE77)","v":0},{"$f":"SUM(EWF73:EWF77)","v":0},{"$f":"SUM(EWG73:EWG77)","v":0},{"$f":"SUM(EWH73:EWH77)","v":0},{"$f":"SUM(EWI73:EWI77)","v":0},{"$f":"SUM(EWJ73:EWJ77)","v":0},{"$f":"SUM(EWK73:EWK77)","v":0},{"$f":"SUM(EWL73:EWL77)","v":0},{"$f":"SUM(EWM73:EWM77)","v":0},{"$f":"SUM(EWN73:EWN77)","v":0},{"$f":"SUM(EWO73:EWO77)","v":0},{"$f":"SUM(EWP73:EWP77)","v":0},{"$f":"SUM(EWQ73:EWQ77)","v":0},{"$f":"SUM(EWR73:EWR77)","v":0},{"$f":"SUM(EWS73:EWS77)","v":0},{"$f":"SUM(EWT73:EWT77)","v":0},{"$f":"SUM(EWU73:EWU77)","v":0},{"$f":"SUM(EWV73:EWV77)","v":0},{"$f":"SUM(EWW73:EWW77)","v":0},{"$f":"SUM(EWX73:EWX77)","v":0},{"$f":"SUM(EWY73:EWY77)","v":0},{"$f":"SUM(EWZ73:EWZ77)","v":0},{"$f":"SUM(EXA73:EXA77)","v":0},{"$f":"SUM(EXB73:EXB77)","v":0},{"$f":"SUM(EXC73:EXC77)","v":0},{"$f":"SUM(EXD73:EXD77)","v":0},{"$f":"SUM(EXE73:EXE77)","v":0},{"$f":"SUM(EXF73:EXF77)","v":0},{"$f":"SUM(EXG73:EXG77)","v":0},{"$f":"SUM(EXH73:EXH77)","v":0},{"$f":"SUM(EXI73:EXI77)","v":0},{"$f":"SUM(EXJ73:EXJ77)","v":0},{"$f":"SUM(EXK73:EXK77)","v":0},{"$f":"SUM(EXL73:EXL77)","v":0},{"$f":"SUM(EXM73:EXM77)","v":0},{"$f":"SUM(EXN73:EXN77)","v":0},{"$f":"SUM(EXO73:EXO77)","v":0},{"$f":"SUM(EXP73:EXP77)","v":0},{"$f":"SUM(EXQ73:EXQ77)","v":0},{"$f":"SUM(EXR73:EXR77)","v":0},{"$f":"SUM(EXS73:EXS77)","v":0},{"$f":"SUM(EXT73:EXT77)","v":0},{"$f":"SUM(EXU73:EXU77)","v":0},{"$f":"SUM(EXV73:EXV77)","v":0},{"$f":"SUM(EXW73:EXW77)","v":0},{"$f":"SUM(EXX73:EXX77)","v":0},{"$f":"SUM(EXY73:EXY77)","v":0},{"$f":"SUM(EXZ73:EXZ77)","v":0},{"$f":"SUM(EYA73:EYA77)","v":0},{"$f":"SUM(EYB73:EYB77)","v":0},{"$f":"SUM(EYC73:EYC77)","v":0},{"$f":"SUM(EYD73:EYD77)","v":0},{"$f":"SUM(EYE73:EYE77)","v":0},{"$f":"SUM(EYF73:EYF77)","v":0},{"$f":"SUM(EYG73:EYG77)","v":0},{"$f":"SUM(EYH73:EYH77)","v":0},{"$f":"SUM(EYI73:EYI77)","v":0},{"$f":"SUM(EYJ73:EYJ77)","v":0},{"$f":"SUM(EYK73:EYK77)","v":0},{"$f":"SUM(EYL73:EYL77)","v":0},{"$f":"SUM(EYM73:EYM77)","v":0},{"$f":"SUM(EYN73:EYN77)","v":0},{"$f":"SUM(EYO73:EYO77)","v":0},{"$f":"SUM(EYP73:EYP77)","v":0},{"$f":"SUM(EYQ73:EYQ77)","v":0},{"$f":"SUM(EYR73:EYR77)","v":0},{"$f":"SUM(EYS73:EYS77)","v":0},{"$f":"SUM(EYT73:EYT77)","v":0},{"$f":"SUM(EYU73:EYU77)","v":0},{"$f":"SUM(EYV73:EYV77)","v":0},{"$f":"SUM(EYW73:EYW77)","v":0},{"$f":"SUM(EYX73:EYX77)","v":0},{"$f":"SUM(EYY73:EYY77)","v":0},{"$f":"SUM(EYZ73:EYZ77)","v":0},{"$f":"SUM(EZA73:EZA77)","v":0},{"$f":"SUM(EZB73:EZB77)","v":0},{"$f":"SUM(EZC73:EZC77)","v":0},{"$f":"SUM(EZD73:EZD77)","v":0},{"$f":"SUM(EZE73:EZE77)","v":0},{"$f":"SUM(EZF73:EZF77)","v":0},{"$f":"SUM(EZG73:EZG77)","v":0},{"$f":"SUM(EZH73:EZH77)","v":0},{"$f":"SUM(EZI73:EZI77)","v":0},{"$f":"SUM(EZJ73:EZJ77)","v":0},{"$f":"SUM(EZK73:EZK77)","v":0},{"$f":"SUM(EZL73:EZL77)","v":0},{"$f":"SUM(EZM73:EZM77)","v":0},{"$f":"SUM(EZN73:EZN77)","v":0},{"$f":"SUM(EZO73:EZO77)","v":0},{"$f":"SUM(EZP73:EZP77)","v":0},{"$f":"SUM(EZQ73:EZQ77)","v":0},{"$f":"SUM(EZR73:EZR77)","v":0},{"$f":"SUM(EZS73:EZS77)","v":0},{"$f":"SUM(EZT73:EZT77)","v":0},{"$f":"SUM(EZU73:EZU77)","v":0},{"$f":"SUM(EZV73:EZV77)","v":0},{"$f":"SUM(EZW73:EZW77)","v":0},{"$f":"SUM(EZX73:EZX77)","v":0},{"$f":"SUM(EZY73:EZY77)","v":0},{"$f":"SUM(EZZ73:EZZ77)","v":0},{"$f":"SUM(FAA73:FAA77)","v":0},{"$f":"SUM(FAB73:FAB77)","v":0},{"$f":"SUM(FAC73:FAC77)","v":0},{"$f":"SUM(FAD73:FAD77)","v":0},{"$f":"SUM(FAE73:FAE77)","v":0},{"$f":"SUM(FAF73:FAF77)","v":0},{"$f":"SUM(FAG73:FAG77)","v":0},{"$f":"SUM(FAH73:FAH77)","v":0},{"$f":"SUM(FAI73:FAI77)","v":0},{"$f":"SUM(FAJ73:FAJ77)","v":0},{"$f":"SUM(FAK73:FAK77)","v":0},{"$f":"SUM(FAL73:FAL77)","v":0},{"$f":"SUM(FAM73:FAM77)","v":0},{"$f":"SUM(FAN73:FAN77)","v":0},{"$f":"SUM(FAO73:FAO77)","v":0},{"$f":"SUM(FAP73:FAP77)","v":0},{"$f":"SUM(FAQ73:FAQ77)","v":0},{"$f":"SUM(FAR73:FAR77)","v":0},{"$f":"SUM(FAS73:FAS77)","v":0},{"$f":"SUM(FAT73:FAT77)","v":0},{"$f":"SUM(FAU73:FAU77)","v":0},{"$f":"SUM(FAV73:FAV77)","v":0},{"$f":"SUM(FAW73:FAW77)","v":0},{"$f":"SUM(FAX73:FAX77)","v":0},{"$f":"SUM(FAY73:FAY77)","v":0},{"$f":"SUM(FAZ73:FAZ77)","v":0},{"$f":"SUM(FBA73:FBA77)","v":0},{"$f":"SUM(FBB73:FBB77)","v":0},{"$f":"SUM(FBC73:FBC77)","v":0},{"$f":"SUM(FBD73:FBD77)","v":0},{"$f":"SUM(FBE73:FBE77)","v":0},{"$f":"SUM(FBF73:FBF77)","v":0},{"$f":"SUM(FBG73:FBG77)","v":0},{"$f":"SUM(FBH73:FBH77)","v":0},{"$f":"SUM(FBI73:FBI77)","v":0},{"$f":"SUM(FBJ73:FBJ77)","v":0},{"$f":"SUM(FBK73:FBK77)","v":0},{"$f":"SUM(FBL73:FBL77)","v":0},{"$f":"SUM(FBM73:FBM77)","v":0},{"$f":"SUM(FBN73:FBN77)","v":0},{"$f":"SUM(FBO73:FBO77)","v":0},{"$f":"SUM(FBP73:FBP77)","v":0},{"$f":"SUM(FBQ73:FBQ77)","v":0},{"$f":"SUM(FBR73:FBR77)","v":0},{"$f":"SUM(FBS73:FBS77)","v":0},{"$f":"SUM(FBT73:FBT77)","v":0},{"$f":"SUM(FBU73:FBU77)","v":0},{"$f":"SUM(FBV73:FBV77)","v":0},{"$f":"SUM(FBW73:FBW77)","v":0},{"$f":"SUM(FBX73:FBX77)","v":0},{"$f":"SUM(FBY73:FBY77)","v":0},{"$f":"SUM(FBZ73:FBZ77)","v":0},{"$f":"SUM(FCA73:FCA77)","v":0},{"$f":"SUM(FCB73:FCB77)","v":0},{"$f":"SUM(FCC73:FCC77)","v":0},{"$f":"SUM(FCD73:FCD77)","v":0},{"$f":"SUM(FCE73:FCE77)","v":0},{"$f":"SUM(FCF73:FCF77)","v":0},{"$f":"SUM(FCG73:FCG77)","v":0},{"$f":"SUM(FCH73:FCH77)","v":0},{"$f":"SUM(FCI73:FCI77)","v":0},{"$f":"SUM(FCJ73:FCJ77)","v":0},{"$f":"SUM(FCK73:FCK77)","v":0},{"$f":"SUM(FCL73:FCL77)","v":0},{"$f":"SUM(FCM73:FCM77)","v":0},{"$f":"SUM(FCN73:FCN77)","v":0},{"$f":"SUM(FCO73:FCO77)","v":0},{"$f":"SUM(FCP73:FCP77)","v":0},{"$f":"SUM(FCQ73:FCQ77)","v":0},{"$f":"SUM(FCR73:FCR77)","v":0},{"$f":"SUM(FCS73:FCS77)","v":0},{"$f":"SUM(FCT73:FCT77)","v":0},{"$f":"SUM(FCU73:FCU77)","v":0},{"$f":"SUM(FCV73:FCV77)","v":0},{"$f":"SUM(FCW73:FCW77)","v":0},{"$f":"SUM(FCX73:FCX77)","v":0},{"$f":"SUM(FCY73:FCY77)","v":0},{"$f":"SUM(FCZ73:FCZ77)","v":0},{"$f":"SUM(FDA73:FDA77)","v":0},{"$f":"SUM(FDB73:FDB77)","v":0},{"$f":"SUM(FDC73:FDC77)","v":0},{"$f":"SUM(FDD73:FDD77)","v":0},{"$f":"SUM(FDE73:FDE77)","v":0},{"$f":"SUM(FDF73:FDF77)","v":0},{"$f":"SUM(FDG73:FDG77)","v":0},{"$f":"SUM(FDH73:FDH77)","v":0},{"$f":"SUM(FDI73:FDI77)","v":0},{"$f":"SUM(FDJ73:FDJ77)","v":0},{"$f":"SUM(FDK73:FDK77)","v":0},{"$f":"SUM(FDL73:FDL77)","v":0},{"$f":"SUM(FDM73:FDM77)","v":0},{"$f":"SUM(FDN73:FDN77)","v":0},{"$f":"SUM(FDO73:FDO77)","v":0},{"$f":"SUM(FDP73:FDP77)","v":0},{"$f":"SUM(FDQ73:FDQ77)","v":0},{"$f":"SUM(FDR73:FDR77)","v":0},{"$f":"SUM(FDS73:FDS77)","v":0},{"$f":"SUM(FDT73:FDT77)","v":0},{"$f":"SUM(FDU73:FDU77)","v":0},{"$f":"SUM(FDV73:FDV77)","v":0},{"$f":"SUM(FDW73:FDW77)","v":0},{"$f":"SUM(FDX73:FDX77)","v":0},{"$f":"SUM(FDY73:FDY77)","v":0},{"$f":"SUM(FDZ73:FDZ77)","v":0},{"$f":"SUM(FEA73:FEA77)","v":0},{"$f":"SUM(FEB73:FEB77)","v":0},{"$f":"SUM(FEC73:FEC77)","v":0},{"$f":"SUM(FED73:FED77)","v":0},{"$f":"SUM(FEE73:FEE77)","v":0},{"$f":"SUM(FEF73:FEF77)","v":0},{"$f":"SUM(FEG73:FEG77)","v":0},{"$f":"SUM(FEH73:FEH77)","v":0},{"$f":"SUM(FEI73:FEI77)","v":0},{"$f":"SUM(FEJ73:FEJ77)","v":0},{"$f":"SUM(FEK73:FEK77)","v":0},{"$f":"SUM(FEL73:FEL77)","v":0},{"$f":"SUM(FEM73:FEM77)","v":0},{"$f":"SUM(FEN73:FEN77)","v":0},{"$f":"SUM(FEO73:FEO77)","v":0},{"$f":"SUM(FEP73:FEP77)","v":0},{"$f":"SUM(FEQ73:FEQ77)","v":0},{"$f":"SUM(FER73:FER77)","v":0},{"$f":"SUM(FES73:FES77)","v":0},{"$f":"SUM(FET73:FET77)","v":0},{"$f":"SUM(FEU73:FEU77)","v":0},{"$f":"SUM(FEV73:FEV77)","v":0},{"$f":"SUM(FEW73:FEW77)","v":0},{"$f":"SUM(FEX73:FEX77)","v":0},{"$f":"SUM(FEY73:FEY77)","v":0},{"$f":"SUM(FEZ73:FEZ77)","v":0},{"$f":"SUM(FFA73:FFA77)","v":0},{"$f":"SUM(FFB73:FFB77)","v":0},{"$f":"SUM(FFC73:FFC77)","v":0},{"$f":"SUM(FFD73:FFD77)","v":0},{"$f":"SUM(FFE73:FFE77)","v":0},{"$f":"SUM(FFF73:FFF77)","v":0},{"$f":"SUM(FFG73:FFG77)","v":0},{"$f":"SUM(FFH73:FFH77)","v":0},{"$f":"SUM(FFI73:FFI77)","v":0},{"$f":"SUM(FFJ73:FFJ77)","v":0},{"$f":"SUM(FFK73:FFK77)","v":0},{"$f":"SUM(FFL73:FFL77)","v":0},{"$f":"SUM(FFM73:FFM77)","v":0},{"$f":"SUM(FFN73:FFN77)","v":0},{"$f":"SUM(FFO73:FFO77)","v":0},{"$f":"SUM(FFP73:FFP77)","v":0},{"$f":"SUM(FFQ73:FFQ77)","v":0},{"$f":"SUM(FFR73:FFR77)","v":0},{"$f":"SUM(FFS73:FFS77)","v":0},{"$f":"SUM(FFT73:FFT77)","v":0},{"$f":"SUM(FFU73:FFU77)","v":0},{"$f":"SUM(FFV73:FFV77)","v":0},{"$f":"SUM(FFW73:FFW77)","v":0},{"$f":"SUM(FFX73:FFX77)","v":0},{"$f":"SUM(FFY73:FFY77)","v":0},{"$f":"SUM(FFZ73:FFZ77)","v":0},{"$f":"SUM(FGA73:FGA77)","v":0},{"$f":"SUM(FGB73:FGB77)","v":0},{"$f":"SUM(FGC73:FGC77)","v":0},{"$f":"SUM(FGD73:FGD77)","v":0},{"$f":"SUM(FGE73:FGE77)","v":0},{"$f":"SUM(FGF73:FGF77)","v":0},{"$f":"SUM(FGG73:FGG77)","v":0},{"$f":"SUM(FGH73:FGH77)","v":0},{"$f":"SUM(FGI73:FGI77)","v":0},{"$f":"SUM(FGJ73:FGJ77)","v":0},{"$f":"SUM(FGK73:FGK77)","v":0},{"$f":"SUM(FGL73:FGL77)","v":0},{"$f":"SUM(FGM73:FGM77)","v":0},{"$f":"SUM(FGN73:FGN77)","v":0},{"$f":"SUM(FGO73:FGO77)","v":0},{"$f":"SUM(FGP73:FGP77)","v":0},{"$f":"SUM(FGQ73:FGQ77)","v":0},{"$f":"SUM(FGR73:FGR77)","v":0},{"$f":"SUM(FGS73:FGS77)","v":0},{"$f":"SUM(FGT73:FGT77)","v":0},{"$f":"SUM(FGU73:FGU77)","v":0},{"$f":"SUM(FGV73:FGV77)","v":0},{"$f":"SUM(FGW73:FGW77)","v":0},{"$f":"SUM(FGX73:FGX77)","v":0},{"$f":"SUM(FGY73:FGY77)","v":0},{"$f":"SUM(FGZ73:FGZ77)","v":0},{"$f":"SUM(FHA73:FHA77)","v":0},{"$f":"SUM(FHB73:FHB77)","v":0},{"$f":"SUM(FHC73:FHC77)","v":0},{"$f":"SUM(FHD73:FHD77)","v":0},{"$f":"SUM(FHE73:FHE77)","v":0},{"$f":"SUM(FHF73:FHF77)","v":0},{"$f":"SUM(FHG73:FHG77)","v":0},{"$f":"SUM(FHH73:FHH77)","v":0},{"$f":"SUM(FHI73:FHI77)","v":0},{"$f":"SUM(FHJ73:FHJ77)","v":0},{"$f":"SUM(FHK73:FHK77)","v":0},{"$f":"SUM(FHL73:FHL77)","v":0},{"$f":"SUM(FHM73:FHM77)","v":0},{"$f":"SUM(FHN73:FHN77)","v":0},{"$f":"SUM(FHO73:FHO77)","v":0},{"$f":"SUM(FHP73:FHP77)","v":0},{"$f":"SUM(FHQ73:FHQ77)","v":0},{"$f":"SUM(FHR73:FHR77)","v":0},{"$f":"SUM(FHS73:FHS77)","v":0},{"$f":"SUM(FHT73:FHT77)","v":0},{"$f":"SUM(FHU73:FHU77)","v":0},{"$f":"SUM(FHV73:FHV77)","v":0},{"$f":"SUM(FHW73:FHW77)","v":0},{"$f":"SUM(FHX73:FHX77)","v":0},{"$f":"SUM(FHY73:FHY77)","v":0},{"$f":"SUM(FHZ73:FHZ77)","v":0},{"$f":"SUM(FIA73:FIA77)","v":0},{"$f":"SUM(FIB73:FIB77)","v":0},{"$f":"SUM(FIC73:FIC77)","v":0},{"$f":"SUM(FID73:FID77)","v":0},{"$f":"SUM(FIE73:FIE77)","v":0},{"$f":"SUM(FIF73:FIF77)","v":0},{"$f":"SUM(FIG73:FIG77)","v":0},{"$f":"SUM(FIH73:FIH77)","v":0},{"$f":"SUM(FII73:FII77)","v":0},{"$f":"SUM(FIJ73:FIJ77)","v":0},{"$f":"SUM(FIK73:FIK77)","v":0},{"$f":"SUM(FIL73:FIL77)","v":0},{"$f":"SUM(FIM73:FIM77)","v":0},{"$f":"SUM(FIN73:FIN77)","v":0},{"$f":"SUM(FIO73:FIO77)","v":0},{"$f":"SUM(FIP73:FIP77)","v":0},{"$f":"SUM(FIQ73:FIQ77)","v":0},{"$f":"SUM(FIR73:FIR77)","v":0},{"$f":"SUM(FIS73:FIS77)","v":0},{"$f":"SUM(FIT73:FIT77)","v":0},{"$f":"SUM(FIU73:FIU77)","v":0},{"$f":"SUM(FIV73:FIV77)","v":0},{"$f":"SUM(FIW73:FIW77)","v":0},{"$f":"SUM(FIX73:FIX77)","v":0},{"$f":"SUM(FIY73:FIY77)","v":0},{"$f":"SUM(FIZ73:FIZ77)","v":0},{"$f":"SUM(FJA73:FJA77)","v":0},{"$f":"SUM(FJB73:FJB77)","v":0},{"$f":"SUM(FJC73:FJC77)","v":0},{"$f":"SUM(FJD73:FJD77)","v":0},{"$f":"SUM(FJE73:FJE77)","v":0},{"$f":"SUM(FJF73:FJF77)","v":0},{"$f":"SUM(FJG73:FJG77)","v":0},{"$f":"SUM(FJH73:FJH77)","v":0},{"$f":"SUM(FJI73:FJI77)","v":0},{"$f":"SUM(FJJ73:FJJ77)","v":0},{"$f":"SUM(FJK73:FJK77)","v":0},{"$f":"SUM(FJL73:FJL77)","v":0},{"$f":"SUM(FJM73:FJM77)","v":0},{"$f":"SUM(FJN73:FJN77)","v":0},{"$f":"SUM(FJO73:FJO77)","v":0},{"$f":"SUM(FJP73:FJP77)","v":0},{"$f":"SUM(FJQ73:FJQ77)","v":0},{"$f":"SUM(FJR73:FJR77)","v":0},{"$f":"SUM(FJS73:FJS77)","v":0},{"$f":"SUM(FJT73:FJT77)","v":0},{"$f":"SUM(FJU73:FJU77)","v":0},{"$f":"SUM(FJV73:FJV77)","v":0},{"$f":"SUM(FJW73:FJW77)","v":0},{"$f":"SUM(FJX73:FJX77)","v":0},{"$f":"SUM(FJY73:FJY77)","v":0},{"$f":"SUM(FJZ73:FJZ77)","v":0},{"$f":"SUM(FKA73:FKA77)","v":0},{"$f":"SUM(FKB73:FKB77)","v":0},{"$f":"SUM(FKC73:FKC77)","v":0},{"$f":"SUM(FKD73:FKD77)","v":0},{"$f":"SUM(FKE73:FKE77)","v":0},{"$f":"SUM(FKF73:FKF77)","v":0},{"$f":"SUM(FKG73:FKG77)","v":0},{"$f":"SUM(FKH73:FKH77)","v":0},{"$f":"SUM(FKI73:FKI77)","v":0},{"$f":"SUM(FKJ73:FKJ77)","v":0},{"$f":"SUM(FKK73:FKK77)","v":0},{"$f":"SUM(FKL73:FKL77)","v":0},{"$f":"SUM(FKM73:FKM77)","v":0},{"$f":"SUM(FKN73:FKN77)","v":0},{"$f":"SUM(FKO73:FKO77)","v":0},{"$f":"SUM(FKP73:FKP77)","v":0},{"$f":"SUM(FKQ73:FKQ77)","v":0},{"$f":"SUM(FKR73:FKR77)","v":0},{"$f":"SUM(FKS73:FKS77)","v":0},{"$f":"SUM(FKT73:FKT77)","v":0},{"$f":"SUM(FKU73:FKU77)","v":0},{"$f":"SUM(FKV73:FKV77)","v":0},{"$f":"SUM(FKW73:FKW77)","v":0},{"$f":"SUM(FKX73:FKX77)","v":0},{"$f":"SUM(FKY73:FKY77)","v":0},{"$f":"SUM(FKZ73:FKZ77)","v":0},{"$f":"SUM(FLA73:FLA77)","v":0},{"$f":"SUM(FLB73:FLB77)","v":0},{"$f":"SUM(FLC73:FLC77)","v":0},{"$f":"SUM(FLD73:FLD77)","v":0},{"$f":"SUM(FLE73:FLE77)","v":0},{"$f":"SUM(FLF73:FLF77)","v":0},{"$f":"SUM(FLG73:FLG77)","v":0},{"$f":"SUM(FLH73:FLH77)","v":0},{"$f":"SUM(FLI73:FLI77)","v":0},{"$f":"SUM(FLJ73:FLJ77)","v":0},{"$f":"SUM(FLK73:FLK77)","v":0},{"$f":"SUM(FLL73:FLL77)","v":0},{"$f":"SUM(FLM73:FLM77)","v":0},{"$f":"SUM(FLN73:FLN77)","v":0},{"$f":"SUM(FLO73:FLO77)","v":0},{"$f":"SUM(FLP73:FLP77)","v":0},{"$f":"SUM(FLQ73:FLQ77)","v":0},{"$f":"SUM(FLR73:FLR77)","v":0},{"$f":"SUM(FLS73:FLS77)","v":0},{"$f":"SUM(FLT73:FLT77)","v":0},{"$f":"SUM(FLU73:FLU77)","v":0},{"$f":"SUM(FLV73:FLV77)","v":0},{"$f":"SUM(FLW73:FLW77)","v":0},{"$f":"SUM(FLX73:FLX77)","v":0},{"$f":"SUM(FLY73:FLY77)","v":0},{"$f":"SUM(FLZ73:FLZ77)","v":0},{"$f":"SUM(FMA73:FMA77)","v":0},{"$f":"SUM(FMB73:FMB77)","v":0},{"$f":"SUM(FMC73:FMC77)","v":0},{"$f":"SUM(FMD73:FMD77)","v":0},{"$f":"SUM(FME73:FME77)","v":0},{"$f":"SUM(FMF73:FMF77)","v":0},{"$f":"SUM(FMG73:FMG77)","v":0},{"$f":"SUM(FMH73:FMH77)","v":0},{"$f":"SUM(FMI73:FMI77)","v":0},{"$f":"SUM(FMJ73:FMJ77)","v":0},{"$f":"SUM(FMK73:FMK77)","v":0},{"$f":"SUM(FML73:FML77)","v":0},{"$f":"SUM(FMM73:FMM77)","v":0},{"$f":"SUM(FMN73:FMN77)","v":0},{"$f":"SUM(FMO73:FMO77)","v":0},{"$f":"SUM(FMP73:FMP77)","v":0},{"$f":"SUM(FMQ73:FMQ77)","v":0},{"$f":"SUM(FMR73:FMR77)","v":0},{"$f":"SUM(FMS73:FMS77)","v":0},{"$f":"SUM(FMT73:FMT77)","v":0},{"$f":"SUM(FMU73:FMU77)","v":0},{"$f":"SUM(FMV73:FMV77)","v":0},{"$f":"SUM(FMW73:FMW77)","v":0},{"$f":"SUM(FMX73:FMX77)","v":0},{"$f":"SUM(FMY73:FMY77)","v":0},{"$f":"SUM(FMZ73:FMZ77)","v":0},{"$f":"SUM(FNA73:FNA77)","v":0},{"$f":"SUM(FNB73:FNB77)","v":0},{"$f":"SUM(FNC73:FNC77)","v":0},{"$f":"SUM(FND73:FND77)","v":0},{"$f":"SUM(FNE73:FNE77)","v":0},{"$f":"SUM(FNF73:FNF77)","v":0},{"$f":"SUM(FNG73:FNG77)","v":0},{"$f":"SUM(FNH73:FNH77)","v":0},{"$f":"SUM(FNI73:FNI77)","v":0},{"$f":"SUM(FNJ73:FNJ77)","v":0},{"$f":"SUM(FNK73:FNK77)","v":0},{"$f":"SUM(FNL73:FNL77)","v":0},{"$f":"SUM(FNM73:FNM77)","v":0},{"$f":"SUM(FNN73:FNN77)","v":0},{"$f":"SUM(FNO73:FNO77)","v":0},{"$f":"SUM(FNP73:FNP77)","v":0},{"$f":"SUM(FNQ73:FNQ77)","v":0},{"$f":"SUM(FNR73:FNR77)","v":0},{"$f":"SUM(FNS73:FNS77)","v":0},{"$f":"SUM(FNT73:FNT77)","v":0},{"$f":"SUM(FNU73:FNU77)","v":0},{"$f":"SUM(FNV73:FNV77)","v":0},{"$f":"SUM(FNW73:FNW77)","v":0},{"$f":"SUM(FNX73:FNX77)","v":0},{"$f":"SUM(FNY73:FNY77)","v":0},{"$f":"SUM(FNZ73:FNZ77)","v":0},{"$f":"SUM(FOA73:FOA77)","v":0},{"$f":"SUM(FOB73:FOB77)","v":0},{"$f":"SUM(FOC73:FOC77)","v":0},{"$f":"SUM(FOD73:FOD77)","v":0},{"$f":"SUM(FOE73:FOE77)","v":0},{"$f":"SUM(FOF73:FOF77)","v":0},{"$f":"SUM(FOG73:FOG77)","v":0},{"$f":"SUM(FOH73:FOH77)","v":0},{"$f":"SUM(FOI73:FOI77)","v":0},{"$f":"SUM(FOJ73:FOJ77)","v":0},{"$f":"SUM(FOK73:FOK77)","v":0},{"$f":"SUM(FOL73:FOL77)","v":0},{"$f":"SUM(FOM73:FOM77)","v":0},{"$f":"SUM(FON73:FON77)","v":0},{"$f":"SUM(FOO73:FOO77)","v":0},{"$f":"SUM(FOP73:FOP77)","v":0},{"$f":"SUM(FOQ73:FOQ77)","v":0},{"$f":"SUM(FOR73:FOR77)","v":0},{"$f":"SUM(FOS73:FOS77)","v":0},{"$f":"SUM(FOT73:FOT77)","v":0},{"$f":"SUM(FOU73:FOU77)","v":0},{"$f":"SUM(FOV73:FOV77)","v":0},{"$f":"SUM(FOW73:FOW77)","v":0},{"$f":"SUM(FOX73:FOX77)","v":0},{"$f":"SUM(FOY73:FOY77)","v":0},{"$f":"SUM(FOZ73:FOZ77)","v":0},{"$f":"SUM(FPA73:FPA77)","v":0},{"$f":"SUM(FPB73:FPB77)","v":0},{"$f":"SUM(FPC73:FPC77)","v":0},{"$f":"SUM(FPD73:FPD77)","v":0},{"$f":"SUM(FPE73:FPE77)","v":0},{"$f":"SUM(FPF73:FPF77)","v":0},{"$f":"SUM(FPG73:FPG77)","v":0},{"$f":"SUM(FPH73:FPH77)","v":0},{"$f":"SUM(FPI73:FPI77)","v":0},{"$f":"SUM(FPJ73:FPJ77)","v":0},{"$f":"SUM(FPK73:FPK77)","v":0},{"$f":"SUM(FPL73:FPL77)","v":0},{"$f":"SUM(FPM73:FPM77)","v":0},{"$f":"SUM(FPN73:FPN77)","v":0},{"$f":"SUM(FPO73:FPO77)","v":0},{"$f":"SUM(FPP73:FPP77)","v":0},{"$f":"SUM(FPQ73:FPQ77)","v":0},{"$f":"SUM(FPR73:FPR77)","v":0},{"$f":"SUM(FPS73:FPS77)","v":0},{"$f":"SUM(FPT73:FPT77)","v":0},{"$f":"SUM(FPU73:FPU77)","v":0},{"$f":"SUM(FPV73:FPV77)","v":0},{"$f":"SUM(FPW73:FPW77)","v":0},{"$f":"SUM(FPX73:FPX77)","v":0},{"$f":"SUM(FPY73:FPY77)","v":0},{"$f":"SUM(FPZ73:FPZ77)","v":0},{"$f":"SUM(FQA73:FQA77)","v":0},{"$f":"SUM(FQB73:FQB77)","v":0},{"$f":"SUM(FQC73:FQC77)","v":0},{"$f":"SUM(FQD73:FQD77)","v":0},{"$f":"SUM(FQE73:FQE77)","v":0},{"$f":"SUM(FQF73:FQF77)","v":0},{"$f":"SUM(FQG73:FQG77)","v":0},{"$f":"SUM(FQH73:FQH77)","v":0},{"$f":"SUM(FQI73:FQI77)","v":0},{"$f":"SUM(FQJ73:FQJ77)","v":0},{"$f":"SUM(FQK73:FQK77)","v":0},{"$f":"SUM(FQL73:FQL77)","v":0},{"$f":"SUM(FQM73:FQM77)","v":0},{"$f":"SUM(FQN73:FQN77)","v":0},{"$f":"SUM(FQO73:FQO77)","v":0},{"$f":"SUM(FQP73:FQP77)","v":0},{"$f":"SUM(FQQ73:FQQ77)","v":0},{"$f":"SUM(FQR73:FQR77)","v":0},{"$f":"SUM(FQS73:FQS77)","v":0},{"$f":"SUM(FQT73:FQT77)","v":0},{"$f":"SUM(FQU73:FQU77)","v":0},{"$f":"SUM(FQV73:FQV77)","v":0},{"$f":"SUM(FQW73:FQW77)","v":0},{"$f":"SUM(FQX73:FQX77)","v":0},{"$f":"SUM(FQY73:FQY77)","v":0},{"$f":"SUM(FQZ73:FQZ77)","v":0},{"$f":"SUM(FRA73:FRA77)","v":0},{"$f":"SUM(FRB73:FRB77)","v":0},{"$f":"SUM(FRC73:FRC77)","v":0},{"$f":"SUM(FRD73:FRD77)","v":0},{"$f":"SUM(FRE73:FRE77)","v":0},{"$f":"SUM(FRF73:FRF77)","v":0},{"$f":"SUM(FRG73:FRG77)","v":0},{"$f":"SUM(FRH73:FRH77)","v":0},{"$f":"SUM(FRI73:FRI77)","v":0},{"$f":"SUM(FRJ73:FRJ77)","v":0},{"$f":"SUM(FRK73:FRK77)","v":0},{"$f":"SUM(FRL73:FRL77)","v":0},{"$f":"SUM(FRM73:FRM77)","v":0},{"$f":"SUM(FRN73:FRN77)","v":0},{"$f":"SUM(FRO73:FRO77)","v":0},{"$f":"SUM(FRP73:FRP77)","v":0},{"$f":"SUM(FRQ73:FRQ77)","v":0},{"$f":"SUM(FRR73:FRR77)","v":0},{"$f":"SUM(FRS73:FRS77)","v":0},{"$f":"SUM(FRT73:FRT77)","v":0},{"$f":"SUM(FRU73:FRU77)","v":0},{"$f":"SUM(FRV73:FRV77)","v":0},{"$f":"SUM(FRW73:FRW77)","v":0},{"$f":"SUM(FRX73:FRX77)","v":0},{"$f":"SUM(FRY73:FRY77)","v":0},{"$f":"SUM(FRZ73:FRZ77)","v":0},{"$f":"SUM(FSA73:FSA77)","v":0},{"$f":"SUM(FSB73:FSB77)","v":0},{"$f":"SUM(FSC73:FSC77)","v":0},{"$f":"SUM(FSD73:FSD77)","v":0},{"$f":"SUM(FSE73:FSE77)","v":0},{"$f":"SUM(FSF73:FSF77)","v":0},{"$f":"SUM(FSG73:FSG77)","v":0},{"$f":"SUM(FSH73:FSH77)","v":0},{"$f":"SUM(FSI73:FSI77)","v":0},{"$f":"SUM(FSJ73:FSJ77)","v":0},{"$f":"SUM(FSK73:FSK77)","v":0},{"$f":"SUM(FSL73:FSL77)","v":0},{"$f":"SUM(FSM73:FSM77)","v":0},{"$f":"SUM(FSN73:FSN77)","v":0},{"$f":"SUM(FSO73:FSO77)","v":0},{"$f":"SUM(FSP73:FSP77)","v":0},{"$f":"SUM(FSQ73:FSQ77)","v":0},{"$f":"SUM(FSR73:FSR77)","v":0},{"$f":"SUM(FSS73:FSS77)","v":0},{"$f":"SUM(FST73:FST77)","v":0},{"$f":"SUM(FSU73:FSU77)","v":0},{"$f":"SUM(FSV73:FSV77)","v":0},{"$f":"SUM(FSW73:FSW77)","v":0},{"$f":"SUM(FSX73:FSX77)","v":0},{"$f":"SUM(FSY73:FSY77)","v":0},{"$f":"SUM(FSZ73:FSZ77)","v":0},{"$f":"SUM(FTA73:FTA77)","v":0},{"$f":"SUM(FTB73:FTB77)","v":0},{"$f":"SUM(FTC73:FTC77)","v":0},{"$f":"SUM(FTD73:FTD77)","v":0},{"$f":"SUM(FTE73:FTE77)","v":0},{"$f":"SUM(FTF73:FTF77)","v":0},{"$f":"SUM(FTG73:FTG77)","v":0},{"$f":"SUM(FTH73:FTH77)","v":0},{"$f":"SUM(FTI73:FTI77)","v":0},{"$f":"SUM(FTJ73:FTJ77)","v":0},{"$f":"SUM(FTK73:FTK77)","v":0},{"$f":"SUM(FTL73:FTL77)","v":0},{"$f":"SUM(FTM73:FTM77)","v":0},{"$f":"SUM(FTN73:FTN77)","v":0},{"$f":"SUM(FTO73:FTO77)","v":0},{"$f":"SUM(FTP73:FTP77)","v":0},{"$f":"SUM(FTQ73:FTQ77)","v":0},{"$f":"SUM(FTR73:FTR77)","v":0},{"$f":"SUM(FTS73:FTS77)","v":0},{"$f":"SUM(FTT73:FTT77)","v":0},{"$f":"SUM(FTU73:FTU77)","v":0},{"$f":"SUM(FTV73:FTV77)","v":0},{"$f":"SUM(FTW73:FTW77)","v":0},{"$f":"SUM(FTX73:FTX77)","v":0},{"$f":"SUM(FTY73:FTY77)","v":0},{"$f":"SUM(FTZ73:FTZ77)","v":0},{"$f":"SUM(FUA73:FUA77)","v":0},{"$f":"SUM(FUB73:FUB77)","v":0},{"$f":"SUM(FUC73:FUC77)","v":0},{"$f":"SUM(FUD73:FUD77)","v":0},{"$f":"SUM(FUE73:FUE77)","v":0},{"$f":"SUM(FUF73:FUF77)","v":0},{"$f":"SUM(FUG73:FUG77)","v":0},{"$f":"SUM(FUH73:FUH77)","v":0},{"$f":"SUM(FUI73:FUI77)","v":0},{"$f":"SUM(FUJ73:FUJ77)","v":0},{"$f":"SUM(FUK73:FUK77)","v":0},{"$f":"SUM(FUL73:FUL77)","v":0},{"$f":"SUM(FUM73:FUM77)","v":0},{"$f":"SUM(FUN73:FUN77)","v":0},{"$f":"SUM(FUO73:FUO77)","v":0},{"$f":"SUM(FUP73:FUP77)","v":0},{"$f":"SUM(FUQ73:FUQ77)","v":0},{"$f":"SUM(FUR73:FUR77)","v":0},{"$f":"SUM(FUS73:FUS77)","v":0},{"$f":"SUM(FUT73:FUT77)","v":0},{"$f":"SUM(FUU73:FUU77)","v":0},{"$f":"SUM(FUV73:FUV77)","v":0},{"$f":"SUM(FUW73:FUW77)","v":0},{"$f":"SUM(FUX73:FUX77)","v":0},{"$f":"SUM(FUY73:FUY77)","v":0},{"$f":"SUM(FUZ73:FUZ77)","v":0},{"$f":"SUM(FVA73:FVA77)","v":0},{"$f":"SUM(FVB73:FVB77)","v":0},{"$f":"SUM(FVC73:FVC77)","v":0},{"$f":"SUM(FVD73:FVD77)","v":0},{"$f":"SUM(FVE73:FVE77)","v":0},{"$f":"SUM(FVF73:FVF77)","v":0},{"$f":"SUM(FVG73:FVG77)","v":0},{"$f":"SUM(FVH73:FVH77)","v":0},{"$f":"SUM(FVI73:FVI77)","v":0},{"$f":"SUM(FVJ73:FVJ77)","v":0},{"$f":"SUM(FVK73:FVK77)","v":0},{"$f":"SUM(FVL73:FVL77)","v":0},{"$f":"SUM(FVM73:FVM77)","v":0},{"$f":"SUM(FVN73:FVN77)","v":0},{"$f":"SUM(FVO73:FVO77)","v":0},{"$f":"SUM(FVP73:FVP77)","v":0},{"$f":"SUM(FVQ73:FVQ77)","v":0},{"$f":"SUM(FVR73:FVR77)","v":0},{"$f":"SUM(FVS73:FVS77)","v":0},{"$f":"SUM(FVT73:FVT77)","v":0},{"$f":"SUM(FVU73:FVU77)","v":0},{"$f":"SUM(FVV73:FVV77)","v":0},{"$f":"SUM(FVW73:FVW77)","v":0},{"$f":"SUM(FVX73:FVX77)","v":0},{"$f":"SUM(FVY73:FVY77)","v":0},{"$f":"SUM(FVZ73:FVZ77)","v":0},{"$f":"SUM(FWA73:FWA77)","v":0},{"$f":"SUM(FWB73:FWB77)","v":0},{"$f":"SUM(FWC73:FWC77)","v":0},{"$f":"SUM(FWD73:FWD77)","v":0},{"$f":"SUM(FWE73:FWE77)","v":0},{"$f":"SUM(FWF73:FWF77)","v":0},{"$f":"SUM(FWG73:FWG77)","v":0},{"$f":"SUM(FWH73:FWH77)","v":0},{"$f":"SUM(FWI73:FWI77)","v":0},{"$f":"SUM(FWJ73:FWJ77)","v":0},{"$f":"SUM(FWK73:FWK77)","v":0},{"$f":"SUM(FWL73:FWL77)","v":0},{"$f":"SUM(FWM73:FWM77)","v":0},{"$f":"SUM(FWN73:FWN77)","v":0},{"$f":"SUM(FWO73:FWO77)","v":0},{"$f":"SUM(FWP73:FWP77)","v":0},{"$f":"SUM(FWQ73:FWQ77)","v":0},{"$f":"SUM(FWR73:FWR77)","v":0},{"$f":"SUM(FWS73:FWS77)","v":0},{"$f":"SUM(FWT73:FWT77)","v":0},{"$f":"SUM(FWU73:FWU77)","v":0},{"$f":"SUM(FWV73:FWV77)","v":0},{"$f":"SUM(FWW73:FWW77)","v":0},{"$f":"SUM(FWX73:FWX77)","v":0},{"$f":"SUM(FWY73:FWY77)","v":0},{"$f":"SUM(FWZ73:FWZ77)","v":0},{"$f":"SUM(FXA73:FXA77)","v":0},{"$f":"SUM(FXB73:FXB77)","v":0},{"$f":"SUM(FXC73:FXC77)","v":0},{"$f":"SUM(FXD73:FXD77)","v":0},{"$f":"SUM(FXE73:FXE77)","v":0},{"$f":"SUM(FXF73:FXF77)","v":0},{"$f":"SUM(FXG73:FXG77)","v":0},{"$f":"SUM(FXH73:FXH77)","v":0},{"$f":"SUM(FXI73:FXI77)","v":0},{"$f":"SUM(FXJ73:FXJ77)","v":0},{"$f":"SUM(FXK73:FXK77)","v":0},{"$f":"SUM(FXL73:FXL77)","v":0},{"$f":"SUM(FXM73:FXM77)","v":0},{"$f":"SUM(FXN73:FXN77)","v":0},{"$f":"SUM(FXO73:FXO77)","v":0},{"$f":"SUM(FXP73:FXP77)","v":0},{"$f":"SUM(FXQ73:FXQ77)","v":0},{"$f":"SUM(FXR73:FXR77)","v":0},{"$f":"SUM(FXS73:FXS77)","v":0},{"$f":"SUM(FXT73:FXT77)","v":0},{"$f":"SUM(FXU73:FXU77)","v":0},{"$f":"SUM(FXV73:FXV77)","v":0},{"$f":"SUM(FXW73:FXW77)","v":0},{"$f":"SUM(FXX73:FXX77)","v":0},{"$f":"SUM(FXY73:FXY77)","v":0},{"$f":"SUM(FXZ73:FXZ77)","v":0},{"$f":"SUM(FYA73:FYA77)","v":0},{"$f":"SUM(FYB73:FYB77)","v":0},{"$f":"SUM(FYC73:FYC77)","v":0},{"$f":"SUM(FYD73:FYD77)","v":0},{"$f":"SUM(FYE73:FYE77)","v":0},{"$f":"SUM(FYF73:FYF77)","v":0},{"$f":"SUM(FYG73:FYG77)","v":0},{"$f":"SUM(FYH73:FYH77)","v":0},{"$f":"SUM(FYI73:FYI77)","v":0},{"$f":"SUM(FYJ73:FYJ77)","v":0},{"$f":"SUM(FYK73:FYK77)","v":0},{"$f":"SUM(FYL73:FYL77)","v":0},{"$f":"SUM(FYM73:FYM77)","v":0},{"$f":"SUM(FYN73:FYN77)","v":0},{"$f":"SUM(FYO73:FYO77)","v":0},{"$f":"SUM(FYP73:FYP77)","v":0},{"$f":"SUM(FYQ73:FYQ77)","v":0},{"$f":"SUM(FYR73:FYR77)","v":0},{"$f":"SUM(FYS73:FYS77)","v":0},{"$f":"SUM(FYT73:FYT77)","v":0},{"$f":"SUM(FYU73:FYU77)","v":0},{"$f":"SUM(FYV73:FYV77)","v":0},{"$f":"SUM(FYW73:FYW77)","v":0},{"$f":"SUM(FYX73:FYX77)","v":0},{"$f":"SUM(FYY73:FYY77)","v":0},{"$f":"SUM(FYZ73:FYZ77)","v":0},{"$f":"SUM(FZA73:FZA77)","v":0},{"$f":"SUM(FZB73:FZB77)","v":0},{"$f":"SUM(FZC73:FZC77)","v":0},{"$f":"SUM(FZD73:FZD77)","v":0},{"$f":"SUM(FZE73:FZE77)","v":0},{"$f":"SUM(FZF73:FZF77)","v":0},{"$f":"SUM(FZG73:FZG77)","v":0},{"$f":"SUM(FZH73:FZH77)","v":0},{"$f":"SUM(FZI73:FZI77)","v":0},{"$f":"SUM(FZJ73:FZJ77)","v":0},{"$f":"SUM(FZK73:FZK77)","v":0},{"$f":"SUM(FZL73:FZL77)","v":0},{"$f":"SUM(FZM73:FZM77)","v":0},{"$f":"SUM(FZN73:FZN77)","v":0},{"$f":"SUM(FZO73:FZO77)","v":0},{"$f":"SUM(FZP73:FZP77)","v":0},{"$f":"SUM(FZQ73:FZQ77)","v":0},{"$f":"SUM(FZR73:FZR77)","v":0},{"$f":"SUM(FZS73:FZS77)","v":0},{"$f":"SUM(FZT73:FZT77)","v":0},{"$f":"SUM(FZU73:FZU77)","v":0},{"$f":"SUM(FZV73:FZV77)","v":0},{"$f":"SUM(FZW73:FZW77)","v":0},{"$f":"SUM(FZX73:FZX77)","v":0},{"$f":"SUM(FZY73:FZY77)","v":0},{"$f":"SUM(FZZ73:FZZ77)","v":0},{"$f":"SUM(GAA73:GAA77)","v":0},{"$f":"SUM(GAB73:GAB77)","v":0},{"$f":"SUM(GAC73:GAC77)","v":0},{"$f":"SUM(GAD73:GAD77)","v":0},{"$f":"SUM(GAE73:GAE77)","v":0},{"$f":"SUM(GAF73:GAF77)","v":0},{"$f":"SUM(GAG73:GAG77)","v":0},{"$f":"SUM(GAH73:GAH77)","v":0},{"$f":"SUM(GAI73:GAI77)","v":0},{"$f":"SUM(GAJ73:GAJ77)","v":0},{"$f":"SUM(GAK73:GAK77)","v":0},{"$f":"SUM(GAL73:GAL77)","v":0},{"$f":"SUM(GAM73:GAM77)","v":0},{"$f":"SUM(GAN73:GAN77)","v":0},{"$f":"SUM(GAO73:GAO77)","v":0},{"$f":"SUM(GAP73:GAP77)","v":0},{"$f":"SUM(GAQ73:GAQ77)","v":0},{"$f":"SUM(GAR73:GAR77)","v":0},{"$f":"SUM(GAS73:GAS77)","v":0},{"$f":"SUM(GAT73:GAT77)","v":0},{"$f":"SUM(GAU73:GAU77)","v":0},{"$f":"SUM(GAV73:GAV77)","v":0},{"$f":"SUM(GAW73:GAW77)","v":0},{"$f":"SUM(GAX73:GAX77)","v":0},{"$f":"SUM(GAY73:GAY77)","v":0},{"$f":"SUM(GAZ73:GAZ77)","v":0},{"$f":"SUM(GBA73:GBA77)","v":0},{"$f":"SUM(GBB73:GBB77)","v":0},{"$f":"SUM(GBC73:GBC77)","v":0},{"$f":"SUM(GBD73:GBD77)","v":0},{"$f":"SUM(GBE73:GBE77)","v":0},{"$f":"SUM(GBF73:GBF77)","v":0},{"$f":"SUM(GBG73:GBG77)","v":0},{"$f":"SUM(GBH73:GBH77)","v":0},{"$f":"SUM(GBI73:GBI77)","v":0},{"$f":"SUM(GBJ73:GBJ77)","v":0},{"$f":"SUM(GBK73:GBK77)","v":0},{"$f":"SUM(GBL73:GBL77)","v":0},{"$f":"SUM(GBM73:GBM77)","v":0},{"$f":"SUM(GBN73:GBN77)","v":0},{"$f":"SUM(GBO73:GBO77)","v":0},{"$f":"SUM(GBP73:GBP77)","v":0},{"$f":"SUM(GBQ73:GBQ77)","v":0},{"$f":"SUM(GBR73:GBR77)","v":0},{"$f":"SUM(GBS73:GBS77)","v":0},{"$f":"SUM(GBT73:GBT77)","v":0},{"$f":"SUM(GBU73:GBU77)","v":0},{"$f":"SUM(GBV73:GBV77)","v":0},{"$f":"SUM(GBW73:GBW77)","v":0},{"$f":"SUM(GBX73:GBX77)","v":0},{"$f":"SUM(GBY73:GBY77)","v":0},{"$f":"SUM(GBZ73:GBZ77)","v":0},{"$f":"SUM(GCA73:GCA77)","v":0},{"$f":"SUM(GCB73:GCB77)","v":0},{"$f":"SUM(GCC73:GCC77)","v":0},{"$f":"SUM(GCD73:GCD77)","v":0},{"$f":"SUM(GCE73:GCE77)","v":0},{"$f":"SUM(GCF73:GCF77)","v":0},{"$f":"SUM(GCG73:GCG77)","v":0},{"$f":"SUM(GCH73:GCH77)","v":0},{"$f":"SUM(GCI73:GCI77)","v":0},{"$f":"SUM(GCJ73:GCJ77)","v":0},{"$f":"SUM(GCK73:GCK77)","v":0},{"$f":"SUM(GCL73:GCL77)","v":0},{"$f":"SUM(GCM73:GCM77)","v":0},{"$f":"SUM(GCN73:GCN77)","v":0},{"$f":"SUM(GCO73:GCO77)","v":0},{"$f":"SUM(GCP73:GCP77)","v":0},{"$f":"SUM(GCQ73:GCQ77)","v":0},{"$f":"SUM(GCR73:GCR77)","v":0},{"$f":"SUM(GCS73:GCS77)","v":0},{"$f":"SUM(GCT73:GCT77)","v":0},{"$f":"SUM(GCU73:GCU77)","v":0},{"$f":"SUM(GCV73:GCV77)","v":0},{"$f":"SUM(GCW73:GCW77)","v":0},{"$f":"SUM(GCX73:GCX77)","v":0},{"$f":"SUM(GCY73:GCY77)","v":0},{"$f":"SUM(GCZ73:GCZ77)","v":0},{"$f":"SUM(GDA73:GDA77)","v":0},{"$f":"SUM(GDB73:GDB77)","v":0},{"$f":"SUM(GDC73:GDC77)","v":0},{"$f":"SUM(GDD73:GDD77)","v":0},{"$f":"SUM(GDE73:GDE77)","v":0},{"$f":"SUM(GDF73:GDF77)","v":0},{"$f":"SUM(GDG73:GDG77)","v":0},{"$f":"SUM(GDH73:GDH77)","v":0},{"$f":"SUM(GDI73:GDI77)","v":0},{"$f":"SUM(GDJ73:GDJ77)","v":0},{"$f":"SUM(GDK73:GDK77)","v":0},{"$f":"SUM(GDL73:GDL77)","v":0},{"$f":"SUM(GDM73:GDM77)","v":0},{"$f":"SUM(GDN73:GDN77)","v":0},{"$f":"SUM(GDO73:GDO77)","v":0},{"$f":"SUM(GDP73:GDP77)","v":0},{"$f":"SUM(GDQ73:GDQ77)","v":0},{"$f":"SUM(GDR73:GDR77)","v":0},{"$f":"SUM(GDS73:GDS77)","v":0},{"$f":"SUM(GDT73:GDT77)","v":0},{"$f":"SUM(GDU73:GDU77)","v":0},{"$f":"SUM(GDV73:GDV77)","v":0},{"$f":"SUM(GDW73:GDW77)","v":0},{"$f":"SUM(GDX73:GDX77)","v":0},{"$f":"SUM(GDY73:GDY77)","v":0},{"$f":"SUM(GDZ73:GDZ77)","v":0},{"$f":"SUM(GEA73:GEA77)","v":0},{"$f":"SUM(GEB73:GEB77)","v":0},{"$f":"SUM(GEC73:GEC77)","v":0},{"$f":"SUM(GED73:GED77)","v":0},{"$f":"SUM(GEE73:GEE77)","v":0},{"$f":"SUM(GEF73:GEF77)","v":0},{"$f":"SUM(GEG73:GEG77)","v":0},{"$f":"SUM(GEH73:GEH77)","v":0},{"$f":"SUM(GEI73:GEI77)","v":0},{"$f":"SUM(GEJ73:GEJ77)","v":0},{"$f":"SUM(GEK73:GEK77)","v":0},{"$f":"SUM(GEL73:GEL77)","v":0},{"$f":"SUM(GEM73:GEM77)","v":0},{"$f":"SUM(GEN73:GEN77)","v":0},{"$f":"SUM(GEO73:GEO77)","v":0},{"$f":"SUM(GEP73:GEP77)","v":0},{"$f":"SUM(GEQ73:GEQ77)","v":0},{"$f":"SUM(GER73:GER77)","v":0},{"$f":"SUM(GES73:GES77)","v":0},{"$f":"SUM(GET73:GET77)","v":0},{"$f":"SUM(GEU73:GEU77)","v":0},{"$f":"SUM(GEV73:GEV77)","v":0},{"$f":"SUM(GEW73:GEW77)","v":0},{"$f":"SUM(GEX73:GEX77)","v":0},{"$f":"SUM(GEY73:GEY77)","v":0},{"$f":"SUM(GEZ73:GEZ77)","v":0},{"$f":"SUM(GFA73:GFA77)","v":0},{"$f":"SUM(GFB73:GFB77)","v":0},{"$f":"SUM(GFC73:GFC77)","v":0},{"$f":"SUM(GFD73:GFD77)","v":0},{"$f":"SUM(GFE73:GFE77)","v":0},{"$f":"SUM(GFF73:GFF77)","v":0},{"$f":"SUM(GFG73:GFG77)","v":0},{"$f":"SUM(GFH73:GFH77)","v":0},{"$f":"SUM(GFI73:GFI77)","v":0},{"$f":"SUM(GFJ73:GFJ77)","v":0},{"$f":"SUM(GFK73:GFK77)","v":0},{"$f":"SUM(GFL73:GFL77)","v":0},{"$f":"SUM(GFM73:GFM77)","v":0},{"$f":"SUM(GFN73:GFN77)","v":0},{"$f":"SUM(GFO73:GFO77)","v":0},{"$f":"SUM(GFP73:GFP77)","v":0},{"$f":"SUM(GFQ73:GFQ77)","v":0},{"$f":"SUM(GFR73:GFR77)","v":0},{"$f":"SUM(GFS73:GFS77)","v":0},{"$f":"SUM(GFT73:GFT77)","v":0},{"$f":"SUM(GFU73:GFU77)","v":0},{"$f":"SUM(GFV73:GFV77)","v":0},{"$f":"SUM(GFW73:GFW77)","v":0},{"$f":"SUM(GFX73:GFX77)","v":0},{"$f":"SUM(GFY73:GFY77)","v":0},{"$f":"SUM(GFZ73:GFZ77)","v":0},{"$f":"SUM(GGA73:GGA77)","v":0},{"$f":"SUM(GGB73:GGB77)","v":0},{"$f":"SUM(GGC73:GGC77)","v":0},{"$f":"SUM(GGD73:GGD77)","v":0},{"$f":"SUM(GGE73:GGE77)","v":0},{"$f":"SUM(GGF73:GGF77)","v":0},{"$f":"SUM(GGG73:GGG77)","v":0},{"$f":"SUM(GGH73:GGH77)","v":0},{"$f":"SUM(GGI73:GGI77)","v":0},{"$f":"SUM(GGJ73:GGJ77)","v":0},{"$f":"SUM(GGK73:GGK77)","v":0},{"$f":"SUM(GGL73:GGL77)","v":0},{"$f":"SUM(GGM73:GGM77)","v":0},{"$f":"SUM(GGN73:GGN77)","v":0},{"$f":"SUM(GGO73:GGO77)","v":0},{"$f":"SUM(GGP73:GGP77)","v":0},{"$f":"SUM(GGQ73:GGQ77)","v":0},{"$f":"SUM(GGR73:GGR77)","v":0},{"$f":"SUM(GGS73:GGS77)","v":0},{"$f":"SUM(GGT73:GGT77)","v":0},{"$f":"SUM(GGU73:GGU77)","v":0},{"$f":"SUM(GGV73:GGV77)","v":0},{"$f":"SUM(GGW73:GGW77)","v":0},{"$f":"SUM(GGX73:GGX77)","v":0},{"$f":"SUM(GGY73:GGY77)","v":0},{"$f":"SUM(GGZ73:GGZ77)","v":0},{"$f":"SUM(GHA73:GHA77)","v":0},{"$f":"SUM(GHB73:GHB77)","v":0},{"$f":"SUM(GHC73:GHC77)","v":0},{"$f":"SUM(GHD73:GHD77)","v":0},{"$f":"SUM(GHE73:GHE77)","v":0},{"$f":"SUM(GHF73:GHF77)","v":0},{"$f":"SUM(GHG73:GHG77)","v":0},{"$f":"SUM(GHH73:GHH77)","v":0},{"$f":"SUM(GHI73:GHI77)","v":0},{"$f":"SUM(GHJ73:GHJ77)","v":0},{"$f":"SUM(GHK73:GHK77)","v":0},{"$f":"SUM(GHL73:GHL77)","v":0},{"$f":"SUM(GHM73:GHM77)","v":0},{"$f":"SUM(GHN73:GHN77)","v":0},{"$f":"SUM(GHO73:GHO77)","v":0},{"$f":"SUM(GHP73:GHP77)","v":0},{"$f":"SUM(GHQ73:GHQ77)","v":0},{"$f":"SUM(GHR73:GHR77)","v":0},{"$f":"SUM(GHS73:GHS77)","v":0},{"$f":"SUM(GHT73:GHT77)","v":0},{"$f":"SUM(GHU73:GHU77)","v":0},{"$f":"SUM(GHV73:GHV77)","v":0},{"$f":"SUM(GHW73:GHW77)","v":0},{"$f":"SUM(GHX73:GHX77)","v":0},{"$f":"SUM(GHY73:GHY77)","v":0},{"$f":"SUM(GHZ73:GHZ77)","v":0},{"$f":"SUM(GIA73:GIA77)","v":0},{"$f":"SUM(GIB73:GIB77)","v":0},{"$f":"SUM(GIC73:GIC77)","v":0},{"$f":"SUM(GID73:GID77)","v":0},{"$f":"SUM(GIE73:GIE77)","v":0},{"$f":"SUM(GIF73:GIF77)","v":0},{"$f":"SUM(GIG73:GIG77)","v":0},{"$f":"SUM(GIH73:GIH77)","v":0},{"$f":"SUM(GII73:GII77)","v":0},{"$f":"SUM(GIJ73:GIJ77)","v":0},{"$f":"SUM(GIK73:GIK77)","v":0},{"$f":"SUM(GIL73:GIL77)","v":0},{"$f":"SUM(GIM73:GIM77)","v":0},{"$f":"SUM(GIN73:GIN77)","v":0},{"$f":"SUM(GIO73:GIO77)","v":0},{"$f":"SUM(GIP73:GIP77)","v":0},{"$f":"SUM(GIQ73:GIQ77)","v":0},{"$f":"SUM(GIR73:GIR77)","v":0},{"$f":"SUM(GIS73:GIS77)","v":0},{"$f":"SUM(GIT73:GIT77)","v":0},{"$f":"SUM(GIU73:GIU77)","v":0},{"$f":"SUM(GIV73:GIV77)","v":0},{"$f":"SUM(GIW73:GIW77)","v":0},{"$f":"SUM(GIX73:GIX77)","v":0},{"$f":"SUM(GIY73:GIY77)","v":0},{"$f":"SUM(GIZ73:GIZ77)","v":0},{"$f":"SUM(GJA73:GJA77)","v":0},{"$f":"SUM(GJB73:GJB77)","v":0},{"$f":"SUM(GJC73:GJC77)","v":0},{"$f":"SUM(GJD73:GJD77)","v":0},{"$f":"SUM(GJE73:GJE77)","v":0},{"$f":"SUM(GJF73:GJF77)","v":0},{"$f":"SUM(GJG73:GJG77)","v":0},{"$f":"SUM(GJH73:GJH77)","v":0},{"$f":"SUM(GJI73:GJI77)","v":0},{"$f":"SUM(GJJ73:GJJ77)","v":0},{"$f":"SUM(GJK73:GJK77)","v":0},{"$f":"SUM(GJL73:GJL77)","v":0},{"$f":"SUM(GJM73:GJM77)","v":0},{"$f":"SUM(GJN73:GJN77)","v":0},{"$f":"SUM(GJO73:GJO77)","v":0},{"$f":"SUM(GJP73:GJP77)","v":0},{"$f":"SUM(GJQ73:GJQ77)","v":0},{"$f":"SUM(GJR73:GJR77)","v":0},{"$f":"SUM(GJS73:GJS77)","v":0},{"$f":"SUM(GJT73:GJT77)","v":0},{"$f":"SUM(GJU73:GJU77)","v":0},{"$f":"SUM(GJV73:GJV77)","v":0},{"$f":"SUM(GJW73:GJW77)","v":0},{"$f":"SUM(GJX73:GJX77)","v":0},{"$f":"SUM(GJY73:GJY77)","v":0},{"$f":"SUM(GJZ73:GJZ77)","v":0},{"$f":"SUM(GKA73:GKA77)","v":0},{"$f":"SUM(GKB73:GKB77)","v":0},{"$f":"SUM(GKC73:GKC77)","v":0},{"$f":"SUM(GKD73:GKD77)","v":0},{"$f":"SUM(GKE73:GKE77)","v":0},{"$f":"SUM(GKF73:GKF77)","v":0},{"$f":"SUM(GKG73:GKG77)","v":0},{"$f":"SUM(GKH73:GKH77)","v":0},{"$f":"SUM(GKI73:GKI77)","v":0},{"$f":"SUM(GKJ73:GKJ77)","v":0},{"$f":"SUM(GKK73:GKK77)","v":0},{"$f":"SUM(GKL73:GKL77)","v":0},{"$f":"SUM(GKM73:GKM77)","v":0},{"$f":"SUM(GKN73:GKN77)","v":0},{"$f":"SUM(GKO73:GKO77)","v":0},{"$f":"SUM(GKP73:GKP77)","v":0},{"$f":"SUM(GKQ73:GKQ77)","v":0},{"$f":"SUM(GKR73:GKR77)","v":0},{"$f":"SUM(GKS73:GKS77)","v":0},{"$f":"SUM(GKT73:GKT77)","v":0},{"$f":"SUM(GKU73:GKU77)","v":0},{"$f":"SUM(GKV73:GKV77)","v":0},{"$f":"SUM(GKW73:GKW77)","v":0},{"$f":"SUM(GKX73:GKX77)","v":0},{"$f":"SUM(GKY73:GKY77)","v":0},{"$f":"SUM(GKZ73:GKZ77)","v":0},{"$f":"SUM(GLA73:GLA77)","v":0},{"$f":"SUM(GLB73:GLB77)","v":0},{"$f":"SUM(GLC73:GLC77)","v":0},{"$f":"SUM(GLD73:GLD77)","v":0},{"$f":"SUM(GLE73:GLE77)","v":0},{"$f":"SUM(GLF73:GLF77)","v":0},{"$f":"SUM(GLG73:GLG77)","v":0},{"$f":"SUM(GLH73:GLH77)","v":0},{"$f":"SUM(GLI73:GLI77)","v":0},{"$f":"SUM(GLJ73:GLJ77)","v":0},{"$f":"SUM(GLK73:GLK77)","v":0},{"$f":"SUM(GLL73:GLL77)","v":0},{"$f":"SUM(GLM73:GLM77)","v":0},{"$f":"SUM(GLN73:GLN77)","v":0},{"$f":"SUM(GLO73:GLO77)","v":0},{"$f":"SUM(GLP73:GLP77)","v":0},{"$f":"SUM(GLQ73:GLQ77)","v":0},{"$f":"SUM(GLR73:GLR77)","v":0},{"$f":"SUM(GLS73:GLS77)","v":0},{"$f":"SUM(GLT73:GLT77)","v":0},{"$f":"SUM(GLU73:GLU77)","v":0},{"$f":"SUM(GLV73:GLV77)","v":0},{"$f":"SUM(GLW73:GLW77)","v":0},{"$f":"SUM(GLX73:GLX77)","v":0},{"$f":"SUM(GLY73:GLY77)","v":0},{"$f":"SUM(GLZ73:GLZ77)","v":0},{"$f":"SUM(GMA73:GMA77)","v":0},{"$f":"SUM(GMB73:GMB77)","v":0},{"$f":"SUM(GMC73:GMC77)","v":0},{"$f":"SUM(GMD73:GMD77)","v":0},{"$f":"SUM(GME73:GME77)","v":0},{"$f":"SUM(GMF73:GMF77)","v":0},{"$f":"SUM(GMG73:GMG77)","v":0},{"$f":"SUM(GMH73:GMH77)","v":0},{"$f":"SUM(GMI73:GMI77)","v":0},{"$f":"SUM(GMJ73:GMJ77)","v":0},{"$f":"SUM(GMK73:GMK77)","v":0},{"$f":"SUM(GML73:GML77)","v":0},{"$f":"SUM(GMM73:GMM77)","v":0},{"$f":"SUM(GMN73:GMN77)","v":0},{"$f":"SUM(GMO73:GMO77)","v":0},{"$f":"SUM(GMP73:GMP77)","v":0},{"$f":"SUM(GMQ73:GMQ77)","v":0},{"$f":"SUM(GMR73:GMR77)","v":0},{"$f":"SUM(GMS73:GMS77)","v":0},{"$f":"SUM(GMT73:GMT77)","v":0},{"$f":"SUM(GMU73:GMU77)","v":0},{"$f":"SUM(GMV73:GMV77)","v":0},{"$f":"SUM(GMW73:GMW77)","v":0},{"$f":"SUM(GMX73:GMX77)","v":0},{"$f":"SUM(GMY73:GMY77)","v":0},{"$f":"SUM(GMZ73:GMZ77)","v":0},{"$f":"SUM(GNA73:GNA77)","v":0},{"$f":"SUM(GNB73:GNB77)","v":0},{"$f":"SUM(GNC73:GNC77)","v":0},{"$f":"SUM(GND73:GND77)","v":0},{"$f":"SUM(GNE73:GNE77)","v":0},{"$f":"SUM(GNF73:GNF77)","v":0},{"$f":"SUM(GNG73:GNG77)","v":0},{"$f":"SUM(GNH73:GNH77)","v":0},{"$f":"SUM(GNI73:GNI77)","v":0},{"$f":"SUM(GNJ73:GNJ77)","v":0},{"$f":"SUM(GNK73:GNK77)","v":0},{"$f":"SUM(GNL73:GNL77)","v":0},{"$f":"SUM(GNM73:GNM77)","v":0},{"$f":"SUM(GNN73:GNN77)","v":0},{"$f":"SUM(GNO73:GNO77)","v":0},{"$f":"SUM(GNP73:GNP77)","v":0},{"$f":"SUM(GNQ73:GNQ77)","v":0},{"$f":"SUM(GNR73:GNR77)","v":0},{"$f":"SUM(GNS73:GNS77)","v":0},{"$f":"SUM(GNT73:GNT77)","v":0},{"$f":"SUM(GNU73:GNU77)","v":0},{"$f":"SUM(GNV73:GNV77)","v":0},{"$f":"SUM(GNW73:GNW77)","v":0},{"$f":"SUM(GNX73:GNX77)","v":0},{"$f":"SUM(GNY73:GNY77)","v":0},{"$f":"SUM(GNZ73:GNZ77)","v":0},{"$f":"SUM(GOA73:GOA77)","v":0},{"$f":"SUM(GOB73:GOB77)","v":0},{"$f":"SUM(GOC73:GOC77)","v":0},{"$f":"SUM(GOD73:GOD77)","v":0},{"$f":"SUM(GOE73:GOE77)","v":0},{"$f":"SUM(GOF73:GOF77)","v":0},{"$f":"SUM(GOG73:GOG77)","v":0},{"$f":"SUM(GOH73:GOH77)","v":0},{"$f":"SUM(GOI73:GOI77)","v":0},{"$f":"SUM(GOJ73:GOJ77)","v":0},{"$f":"SUM(GOK73:GOK77)","v":0},{"$f":"SUM(GOL73:GOL77)","v":0},{"$f":"SUM(GOM73:GOM77)","v":0},{"$f":"SUM(GON73:GON77)","v":0},{"$f":"SUM(GOO73:GOO77)","v":0},{"$f":"SUM(GOP73:GOP77)","v":0},{"$f":"SUM(GOQ73:GOQ77)","v":0},{"$f":"SUM(GOR73:GOR77)","v":0},{"$f":"SUM(GOS73:GOS77)","v":0},{"$f":"SUM(GOT73:GOT77)","v":0},{"$f":"SUM(GOU73:GOU77)","v":0},{"$f":"SUM(GOV73:GOV77)","v":0},{"$f":"SUM(GOW73:GOW77)","v":0},{"$f":"SUM(GOX73:GOX77)","v":0},{"$f":"SUM(GOY73:GOY77)","v":0},{"$f":"SUM(GOZ73:GOZ77)","v":0},{"$f":"SUM(GPA73:GPA77)","v":0},{"$f":"SUM(GPB73:GPB77)","v":0},{"$f":"SUM(GPC73:GPC77)","v":0},{"$f":"SUM(GPD73:GPD77)","v":0},{"$f":"SUM(GPE73:GPE77)","v":0},{"$f":"SUM(GPF73:GPF77)","v":0},{"$f":"SUM(GPG73:GPG77)","v":0},{"$f":"SUM(GPH73:GPH77)","v":0},{"$f":"SUM(GPI73:GPI77)","v":0},{"$f":"SUM(GPJ73:GPJ77)","v":0},{"$f":"SUM(GPK73:GPK77)","v":0},{"$f":"SUM(GPL73:GPL77)","v":0},{"$f":"SUM(GPM73:GPM77)","v":0},{"$f":"SUM(GPN73:GPN77)","v":0},{"$f":"SUM(GPO73:GPO77)","v":0},{"$f":"SUM(GPP73:GPP77)","v":0},{"$f":"SUM(GPQ73:GPQ77)","v":0},{"$f":"SUM(GPR73:GPR77)","v":0},{"$f":"SUM(GPS73:GPS77)","v":0},{"$f":"SUM(GPT73:GPT77)","v":0},{"$f":"SUM(GPU73:GPU77)","v":0},{"$f":"SUM(GPV73:GPV77)","v":0},{"$f":"SUM(GPW73:GPW77)","v":0},{"$f":"SUM(GPX73:GPX77)","v":0},{"$f":"SUM(GPY73:GPY77)","v":0},{"$f":"SUM(GPZ73:GPZ77)","v":0},{"$f":"SUM(GQA73:GQA77)","v":0},{"$f":"SUM(GQB73:GQB77)","v":0},{"$f":"SUM(GQC73:GQC77)","v":0},{"$f":"SUM(GQD73:GQD77)","v":0},{"$f":"SUM(GQE73:GQE77)","v":0},{"$f":"SUM(GQF73:GQF77)","v":0},{"$f":"SUM(GQG73:GQG77)","v":0},{"$f":"SUM(GQH73:GQH77)","v":0},{"$f":"SUM(GQI73:GQI77)","v":0},{"$f":"SUM(GQJ73:GQJ77)","v":0},{"$f":"SUM(GQK73:GQK77)","v":0},{"$f":"SUM(GQL73:GQL77)","v":0},{"$f":"SUM(GQM73:GQM77)","v":0},{"$f":"SUM(GQN73:GQN77)","v":0},{"$f":"SUM(GQO73:GQO77)","v":0},{"$f":"SUM(GQP73:GQP77)","v":0},{"$f":"SUM(GQQ73:GQQ77)","v":0},{"$f":"SUM(GQR73:GQR77)","v":0},{"$f":"SUM(GQS73:GQS77)","v":0},{"$f":"SUM(GQT73:GQT77)","v":0},{"$f":"SUM(GQU73:GQU77)","v":0},{"$f":"SUM(GQV73:GQV77)","v":0},{"$f":"SUM(GQW73:GQW77)","v":0},{"$f":"SUM(GQX73:GQX77)","v":0},{"$f":"SUM(GQY73:GQY77)","v":0},{"$f":"SUM(GQZ73:GQZ77)","v":0},{"$f":"SUM(GRA73:GRA77)","v":0},{"$f":"SUM(GRB73:GRB77)","v":0},{"$f":"SUM(GRC73:GRC77)","v":0},{"$f":"SUM(GRD73:GRD77)","v":0},{"$f":"SUM(GRE73:GRE77)","v":0},{"$f":"SUM(GRF73:GRF77)","v":0},{"$f":"SUM(GRG73:GRG77)","v":0},{"$f":"SUM(GRH73:GRH77)","v":0},{"$f":"SUM(GRI73:GRI77)","v":0},{"$f":"SUM(GRJ73:GRJ77)","v":0},{"$f":"SUM(GRK73:GRK77)","v":0},{"$f":"SUM(GRL73:GRL77)","v":0},{"$f":"SUM(GRM73:GRM77)","v":0},{"$f":"SUM(GRN73:GRN77)","v":0},{"$f":"SUM(GRO73:GRO77)","v":0},{"$f":"SUM(GRP73:GRP77)","v":0},{"$f":"SUM(GRQ73:GRQ77)","v":0},{"$f":"SUM(GRR73:GRR77)","v":0},{"$f":"SUM(GRS73:GRS77)","v":0},{"$f":"SUM(GRT73:GRT77)","v":0},{"$f":"SUM(GRU73:GRU77)","v":0},{"$f":"SUM(GRV73:GRV77)","v":0},{"$f":"SUM(GRW73:GRW77)","v":0},{"$f":"SUM(GRX73:GRX77)","v":0},{"$f":"SUM(GRY73:GRY77)","v":0},{"$f":"SUM(GRZ73:GRZ77)","v":0},{"$f":"SUM(GSA73:GSA77)","v":0},{"$f":"SUM(GSB73:GSB77)","v":0},{"$f":"SUM(GSC73:GSC77)","v":0},{"$f":"SUM(GSD73:GSD77)","v":0},{"$f":"SUM(GSE73:GSE77)","v":0},{"$f":"SUM(GSF73:GSF77)","v":0},{"$f":"SUM(GSG73:GSG77)","v":0},{"$f":"SUM(GSH73:GSH77)","v":0},{"$f":"SUM(GSI73:GSI77)","v":0},{"$f":"SUM(GSJ73:GSJ77)","v":0},{"$f":"SUM(GSK73:GSK77)","v":0},{"$f":"SUM(GSL73:GSL77)","v":0},{"$f":"SUM(GSM73:GSM77)","v":0},{"$f":"SUM(GSN73:GSN77)","v":0},{"$f":"SUM(GSO73:GSO77)","v":0},{"$f":"SUM(GSP73:GSP77)","v":0},{"$f":"SUM(GSQ73:GSQ77)","v":0},{"$f":"SUM(GSR73:GSR77)","v":0},{"$f":"SUM(GSS73:GSS77)","v":0},{"$f":"SUM(GST73:GST77)","v":0},{"$f":"SUM(GSU73:GSU77)","v":0},{"$f":"SUM(GSV73:GSV77)","v":0},{"$f":"SUM(GSW73:GSW77)","v":0},{"$f":"SUM(GSX73:GSX77)","v":0},{"$f":"SUM(GSY73:GSY77)","v":0},{"$f":"SUM(GSZ73:GSZ77)","v":0},{"$f":"SUM(GTA73:GTA77)","v":0},{"$f":"SUM(GTB73:GTB77)","v":0},{"$f":"SUM(GTC73:GTC77)","v":0},{"$f":"SUM(GTD73:GTD77)","v":0},{"$f":"SUM(GTE73:GTE77)","v":0},{"$f":"SUM(GTF73:GTF77)","v":0},{"$f":"SUM(GTG73:GTG77)","v":0},{"$f":"SUM(GTH73:GTH77)","v":0},{"$f":"SUM(GTI73:GTI77)","v":0},{"$f":"SUM(GTJ73:GTJ77)","v":0},{"$f":"SUM(GTK73:GTK77)","v":0},{"$f":"SUM(GTL73:GTL77)","v":0},{"$f":"SUM(GTM73:GTM77)","v":0},{"$f":"SUM(GTN73:GTN77)","v":0},{"$f":"SUM(GTO73:GTO77)","v":0},{"$f":"SUM(GTP73:GTP77)","v":0},{"$f":"SUM(GTQ73:GTQ77)","v":0},{"$f":"SUM(GTR73:GTR77)","v":0},{"$f":"SUM(GTS73:GTS77)","v":0},{"$f":"SUM(GTT73:GTT77)","v":0},{"$f":"SUM(GTU73:GTU77)","v":0},{"$f":"SUM(GTV73:GTV77)","v":0},{"$f":"SUM(GTW73:GTW77)","v":0},{"$f":"SUM(GTX73:GTX77)","v":0},{"$f":"SUM(GTY73:GTY77)","v":0},{"$f":"SUM(GTZ73:GTZ77)","v":0},{"$f":"SUM(GUA73:GUA77)","v":0},{"$f":"SUM(GUB73:GUB77)","v":0},{"$f":"SUM(GUC73:GUC77)","v":0},{"$f":"SUM(GUD73:GUD77)","v":0},{"$f":"SUM(GUE73:GUE77)","v":0},{"$f":"SUM(GUF73:GUF77)","v":0},{"$f":"SUM(GUG73:GUG77)","v":0},{"$f":"SUM(GUH73:GUH77)","v":0},{"$f":"SUM(GUI73:GUI77)","v":0},{"$f":"SUM(GUJ73:GUJ77)","v":0},{"$f":"SUM(GUK73:GUK77)","v":0},{"$f":"SUM(GUL73:GUL77)","v":0},{"$f":"SUM(GUM73:GUM77)","v":0},{"$f":"SUM(GUN73:GUN77)","v":0},{"$f":"SUM(GUO73:GUO77)","v":0},{"$f":"SUM(GUP73:GUP77)","v":0},{"$f":"SUM(GUQ73:GUQ77)","v":0},{"$f":"SUM(GUR73:GUR77)","v":0},{"$f":"SUM(GUS73:GUS77)","v":0},{"$f":"SUM(GUT73:GUT77)","v":0},{"$f":"SUM(GUU73:GUU77)","v":0},{"$f":"SUM(GUV73:GUV77)","v":0},{"$f":"SUM(GUW73:GUW77)","v":0},{"$f":"SUM(GUX73:GUX77)","v":0},{"$f":"SUM(GUY73:GUY77)","v":0},{"$f":"SUM(GUZ73:GUZ77)","v":0},{"$f":"SUM(GVA73:GVA77)","v":0},{"$f":"SUM(GVB73:GVB77)","v":0},{"$f":"SUM(GVC73:GVC77)","v":0},{"$f":"SUM(GVD73:GVD77)","v":0},{"$f":"SUM(GVE73:GVE77)","v":0},{"$f":"SUM(GVF73:GVF77)","v":0},{"$f":"SUM(GVG73:GVG77)","v":0},{"$f":"SUM(GVH73:GVH77)","v":0},{"$f":"SUM(GVI73:GVI77)","v":0},{"$f":"SUM(GVJ73:GVJ77)","v":0},{"$f":"SUM(GVK73:GVK77)","v":0},{"$f":"SUM(GVL73:GVL77)","v":0},{"$f":"SUM(GVM73:GVM77)","v":0},{"$f":"SUM(GVN73:GVN77)","v":0},{"$f":"SUM(GVO73:GVO77)","v":0},{"$f":"SUM(GVP73:GVP77)","v":0},{"$f":"SUM(GVQ73:GVQ77)","v":0},{"$f":"SUM(GVR73:GVR77)","v":0},{"$f":"SUM(GVS73:GVS77)","v":0},{"$f":"SUM(GVT73:GVT77)","v":0},{"$f":"SUM(GVU73:GVU77)","v":0},{"$f":"SUM(GVV73:GVV77)","v":0},{"$f":"SUM(GVW73:GVW77)","v":0},{"$f":"SUM(GVX73:GVX77)","v":0},{"$f":"SUM(GVY73:GVY77)","v":0},{"$f":"SUM(GVZ73:GVZ77)","v":0},{"$f":"SUM(GWA73:GWA77)","v":0},{"$f":"SUM(GWB73:GWB77)","v":0},{"$f":"SUM(GWC73:GWC77)","v":0},{"$f":"SUM(GWD73:GWD77)","v":0},{"$f":"SUM(GWE73:GWE77)","v":0},{"$f":"SUM(GWF73:GWF77)","v":0},{"$f":"SUM(GWG73:GWG77)","v":0},{"$f":"SUM(GWH73:GWH77)","v":0},{"$f":"SUM(GWI73:GWI77)","v":0},{"$f":"SUM(GWJ73:GWJ77)","v":0},{"$f":"SUM(GWK73:GWK77)","v":0},{"$f":"SUM(GWL73:GWL77)","v":0},{"$f":"SUM(GWM73:GWM77)","v":0},{"$f":"SUM(GWN73:GWN77)","v":0},{"$f":"SUM(GWO73:GWO77)","v":0},{"$f":"SUM(GWP73:GWP77)","v":0},{"$f":"SUM(GWQ73:GWQ77)","v":0},{"$f":"SUM(GWR73:GWR77)","v":0},{"$f":"SUM(GWS73:GWS77)","v":0},{"$f":"SUM(GWT73:GWT77)","v":0},{"$f":"SUM(GWU73:GWU77)","v":0},{"$f":"SUM(GWV73:GWV77)","v":0},{"$f":"SUM(GWW73:GWW77)","v":0},{"$f":"SUM(GWX73:GWX77)","v":0},{"$f":"SUM(GWY73:GWY77)","v":0},{"$f":"SUM(GWZ73:GWZ77)","v":0},{"$f":"SUM(GXA73:GXA77)","v":0},{"$f":"SUM(GXB73:GXB77)","v":0},{"$f":"SUM(GXC73:GXC77)","v":0},{"$f":"SUM(GXD73:GXD77)","v":0},{"$f":"SUM(GXE73:GXE77)","v":0},{"$f":"SUM(GXF73:GXF77)","v":0},{"$f":"SUM(GXG73:GXG77)","v":0},{"$f":"SUM(GXH73:GXH77)","v":0},{"$f":"SUM(GXI73:GXI77)","v":0},{"$f":"SUM(GXJ73:GXJ77)","v":0},{"$f":"SUM(GXK73:GXK77)","v":0},{"$f":"SUM(GXL73:GXL77)","v":0},{"$f":"SUM(GXM73:GXM77)","v":0},{"$f":"SUM(GXN73:GXN77)","v":0},{"$f":"SUM(GXO73:GXO77)","v":0},{"$f":"SUM(GXP73:GXP77)","v":0},{"$f":"SUM(GXQ73:GXQ77)","v":0},{"$f":"SUM(GXR73:GXR77)","v":0},{"$f":"SUM(GXS73:GXS77)","v":0},{"$f":"SUM(GXT73:GXT77)","v":0},{"$f":"SUM(GXU73:GXU77)","v":0},{"$f":"SUM(GXV73:GXV77)","v":0},{"$f":"SUM(GXW73:GXW77)","v":0},{"$f":"SUM(GXX73:GXX77)","v":0},{"$f":"SUM(GXY73:GXY77)","v":0},{"$f":"SUM(GXZ73:GXZ77)","v":0},{"$f":"SUM(GYA73:GYA77)","v":0},{"$f":"SUM(GYB73:GYB77)","v":0},{"$f":"SUM(GYC73:GYC77)","v":0},{"$f":"SUM(GYD73:GYD77)","v":0},{"$f":"SUM(GYE73:GYE77)","v":0},{"$f":"SUM(GYF73:GYF77)","v":0},{"$f":"SUM(GYG73:GYG77)","v":0},{"$f":"SUM(GYH73:GYH77)","v":0},{"$f":"SUM(GYI73:GYI77)","v":0},{"$f":"SUM(GYJ73:GYJ77)","v":0},{"$f":"SUM(GYK73:GYK77)","v":0},{"$f":"SUM(GYL73:GYL77)","v":0},{"$f":"SUM(GYM73:GYM77)","v":0},{"$f":"SUM(GYN73:GYN77)","v":0},{"$f":"SUM(GYO73:GYO77)","v":0},{"$f":"SUM(GYP73:GYP77)","v":0},{"$f":"SUM(GYQ73:GYQ77)","v":0},{"$f":"SUM(GYR73:GYR77)","v":0},{"$f":"SUM(GYS73:GYS77)","v":0},{"$f":"SUM(GYT73:GYT77)","v":0},{"$f":"SUM(GYU73:GYU77)","v":0},{"$f":"SUM(GYV73:GYV77)","v":0},{"$f":"SUM(GYW73:GYW77)","v":0},{"$f":"SUM(GYX73:GYX77)","v":0},{"$f":"SUM(GYY73:GYY77)","v":0},{"$f":"SUM(GYZ73:GYZ77)","v":0},{"$f":"SUM(GZA73:GZA77)","v":0},{"$f":"SUM(GZB73:GZB77)","v":0},{"$f":"SUM(GZC73:GZC77)","v":0},{"$f":"SUM(GZD73:GZD77)","v":0},{"$f":"SUM(GZE73:GZE77)","v":0},{"$f":"SUM(GZF73:GZF77)","v":0},{"$f":"SUM(GZG73:GZG77)","v":0},{"$f":"SUM(GZH73:GZH77)","v":0},{"$f":"SUM(GZI73:GZI77)","v":0},{"$f":"SUM(GZJ73:GZJ77)","v":0},{"$f":"SUM(GZK73:GZK77)","v":0},{"$f":"SUM(GZL73:GZL77)","v":0},{"$f":"SUM(GZM73:GZM77)","v":0},{"$f":"SUM(GZN73:GZN77)","v":0},{"$f":"SUM(GZO73:GZO77)","v":0},{"$f":"SUM(GZP73:GZP77)","v":0},{"$f":"SUM(GZQ73:GZQ77)","v":0},{"$f":"SUM(GZR73:GZR77)","v":0},{"$f":"SUM(GZS73:GZS77)","v":0},{"$f":"SUM(GZT73:GZT77)","v":0},{"$f":"SUM(GZU73:GZU77)","v":0},{"$f":"SUM(GZV73:GZV77)","v":0},{"$f":"SUM(GZW73:GZW77)","v":0},{"$f":"SUM(GZX73:GZX77)","v":0},{"$f":"SUM(GZY73:GZY77)","v":0},{"$f":"SUM(GZZ73:GZZ77)","v":0},{"$f":"SUM(HAA73:HAA77)","v":0},{"$f":"SUM(HAB73:HAB77)","v":0},{"$f":"SUM(HAC73:HAC77)","v":0},{"$f":"SUM(HAD73:HAD77)","v":0},{"$f":"SUM(HAE73:HAE77)","v":0},{"$f":"SUM(HAF73:HAF77)","v":0},{"$f":"SUM(HAG73:HAG77)","v":0},{"$f":"SUM(HAH73:HAH77)","v":0},{"$f":"SUM(HAI73:HAI77)","v":0},{"$f":"SUM(HAJ73:HAJ77)","v":0},{"$f":"SUM(HAK73:HAK77)","v":0},{"$f":"SUM(HAL73:HAL77)","v":0},{"$f":"SUM(HAM73:HAM77)","v":0},{"$f":"SUM(HAN73:HAN77)","v":0},{"$f":"SUM(HAO73:HAO77)","v":0},{"$f":"SUM(HAP73:HAP77)","v":0},{"$f":"SUM(HAQ73:HAQ77)","v":0},{"$f":"SUM(HAR73:HAR77)","v":0},{"$f":"SUM(HAS73:HAS77)","v":0},{"$f":"SUM(HAT73:HAT77)","v":0},{"$f":"SUM(HAU73:HAU77)","v":0},{"$f":"SUM(HAV73:HAV77)","v":0},{"$f":"SUM(HAW73:HAW77)","v":0},{"$f":"SUM(HAX73:HAX77)","v":0},{"$f":"SUM(HAY73:HAY77)","v":0},{"$f":"SUM(HAZ73:HAZ77)","v":0},{"$f":"SUM(HBA73:HBA77)","v":0},{"$f":"SUM(HBB73:HBB77)","v":0},{"$f":"SUM(HBC73:HBC77)","v":0},{"$f":"SUM(HBD73:HBD77)","v":0},{"$f":"SUM(HBE73:HBE77)","v":0},{"$f":"SUM(HBF73:HBF77)","v":0},{"$f":"SUM(HBG73:HBG77)","v":0},{"$f":"SUM(HBH73:HBH77)","v":0},{"$f":"SUM(HBI73:HBI77)","v":0},{"$f":"SUM(HBJ73:HBJ77)","v":0},{"$f":"SUM(HBK73:HBK77)","v":0},{"$f":"SUM(HBL73:HBL77)","v":0},{"$f":"SUM(HBM73:HBM77)","v":0},{"$f":"SUM(HBN73:HBN77)","v":0},{"$f":"SUM(HBO73:HBO77)","v":0},{"$f":"SUM(HBP73:HBP77)","v":0},{"$f":"SUM(HBQ73:HBQ77)","v":0},{"$f":"SUM(HBR73:HBR77)","v":0},{"$f":"SUM(HBS73:HBS77)","v":0},{"$f":"SUM(HBT73:HBT77)","v":0},{"$f":"SUM(HBU73:HBU77)","v":0},{"$f":"SUM(HBV73:HBV77)","v":0},{"$f":"SUM(HBW73:HBW77)","v":0},{"$f":"SUM(HBX73:HBX77)","v":0},{"$f":"SUM(HBY73:HBY77)","v":0},{"$f":"SUM(HBZ73:HBZ77)","v":0},{"$f":"SUM(HCA73:HCA77)","v":0},{"$f":"SUM(HCB73:HCB77)","v":0},{"$f":"SUM(HCC73:HCC77)","v":0},{"$f":"SUM(HCD73:HCD77)","v":0},{"$f":"SUM(HCE73:HCE77)","v":0},{"$f":"SUM(HCF73:HCF77)","v":0},{"$f":"SUM(HCG73:HCG77)","v":0},{"$f":"SUM(HCH73:HCH77)","v":0},{"$f":"SUM(HCI73:HCI77)","v":0},{"$f":"SUM(HCJ73:HCJ77)","v":0},{"$f":"SUM(HCK73:HCK77)","v":0},{"$f":"SUM(HCL73:HCL77)","v":0},{"$f":"SUM(HCM73:HCM77)","v":0},{"$f":"SUM(HCN73:HCN77)","v":0},{"$f":"SUM(HCO73:HCO77)","v":0},{"$f":"SUM(HCP73:HCP77)","v":0},{"$f":"SUM(HCQ73:HCQ77)","v":0},{"$f":"SUM(HCR73:HCR77)","v":0},{"$f":"SUM(HCS73:HCS77)","v":0},{"$f":"SUM(HCT73:HCT77)","v":0},{"$f":"SUM(HCU73:HCU77)","v":0},{"$f":"SUM(HCV73:HCV77)","v":0},{"$f":"SUM(HCW73:HCW77)","v":0},{"$f":"SUM(HCX73:HCX77)","v":0},{"$f":"SUM(HCY73:HCY77)","v":0},{"$f":"SUM(HCZ73:HCZ77)","v":0},{"$f":"SUM(HDA73:HDA77)","v":0},{"$f":"SUM(HDB73:HDB77)","v":0},{"$f":"SUM(HDC73:HDC77)","v":0},{"$f":"SUM(HDD73:HDD77)","v":0},{"$f":"SUM(HDE73:HDE77)","v":0},{"$f":"SUM(HDF73:HDF77)","v":0},{"$f":"SUM(HDG73:HDG77)","v":0},{"$f":"SUM(HDH73:HDH77)","v":0},{"$f":"SUM(HDI73:HDI77)","v":0},{"$f":"SUM(HDJ73:HDJ77)","v":0},{"$f":"SUM(HDK73:HDK77)","v":0},{"$f":"SUM(HDL73:HDL77)","v":0},{"$f":"SUM(HDM73:HDM77)","v":0},{"$f":"SUM(HDN73:HDN77)","v":0},{"$f":"SUM(HDO73:HDO77)","v":0},{"$f":"SUM(HDP73:HDP77)","v":0},{"$f":"SUM(HDQ73:HDQ77)","v":0},{"$f":"SUM(HDR73:HDR77)","v":0},{"$f":"SUM(HDS73:HDS77)","v":0},{"$f":"SUM(HDT73:HDT77)","v":0},{"$f":"SUM(HDU73:HDU77)","v":0},{"$f":"SUM(HDV73:HDV77)","v":0},{"$f":"SUM(HDW73:HDW77)","v":0},{"$f":"SUM(HDX73:HDX77)","v":0},{"$f":"SUM(HDY73:HDY77)","v":0},{"$f":"SUM(HDZ73:HDZ77)","v":0},{"$f":"SUM(HEA73:HEA77)","v":0},{"$f":"SUM(HEB73:HEB77)","v":0},{"$f":"SUM(HEC73:HEC77)","v":0},{"$f":"SUM(HED73:HED77)","v":0},{"$f":"SUM(HEE73:HEE77)","v":0},{"$f":"SUM(HEF73:HEF77)","v":0},{"$f":"SUM(HEG73:HEG77)","v":0},{"$f":"SUM(HEH73:HEH77)","v":0},{"$f":"SUM(HEI73:HEI77)","v":0},{"$f":"SUM(HEJ73:HEJ77)","v":0},{"$f":"SUM(HEK73:HEK77)","v":0},{"$f":"SUM(HEL73:HEL77)","v":0},{"$f":"SUM(HEM73:HEM77)","v":0},{"$f":"SUM(HEN73:HEN77)","v":0},{"$f":"SUM(HEO73:HEO77)","v":0},{"$f":"SUM(HEP73:HEP77)","v":0},{"$f":"SUM(HEQ73:HEQ77)","v":0},{"$f":"SUM(HER73:HER77)","v":0},{"$f":"SUM(HES73:HES77)","v":0},{"$f":"SUM(HET73:HET77)","v":0},{"$f":"SUM(HEU73:HEU77)","v":0},{"$f":"SUM(HEV73:HEV77)","v":0},{"$f":"SUM(HEW73:HEW77)","v":0},{"$f":"SUM(HEX73:HEX77)","v":0},{"$f":"SUM(HEY73:HEY77)","v":0},{"$f":"SUM(HEZ73:HEZ77)","v":0},{"$f":"SUM(HFA73:HFA77)","v":0},{"$f":"SUM(HFB73:HFB77)","v":0},{"$f":"SUM(HFC73:HFC77)","v":0},{"$f":"SUM(HFD73:HFD77)","v":0},{"$f":"SUM(HFE73:HFE77)","v":0},{"$f":"SUM(HFF73:HFF77)","v":0},{"$f":"SUM(HFG73:HFG77)","v":0},{"$f":"SUM(HFH73:HFH77)","v":0},{"$f":"SUM(HFI73:HFI77)","v":0},{"$f":"SUM(HFJ73:HFJ77)","v":0},{"$f":"SUM(HFK73:HFK77)","v":0},{"$f":"SUM(HFL73:HFL77)","v":0},{"$f":"SUM(HFM73:HFM77)","v":0},{"$f":"SUM(HFN73:HFN77)","v":0},{"$f":"SUM(HFO73:HFO77)","v":0},{"$f":"SUM(HFP73:HFP77)","v":0},{"$f":"SUM(HFQ73:HFQ77)","v":0},{"$f":"SUM(HFR73:HFR77)","v":0},{"$f":"SUM(HFS73:HFS77)","v":0},{"$f":"SUM(HFT73:HFT77)","v":0},{"$f":"SUM(HFU73:HFU77)","v":0},{"$f":"SUM(HFV73:HFV77)","v":0},{"$f":"SUM(HFW73:HFW77)","v":0},{"$f":"SUM(HFX73:HFX77)","v":0},{"$f":"SUM(HFY73:HFY77)","v":0},{"$f":"SUM(HFZ73:HFZ77)","v":0},{"$f":"SUM(HGA73:HGA77)","v":0},{"$f":"SUM(HGB73:HGB77)","v":0},{"$f":"SUM(HGC73:HGC77)","v":0},{"$f":"SUM(HGD73:HGD77)","v":0},{"$f":"SUM(HGE73:HGE77)","v":0},{"$f":"SUM(HGF73:HGF77)","v":0},{"$f":"SUM(HGG73:HGG77)","v":0},{"$f":"SUM(HGH73:HGH77)","v":0},{"$f":"SUM(HGI73:HGI77)","v":0},{"$f":"SUM(HGJ73:HGJ77)","v":0},{"$f":"SUM(HGK73:HGK77)","v":0},{"$f":"SUM(HGL73:HGL77)","v":0},{"$f":"SUM(HGM73:HGM77)","v":0},{"$f":"SUM(HGN73:HGN77)","v":0},{"$f":"SUM(HGO73:HGO77)","v":0},{"$f":"SUM(HGP73:HGP77)","v":0},{"$f":"SUM(HGQ73:HGQ77)","v":0},{"$f":"SUM(HGR73:HGR77)","v":0},{"$f":"SUM(HGS73:HGS77)","v":0},{"$f":"SUM(HGT73:HGT77)","v":0},{"$f":"SUM(HGU73:HGU77)","v":0},{"$f":"SUM(HGV73:HGV77)","v":0},{"$f":"SUM(HGW73:HGW77)","v":0},{"$f":"SUM(HGX73:HGX77)","v":0},{"$f":"SUM(HGY73:HGY77)","v":0},{"$f":"SUM(HGZ73:HGZ77)","v":0},{"$f":"SUM(HHA73:HHA77)","v":0},{"$f":"SUM(HHB73:HHB77)","v":0},{"$f":"SUM(HHC73:HHC77)","v":0},{"$f":"SUM(HHD73:HHD77)","v":0},{"$f":"SUM(HHE73:HHE77)","v":0},{"$f":"SUM(HHF73:HHF77)","v":0},{"$f":"SUM(HHG73:HHG77)","v":0},{"$f":"SUM(HHH73:HHH77)","v":0},{"$f":"SUM(HHI73:HHI77)","v":0},{"$f":"SUM(HHJ73:HHJ77)","v":0},{"$f":"SUM(HHK73:HHK77)","v":0},{"$f":"SUM(HHL73:HHL77)","v":0},{"$f":"SUM(HHM73:HHM77)","v":0},{"$f":"SUM(HHN73:HHN77)","v":0},{"$f":"SUM(HHO73:HHO77)","v":0},{"$f":"SUM(HHP73:HHP77)","v":0},{"$f":"SUM(HHQ73:HHQ77)","v":0},{"$f":"SUM(HHR73:HHR77)","v":0},{"$f":"SUM(HHS73:HHS77)","v":0},{"$f":"SUM(HHT73:HHT77)","v":0},{"$f":"SUM(HHU73:HHU77)","v":0},{"$f":"SUM(HHV73:HHV77)","v":0},{"$f":"SUM(HHW73:HHW77)","v":0},{"$f":"SUM(HHX73:HHX77)","v":0},{"$f":"SUM(HHY73:HHY77)","v":0},{"$f":"SUM(HHZ73:HHZ77)","v":0},{"$f":"SUM(HIA73:HIA77)","v":0},{"$f":"SUM(HIB73:HIB77)","v":0},{"$f":"SUM(HIC73:HIC77)","v":0},{"$f":"SUM(HID73:HID77)","v":0},{"$f":"SUM(HIE73:HIE77)","v":0},{"$f":"SUM(HIF73:HIF77)","v":0},{"$f":"SUM(HIG73:HIG77)","v":0},{"$f":"SUM(HIH73:HIH77)","v":0},{"$f":"SUM(HII73:HII77)","v":0},{"$f":"SUM(HIJ73:HIJ77)","v":0},{"$f":"SUM(HIK73:HIK77)","v":0},{"$f":"SUM(HIL73:HIL77)","v":0},{"$f":"SUM(HIM73:HIM77)","v":0},{"$f":"SUM(HIN73:HIN77)","v":0},{"$f":"SUM(HIO73:HIO77)","v":0},{"$f":"SUM(HIP73:HIP77)","v":0},{"$f":"SUM(HIQ73:HIQ77)","v":0},{"$f":"SUM(HIR73:HIR77)","v":0},{"$f":"SUM(HIS73:HIS77)","v":0},{"$f":"SUM(HIT73:HIT77)","v":0},{"$f":"SUM(HIU73:HIU77)","v":0},{"$f":"SUM(HIV73:HIV77)","v":0},{"$f":"SUM(HIW73:HIW77)","v":0},{"$f":"SUM(HIX73:HIX77)","v":0},{"$f":"SUM(HIY73:HIY77)","v":0},{"$f":"SUM(HIZ73:HIZ77)","v":0},{"$f":"SUM(HJA73:HJA77)","v":0},{"$f":"SUM(HJB73:HJB77)","v":0},{"$f":"SUM(HJC73:HJC77)","v":0},{"$f":"SUM(HJD73:HJD77)","v":0},{"$f":"SUM(HJE73:HJE77)","v":0},{"$f":"SUM(HJF73:HJF77)","v":0},{"$f":"SUM(HJG73:HJG77)","v":0},{"$f":"SUM(HJH73:HJH77)","v":0},{"$f":"SUM(HJI73:HJI77)","v":0},{"$f":"SUM(HJJ73:HJJ77)","v":0},{"$f":"SUM(HJK73:HJK77)","v":0},{"$f":"SUM(HJL73:HJL77)","v":0},{"$f":"SUM(HJM73:HJM77)","v":0},{"$f":"SUM(HJN73:HJN77)","v":0},{"$f":"SUM(HJO73:HJO77)","v":0},{"$f":"SUM(HJP73:HJP77)","v":0},{"$f":"SUM(HJQ73:HJQ77)","v":0},{"$f":"SUM(HJR73:HJR77)","v":0},{"$f":"SUM(HJS73:HJS77)","v":0},{"$f":"SUM(HJT73:HJT77)","v":0},{"$f":"SUM(HJU73:HJU77)","v":0},{"$f":"SUM(HJV73:HJV77)","v":0},{"$f":"SUM(HJW73:HJW77)","v":0},{"$f":"SUM(HJX73:HJX77)","v":0},{"$f":"SUM(HJY73:HJY77)","v":0},{"$f":"SUM(HJZ73:HJZ77)","v":0},{"$f":"SUM(HKA73:HKA77)","v":0},{"$f":"SUM(HKB73:HKB77)","v":0},{"$f":"SUM(HKC73:HKC77)","v":0},{"$f":"SUM(HKD73:HKD77)","v":0},{"$f":"SUM(HKE73:HKE77)","v":0},{"$f":"SUM(HKF73:HKF77)","v":0},{"$f":"SUM(HKG73:HKG77)","v":0},{"$f":"SUM(HKH73:HKH77)","v":0},{"$f":"SUM(HKI73:HKI77)","v":0},{"$f":"SUM(HKJ73:HKJ77)","v":0},{"$f":"SUM(HKK73:HKK77)","v":0},{"$f":"SUM(HKL73:HKL77)","v":0},{"$f":"SUM(HKM73:HKM77)","v":0},{"$f":"SUM(HKN73:HKN77)","v":0},{"$f":"SUM(HKO73:HKO77)","v":0},{"$f":"SUM(HKP73:HKP77)","v":0},{"$f":"SUM(HKQ73:HKQ77)","v":0},{"$f":"SUM(HKR73:HKR77)","v":0},{"$f":"SUM(HKS73:HKS77)","v":0},{"$f":"SUM(HKT73:HKT77)","v":0},{"$f":"SUM(HKU73:HKU77)","v":0},{"$f":"SUM(HKV73:HKV77)","v":0},{"$f":"SUM(HKW73:HKW77)","v":0},{"$f":"SUM(HKX73:HKX77)","v":0},{"$f":"SUM(HKY73:HKY77)","v":0},{"$f":"SUM(HKZ73:HKZ77)","v":0},{"$f":"SUM(HLA73:HLA77)","v":0},{"$f":"SUM(HLB73:HLB77)","v":0},{"$f":"SUM(HLC73:HLC77)","v":0},{"$f":"SUM(HLD73:HLD77)","v":0},{"$f":"SUM(HLE73:HLE77)","v":0},{"$f":"SUM(HLF73:HLF77)","v":0},{"$f":"SUM(HLG73:HLG77)","v":0},{"$f":"SUM(HLH73:HLH77)","v":0},{"$f":"SUM(HLI73:HLI77)","v":0},{"$f":"SUM(HLJ73:HLJ77)","v":0},{"$f":"SUM(HLK73:HLK77)","v":0},{"$f":"SUM(HLL73:HLL77)","v":0},{"$f":"SUM(HLM73:HLM77)","v":0},{"$f":"SUM(HLN73:HLN77)","v":0},{"$f":"SUM(HLO73:HLO77)","v":0},{"$f":"SUM(HLP73:HLP77)","v":0},{"$f":"SUM(HLQ73:HLQ77)","v":0},{"$f":"SUM(HLR73:HLR77)","v":0},{"$f":"SUM(HLS73:HLS77)","v":0},{"$f":"SUM(HLT73:HLT77)","v":0},{"$f":"SUM(HLU73:HLU77)","v":0},{"$f":"SUM(HLV73:HLV77)","v":0},{"$f":"SUM(HLW73:HLW77)","v":0},{"$f":"SUM(HLX73:HLX77)","v":0},{"$f":"SUM(HLY73:HLY77)","v":0},{"$f":"SUM(HLZ73:HLZ77)","v":0},{"$f":"SUM(HMA73:HMA77)","v":0},{"$f":"SUM(HMB73:HMB77)","v":0},{"$f":"SUM(HMC73:HMC77)","v":0},{"$f":"SUM(HMD73:HMD77)","v":0},{"$f":"SUM(HME73:HME77)","v":0},{"$f":"SUM(HMF73:HMF77)","v":0},{"$f":"SUM(HMG73:HMG77)","v":0},{"$f":"SUM(HMH73:HMH77)","v":0},{"$f":"SUM(HMI73:HMI77)","v":0},{"$f":"SUM(HMJ73:HMJ77)","v":0},{"$f":"SUM(HMK73:HMK77)","v":0},{"$f":"SUM(HML73:HML77)","v":0},{"$f":"SUM(HMM73:HMM77)","v":0},{"$f":"SUM(HMN73:HMN77)","v":0},{"$f":"SUM(HMO73:HMO77)","v":0},{"$f":"SUM(HMP73:HMP77)","v":0},{"$f":"SUM(HMQ73:HMQ77)","v":0},{"$f":"SUM(HMR73:HMR77)","v":0},{"$f":"SUM(HMS73:HMS77)","v":0},{"$f":"SUM(HMT73:HMT77)","v":0},{"$f":"SUM(HMU73:HMU77)","v":0},{"$f":"SUM(HMV73:HMV77)","v":0},{"$f":"SUM(HMW73:HMW77)","v":0},{"$f":"SUM(HMX73:HMX77)","v":0},{"$f":"SUM(HMY73:HMY77)","v":0},{"$f":"SUM(HMZ73:HMZ77)","v":0},{"$f":"SUM(HNA73:HNA77)","v":0},{"$f":"SUM(HNB73:HNB77)","v":0},{"$f":"SUM(HNC73:HNC77)","v":0},{"$f":"SUM(HND73:HND77)","v":0},{"$f":"SUM(HNE73:HNE77)","v":0},{"$f":"SUM(HNF73:HNF77)","v":0},{"$f":"SUM(HNG73:HNG77)","v":0},{"$f":"SUM(HNH73:HNH77)","v":0},{"$f":"SUM(HNI73:HNI77)","v":0},{"$f":"SUM(HNJ73:HNJ77)","v":0},{"$f":"SUM(HNK73:HNK77)","v":0},{"$f":"SUM(HNL73:HNL77)","v":0},{"$f":"SUM(HNM73:HNM77)","v":0},{"$f":"SUM(HNN73:HNN77)","v":0},{"$f":"SUM(HNO73:HNO77)","v":0},{"$f":"SUM(HNP73:HNP77)","v":0},{"$f":"SUM(HNQ73:HNQ77)","v":0},{"$f":"SUM(HNR73:HNR77)","v":0},{"$f":"SUM(HNS73:HNS77)","v":0},{"$f":"SUM(HNT73:HNT77)","v":0},{"$f":"SUM(HNU73:HNU77)","v":0},{"$f":"SUM(HNV73:HNV77)","v":0},{"$f":"SUM(HNW73:HNW77)","v":0},{"$f":"SUM(HNX73:HNX77)","v":0},{"$f":"SUM(HNY73:HNY77)","v":0},{"$f":"SUM(HNZ73:HNZ77)","v":0},{"$f":"SUM(HOA73:HOA77)","v":0},{"$f":"SUM(HOB73:HOB77)","v":0},{"$f":"SUM(HOC73:HOC77)","v":0},{"$f":"SUM(HOD73:HOD77)","v":0},{"$f":"SUM(HOE73:HOE77)","v":0},{"$f":"SUM(HOF73:HOF77)","v":0},{"$f":"SUM(HOG73:HOG77)","v":0},{"$f":"SUM(HOH73:HOH77)","v":0},{"$f":"SUM(HOI73:HOI77)","v":0},{"$f":"SUM(HOJ73:HOJ77)","v":0},{"$f":"SUM(HOK73:HOK77)","v":0},{"$f":"SUM(HOL73:HOL77)","v":0},{"$f":"SUM(HOM73:HOM77)","v":0},{"$f":"SUM(HON73:HON77)","v":0},{"$f":"SUM(HOO73:HOO77)","v":0},{"$f":"SUM(HOP73:HOP77)","v":0},{"$f":"SUM(HOQ73:HOQ77)","v":0},{"$f":"SUM(HOR73:HOR77)","v":0},{"$f":"SUM(HOS73:HOS77)","v":0},{"$f":"SUM(HOT73:HOT77)","v":0},{"$f":"SUM(HOU73:HOU77)","v":0},{"$f":"SUM(HOV73:HOV77)","v":0},{"$f":"SUM(HOW73:HOW77)","v":0},{"$f":"SUM(HOX73:HOX77)","v":0},{"$f":"SUM(HOY73:HOY77)","v":0},{"$f":"SUM(HOZ73:HOZ77)","v":0},{"$f":"SUM(HPA73:HPA77)","v":0},{"$f":"SUM(HPB73:HPB77)","v":0},{"$f":"SUM(HPC73:HPC77)","v":0},{"$f":"SUM(HPD73:HPD77)","v":0},{"$f":"SUM(HPE73:HPE77)","v":0},{"$f":"SUM(HPF73:HPF77)","v":0},{"$f":"SUM(HPG73:HPG77)","v":0},{"$f":"SUM(HPH73:HPH77)","v":0},{"$f":"SUM(HPI73:HPI77)","v":0},{"$f":"SUM(HPJ73:HPJ77)","v":0},{"$f":"SUM(HPK73:HPK77)","v":0},{"$f":"SUM(HPL73:HPL77)","v":0},{"$f":"SUM(HPM73:HPM77)","v":0},{"$f":"SUM(HPN73:HPN77)","v":0},{"$f":"SUM(HPO73:HPO77)","v":0},{"$f":"SUM(HPP73:HPP77)","v":0},{"$f":"SUM(HPQ73:HPQ77)","v":0},{"$f":"SUM(HPR73:HPR77)","v":0},{"$f":"SUM(HPS73:HPS77)","v":0},{"$f":"SUM(HPT73:HPT77)","v":0},{"$f":"SUM(HPU73:HPU77)","v":0},{"$f":"SUM(HPV73:HPV77)","v":0},{"$f":"SUM(HPW73:HPW77)","v":0},{"$f":"SUM(HPX73:HPX77)","v":0},{"$f":"SUM(HPY73:HPY77)","v":0},{"$f":"SUM(HPZ73:HPZ77)","v":0},{"$f":"SUM(HQA73:HQA77)","v":0},{"$f":"SUM(HQB73:HQB77)","v":0},{"$f":"SUM(HQC73:HQC77)","v":0},{"$f":"SUM(HQD73:HQD77)","v":0},{"$f":"SUM(HQE73:HQE77)","v":0},{"$f":"SUM(HQF73:HQF77)","v":0},{"$f":"SUM(HQG73:HQG77)","v":0},{"$f":"SUM(HQH73:HQH77)","v":0},{"$f":"SUM(HQI73:HQI77)","v":0},{"$f":"SUM(HQJ73:HQJ77)","v":0},{"$f":"SUM(HQK73:HQK77)","v":0},{"$f":"SUM(HQL73:HQL77)","v":0},{"$f":"SUM(HQM73:HQM77)","v":0},{"$f":"SUM(HQN73:HQN77)","v":0},{"$f":"SUM(HQO73:HQO77)","v":0},{"$f":"SUM(HQP73:HQP77)","v":0},{"$f":"SUM(HQQ73:HQQ77)","v":0},{"$f":"SUM(HQR73:HQR77)","v":0},{"$f":"SUM(HQS73:HQS77)","v":0},{"$f":"SUM(HQT73:HQT77)","v":0},{"$f":"SUM(HQU73:HQU77)","v":0},{"$f":"SUM(HQV73:HQV77)","v":0},{"$f":"SUM(HQW73:HQW77)","v":0},{"$f":"SUM(HQX73:HQX77)","v":0},{"$f":"SUM(HQY73:HQY77)","v":0},{"$f":"SUM(HQZ73:HQZ77)","v":0},{"$f":"SUM(HRA73:HRA77)","v":0},{"$f":"SUM(HRB73:HRB77)","v":0},{"$f":"SUM(HRC73:HRC77)","v":0},{"$f":"SUM(HRD73:HRD77)","v":0},{"$f":"SUM(HRE73:HRE77)","v":0},{"$f":"SUM(HRF73:HRF77)","v":0},{"$f":"SUM(HRG73:HRG77)","v":0},{"$f":"SUM(HRH73:HRH77)","v":0},{"$f":"SUM(HRI73:HRI77)","v":0},{"$f":"SUM(HRJ73:HRJ77)","v":0},{"$f":"SUM(HRK73:HRK77)","v":0},{"$f":"SUM(HRL73:HRL77)","v":0},{"$f":"SUM(HRM73:HRM77)","v":0},{"$f":"SUM(HRN73:HRN77)","v":0},{"$f":"SUM(HRO73:HRO77)","v":0},{"$f":"SUM(HRP73:HRP77)","v":0},{"$f":"SUM(HRQ73:HRQ77)","v":0},{"$f":"SUM(HRR73:HRR77)","v":0},{"$f":"SUM(HRS73:HRS77)","v":0},{"$f":"SUM(HRT73:HRT77)","v":0},{"$f":"SUM(HRU73:HRU77)","v":0},{"$f":"SUM(HRV73:HRV77)","v":0},{"$f":"SUM(HRW73:HRW77)","v":0},{"$f":"SUM(HRX73:HRX77)","v":0},{"$f":"SUM(HRY73:HRY77)","v":0},{"$f":"SUM(HRZ73:HRZ77)","v":0},{"$f":"SUM(HSA73:HSA77)","v":0},{"$f":"SUM(HSB73:HSB77)","v":0},{"$f":"SUM(HSC73:HSC77)","v":0},{"$f":"SUM(HSD73:HSD77)","v":0},{"$f":"SUM(HSE73:HSE77)","v":0},{"$f":"SUM(HSF73:HSF77)","v":0},{"$f":"SUM(HSG73:HSG77)","v":0},{"$f":"SUM(HSH73:HSH77)","v":0},{"$f":"SUM(HSI73:HSI77)","v":0},{"$f":"SUM(HSJ73:HSJ77)","v":0},{"$f":"SUM(HSK73:HSK77)","v":0},{"$f":"SUM(HSL73:HSL77)","v":0},{"$f":"SUM(HSM73:HSM77)","v":0},{"$f":"SUM(HSN73:HSN77)","v":0},{"$f":"SUM(HSO73:HSO77)","v":0},{"$f":"SUM(HSP73:HSP77)","v":0},{"$f":"SUM(HSQ73:HSQ77)","v":0},{"$f":"SUM(HSR73:HSR77)","v":0},{"$f":"SUM(HSS73:HSS77)","v":0},{"$f":"SUM(HST73:HST77)","v":0},{"$f":"SUM(HSU73:HSU77)","v":0},{"$f":"SUM(HSV73:HSV77)","v":0},{"$f":"SUM(HSW73:HSW77)","v":0},{"$f":"SUM(HSX73:HSX77)","v":0},{"$f":"SUM(HSY73:HSY77)","v":0},{"$f":"SUM(HSZ73:HSZ77)","v":0},{"$f":"SUM(HTA73:HTA77)","v":0},{"$f":"SUM(HTB73:HTB77)","v":0},{"$f":"SUM(HTC73:HTC77)","v":0},{"$f":"SUM(HTD73:HTD77)","v":0},{"$f":"SUM(HTE73:HTE77)","v":0},{"$f":"SUM(HTF73:HTF77)","v":0},{"$f":"SUM(HTG73:HTG77)","v":0},{"$f":"SUM(HTH73:HTH77)","v":0},{"$f":"SUM(HTI73:HTI77)","v":0},{"$f":"SUM(HTJ73:HTJ77)","v":0},{"$f":"SUM(HTK73:HTK77)","v":0},{"$f":"SUM(HTL73:HTL77)","v":0},{"$f":"SUM(HTM73:HTM77)","v":0},{"$f":"SUM(HTN73:HTN77)","v":0},{"$f":"SUM(HTO73:HTO77)","v":0},{"$f":"SUM(HTP73:HTP77)","v":0},{"$f":"SUM(HTQ73:HTQ77)","v":0},{"$f":"SUM(HTR73:HTR77)","v":0},{"$f":"SUM(HTS73:HTS77)","v":0},{"$f":"SUM(HTT73:HTT77)","v":0},{"$f":"SUM(HTU73:HTU77)","v":0},{"$f":"SUM(HTV73:HTV77)","v":0},{"$f":"SUM(HTW73:HTW77)","v":0},{"$f":"SUM(HTX73:HTX77)","v":0},{"$f":"SUM(HTY73:HTY77)","v":0},{"$f":"SUM(HTZ73:HTZ77)","v":0},{"$f":"SUM(HUA73:HUA77)","v":0},{"$f":"SUM(HUB73:HUB77)","v":0},{"$f":"SUM(HUC73:HUC77)","v":0},{"$f":"SUM(HUD73:HUD77)","v":0},{"$f":"SUM(HUE73:HUE77)","v":0},{"$f":"SUM(HUF73:HUF77)","v":0},{"$f":"SUM(HUG73:HUG77)","v":0},{"$f":"SUM(HUH73:HUH77)","v":0},{"$f":"SUM(HUI73:HUI77)","v":0},{"$f":"SUM(HUJ73:HUJ77)","v":0},{"$f":"SUM(HUK73:HUK77)","v":0},{"$f":"SUM(HUL73:HUL77)","v":0},{"$f":"SUM(HUM73:HUM77)","v":0},{"$f":"SUM(HUN73:HUN77)","v":0},{"$f":"SUM(HUO73:HUO77)","v":0},{"$f":"SUM(HUP73:HUP77)","v":0},{"$f":"SUM(HUQ73:HUQ77)","v":0},{"$f":"SUM(HUR73:HUR77)","v":0},{"$f":"SUM(HUS73:HUS77)","v":0},{"$f":"SUM(HUT73:HUT77)","v":0},{"$f":"SUM(HUU73:HUU77)","v":0},{"$f":"SUM(HUV73:HUV77)","v":0},{"$f":"SUM(HUW73:HUW77)","v":0},{"$f":"SUM(HUX73:HUX77)","v":0},{"$f":"SUM(HUY73:HUY77)","v":0},{"$f":"SUM(HUZ73:HUZ77)","v":0},{"$f":"SUM(HVA73:HVA77)","v":0},{"$f":"SUM(HVB73:HVB77)","v":0},{"$f":"SUM(HVC73:HVC77)","v":0},{"$f":"SUM(HVD73:HVD77)","v":0},{"$f":"SUM(HVE73:HVE77)","v":0},{"$f":"SUM(HVF73:HVF77)","v":0},{"$f":"SUM(HVG73:HVG77)","v":0},{"$f":"SUM(HVH73:HVH77)","v":0},{"$f":"SUM(HVI73:HVI77)","v":0},{"$f":"SUM(HVJ73:HVJ77)","v":0},{"$f":"SUM(HVK73:HVK77)","v":0},{"$f":"SUM(HVL73:HVL77)","v":0},{"$f":"SUM(HVM73:HVM77)","v":0},{"$f":"SUM(HVN73:HVN77)","v":0},{"$f":"SUM(HVO73:HVO77)","v":0},{"$f":"SUM(HVP73:HVP77)","v":0},{"$f":"SUM(HVQ73:HVQ77)","v":0},{"$f":"SUM(HVR73:HVR77)","v":0},{"$f":"SUM(HVS73:HVS77)","v":0},{"$f":"SUM(HVT73:HVT77)","v":0},{"$f":"SUM(HVU73:HVU77)","v":0},{"$f":"SUM(HVV73:HVV77)","v":0},{"$f":"SUM(HVW73:HVW77)","v":0},{"$f":"SUM(HVX73:HVX77)","v":0},{"$f":"SUM(HVY73:HVY77)","v":0},{"$f":"SUM(HVZ73:HVZ77)","v":0},{"$f":"SUM(HWA73:HWA77)","v":0},{"$f":"SUM(HWB73:HWB77)","v":0},{"$f":"SUM(HWC73:HWC77)","v":0},{"$f":"SUM(HWD73:HWD77)","v":0},{"$f":"SUM(HWE73:HWE77)","v":0},{"$f":"SUM(HWF73:HWF77)","v":0},{"$f":"SUM(HWG73:HWG77)","v":0},{"$f":"SUM(HWH73:HWH77)","v":0},{"$f":"SUM(HWI73:HWI77)","v":0},{"$f":"SUM(HWJ73:HWJ77)","v":0},{"$f":"SUM(HWK73:HWK77)","v":0},{"$f":"SUM(HWL73:HWL77)","v":0},{"$f":"SUM(HWM73:HWM77)","v":0},{"$f":"SUM(HWN73:HWN77)","v":0},{"$f":"SUM(HWO73:HWO77)","v":0},{"$f":"SUM(HWP73:HWP77)","v":0},{"$f":"SUM(HWQ73:HWQ77)","v":0},{"$f":"SUM(HWR73:HWR77)","v":0},{"$f":"SUM(HWS73:HWS77)","v":0},{"$f":"SUM(HWT73:HWT77)","v":0},{"$f":"SUM(HWU73:HWU77)","v":0},{"$f":"SUM(HWV73:HWV77)","v":0},{"$f":"SUM(HWW73:HWW77)","v":0},{"$f":"SUM(HWX73:HWX77)","v":0},{"$f":"SUM(HWY73:HWY77)","v":0},{"$f":"SUM(HWZ73:HWZ77)","v":0},{"$f":"SUM(HXA73:HXA77)","v":0},{"$f":"SUM(HXB73:HXB77)","v":0},{"$f":"SUM(HXC73:HXC77)","v":0},{"$f":"SUM(HXD73:HXD77)","v":0},{"$f":"SUM(HXE73:HXE77)","v":0},{"$f":"SUM(HXF73:HXF77)","v":0},{"$f":"SUM(HXG73:HXG77)","v":0},{"$f":"SUM(HXH73:HXH77)","v":0},{"$f":"SUM(HXI73:HXI77)","v":0},{"$f":"SUM(HXJ73:HXJ77)","v":0},{"$f":"SUM(HXK73:HXK77)","v":0},{"$f":"SUM(HXL73:HXL77)","v":0},{"$f":"SUM(HXM73:HXM77)","v":0},{"$f":"SUM(HXN73:HXN77)","v":0},{"$f":"SUM(HXO73:HXO77)","v":0},{"$f":"SUM(HXP73:HXP77)","v":0},{"$f":"SUM(HXQ73:HXQ77)","v":0},{"$f":"SUM(HXR73:HXR77)","v":0},{"$f":"SUM(HXS73:HXS77)","v":0},{"$f":"SUM(HXT73:HXT77)","v":0},{"$f":"SUM(HXU73:HXU77)","v":0},{"$f":"SUM(HXV73:HXV77)","v":0},{"$f":"SUM(HXW73:HXW77)","v":0},{"$f":"SUM(HXX73:HXX77)","v":0},{"$f":"SUM(HXY73:HXY77)","v":0},{"$f":"SUM(HXZ73:HXZ77)","v":0},{"$f":"SUM(HYA73:HYA77)","v":0},{"$f":"SUM(HYB73:HYB77)","v":0},{"$f":"SUM(HYC73:HYC77)","v":0},{"$f":"SUM(HYD73:HYD77)","v":0},{"$f":"SUM(HYE73:HYE77)","v":0},{"$f":"SUM(HYF73:HYF77)","v":0},{"$f":"SUM(HYG73:HYG77)","v":0},{"$f":"SUM(HYH73:HYH77)","v":0},{"$f":"SUM(HYI73:HYI77)","v":0},{"$f":"SUM(HYJ73:HYJ77)","v":0},{"$f":"SUM(HYK73:HYK77)","v":0},{"$f":"SUM(HYL73:HYL77)","v":0},{"$f":"SUM(HYM73:HYM77)","v":0},{"$f":"SUM(HYN73:HYN77)","v":0},{"$f":"SUM(HYO73:HYO77)","v":0},{"$f":"SUM(HYP73:HYP77)","v":0},{"$f":"SUM(HYQ73:HYQ77)","v":0},{"$f":"SUM(HYR73:HYR77)","v":0},{"$f":"SUM(HYS73:HYS77)","v":0},{"$f":"SUM(HYT73:HYT77)","v":0},{"$f":"SUM(HYU73:HYU77)","v":0},{"$f":"SUM(HYV73:HYV77)","v":0},{"$f":"SUM(HYW73:HYW77)","v":0},{"$f":"SUM(HYX73:HYX77)","v":0},{"$f":"SUM(HYY73:HYY77)","v":0},{"$f":"SUM(HYZ73:HYZ77)","v":0},{"$f":"SUM(HZA73:HZA77)","v":0},{"$f":"SUM(HZB73:HZB77)","v":0},{"$f":"SUM(HZC73:HZC77)","v":0},{"$f":"SUM(HZD73:HZD77)","v":0},{"$f":"SUM(HZE73:HZE77)","v":0},{"$f":"SUM(HZF73:HZF77)","v":0},{"$f":"SUM(HZG73:HZG77)","v":0},{"$f":"SUM(HZH73:HZH77)","v":0},{"$f":"SUM(HZI73:HZI77)","v":0},{"$f":"SUM(HZJ73:HZJ77)","v":0},{"$f":"SUM(HZK73:HZK77)","v":0},{"$f":"SUM(HZL73:HZL77)","v":0},{"$f":"SUM(HZM73:HZM77)","v":0},{"$f":"SUM(HZN73:HZN77)","v":0},{"$f":"SUM(HZO73:HZO77)","v":0},{"$f":"SUM(HZP73:HZP77)","v":0},{"$f":"SUM(HZQ73:HZQ77)","v":0},{"$f":"SUM(HZR73:HZR77)","v":0},{"$f":"SUM(HZS73:HZS77)","v":0},{"$f":"SUM(HZT73:HZT77)","v":0},{"$f":"SUM(HZU73:HZU77)","v":0},{"$f":"SUM(HZV73:HZV77)","v":0},{"$f":"SUM(HZW73:HZW77)","v":0},{"$f":"SUM(HZX73:HZX77)","v":0},{"$f":"SUM(HZY73:HZY77)","v":0},{"$f":"SUM(HZZ73:HZZ77)","v":0},{"$f":"SUM(IAA73:IAA77)","v":0},{"$f":"SUM(IAB73:IAB77)","v":0},{"$f":"SUM(IAC73:IAC77)","v":0},{"$f":"SUM(IAD73:IAD77)","v":0},{"$f":"SUM(IAE73:IAE77)","v":0},{"$f":"SUM(IAF73:IAF77)","v":0},{"$f":"SUM(IAG73:IAG77)","v":0},{"$f":"SUM(IAH73:IAH77)","v":0},{"$f":"SUM(IAI73:IAI77)","v":0},{"$f":"SUM(IAJ73:IAJ77)","v":0},{"$f":"SUM(IAK73:IAK77)","v":0},{"$f":"SUM(IAL73:IAL77)","v":0},{"$f":"SUM(IAM73:IAM77)","v":0},{"$f":"SUM(IAN73:IAN77)","v":0},{"$f":"SUM(IAO73:IAO77)","v":0},{"$f":"SUM(IAP73:IAP77)","v":0},{"$f":"SUM(IAQ73:IAQ77)","v":0},{"$f":"SUM(IAR73:IAR77)","v":0},{"$f":"SUM(IAS73:IAS77)","v":0},{"$f":"SUM(IAT73:IAT77)","v":0},{"$f":"SUM(IAU73:IAU77)","v":0},{"$f":"SUM(IAV73:IAV77)","v":0},{"$f":"SUM(IAW73:IAW77)","v":0},{"$f":"SUM(IAX73:IAX77)","v":0},{"$f":"SUM(IAY73:IAY77)","v":0},{"$f":"SUM(IAZ73:IAZ77)","v":0},{"$f":"SUM(IBA73:IBA77)","v":0},{"$f":"SUM(IBB73:IBB77)","v":0},{"$f":"SUM(IBC73:IBC77)","v":0},{"$f":"SUM(IBD73:IBD77)","v":0},{"$f":"SUM(IBE73:IBE77)","v":0},{"$f":"SUM(IBF73:IBF77)","v":0},{"$f":"SUM(IBG73:IBG77)","v":0},{"$f":"SUM(IBH73:IBH77)","v":0},{"$f":"SUM(IBI73:IBI77)","v":0},{"$f":"SUM(IBJ73:IBJ77)","v":0},{"$f":"SUM(IBK73:IBK77)","v":0},{"$f":"SUM(IBL73:IBL77)","v":0},{"$f":"SUM(IBM73:IBM77)","v":0},{"$f":"SUM(IBN73:IBN77)","v":0},{"$f":"SUM(IBO73:IBO77)","v":0},{"$f":"SUM(IBP73:IBP77)","v":0},{"$f":"SUM(IBQ73:IBQ77)","v":0},{"$f":"SUM(IBR73:IBR77)","v":0},{"$f":"SUM(IBS73:IBS77)","v":0},{"$f":"SUM(IBT73:IBT77)","v":0},{"$f":"SUM(IBU73:IBU77)","v":0},{"$f":"SUM(IBV73:IBV77)","v":0},{"$f":"SUM(IBW73:IBW77)","v":0},{"$f":"SUM(IBX73:IBX77)","v":0},{"$f":"SUM(IBY73:IBY77)","v":0},{"$f":"SUM(IBZ73:IBZ77)","v":0},{"$f":"SUM(ICA73:ICA77)","v":0},{"$f":"SUM(ICB73:ICB77)","v":0},{"$f":"SUM(ICC73:ICC77)","v":0},{"$f":"SUM(ICD73:ICD77)","v":0},{"$f":"SUM(ICE73:ICE77)","v":0},{"$f":"SUM(ICF73:ICF77)","v":0},{"$f":"SUM(ICG73:ICG77)","v":0},{"$f":"SUM(ICH73:ICH77)","v":0},{"$f":"SUM(ICI73:ICI77)","v":0},{"$f":"SUM(ICJ73:ICJ77)","v":0},{"$f":"SUM(ICK73:ICK77)","v":0},{"$f":"SUM(ICL73:ICL77)","v":0},{"$f":"SUM(ICM73:ICM77)","v":0},{"$f":"SUM(ICN73:ICN77)","v":0},{"$f":"SUM(ICO73:ICO77)","v":0},{"$f":"SUM(ICP73:ICP77)","v":0},{"$f":"SUM(ICQ73:ICQ77)","v":0},{"$f":"SUM(ICR73:ICR77)","v":0},{"$f":"SUM(ICS73:ICS77)","v":0},{"$f":"SUM(ICT73:ICT77)","v":0},{"$f":"SUM(ICU73:ICU77)","v":0},{"$f":"SUM(ICV73:ICV77)","v":0},{"$f":"SUM(ICW73:ICW77)","v":0},{"$f":"SUM(ICX73:ICX77)","v":0},{"$f":"SUM(ICY73:ICY77)","v":0},{"$f":"SUM(ICZ73:ICZ77)","v":0},{"$f":"SUM(IDA73:IDA77)","v":0},{"$f":"SUM(IDB73:IDB77)","v":0},{"$f":"SUM(IDC73:IDC77)","v":0},{"$f":"SUM(IDD73:IDD77)","v":0},{"$f":"SUM(IDE73:IDE77)","v":0},{"$f":"SUM(IDF73:IDF77)","v":0},{"$f":"SUM(IDG73:IDG77)","v":0},{"$f":"SUM(IDH73:IDH77)","v":0},{"$f":"SUM(IDI73:IDI77)","v":0},{"$f":"SUM(IDJ73:IDJ77)","v":0},{"$f":"SUM(IDK73:IDK77)","v":0},{"$f":"SUM(IDL73:IDL77)","v":0},{"$f":"SUM(IDM73:IDM77)","v":0},{"$f":"SUM(IDN73:IDN77)","v":0},{"$f":"SUM(IDO73:IDO77)","v":0},{"$f":"SUM(IDP73:IDP77)","v":0},{"$f":"SUM(IDQ73:IDQ77)","v":0},{"$f":"SUM(IDR73:IDR77)","v":0},{"$f":"SUM(IDS73:IDS77)","v":0},{"$f":"SUM(IDT73:IDT77)","v":0},{"$f":"SUM(IDU73:IDU77)","v":0},{"$f":"SUM(IDV73:IDV77)","v":0},{"$f":"SUM(IDW73:IDW77)","v":0},{"$f":"SUM(IDX73:IDX77)","v":0},{"$f":"SUM(IDY73:IDY77)","v":0},{"$f":"SUM(IDZ73:IDZ77)","v":0},{"$f":"SUM(IEA73:IEA77)","v":0},{"$f":"SUM(IEB73:IEB77)","v":0},{"$f":"SUM(IEC73:IEC77)","v":0},{"$f":"SUM(IED73:IED77)","v":0},{"$f":"SUM(IEE73:IEE77)","v":0},{"$f":"SUM(IEF73:IEF77)","v":0},{"$f":"SUM(IEG73:IEG77)","v":0},{"$f":"SUM(IEH73:IEH77)","v":0},{"$f":"SUM(IEI73:IEI77)","v":0},{"$f":"SUM(IEJ73:IEJ77)","v":0},{"$f":"SUM(IEK73:IEK77)","v":0},{"$f":"SUM(IEL73:IEL77)","v":0},{"$f":"SUM(IEM73:IEM77)","v":0},{"$f":"SUM(IEN73:IEN77)","v":0},{"$f":"SUM(IEO73:IEO77)","v":0},{"$f":"SUM(IEP73:IEP77)","v":0},{"$f":"SUM(IEQ73:IEQ77)","v":0},{"$f":"SUM(IER73:IER77)","v":0},{"$f":"SUM(IES73:IES77)","v":0},{"$f":"SUM(IET73:IET77)","v":0},{"$f":"SUM(IEU73:IEU77)","v":0},{"$f":"SUM(IEV73:IEV77)","v":0},{"$f":"SUM(IEW73:IEW77)","v":0},{"$f":"SUM(IEX73:IEX77)","v":0},{"$f":"SUM(IEY73:IEY77)","v":0},{"$f":"SUM(IEZ73:IEZ77)","v":0},{"$f":"SUM(IFA73:IFA77)","v":0},{"$f":"SUM(IFB73:IFB77)","v":0},{"$f":"SUM(IFC73:IFC77)","v":0},{"$f":"SUM(IFD73:IFD77)","v":0},{"$f":"SUM(IFE73:IFE77)","v":0},{"$f":"SUM(IFF73:IFF77)","v":0},{"$f":"SUM(IFG73:IFG77)","v":0},{"$f":"SUM(IFH73:IFH77)","v":0},{"$f":"SUM(IFI73:IFI77)","v":0},{"$f":"SUM(IFJ73:IFJ77)","v":0},{"$f":"SUM(IFK73:IFK77)","v":0},{"$f":"SUM(IFL73:IFL77)","v":0},{"$f":"SUM(IFM73:IFM77)","v":0},{"$f":"SUM(IFN73:IFN77)","v":0},{"$f":"SUM(IFO73:IFO77)","v":0},{"$f":"SUM(IFP73:IFP77)","v":0},{"$f":"SUM(IFQ73:IFQ77)","v":0},{"$f":"SUM(IFR73:IFR77)","v":0},{"$f":"SUM(IFS73:IFS77)","v":0},{"$f":"SUM(IFT73:IFT77)","v":0},{"$f":"SUM(IFU73:IFU77)","v":0},{"$f":"SUM(IFV73:IFV77)","v":0},{"$f":"SUM(IFW73:IFW77)","v":0},{"$f":"SUM(IFX73:IFX77)","v":0},{"$f":"SUM(IFY73:IFY77)","v":0},{"$f":"SUM(IFZ73:IFZ77)","v":0},{"$f":"SUM(IGA73:IGA77)","v":0},{"$f":"SUM(IGB73:IGB77)","v":0},{"$f":"SUM(IGC73:IGC77)","v":0},{"$f":"SUM(IGD73:IGD77)","v":0},{"$f":"SUM(IGE73:IGE77)","v":0},{"$f":"SUM(IGF73:IGF77)","v":0},{"$f":"SUM(IGG73:IGG77)","v":0},{"$f":"SUM(IGH73:IGH77)","v":0},{"$f":"SUM(IGI73:IGI77)","v":0},{"$f":"SUM(IGJ73:IGJ77)","v":0},{"$f":"SUM(IGK73:IGK77)","v":0},{"$f":"SUM(IGL73:IGL77)","v":0},{"$f":"SUM(IGM73:IGM77)","v":0},{"$f":"SUM(IGN73:IGN77)","v":0},{"$f":"SUM(IGO73:IGO77)","v":0},{"$f":"SUM(IGP73:IGP77)","v":0},{"$f":"SUM(IGQ73:IGQ77)","v":0},{"$f":"SUM(IGR73:IGR77)","v":0},{"$f":"SUM(IGS73:IGS77)","v":0},{"$f":"SUM(IGT73:IGT77)","v":0},{"$f":"SUM(IGU73:IGU77)","v":0},{"$f":"SUM(IGV73:IGV77)","v":0},{"$f":"SUM(IGW73:IGW77)","v":0},{"$f":"SUM(IGX73:IGX77)","v":0},{"$f":"SUM(IGY73:IGY77)","v":0},{"$f":"SUM(IGZ73:IGZ77)","v":0},{"$f":"SUM(IHA73:IHA77)","v":0},{"$f":"SUM(IHB73:IHB77)","v":0},{"$f":"SUM(IHC73:IHC77)","v":0},{"$f":"SUM(IHD73:IHD77)","v":0},{"$f":"SUM(IHE73:IHE77)","v":0},{"$f":"SUM(IHF73:IHF77)","v":0},{"$f":"SUM(IHG73:IHG77)","v":0},{"$f":"SUM(IHH73:IHH77)","v":0},{"$f":"SUM(IHI73:IHI77)","v":0},{"$f":"SUM(IHJ73:IHJ77)","v":0},{"$f":"SUM(IHK73:IHK77)","v":0},{"$f":"SUM(IHL73:IHL77)","v":0},{"$f":"SUM(IHM73:IHM77)","v":0},{"$f":"SUM(IHN73:IHN77)","v":0},{"$f":"SUM(IHO73:IHO77)","v":0},{"$f":"SUM(IHP73:IHP77)","v":0},{"$f":"SUM(IHQ73:IHQ77)","v":0},{"$f":"SUM(IHR73:IHR77)","v":0},{"$f":"SUM(IHS73:IHS77)","v":0},{"$f":"SUM(IHT73:IHT77)","v":0},{"$f":"SUM(IHU73:IHU77)","v":0},{"$f":"SUM(IHV73:IHV77)","v":0},{"$f":"SUM(IHW73:IHW77)","v":0},{"$f":"SUM(IHX73:IHX77)","v":0},{"$f":"SUM(IHY73:IHY77)","v":0},{"$f":"SUM(IHZ73:IHZ77)","v":0},{"$f":"SUM(IIA73:IIA77)","v":0},{"$f":"SUM(IIB73:IIB77)","v":0},{"$f":"SUM(IIC73:IIC77)","v":0},{"$f":"SUM(IID73:IID77)","v":0},{"$f":"SUM(IIE73:IIE77)","v":0},{"$f":"SUM(IIF73:IIF77)","v":0},{"$f":"SUM(IIG73:IIG77)","v":0},{"$f":"SUM(IIH73:IIH77)","v":0},{"$f":"SUM(III73:III77)","v":0},{"$f":"SUM(IIJ73:IIJ77)","v":0},{"$f":"SUM(IIK73:IIK77)","v":0},{"$f":"SUM(IIL73:IIL77)","v":0},{"$f":"SUM(IIM73:IIM77)","v":0},{"$f":"SUM(IIN73:IIN77)","v":0},{"$f":"SUM(IIO73:IIO77)","v":0},{"$f":"SUM(IIP73:IIP77)","v":0},{"$f":"SUM(IIQ73:IIQ77)","v":0},{"$f":"SUM(IIR73:IIR77)","v":0},{"$f":"SUM(IIS73:IIS77)","v":0},{"$f":"SUM(IIT73:IIT77)","v":0},{"$f":"SUM(IIU73:IIU77)","v":0},{"$f":"SUM(IIV73:IIV77)","v":0},{"$f":"SUM(IIW73:IIW77)","v":0},{"$f":"SUM(IIX73:IIX77)","v":0},{"$f":"SUM(IIY73:IIY77)","v":0},{"$f":"SUM(IIZ73:IIZ77)","v":0},{"$f":"SUM(IJA73:IJA77)","v":0},{"$f":"SUM(IJB73:IJB77)","v":0},{"$f":"SUM(IJC73:IJC77)","v":0},{"$f":"SUM(IJD73:IJD77)","v":0},{"$f":"SUM(IJE73:IJE77)","v":0},{"$f":"SUM(IJF73:IJF77)","v":0},{"$f":"SUM(IJG73:IJG77)","v":0},{"$f":"SUM(IJH73:IJH77)","v":0},{"$f":"SUM(IJI73:IJI77)","v":0},{"$f":"SUM(IJJ73:IJJ77)","v":0},{"$f":"SUM(IJK73:IJK77)","v":0},{"$f":"SUM(IJL73:IJL77)","v":0},{"$f":"SUM(IJM73:IJM77)","v":0},{"$f":"SUM(IJN73:IJN77)","v":0},{"$f":"SUM(IJO73:IJO77)","v":0},{"$f":"SUM(IJP73:IJP77)","v":0},{"$f":"SUM(IJQ73:IJQ77)","v":0},{"$f":"SUM(IJR73:IJR77)","v":0},{"$f":"SUM(IJS73:IJS77)","v":0},{"$f":"SUM(IJT73:IJT77)","v":0},{"$f":"SUM(IJU73:IJU77)","v":0},{"$f":"SUM(IJV73:IJV77)","v":0},{"$f":"SUM(IJW73:IJW77)","v":0},{"$f":"SUM(IJX73:IJX77)","v":0},{"$f":"SUM(IJY73:IJY77)","v":0},{"$f":"SUM(IJZ73:IJZ77)","v":0},{"$f":"SUM(IKA73:IKA77)","v":0},{"$f":"SUM(IKB73:IKB77)","v":0},{"$f":"SUM(IKC73:IKC77)","v":0},{"$f":"SUM(IKD73:IKD77)","v":0},{"$f":"SUM(IKE73:IKE77)","v":0},{"$f":"SUM(IKF73:IKF77)","v":0},{"$f":"SUM(IKG73:IKG77)","v":0},{"$f":"SUM(IKH73:IKH77)","v":0},{"$f":"SUM(IKI73:IKI77)","v":0},{"$f":"SUM(IKJ73:IKJ77)","v":0},{"$f":"SUM(IKK73:IKK77)","v":0},{"$f":"SUM(IKL73:IKL77)","v":0},{"$f":"SUM(IKM73:IKM77)","v":0},{"$f":"SUM(IKN73:IKN77)","v":0},{"$f":"SUM(IKO73:IKO77)","v":0},{"$f":"SUM(IKP73:IKP77)","v":0},{"$f":"SUM(IKQ73:IKQ77)","v":0},{"$f":"SUM(IKR73:IKR77)","v":0},{"$f":"SUM(IKS73:IKS77)","v":0},{"$f":"SUM(IKT73:IKT77)","v":0},{"$f":"SUM(IKU73:IKU77)","v":0},{"$f":"SUM(IKV73:IKV77)","v":0},{"$f":"SUM(IKW73:IKW77)","v":0},{"$f":"SUM(IKX73:IKX77)","v":0},{"$f":"SUM(IKY73:IKY77)","v":0},{"$f":"SUM(IKZ73:IKZ77)","v":0},{"$f":"SUM(ILA73:ILA77)","v":0},{"$f":"SUM(ILB73:ILB77)","v":0},{"$f":"SUM(ILC73:ILC77)","v":0},{"$f":"SUM(ILD73:ILD77)","v":0},{"$f":"SUM(ILE73:ILE77)","v":0},{"$f":"SUM(ILF73:ILF77)","v":0},{"$f":"SUM(ILG73:ILG77)","v":0},{"$f":"SUM(ILH73:ILH77)","v":0},{"$f":"SUM(ILI73:ILI77)","v":0},{"$f":"SUM(ILJ73:ILJ77)","v":0},{"$f":"SUM(ILK73:ILK77)","v":0},{"$f":"SUM(ILL73:ILL77)","v":0},{"$f":"SUM(ILM73:ILM77)","v":0},{"$f":"SUM(ILN73:ILN77)","v":0},{"$f":"SUM(ILO73:ILO77)","v":0},{"$f":"SUM(ILP73:ILP77)","v":0},{"$f":"SUM(ILQ73:ILQ77)","v":0},{"$f":"SUM(ILR73:ILR77)","v":0},{"$f":"SUM(ILS73:ILS77)","v":0},{"$f":"SUM(ILT73:ILT77)","v":0},{"$f":"SUM(ILU73:ILU77)","v":0},{"$f":"SUM(ILV73:ILV77)","v":0},{"$f":"SUM(ILW73:ILW77)","v":0},{"$f":"SUM(ILX73:ILX77)","v":0},{"$f":"SUM(ILY73:ILY77)","v":0},{"$f":"SUM(ILZ73:ILZ77)","v":0},{"$f":"SUM(IMA73:IMA77)","v":0},{"$f":"SUM(IMB73:IMB77)","v":0},{"$f":"SUM(IMC73:IMC77)","v":0},{"$f":"SUM(IMD73:IMD77)","v":0},{"$f":"SUM(IME73:IME77)","v":0},{"$f":"SUM(IMF73:IMF77)","v":0},{"$f":"SUM(IMG73:IMG77)","v":0},{"$f":"SUM(IMH73:IMH77)","v":0},{"$f":"SUM(IMI73:IMI77)","v":0},{"$f":"SUM(IMJ73:IMJ77)","v":0},{"$f":"SUM(IMK73:IMK77)","v":0},{"$f":"SUM(IML73:IML77)","v":0},{"$f":"SUM(IMM73:IMM77)","v":0},{"$f":"SUM(IMN73:IMN77)","v":0},{"$f":"SUM(IMO73:IMO77)","v":0},{"$f":"SUM(IMP73:IMP77)","v":0},{"$f":"SUM(IMQ73:IMQ77)","v":0},{"$f":"SUM(IMR73:IMR77)","v":0},{"$f":"SUM(IMS73:IMS77)","v":0},{"$f":"SUM(IMT73:IMT77)","v":0},{"$f":"SUM(IMU73:IMU77)","v":0},{"$f":"SUM(IMV73:IMV77)","v":0},{"$f":"SUM(IMW73:IMW77)","v":0},{"$f":"SUM(IMX73:IMX77)","v":0},{"$f":"SUM(IMY73:IMY77)","v":0},{"$f":"SUM(IMZ73:IMZ77)","v":0},{"$f":"SUM(INA73:INA77)","v":0},{"$f":"SUM(INB73:INB77)","v":0},{"$f":"SUM(INC73:INC77)","v":0},{"$f":"SUM(IND73:IND77)","v":0},{"$f":"SUM(INE73:INE77)","v":0},{"$f":"SUM(INF73:INF77)","v":0},{"$f":"SUM(ING73:ING77)","v":0},{"$f":"SUM(INH73:INH77)","v":0},{"$f":"SUM(INI73:INI77)","v":0},{"$f":"SUM(INJ73:INJ77)","v":0},{"$f":"SUM(INK73:INK77)","v":0},{"$f":"SUM(INL73:INL77)","v":0},{"$f":"SUM(INM73:INM77)","v":0},{"$f":"SUM(INN73:INN77)","v":0},{"$f":"SUM(INO73:INO77)","v":0},{"$f":"SUM(INP73:INP77)","v":0},{"$f":"SUM(INQ73:INQ77)","v":0},{"$f":"SUM(INR73:INR77)","v":0},{"$f":"SUM(INS73:INS77)","v":0},{"$f":"SUM(INT73:INT77)","v":0},{"$f":"SUM(INU73:INU77)","v":0},{"$f":"SUM(INV73:INV77)","v":0},{"$f":"SUM(INW73:INW77)","v":0},{"$f":"SUM(INX73:INX77)","v":0},{"$f":"SUM(INY73:INY77)","v":0},{"$f":"SUM(INZ73:INZ77)","v":0},{"$f":"SUM(IOA73:IOA77)","v":0},{"$f":"SUM(IOB73:IOB77)","v":0},{"$f":"SUM(IOC73:IOC77)","v":0},{"$f":"SUM(IOD73:IOD77)","v":0},{"$f":"SUM(IOE73:IOE77)","v":0},{"$f":"SUM(IOF73:IOF77)","v":0},{"$f":"SUM(IOG73:IOG77)","v":0},{"$f":"SUM(IOH73:IOH77)","v":0},{"$f":"SUM(IOI73:IOI77)","v":0},{"$f":"SUM(IOJ73:IOJ77)","v":0},{"$f":"SUM(IOK73:IOK77)","v":0},{"$f":"SUM(IOL73:IOL77)","v":0},{"$f":"SUM(IOM73:IOM77)","v":0},{"$f":"SUM(ION73:ION77)","v":0},{"$f":"SUM(IOO73:IOO77)","v":0},{"$f":"SUM(IOP73:IOP77)","v":0},{"$f":"SUM(IOQ73:IOQ77)","v":0},{"$f":"SUM(IOR73:IOR77)","v":0},{"$f":"SUM(IOS73:IOS77)","v":0},{"$f":"SUM(IOT73:IOT77)","v":0},{"$f":"SUM(IOU73:IOU77)","v":0},{"$f":"SUM(IOV73:IOV77)","v":0},{"$f":"SUM(IOW73:IOW77)","v":0},{"$f":"SUM(IOX73:IOX77)","v":0},{"$f":"SUM(IOY73:IOY77)","v":0},{"$f":"SUM(IOZ73:IOZ77)","v":0},{"$f":"SUM(IPA73:IPA77)","v":0},{"$f":"SUM(IPB73:IPB77)","v":0},{"$f":"SUM(IPC73:IPC77)","v":0},{"$f":"SUM(IPD73:IPD77)","v":0},{"$f":"SUM(IPE73:IPE77)","v":0},{"$f":"SUM(IPF73:IPF77)","v":0},{"$f":"SUM(IPG73:IPG77)","v":0},{"$f":"SUM(IPH73:IPH77)","v":0},{"$f":"SUM(IPI73:IPI77)","v":0},{"$f":"SUM(IPJ73:IPJ77)","v":0},{"$f":"SUM(IPK73:IPK77)","v":0},{"$f":"SUM(IPL73:IPL77)","v":0},{"$f":"SUM(IPM73:IPM77)","v":0},{"$f":"SUM(IPN73:IPN77)","v":0},{"$f":"SUM(IPO73:IPO77)","v":0},{"$f":"SUM(IPP73:IPP77)","v":0},{"$f":"SUM(IPQ73:IPQ77)","v":0},{"$f":"SUM(IPR73:IPR77)","v":0},{"$f":"SUM(IPS73:IPS77)","v":0},{"$f":"SUM(IPT73:IPT77)","v":0},{"$f":"SUM(IPU73:IPU77)","v":0},{"$f":"SUM(IPV73:IPV77)","v":0},{"$f":"SUM(IPW73:IPW77)","v":0},{"$f":"SUM(IPX73:IPX77)","v":0},{"$f":"SUM(IPY73:IPY77)","v":0},{"$f":"SUM(IPZ73:IPZ77)","v":0},{"$f":"SUM(IQA73:IQA77)","v":0},{"$f":"SUM(IQB73:IQB77)","v":0},{"$f":"SUM(IQC73:IQC77)","v":0},{"$f":"SUM(IQD73:IQD77)","v":0},{"$f":"SUM(IQE73:IQE77)","v":0},{"$f":"SUM(IQF73:IQF77)","v":0},{"$f":"SUM(IQG73:IQG77)","v":0},{"$f":"SUM(IQH73:IQH77)","v":0},{"$f":"SUM(IQI73:IQI77)","v":0},{"$f":"SUM(IQJ73:IQJ77)","v":0},{"$f":"SUM(IQK73:IQK77)","v":0},{"$f":"SUM(IQL73:IQL77)","v":0},{"$f":"SUM(IQM73:IQM77)","v":0},{"$f":"SUM(IQN73:IQN77)","v":0},{"$f":"SUM(IQO73:IQO77)","v":0},{"$f":"SUM(IQP73:IQP77)","v":0},{"$f":"SUM(IQQ73:IQQ77)","v":0},{"$f":"SUM(IQR73:IQR77)","v":0},{"$f":"SUM(IQS73:IQS77)","v":0},{"$f":"SUM(IQT73:IQT77)","v":0},{"$f":"SUM(IQU73:IQU77)","v":0},{"$f":"SUM(IQV73:IQV77)","v":0},{"$f":"SUM(IQW73:IQW77)","v":0},{"$f":"SUM(IQX73:IQX77)","v":0},{"$f":"SUM(IQY73:IQY77)","v":0},{"$f":"SUM(IQZ73:IQZ77)","v":0},{"$f":"SUM(IRA73:IRA77)","v":0},{"$f":"SUM(IRB73:IRB77)","v":0},{"$f":"SUM(IRC73:IRC77)","v":0},{"$f":"SUM(IRD73:IRD77)","v":0},{"$f":"SUM(IRE73:IRE77)","v":0},{"$f":"SUM(IRF73:IRF77)","v":0},{"$f":"SUM(IRG73:IRG77)","v":0},{"$f":"SUM(IRH73:IRH77)","v":0},{"$f":"SUM(IRI73:IRI77)","v":0},{"$f":"SUM(IRJ73:IRJ77)","v":0},{"$f":"SUM(IRK73:IRK77)","v":0},{"$f":"SUM(IRL73:IRL77)","v":0},{"$f":"SUM(IRM73:IRM77)","v":0},{"$f":"SUM(IRN73:IRN77)","v":0},{"$f":"SUM(IRO73:IRO77)","v":0},{"$f":"SUM(IRP73:IRP77)","v":0},{"$f":"SUM(IRQ73:IRQ77)","v":0},{"$f":"SUM(IRR73:IRR77)","v":0},{"$f":"SUM(IRS73:IRS77)","v":0},{"$f":"SUM(IRT73:IRT77)","v":0},{"$f":"SUM(IRU73:IRU77)","v":0},{"$f":"SUM(IRV73:IRV77)","v":0},{"$f":"SUM(IRW73:IRW77)","v":0},{"$f":"SUM(IRX73:IRX77)","v":0},{"$f":"SUM(IRY73:IRY77)","v":0},{"$f":"SUM(IRZ73:IRZ77)","v":0},{"$f":"SUM(ISA73:ISA77)","v":0},{"$f":"SUM(ISB73:ISB77)","v":0},{"$f":"SUM(ISC73:ISC77)","v":0},{"$f":"SUM(ISD73:ISD77)","v":0},{"$f":"SUM(ISE73:ISE77)","v":0},{"$f":"SUM(ISF73:ISF77)","v":0},{"$f":"SUM(ISG73:ISG77)","v":0},{"$f":"SUM(ISH73:ISH77)","v":0},{"$f":"SUM(ISI73:ISI77)","v":0},{"$f":"SUM(ISJ73:ISJ77)","v":0},{"$f":"SUM(ISK73:ISK77)","v":0},{"$f":"SUM(ISL73:ISL77)","v":0},{"$f":"SUM(ISM73:ISM77)","v":0},{"$f":"SUM(ISN73:ISN77)","v":0},{"$f":"SUM(ISO73:ISO77)","v":0},{"$f":"SUM(ISP73:ISP77)","v":0},{"$f":"SUM(ISQ73:ISQ77)","v":0},{"$f":"SUM(ISR73:ISR77)","v":0},{"$f":"SUM(ISS73:ISS77)","v":0},{"$f":"SUM(IST73:IST77)","v":0},{"$f":"SUM(ISU73:ISU77)","v":0},{"$f":"SUM(ISV73:ISV77)","v":0},{"$f":"SUM(ISW73:ISW77)","v":0},{"$f":"SUM(ISX73:ISX77)","v":0},{"$f":"SUM(ISY73:ISY77)","v":0},{"$f":"SUM(ISZ73:ISZ77)","v":0},{"$f":"SUM(ITA73:ITA77)","v":0},{"$f":"SUM(ITB73:ITB77)","v":0},{"$f":"SUM(ITC73:ITC77)","v":0},{"$f":"SUM(ITD73:ITD77)","v":0},{"$f":"SUM(ITE73:ITE77)","v":0},{"$f":"SUM(ITF73:ITF77)","v":0},{"$f":"SUM(ITG73:ITG77)","v":0},{"$f":"SUM(ITH73:ITH77)","v":0},{"$f":"SUM(ITI73:ITI77)","v":0},{"$f":"SUM(ITJ73:ITJ77)","v":0},{"$f":"SUM(ITK73:ITK77)","v":0},{"$f":"SUM(ITL73:ITL77)","v":0},{"$f":"SUM(ITM73:ITM77)","v":0},{"$f":"SUM(ITN73:ITN77)","v":0},{"$f":"SUM(ITO73:ITO77)","v":0},{"$f":"SUM(ITP73:ITP77)","v":0},{"$f":"SUM(ITQ73:ITQ77)","v":0},{"$f":"SUM(ITR73:ITR77)","v":0},{"$f":"SUM(ITS73:ITS77)","v":0},{"$f":"SUM(ITT73:ITT77)","v":0},{"$f":"SUM(ITU73:ITU77)","v":0},{"$f":"SUM(ITV73:ITV77)","v":0},{"$f":"SUM(ITW73:ITW77)","v":0},{"$f":"SUM(ITX73:ITX77)","v":0},{"$f":"SUM(ITY73:ITY77)","v":0},{"$f":"SUM(ITZ73:ITZ77)","v":0},{"$f":"SUM(IUA73:IUA77)","v":0},{"$f":"SUM(IUB73:IUB77)","v":0},{"$f":"SUM(IUC73:IUC77)","v":0},{"$f":"SUM(IUD73:IUD77)","v":0},{"$f":"SUM(IUE73:IUE77)","v":0},{"$f":"SUM(IUF73:IUF77)","v":0},{"$f":"SUM(IUG73:IUG77)","v":0},{"$f":"SUM(IUH73:IUH77)","v":0},{"$f":"SUM(IUI73:IUI77)","v":0},{"$f":"SUM(IUJ73:IUJ77)","v":0},{"$f":"SUM(IUK73:IUK77)","v":0},{"$f":"SUM(IUL73:IUL77)","v":0},{"$f":"SUM(IUM73:IUM77)","v":0},{"$f":"SUM(IUN73:IUN77)","v":0},{"$f":"SUM(IUO73:IUO77)","v":0},{"$f":"SUM(IUP73:IUP77)","v":0},{"$f":"SUM(IUQ73:IUQ77)","v":0},{"$f":"SUM(IUR73:IUR77)","v":0},{"$f":"SUM(IUS73:IUS77)","v":0},{"$f":"SUM(IUT73:IUT77)","v":0},{"$f":"SUM(IUU73:IUU77)","v":0},{"$f":"SUM(IUV73:IUV77)","v":0},{"$f":"SUM(IUW73:IUW77)","v":0},{"$f":"SUM(IUX73:IUX77)","v":0},{"$f":"SUM(IUY73:IUY77)","v":0},{"$f":"SUM(IUZ73:IUZ77)","v":0},{"$f":"SUM(IVA73:IVA77)","v":0},{"$f":"SUM(IVB73:IVB77)","v":0},{"$f":"SUM(IVC73:IVC77)","v":0},{"$f":"SUM(IVD73:IVD77)","v":0},{"$f":"SUM(IVE73:IVE77)","v":0},{"$f":"SUM(IVF73:IVF77)","v":0},{"$f":"SUM(IVG73:IVG77)","v":0},{"$f":"SUM(IVH73:IVH77)","v":0},{"$f":"SUM(IVI73:IVI77)","v":0},{"$f":"SUM(IVJ73:IVJ77)","v":0},{"$f":"SUM(IVK73:IVK77)","v":0},{"$f":"SUM(IVL73:IVL77)","v":0},{"$f":"SUM(IVM73:IVM77)","v":0},{"$f":"SUM(IVN73:IVN77)","v":0},{"$f":"SUM(IVO73:IVO77)","v":0},{"$f":"SUM(IVP73:IVP77)","v":0},{"$f":"SUM(IVQ73:IVQ77)","v":0},{"$f":"SUM(IVR73:IVR77)","v":0},{"$f":"SUM(IVS73:IVS77)","v":0},{"$f":"SUM(IVT73:IVT77)","v":0},{"$f":"SUM(IVU73:IVU77)","v":0},{"$f":"SUM(IVV73:IVV77)","v":0},{"$f":"SUM(IVW73:IVW77)","v":0},{"$f":"SUM(IVX73:IVX77)","v":0},{"$f":"SUM(IVY73:IVY77)","v":0},{"$f":"SUM(IVZ73:IVZ77)","v":0},{"$f":"SUM(IWA73:IWA77)","v":0},{"$f":"SUM(IWB73:IWB77)","v":0},{"$f":"SUM(IWC73:IWC77)","v":0},{"$f":"SUM(IWD73:IWD77)","v":0},{"$f":"SUM(IWE73:IWE77)","v":0},{"$f":"SUM(IWF73:IWF77)","v":0},{"$f":"SUM(IWG73:IWG77)","v":0},{"$f":"SUM(IWH73:IWH77)","v":0},{"$f":"SUM(IWI73:IWI77)","v":0},{"$f":"SUM(IWJ73:IWJ77)","v":0},{"$f":"SUM(IWK73:IWK77)","v":0},{"$f":"SUM(IWL73:IWL77)","v":0},{"$f":"SUM(IWM73:IWM77)","v":0},{"$f":"SUM(IWN73:IWN77)","v":0},{"$f":"SUM(IWO73:IWO77)","v":0},{"$f":"SUM(IWP73:IWP77)","v":0},{"$f":"SUM(IWQ73:IWQ77)","v":0},{"$f":"SUM(IWR73:IWR77)","v":0},{"$f":"SUM(IWS73:IWS77)","v":0},{"$f":"SUM(IWT73:IWT77)","v":0},{"$f":"SUM(IWU73:IWU77)","v":0},{"$f":"SUM(IWV73:IWV77)","v":0},{"$f":"SUM(IWW73:IWW77)","v":0},{"$f":"SUM(IWX73:IWX77)","v":0},{"$f":"SUM(IWY73:IWY77)","v":0},{"$f":"SUM(IWZ73:IWZ77)","v":0},{"$f":"SUM(IXA73:IXA77)","v":0},{"$f":"SUM(IXB73:IXB77)","v":0},{"$f":"SUM(IXC73:IXC77)","v":0},{"$f":"SUM(IXD73:IXD77)","v":0},{"$f":"SUM(IXE73:IXE77)","v":0},{"$f":"SUM(IXF73:IXF77)","v":0},{"$f":"SUM(IXG73:IXG77)","v":0},{"$f":"SUM(IXH73:IXH77)","v":0},{"$f":"SUM(IXI73:IXI77)","v":0},{"$f":"SUM(IXJ73:IXJ77)","v":0},{"$f":"SUM(IXK73:IXK77)","v":0},{"$f":"SUM(IXL73:IXL77)","v":0},{"$f":"SUM(IXM73:IXM77)","v":0},{"$f":"SUM(IXN73:IXN77)","v":0},{"$f":"SUM(IXO73:IXO77)","v":0},{"$f":"SUM(IXP73:IXP77)","v":0},{"$f":"SUM(IXQ73:IXQ77)","v":0},{"$f":"SUM(IXR73:IXR77)","v":0},{"$f":"SUM(IXS73:IXS77)","v":0},{"$f":"SUM(IXT73:IXT77)","v":0},{"$f":"SUM(IXU73:IXU77)","v":0},{"$f":"SUM(IXV73:IXV77)","v":0},{"$f":"SUM(IXW73:IXW77)","v":0},{"$f":"SUM(IXX73:IXX77)","v":0},{"$f":"SUM(IXY73:IXY77)","v":0},{"$f":"SUM(IXZ73:IXZ77)","v":0},{"$f":"SUM(IYA73:IYA77)","v":0},{"$f":"SUM(IYB73:IYB77)","v":0},{"$f":"SUM(IYC73:IYC77)","v":0},{"$f":"SUM(IYD73:IYD77)","v":0},{"$f":"SUM(IYE73:IYE77)","v":0},{"$f":"SUM(IYF73:IYF77)","v":0},{"$f":"SUM(IYG73:IYG77)","v":0},{"$f":"SUM(IYH73:IYH77)","v":0},{"$f":"SUM(IYI73:IYI77)","v":0},{"$f":"SUM(IYJ73:IYJ77)","v":0},{"$f":"SUM(IYK73:IYK77)","v":0},{"$f":"SUM(IYL73:IYL77)","v":0},{"$f":"SUM(IYM73:IYM77)","v":0},{"$f":"SUM(IYN73:IYN77)","v":0},{"$f":"SUM(IYO73:IYO77)","v":0},{"$f":"SUM(IYP73:IYP77)","v":0},{"$f":"SUM(IYQ73:IYQ77)","v":0},{"$f":"SUM(IYR73:IYR77)","v":0},{"$f":"SUM(IYS73:IYS77)","v":0},{"$f":"SUM(IYT73:IYT77)","v":0},{"$f":"SUM(IYU73:IYU77)","v":0},{"$f":"SUM(IYV73:IYV77)","v":0},{"$f":"SUM(IYW73:IYW77)","v":0},{"$f":"SUM(IYX73:IYX77)","v":0},{"$f":"SUM(IYY73:IYY77)","v":0},{"$f":"SUM(IYZ73:IYZ77)","v":0},{"$f":"SUM(IZA73:IZA77)","v":0},{"$f":"SUM(IZB73:IZB77)","v":0},{"$f":"SUM(IZC73:IZC77)","v":0},{"$f":"SUM(IZD73:IZD77)","v":0},{"$f":"SUM(IZE73:IZE77)","v":0},{"$f":"SUM(IZF73:IZF77)","v":0},{"$f":"SUM(IZG73:IZG77)","v":0},{"$f":"SUM(IZH73:IZH77)","v":0},{"$f":"SUM(IZI73:IZI77)","v":0},{"$f":"SUM(IZJ73:IZJ77)","v":0},{"$f":"SUM(IZK73:IZK77)","v":0},{"$f":"SUM(IZL73:IZL77)","v":0},{"$f":"SUM(IZM73:IZM77)","v":0},{"$f":"SUM(IZN73:IZN77)","v":0},{"$f":"SUM(IZO73:IZO77)","v":0},{"$f":"SUM(IZP73:IZP77)","v":0},{"$f":"SUM(IZQ73:IZQ77)","v":0},{"$f":"SUM(IZR73:IZR77)","v":0},{"$f":"SUM(IZS73:IZS77)","v":0},{"$f":"SUM(IZT73:IZT77)","v":0},{"$f":"SUM(IZU73:IZU77)","v":0},{"$f":"SUM(IZV73:IZV77)","v":0},{"$f":"SUM(IZW73:IZW77)","v":0},{"$f":"SUM(IZX73:IZX77)","v":0},{"$f":"SUM(IZY73:IZY77)","v":0},{"$f":"SUM(IZZ73:IZZ77)","v":0},{"$f":"SUM(JAA73:JAA77)","v":0},{"$f":"SUM(JAB73:JAB77)","v":0},{"$f":"SUM(JAC73:JAC77)","v":0},{"$f":"SUM(JAD73:JAD77)","v":0},{"$f":"SUM(JAE73:JAE77)","v":0},{"$f":"SUM(JAF73:JAF77)","v":0},{"$f":"SUM(JAG73:JAG77)","v":0},{"$f":"SUM(JAH73:JAH77)","v":0},{"$f":"SUM(JAI73:JAI77)","v":0},{"$f":"SUM(JAJ73:JAJ77)","v":0},{"$f":"SUM(JAK73:JAK77)","v":0},{"$f":"SUM(JAL73:JAL77)","v":0},{"$f":"SUM(JAM73:JAM77)","v":0},{"$f":"SUM(JAN73:JAN77)","v":0},{"$f":"SUM(JAO73:JAO77)","v":0},{"$f":"SUM(JAP73:JAP77)","v":0},{"$f":"SUM(JAQ73:JAQ77)","v":0},{"$f":"SUM(JAR73:JAR77)","v":0},{"$f":"SUM(JAS73:JAS77)","v":0},{"$f":"SUM(JAT73:JAT77)","v":0},{"$f":"SUM(JAU73:JAU77)","v":0},{"$f":"SUM(JAV73:JAV77)","v":0},{"$f":"SUM(JAW73:JAW77)","v":0},{"$f":"SUM(JAX73:JAX77)","v":0},{"$f":"SUM(JAY73:JAY77)","v":0},{"$f":"SUM(JAZ73:JAZ77)","v":0},{"$f":"SUM(JBA73:JBA77)","v":0},{"$f":"SUM(JBB73:JBB77)","v":0},{"$f":"SUM(JBC73:JBC77)","v":0},{"$f":"SUM(JBD73:JBD77)","v":0},{"$f":"SUM(JBE73:JBE77)","v":0},{"$f":"SUM(JBF73:JBF77)","v":0},{"$f":"SUM(JBG73:JBG77)","v":0},{"$f":"SUM(JBH73:JBH77)","v":0},{"$f":"SUM(JBI73:JBI77)","v":0},{"$f":"SUM(JBJ73:JBJ77)","v":0},{"$f":"SUM(JBK73:JBK77)","v":0},{"$f":"SUM(JBL73:JBL77)","v":0},{"$f":"SUM(JBM73:JBM77)","v":0},{"$f":"SUM(JBN73:JBN77)","v":0},{"$f":"SUM(JBO73:JBO77)","v":0},{"$f":"SUM(JBP73:JBP77)","v":0},{"$f":"SUM(JBQ73:JBQ77)","v":0},{"$f":"SUM(JBR73:JBR77)","v":0},{"$f":"SUM(JBS73:JBS77)","v":0},{"$f":"SUM(JBT73:JBT77)","v":0},{"$f":"SUM(JBU73:JBU77)","v":0},{"$f":"SUM(JBV73:JBV77)","v":0},{"$f":"SUM(JBW73:JBW77)","v":0},{"$f":"SUM(JBX73:JBX77)","v":0},{"$f":"SUM(JBY73:JBY77)","v":0},{"$f":"SUM(JBZ73:JBZ77)","v":0},{"$f":"SUM(JCA73:JCA77)","v":0},{"$f":"SUM(JCB73:JCB77)","v":0},{"$f":"SUM(JCC73:JCC77)","v":0},{"$f":"SUM(JCD73:JCD77)","v":0},{"$f":"SUM(JCE73:JCE77)","v":0},{"$f":"SUM(JCF73:JCF77)","v":0},{"$f":"SUM(JCG73:JCG77)","v":0},{"$f":"SUM(JCH73:JCH77)","v":0},{"$f":"SUM(JCI73:JCI77)","v":0},{"$f":"SUM(JCJ73:JCJ77)","v":0},{"$f":"SUM(JCK73:JCK77)","v":0},{"$f":"SUM(JCL73:JCL77)","v":0},{"$f":"SUM(JCM73:JCM77)","v":0},{"$f":"SUM(JCN73:JCN77)","v":0},{"$f":"SUM(JCO73:JCO77)","v":0},{"$f":"SUM(JCP73:JCP77)","v":0},{"$f":"SUM(JCQ73:JCQ77)","v":0},{"$f":"SUM(JCR73:JCR77)","v":0},{"$f":"SUM(JCS73:JCS77)","v":0},{"$f":"SUM(JCT73:JCT77)","v":0},{"$f":"SUM(JCU73:JCU77)","v":0},{"$f":"SUM(JCV73:JCV77)","v":0},{"$f":"SUM(JCW73:JCW77)","v":0},{"$f":"SUM(JCX73:JCX77)","v":0},{"$f":"SUM(JCY73:JCY77)","v":0},{"$f":"SUM(JCZ73:JCZ77)","v":0},{"$f":"SUM(JDA73:JDA77)","v":0},{"$f":"SUM(JDB73:JDB77)","v":0},{"$f":"SUM(JDC73:JDC77)","v":0},{"$f":"SUM(JDD73:JDD77)","v":0},{"$f":"SUM(JDE73:JDE77)","v":0},{"$f":"SUM(JDF73:JDF77)","v":0},{"$f":"SUM(JDG73:JDG77)","v":0},{"$f":"SUM(JDH73:JDH77)","v":0},{"$f":"SUM(JDI73:JDI77)","v":0},{"$f":"SUM(JDJ73:JDJ77)","v":0},{"$f":"SUM(JDK73:JDK77)","v":0},{"$f":"SUM(JDL73:JDL77)","v":0},{"$f":"SUM(JDM73:JDM77)","v":0},{"$f":"SUM(JDN73:JDN77)","v":0},{"$f":"SUM(JDO73:JDO77)","v":0},{"$f":"SUM(JDP73:JDP77)","v":0},{"$f":"SUM(JDQ73:JDQ77)","v":0},{"$f":"SUM(JDR73:JDR77)","v":0},{"$f":"SUM(JDS73:JDS77)","v":0},{"$f":"SUM(JDT73:JDT77)","v":0},{"$f":"SUM(JDU73:JDU77)","v":0},{"$f":"SUM(JDV73:JDV77)","v":0},{"$f":"SUM(JDW73:JDW77)","v":0},{"$f":"SUM(JDX73:JDX77)","v":0},{"$f":"SUM(JDY73:JDY77)","v":0},{"$f":"SUM(JDZ73:JDZ77)","v":0},{"$f":"SUM(JEA73:JEA77)","v":0},{"$f":"SUM(JEB73:JEB77)","v":0},{"$f":"SUM(JEC73:JEC77)","v":0},{"$f":"SUM(JED73:JED77)","v":0},{"$f":"SUM(JEE73:JEE77)","v":0},{"$f":"SUM(JEF73:JEF77)","v":0},{"$f":"SUM(JEG73:JEG77)","v":0},{"$f":"SUM(JEH73:JEH77)","v":0},{"$f":"SUM(JEI73:JEI77)","v":0},{"$f":"SUM(JEJ73:JEJ77)","v":0},{"$f":"SUM(JEK73:JEK77)","v":0},{"$f":"SUM(JEL73:JEL77)","v":0},{"$f":"SUM(JEM73:JEM77)","v":0},{"$f":"SUM(JEN73:JEN77)","v":0},{"$f":"SUM(JEO73:JEO77)","v":0},{"$f":"SUM(JEP73:JEP77)","v":0},{"$f":"SUM(JEQ73:JEQ77)","v":0},{"$f":"SUM(JER73:JER77)","v":0},{"$f":"SUM(JES73:JES77)","v":0},{"$f":"SUM(JET73:JET77)","v":0},{"$f":"SUM(JEU73:JEU77)","v":0},{"$f":"SUM(JEV73:JEV77)","v":0},{"$f":"SUM(JEW73:JEW77)","v":0},{"$f":"SUM(JEX73:JEX77)","v":0},{"$f":"SUM(JEY73:JEY77)","v":0},{"$f":"SUM(JEZ73:JEZ77)","v":0},{"$f":"SUM(JFA73:JFA77)","v":0},{"$f":"SUM(JFB73:JFB77)","v":0},{"$f":"SUM(JFC73:JFC77)","v":0},{"$f":"SUM(JFD73:JFD77)","v":0},{"$f":"SUM(JFE73:JFE77)","v":0},{"$f":"SUM(JFF73:JFF77)","v":0},{"$f":"SUM(JFG73:JFG77)","v":0},{"$f":"SUM(JFH73:JFH77)","v":0},{"$f":"SUM(JFI73:JFI77)","v":0},{"$f":"SUM(JFJ73:JFJ77)","v":0},{"$f":"SUM(JFK73:JFK77)","v":0},{"$f":"SUM(JFL73:JFL77)","v":0},{"$f":"SUM(JFM73:JFM77)","v":0},{"$f":"SUM(JFN73:JFN77)","v":0},{"$f":"SUM(JFO73:JFO77)","v":0},{"$f":"SUM(JFP73:JFP77)","v":0},{"$f":"SUM(JFQ73:JFQ77)","v":0},{"$f":"SUM(JFR73:JFR77)","v":0},{"$f":"SUM(JFS73:JFS77)","v":0},{"$f":"SUM(JFT73:JFT77)","v":0},{"$f":"SUM(JFU73:JFU77)","v":0},{"$f":"SUM(JFV73:JFV77)","v":0},{"$f":"SUM(JFW73:JFW77)","v":0},{"$f":"SUM(JFX73:JFX77)","v":0},{"$f":"SUM(JFY73:JFY77)","v":0},{"$f":"SUM(JFZ73:JFZ77)","v":0},{"$f":"SUM(JGA73:JGA77)","v":0},{"$f":"SUM(JGB73:JGB77)","v":0},{"$f":"SUM(JGC73:JGC77)","v":0},{"$f":"SUM(JGD73:JGD77)","v":0},{"$f":"SUM(JGE73:JGE77)","v":0},{"$f":"SUM(JGF73:JGF77)","v":0},{"$f":"SUM(JGG73:JGG77)","v":0},{"$f":"SUM(JGH73:JGH77)","v":0},{"$f":"SUM(JGI73:JGI77)","v":0},{"$f":"SUM(JGJ73:JGJ77)","v":0},{"$f":"SUM(JGK73:JGK77)","v":0},{"$f":"SUM(JGL73:JGL77)","v":0},{"$f":"SUM(JGM73:JGM77)","v":0},{"$f":"SUM(JGN73:JGN77)","v":0},{"$f":"SUM(JGO73:JGO77)","v":0},{"$f":"SUM(JGP73:JGP77)","v":0},{"$f":"SUM(JGQ73:JGQ77)","v":0},{"$f":"SUM(JGR73:JGR77)","v":0},{"$f":"SUM(JGS73:JGS77)","v":0},{"$f":"SUM(JGT73:JGT77)","v":0},{"$f":"SUM(JGU73:JGU77)","v":0},{"$f":"SUM(JGV73:JGV77)","v":0},{"$f":"SUM(JGW73:JGW77)","v":0},{"$f":"SUM(JGX73:JGX77)","v":0},{"$f":"SUM(JGY73:JGY77)","v":0},{"$f":"SUM(JGZ73:JGZ77)","v":0},{"$f":"SUM(JHA73:JHA77)","v":0},{"$f":"SUM(JHB73:JHB77)","v":0},{"$f":"SUM(JHC73:JHC77)","v":0},{"$f":"SUM(JHD73:JHD77)","v":0},{"$f":"SUM(JHE73:JHE77)","v":0},{"$f":"SUM(JHF73:JHF77)","v":0},{"$f":"SUM(JHG73:JHG77)","v":0},{"$f":"SUM(JHH73:JHH77)","v":0},{"$f":"SUM(JHI73:JHI77)","v":0},{"$f":"SUM(JHJ73:JHJ77)","v":0},{"$f":"SUM(JHK73:JHK77)","v":0},{"$f":"SUM(JHL73:JHL77)","v":0},{"$f":"SUM(JHM73:JHM77)","v":0},{"$f":"SUM(JHN73:JHN77)","v":0},{"$f":"SUM(JHO73:JHO77)","v":0},{"$f":"SUM(JHP73:JHP77)","v":0},{"$f":"SUM(JHQ73:JHQ77)","v":0},{"$f":"SUM(JHR73:JHR77)","v":0},{"$f":"SUM(JHS73:JHS77)","v":0},{"$f":"SUM(JHT73:JHT77)","v":0},{"$f":"SUM(JHU73:JHU77)","v":0},{"$f":"SUM(JHV73:JHV77)","v":0},{"$f":"SUM(JHW73:JHW77)","v":0},{"$f":"SUM(JHX73:JHX77)","v":0},{"$f":"SUM(JHY73:JHY77)","v":0},{"$f":"SUM(JHZ73:JHZ77)","v":0},{"$f":"SUM(JIA73:JIA77)","v":0},{"$f":"SUM(JIB73:JIB77)","v":0},{"$f":"SUM(JIC73:JIC77)","v":0},{"$f":"SUM(JID73:JID77)","v":0},{"$f":"SUM(JIE73:JIE77)","v":0},{"$f":"SUM(JIF73:JIF77)","v":0},{"$f":"SUM(JIG73:JIG77)","v":0},{"$f":"SUM(JIH73:JIH77)","v":0},{"$f":"SUM(JII73:JII77)","v":0},{"$f":"SUM(JIJ73:JIJ77)","v":0},{"$f":"SUM(JIK73:JIK77)","v":0},{"$f":"SUM(JIL73:JIL77)","v":0},{"$f":"SUM(JIM73:JIM77)","v":0},{"$f":"SUM(JIN73:JIN77)","v":0},{"$f":"SUM(JIO73:JIO77)","v":0},{"$f":"SUM(JIP73:JIP77)","v":0},{"$f":"SUM(JIQ73:JIQ77)","v":0},{"$f":"SUM(JIR73:JIR77)","v":0},{"$f":"SUM(JIS73:JIS77)","v":0},{"$f":"SUM(JIT73:JIT77)","v":0},{"$f":"SUM(JIU73:JIU77)","v":0},{"$f":"SUM(JIV73:JIV77)","v":0},{"$f":"SUM(JIW73:JIW77)","v":0},{"$f":"SUM(JIX73:JIX77)","v":0},{"$f":"SUM(JIY73:JIY77)","v":0},{"$f":"SUM(JIZ73:JIZ77)","v":0},{"$f":"SUM(JJA73:JJA77)","v":0},{"$f":"SUM(JJB73:JJB77)","v":0},{"$f":"SUM(JJC73:JJC77)","v":0},{"$f":"SUM(JJD73:JJD77)","v":0},{"$f":"SUM(JJE73:JJE77)","v":0},{"$f":"SUM(JJF73:JJF77)","v":0},{"$f":"SUM(JJG73:JJG77)","v":0},{"$f":"SUM(JJH73:JJH77)","v":0},{"$f":"SUM(JJI73:JJI77)","v":0},{"$f":"SUM(JJJ73:JJJ77)","v":0},{"$f":"SUM(JJK73:JJK77)","v":0},{"$f":"SUM(JJL73:JJL77)","v":0},{"$f":"SUM(JJM73:JJM77)","v":0},{"$f":"SUM(JJN73:JJN77)","v":0},{"$f":"SUM(JJO73:JJO77)","v":0},{"$f":"SUM(JJP73:JJP77)","v":0},{"$f":"SUM(JJQ73:JJQ77)","v":0},{"$f":"SUM(JJR73:JJR77)","v":0},{"$f":"SUM(JJS73:JJS77)","v":0},{"$f":"SUM(JJT73:JJT77)","v":0},{"$f":"SUM(JJU73:JJU77)","v":0},{"$f":"SUM(JJV73:JJV77)","v":0},{"$f":"SUM(JJW73:JJW77)","v":0},{"$f":"SUM(JJX73:JJX77)","v":0},{"$f":"SUM(JJY73:JJY77)","v":0},{"$f":"SUM(JJZ73:JJZ77)","v":0},{"$f":"SUM(JKA73:JKA77)","v":0},{"$f":"SUM(JKB73:JKB77)","v":0},{"$f":"SUM(JKC73:JKC77)","v":0},{"$f":"SUM(JKD73:JKD77)","v":0},{"$f":"SUM(JKE73:JKE77)","v":0},{"$f":"SUM(JKF73:JKF77)","v":0},{"$f":"SUM(JKG73:JKG77)","v":0},{"$f":"SUM(JKH73:JKH77)","v":0},{"$f":"SUM(JKI73:JKI77)","v":0},{"$f":"SUM(JKJ73:JKJ77)","v":0},{"$f":"SUM(JKK73:JKK77)","v":0},{"$f":"SUM(JKL73:JKL77)","v":0},{"$f":"SUM(JKM73:JKM77)","v":0},{"$f":"SUM(JKN73:JKN77)","v":0},{"$f":"SUM(JKO73:JKO77)","v":0},{"$f":"SUM(JKP73:JKP77)","v":0},{"$f":"SUM(JKQ73:JKQ77)","v":0},{"$f":"SUM(JKR73:JKR77)","v":0},{"$f":"SUM(JKS73:JKS77)","v":0},{"$f":"SUM(JKT73:JKT77)","v":0},{"$f":"SUM(JKU73:JKU77)","v":0},{"$f":"SUM(JKV73:JKV77)","v":0},{"$f":"SUM(JKW73:JKW77)","v":0},{"$f":"SUM(JKX73:JKX77)","v":0},{"$f":"SUM(JKY73:JKY77)","v":0},{"$f":"SUM(JKZ73:JKZ77)","v":0},{"$f":"SUM(JLA73:JLA77)","v":0},{"$f":"SUM(JLB73:JLB77)","v":0},{"$f":"SUM(JLC73:JLC77)","v":0},{"$f":"SUM(JLD73:JLD77)","v":0},{"$f":"SUM(JLE73:JLE77)","v":0},{"$f":"SUM(JLF73:JLF77)","v":0},{"$f":"SUM(JLG73:JLG77)","v":0},{"$f":"SUM(JLH73:JLH77)","v":0},{"$f":"SUM(JLI73:JLI77)","v":0},{"$f":"SUM(JLJ73:JLJ77)","v":0},{"$f":"SUM(JLK73:JLK77)","v":0},{"$f":"SUM(JLL73:JLL77)","v":0},{"$f":"SUM(JLM73:JLM77)","v":0},{"$f":"SUM(JLN73:JLN77)","v":0},{"$f":"SUM(JLO73:JLO77)","v":0},{"$f":"SUM(JLP73:JLP77)","v":0},{"$f":"SUM(JLQ73:JLQ77)","v":0},{"$f":"SUM(JLR73:JLR77)","v":0},{"$f":"SUM(JLS73:JLS77)","v":0},{"$f":"SUM(JLT73:JLT77)","v":0},{"$f":"SUM(JLU73:JLU77)","v":0},{"$f":"SUM(JLV73:JLV77)","v":0},{"$f":"SUM(JLW73:JLW77)","v":0},{"$f":"SUM(JLX73:JLX77)","v":0},{"$f":"SUM(JLY73:JLY77)","v":0},{"$f":"SUM(JLZ73:JLZ77)","v":0},{"$f":"SUM(JMA73:JMA77)","v":0},{"$f":"SUM(JMB73:JMB77)","v":0},{"$f":"SUM(JMC73:JMC77)","v":0},{"$f":"SUM(JMD73:JMD77)","v":0},{"$f":"SUM(JME73:JME77)","v":0},{"$f":"SUM(JMF73:JMF77)","v":0},{"$f":"SUM(JMG73:JMG77)","v":0},{"$f":"SUM(JMH73:JMH77)","v":0},{"$f":"SUM(JMI73:JMI77)","v":0},{"$f":"SUM(JMJ73:JMJ77)","v":0},{"$f":"SUM(JMK73:JMK77)","v":0},{"$f":"SUM(JML73:JML77)","v":0},{"$f":"SUM(JMM73:JMM77)","v":0},{"$f":"SUM(JMN73:JMN77)","v":0},{"$f":"SUM(JMO73:JMO77)","v":0},{"$f":"SUM(JMP73:JMP77)","v":0},{"$f":"SUM(JMQ73:JMQ77)","v":0},{"$f":"SUM(JMR73:JMR77)","v":0},{"$f":"SUM(JMS73:JMS77)","v":0},{"$f":"SUM(JMT73:JMT77)","v":0},{"$f":"SUM(JMU73:JMU77)","v":0},{"$f":"SUM(JMV73:JMV77)","v":0},{"$f":"SUM(JMW73:JMW77)","v":0},{"$f":"SUM(JMX73:JMX77)","v":0},{"$f":"SUM(JMY73:JMY77)","v":0},{"$f":"SUM(JMZ73:JMZ77)","v":0},{"$f":"SUM(JNA73:JNA77)","v":0},{"$f":"SUM(JNB73:JNB77)","v":0},{"$f":"SUM(JNC73:JNC77)","v":0},{"$f":"SUM(JND73:JND77)","v":0},{"$f":"SUM(JNE73:JNE77)","v":0},{"$f":"SUM(JNF73:JNF77)","v":0},{"$f":"SUM(JNG73:JNG77)","v":0},{"$f":"SUM(JNH73:JNH77)","v":0},{"$f":"SUM(JNI73:JNI77)","v":0},{"$f":"SUM(JNJ73:JNJ77)","v":0},{"$f":"SUM(JNK73:JNK77)","v":0},{"$f":"SUM(JNL73:JNL77)","v":0},{"$f":"SUM(JNM73:JNM77)","v":0},{"$f":"SUM(JNN73:JNN77)","v":0},{"$f":"SUM(JNO73:JNO77)","v":0},{"$f":"SUM(JNP73:JNP77)","v":0},{"$f":"SUM(JNQ73:JNQ77)","v":0},{"$f":"SUM(JNR73:JNR77)","v":0},{"$f":"SUM(JNS73:JNS77)","v":0},{"$f":"SUM(JNT73:JNT77)","v":0},{"$f":"SUM(JNU73:JNU77)","v":0},{"$f":"SUM(JNV73:JNV77)","v":0},{"$f":"SUM(JNW73:JNW77)","v":0},{"$f":"SUM(JNX73:JNX77)","v":0},{"$f":"SUM(JNY73:JNY77)","v":0},{"$f":"SUM(JNZ73:JNZ77)","v":0},{"$f":"SUM(JOA73:JOA77)","v":0},{"$f":"SUM(JOB73:JOB77)","v":0},{"$f":"SUM(JOC73:JOC77)","v":0},{"$f":"SUM(JOD73:JOD77)","v":0},{"$f":"SUM(JOE73:JOE77)","v":0},{"$f":"SUM(JOF73:JOF77)","v":0},{"$f":"SUM(JOG73:JOG77)","v":0},{"$f":"SUM(JOH73:JOH77)","v":0},{"$f":"SUM(JOI73:JOI77)","v":0},{"$f":"SUM(JOJ73:JOJ77)","v":0},{"$f":"SUM(JOK73:JOK77)","v":0},{"$f":"SUM(JOL73:JOL77)","v":0},{"$f":"SUM(JOM73:JOM77)","v":0},{"$f":"SUM(JON73:JON77)","v":0},{"$f":"SUM(JOO73:JOO77)","v":0},{"$f":"SUM(JOP73:JOP77)","v":0},{"$f":"SUM(JOQ73:JOQ77)","v":0},{"$f":"SUM(JOR73:JOR77)","v":0},{"$f":"SUM(JOS73:JOS77)","v":0},{"$f":"SUM(JOT73:JOT77)","v":0},{"$f":"SUM(JOU73:JOU77)","v":0},{"$f":"SUM(JOV73:JOV77)","v":0},{"$f":"SUM(JOW73:JOW77)","v":0},{"$f":"SUM(JOX73:JOX77)","v":0},{"$f":"SUM(JOY73:JOY77)","v":0},{"$f":"SUM(JOZ73:JOZ77)","v":0},{"$f":"SUM(JPA73:JPA77)","v":0},{"$f":"SUM(JPB73:JPB77)","v":0},{"$f":"SUM(JPC73:JPC77)","v":0},{"$f":"SUM(JPD73:JPD77)","v":0},{"$f":"SUM(JPE73:JPE77)","v":0},{"$f":"SUM(JPF73:JPF77)","v":0},{"$f":"SUM(JPG73:JPG77)","v":0},{"$f":"SUM(JPH73:JPH77)","v":0},{"$f":"SUM(JPI73:JPI77)","v":0},{"$f":"SUM(JPJ73:JPJ77)","v":0},{"$f":"SUM(JPK73:JPK77)","v":0},{"$f":"SUM(JPL73:JPL77)","v":0},{"$f":"SUM(JPM73:JPM77)","v":0},{"$f":"SUM(JPN73:JPN77)","v":0},{"$f":"SUM(JPO73:JPO77)","v":0},{"$f":"SUM(JPP73:JPP77)","v":0},{"$f":"SUM(JPQ73:JPQ77)","v":0},{"$f":"SUM(JPR73:JPR77)","v":0},{"$f":"SUM(JPS73:JPS77)","v":0},{"$f":"SUM(JPT73:JPT77)","v":0},{"$f":"SUM(JPU73:JPU77)","v":0},{"$f":"SUM(JPV73:JPV77)","v":0},{"$f":"SUM(JPW73:JPW77)","v":0},{"$f":"SUM(JPX73:JPX77)","v":0},{"$f":"SUM(JPY73:JPY77)","v":0},{"$f":"SUM(JPZ73:JPZ77)","v":0},{"$f":"SUM(JQA73:JQA77)","v":0},{"$f":"SUM(JQB73:JQB77)","v":0},{"$f":"SUM(JQC73:JQC77)","v":0},{"$f":"SUM(JQD73:JQD77)","v":0},{"$f":"SUM(JQE73:JQE77)","v":0},{"$f":"SUM(JQF73:JQF77)","v":0},{"$f":"SUM(JQG73:JQG77)","v":0},{"$f":"SUM(JQH73:JQH77)","v":0},{"$f":"SUM(JQI73:JQI77)","v":0},{"$f":"SUM(JQJ73:JQJ77)","v":0},{"$f":"SUM(JQK73:JQK77)","v":0},{"$f":"SUM(JQL73:JQL77)","v":0},{"$f":"SUM(JQM73:JQM77)","v":0},{"$f":"SUM(JQN73:JQN77)","v":0},{"$f":"SUM(JQO73:JQO77)","v":0},{"$f":"SUM(JQP73:JQP77)","v":0},{"$f":"SUM(JQQ73:JQQ77)","v":0},{"$f":"SUM(JQR73:JQR77)","v":0},{"$f":"SUM(JQS73:JQS77)","v":0},{"$f":"SUM(JQT73:JQT77)","v":0},{"$f":"SUM(JQU73:JQU77)","v":0},{"$f":"SUM(JQV73:JQV77)","v":0},{"$f":"SUM(JQW73:JQW77)","v":0},{"$f":"SUM(JQX73:JQX77)","v":0},{"$f":"SUM(JQY73:JQY77)","v":0},{"$f":"SUM(JQZ73:JQZ77)","v":0},{"$f":"SUM(JRA73:JRA77)","v":0},{"$f":"SUM(JRB73:JRB77)","v":0},{"$f":"SUM(JRC73:JRC77)","v":0},{"$f":"SUM(JRD73:JRD77)","v":0},{"$f":"SUM(JRE73:JRE77)","v":0},{"$f":"SUM(JRF73:JRF77)","v":0},{"$f":"SUM(JRG73:JRG77)","v":0},{"$f":"SUM(JRH73:JRH77)","v":0},{"$f":"SUM(JRI73:JRI77)","v":0},{"$f":"SUM(JRJ73:JRJ77)","v":0},{"$f":"SUM(JRK73:JRK77)","v":0},{"$f":"SUM(JRL73:JRL77)","v":0},{"$f":"SUM(JRM73:JRM77)","v":0},{"$f":"SUM(JRN73:JRN77)","v":0},{"$f":"SUM(JRO73:JRO77)","v":0},{"$f":"SUM(JRP73:JRP77)","v":0},{"$f":"SUM(JRQ73:JRQ77)","v":0},{"$f":"SUM(JRR73:JRR77)","v":0},{"$f":"SUM(JRS73:JRS77)","v":0},{"$f":"SUM(JRT73:JRT77)","v":0},{"$f":"SUM(JRU73:JRU77)","v":0},{"$f":"SUM(JRV73:JRV77)","v":0},{"$f":"SUM(JRW73:JRW77)","v":0},{"$f":"SUM(JRX73:JRX77)","v":0},{"$f":"SUM(JRY73:JRY77)","v":0},{"$f":"SUM(JRZ73:JRZ77)","v":0},{"$f":"SUM(JSA73:JSA77)","v":0},{"$f":"SUM(JSB73:JSB77)","v":0},{"$f":"SUM(JSC73:JSC77)","v":0},{"$f":"SUM(JSD73:JSD77)","v":0},{"$f":"SUM(JSE73:JSE77)","v":0},{"$f":"SUM(JSF73:JSF77)","v":0},{"$f":"SUM(JSG73:JSG77)","v":0},{"$f":"SUM(JSH73:JSH77)","v":0},{"$f":"SUM(JSI73:JSI77)","v":0},{"$f":"SUM(JSJ73:JSJ77)","v":0},{"$f":"SUM(JSK73:JSK77)","v":0},{"$f":"SUM(JSL73:JSL77)","v":0},{"$f":"SUM(JSM73:JSM77)","v":0},{"$f":"SUM(JSN73:JSN77)","v":0},{"$f":"SUM(JSO73:JSO77)","v":0},{"$f":"SUM(JSP73:JSP77)","v":0},{"$f":"SUM(JSQ73:JSQ77)","v":0},{"$f":"SUM(JSR73:JSR77)","v":0},{"$f":"SUM(JSS73:JSS77)","v":0},{"$f":"SUM(JST73:JST77)","v":0},{"$f":"SUM(JSU73:JSU77)","v":0},{"$f":"SUM(JSV73:JSV77)","v":0},{"$f":"SUM(JSW73:JSW77)","v":0},{"$f":"SUM(JSX73:JSX77)","v":0},{"$f":"SUM(JSY73:JSY77)","v":0},{"$f":"SUM(JSZ73:JSZ77)","v":0},{"$f":"SUM(JTA73:JTA77)","v":0},{"$f":"SUM(JTB73:JTB77)","v":0},{"$f":"SUM(JTC73:JTC77)","v":0},{"$f":"SUM(JTD73:JTD77)","v":0},{"$f":"SUM(JTE73:JTE77)","v":0},{"$f":"SUM(JTF73:JTF77)","v":0},{"$f":"SUM(JTG73:JTG77)","v":0},{"$f":"SUM(JTH73:JTH77)","v":0},{"$f":"SUM(JTI73:JTI77)","v":0},{"$f":"SUM(JTJ73:JTJ77)","v":0},{"$f":"SUM(JTK73:JTK77)","v":0},{"$f":"SUM(JTL73:JTL77)","v":0},{"$f":"SUM(JTM73:JTM77)","v":0},{"$f":"SUM(JTN73:JTN77)","v":0},{"$f":"SUM(JTO73:JTO77)","v":0},{"$f":"SUM(JTP73:JTP77)","v":0},{"$f":"SUM(JTQ73:JTQ77)","v":0},{"$f":"SUM(JTR73:JTR77)","v":0},{"$f":"SUM(JTS73:JTS77)","v":0},{"$f":"SUM(JTT73:JTT77)","v":0},{"$f":"SUM(JTU73:JTU77)","v":0},{"$f":"SUM(JTV73:JTV77)","v":0},{"$f":"SUM(JTW73:JTW77)","v":0},{"$f":"SUM(JTX73:JTX77)","v":0},{"$f":"SUM(JTY73:JTY77)","v":0},{"$f":"SUM(JTZ73:JTZ77)","v":0},{"$f":"SUM(JUA73:JUA77)","v":0},{"$f":"SUM(JUB73:JUB77)","v":0},{"$f":"SUM(JUC73:JUC77)","v":0},{"$f":"SUM(JUD73:JUD77)","v":0},{"$f":"SUM(JUE73:JUE77)","v":0},{"$f":"SUM(JUF73:JUF77)","v":0},{"$f":"SUM(JUG73:JUG77)","v":0},{"$f":"SUM(JUH73:JUH77)","v":0},{"$f":"SUM(JUI73:JUI77)","v":0},{"$f":"SUM(JUJ73:JUJ77)","v":0},{"$f":"SUM(JUK73:JUK77)","v":0},{"$f":"SUM(JUL73:JUL77)","v":0},{"$f":"SUM(JUM73:JUM77)","v":0},{"$f":"SUM(JUN73:JUN77)","v":0},{"$f":"SUM(JUO73:JUO77)","v":0},{"$f":"SUM(JUP73:JUP77)","v":0},{"$f":"SUM(JUQ73:JUQ77)","v":0},{"$f":"SUM(JUR73:JUR77)","v":0},{"$f":"SUM(JUS73:JUS77)","v":0},{"$f":"SUM(JUT73:JUT77)","v":0},{"$f":"SUM(JUU73:JUU77)","v":0},{"$f":"SUM(JUV73:JUV77)","v":0},{"$f":"SUM(JUW73:JUW77)","v":0},{"$f":"SUM(JUX73:JUX77)","v":0},{"$f":"SUM(JUY73:JUY77)","v":0},{"$f":"SUM(JUZ73:JUZ77)","v":0},{"$f":"SUM(JVA73:JVA77)","v":0},{"$f":"SUM(JVB73:JVB77)","v":0},{"$f":"SUM(JVC73:JVC77)","v":0},{"$f":"SUM(JVD73:JVD77)","v":0},{"$f":"SUM(JVE73:JVE77)","v":0},{"$f":"SUM(JVF73:JVF77)","v":0},{"$f":"SUM(JVG73:JVG77)","v":0},{"$f":"SUM(JVH73:JVH77)","v":0},{"$f":"SUM(JVI73:JVI77)","v":0},{"$f":"SUM(JVJ73:JVJ77)","v":0},{"$f":"SUM(JVK73:JVK77)","v":0},{"$f":"SUM(JVL73:JVL77)","v":0},{"$f":"SUM(JVM73:JVM77)","v":0},{"$f":"SUM(JVN73:JVN77)","v":0},{"$f":"SUM(JVO73:JVO77)","v":0},{"$f":"SUM(JVP73:JVP77)","v":0},{"$f":"SUM(JVQ73:JVQ77)","v":0},{"$f":"SUM(JVR73:JVR77)","v":0},{"$f":"SUM(JVS73:JVS77)","v":0},{"$f":"SUM(JVT73:JVT77)","v":0},{"$f":"SUM(JVU73:JVU77)","v":0},{"$f":"SUM(JVV73:JVV77)","v":0},{"$f":"SUM(JVW73:JVW77)","v":0},{"$f":"SUM(JVX73:JVX77)","v":0},{"$f":"SUM(JVY73:JVY77)","v":0},{"$f":"SUM(JVZ73:JVZ77)","v":0},{"$f":"SUM(JWA73:JWA77)","v":0},{"$f":"SUM(JWB73:JWB77)","v":0},{"$f":"SUM(JWC73:JWC77)","v":0},{"$f":"SUM(JWD73:JWD77)","v":0},{"$f":"SUM(JWE73:JWE77)","v":0},{"$f":"SUM(JWF73:JWF77)","v":0},{"$f":"SUM(JWG73:JWG77)","v":0},{"$f":"SUM(JWH73:JWH77)","v":0},{"$f":"SUM(JWI73:JWI77)","v":0},{"$f":"SUM(JWJ73:JWJ77)","v":0},{"$f":"SUM(JWK73:JWK77)","v":0},{"$f":"SUM(JWL73:JWL77)","v":0},{"$f":"SUM(JWM73:JWM77)","v":0},{"$f":"SUM(JWN73:JWN77)","v":0},{"$f":"SUM(JWO73:JWO77)","v":0},{"$f":"SUM(JWP73:JWP77)","v":0},{"$f":"SUM(JWQ73:JWQ77)","v":0},{"$f":"SUM(JWR73:JWR77)","v":0},{"$f":"SUM(JWS73:JWS77)","v":0},{"$f":"SUM(JWT73:JWT77)","v":0},{"$f":"SUM(JWU73:JWU77)","v":0},{"$f":"SUM(JWV73:JWV77)","v":0},{"$f":"SUM(JWW73:JWW77)","v":0},{"$f":"SUM(JWX73:JWX77)","v":0},{"$f":"SUM(JWY73:JWY77)","v":0},{"$f":"SUM(JWZ73:JWZ77)","v":0},{"$f":"SUM(JXA73:JXA77)","v":0},{"$f":"SUM(JXB73:JXB77)","v":0},{"$f":"SUM(JXC73:JXC77)","v":0},{"$f":"SUM(JXD73:JXD77)","v":0},{"$f":"SUM(JXE73:JXE77)","v":0},{"$f":"SUM(JXF73:JXF77)","v":0},{"$f":"SUM(JXG73:JXG77)","v":0},{"$f":"SUM(JXH73:JXH77)","v":0},{"$f":"SUM(JXI73:JXI77)","v":0},{"$f":"SUM(JXJ73:JXJ77)","v":0},{"$f":"SUM(JXK73:JXK77)","v":0},{"$f":"SUM(JXL73:JXL77)","v":0},{"$f":"SUM(JXM73:JXM77)","v":0},{"$f":"SUM(JXN73:JXN77)","v":0},{"$f":"SUM(JXO73:JXO77)","v":0},{"$f":"SUM(JXP73:JXP77)","v":0},{"$f":"SUM(JXQ73:JXQ77)","v":0},{"$f":"SUM(JXR73:JXR77)","v":0},{"$f":"SUM(JXS73:JXS77)","v":0},{"$f":"SUM(JXT73:JXT77)","v":0},{"$f":"SUM(JXU73:JXU77)","v":0},{"$f":"SUM(JXV73:JXV77)","v":0},{"$f":"SUM(JXW73:JXW77)","v":0},{"$f":"SUM(JXX73:JXX77)","v":0},{"$f":"SUM(JXY73:JXY77)","v":0},{"$f":"SUM(JXZ73:JXZ77)","v":0},{"$f":"SUM(JYA73:JYA77)","v":0},{"$f":"SUM(JYB73:JYB77)","v":0},{"$f":"SUM(JYC73:JYC77)","v":0},{"$f":"SUM(JYD73:JYD77)","v":0},{"$f":"SUM(JYE73:JYE77)","v":0},{"$f":"SUM(JYF73:JYF77)","v":0},{"$f":"SUM(JYG73:JYG77)","v":0},{"$f":"SUM(JYH73:JYH77)","v":0},{"$f":"SUM(JYI73:JYI77)","v":0},{"$f":"SUM(JYJ73:JYJ77)","v":0},{"$f":"SUM(JYK73:JYK77)","v":0},{"$f":"SUM(JYL73:JYL77)","v":0},{"$f":"SUM(JYM73:JYM77)","v":0},{"$f":"SUM(JYN73:JYN77)","v":0},{"$f":"SUM(JYO73:JYO77)","v":0},{"$f":"SUM(JYP73:JYP77)","v":0},{"$f":"SUM(JYQ73:JYQ77)","v":0},{"$f":"SUM(JYR73:JYR77)","v":0},{"$f":"SUM(JYS73:JYS77)","v":0},{"$f":"SUM(JYT73:JYT77)","v":0},{"$f":"SUM(JYU73:JYU77)","v":0},{"$f":"SUM(JYV73:JYV77)","v":0},{"$f":"SUM(JYW73:JYW77)","v":0},{"$f":"SUM(JYX73:JYX77)","v":0},{"$f":"SUM(JYY73:JYY77)","v":0},{"$f":"SUM(JYZ73:JYZ77)","v":0},{"$f":"SUM(JZA73:JZA77)","v":0},{"$f":"SUM(JZB73:JZB77)","v":0},{"$f":"SUM(JZC73:JZC77)","v":0},{"$f":"SUM(JZD73:JZD77)","v":0},{"$f":"SUM(JZE73:JZE77)","v":0},{"$f":"SUM(JZF73:JZF77)","v":0},{"$f":"SUM(JZG73:JZG77)","v":0},{"$f":"SUM(JZH73:JZH77)","v":0},{"$f":"SUM(JZI73:JZI77)","v":0},{"$f":"SUM(JZJ73:JZJ77)","v":0},{"$f":"SUM(JZK73:JZK77)","v":0},{"$f":"SUM(JZL73:JZL77)","v":0},{"$f":"SUM(JZM73:JZM77)","v":0},{"$f":"SUM(JZN73:JZN77)","v":0},{"$f":"SUM(JZO73:JZO77)","v":0},{"$f":"SUM(JZP73:JZP77)","v":0},{"$f":"SUM(JZQ73:JZQ77)","v":0},{"$f":"SUM(JZR73:JZR77)","v":0},{"$f":"SUM(JZS73:JZS77)","v":0},{"$f":"SUM(JZT73:JZT77)","v":0},{"$f":"SUM(JZU73:JZU77)","v":0},{"$f":"SUM(JZV73:JZV77)","v":0},{"$f":"SUM(JZW73:JZW77)","v":0},{"$f":"SUM(JZX73:JZX77)","v":0},{"$f":"SUM(JZY73:JZY77)","v":0},{"$f":"SUM(JZZ73:JZZ77)","v":0},{"$f":"SUM(KAA73:KAA77)","v":0},{"$f":"SUM(KAB73:KAB77)","v":0},{"$f":"SUM(KAC73:KAC77)","v":0},{"$f":"SUM(KAD73:KAD77)","v":0},{"$f":"SUM(KAE73:KAE77)","v":0},{"$f":"SUM(KAF73:KAF77)","v":0},{"$f":"SUM(KAG73:KAG77)","v":0},{"$f":"SUM(KAH73:KAH77)","v":0},{"$f":"SUM(KAI73:KAI77)","v":0},{"$f":"SUM(KAJ73:KAJ77)","v":0},{"$f":"SUM(KAK73:KAK77)","v":0},{"$f":"SUM(KAL73:KAL77)","v":0},{"$f":"SUM(KAM73:KAM77)","v":0},{"$f":"SUM(KAN73:KAN77)","v":0},{"$f":"SUM(KAO73:KAO77)","v":0},{"$f":"SUM(KAP73:KAP77)","v":0},{"$f":"SUM(KAQ73:KAQ77)","v":0},{"$f":"SUM(KAR73:KAR77)","v":0},{"$f":"SUM(KAS73:KAS77)","v":0},{"$f":"SUM(KAT73:KAT77)","v":0},{"$f":"SUM(KAU73:KAU77)","v":0},{"$f":"SUM(KAV73:KAV77)","v":0},{"$f":"SUM(KAW73:KAW77)","v":0},{"$f":"SUM(KAX73:KAX77)","v":0},{"$f":"SUM(KAY73:KAY77)","v":0},{"$f":"SUM(KAZ73:KAZ77)","v":0},{"$f":"SUM(KBA73:KBA77)","v":0},{"$f":"SUM(KBB73:KBB77)","v":0},{"$f":"SUM(KBC73:KBC77)","v":0},{"$f":"SUM(KBD73:KBD77)","v":0},{"$f":"SUM(KBE73:KBE77)","v":0},{"$f":"SUM(KBF73:KBF77)","v":0},{"$f":"SUM(KBG73:KBG77)","v":0},{"$f":"SUM(KBH73:KBH77)","v":0},{"$f":"SUM(KBI73:KBI77)","v":0},{"$f":"SUM(KBJ73:KBJ77)","v":0},{"$f":"SUM(KBK73:KBK77)","v":0},{"$f":"SUM(KBL73:KBL77)","v":0},{"$f":"SUM(KBM73:KBM77)","v":0},{"$f":"SUM(KBN73:KBN77)","v":0},{"$f":"SUM(KBO73:KBO77)","v":0},{"$f":"SUM(KBP73:KBP77)","v":0},{"$f":"SUM(KBQ73:KBQ77)","v":0},{"$f":"SUM(KBR73:KBR77)","v":0},{"$f":"SUM(KBS73:KBS77)","v":0},{"$f":"SUM(KBT73:KBT77)","v":0},{"$f":"SUM(KBU73:KBU77)","v":0},{"$f":"SUM(KBV73:KBV77)","v":0},{"$f":"SUM(KBW73:KBW77)","v":0},{"$f":"SUM(KBX73:KBX77)","v":0},{"$f":"SUM(KBY73:KBY77)","v":0},{"$f":"SUM(KBZ73:KBZ77)","v":0},{"$f":"SUM(KCA73:KCA77)","v":0},{"$f":"SUM(KCB73:KCB77)","v":0},{"$f":"SUM(KCC73:KCC77)","v":0},{"$f":"SUM(KCD73:KCD77)","v":0},{"$f":"SUM(KCE73:KCE77)","v":0},{"$f":"SUM(KCF73:KCF77)","v":0},{"$f":"SUM(KCG73:KCG77)","v":0},{"$f":"SUM(KCH73:KCH77)","v":0},{"$f":"SUM(KCI73:KCI77)","v":0},{"$f":"SUM(KCJ73:KCJ77)","v":0},{"$f":"SUM(KCK73:KCK77)","v":0},{"$f":"SUM(KCL73:KCL77)","v":0},{"$f":"SUM(KCM73:KCM77)","v":0},{"$f":"SUM(KCN73:KCN77)","v":0},{"$f":"SUM(KCO73:KCO77)","v":0},{"$f":"SUM(KCP73:KCP77)","v":0},{"$f":"SUM(KCQ73:KCQ77)","v":0},{"$f":"SUM(KCR73:KCR77)","v":0},{"$f":"SUM(KCS73:KCS77)","v":0},{"$f":"SUM(KCT73:KCT77)","v":0},{"$f":"SUM(KCU73:KCU77)","v":0},{"$f":"SUM(KCV73:KCV77)","v":0},{"$f":"SUM(KCW73:KCW77)","v":0},{"$f":"SUM(KCX73:KCX77)","v":0},{"$f":"SUM(KCY73:KCY77)","v":0},{"$f":"SUM(KCZ73:KCZ77)","v":0},{"$f":"SUM(KDA73:KDA77)","v":0},{"$f":"SUM(KDB73:KDB77)","v":0},{"$f":"SUM(KDC73:KDC77)","v":0},{"$f":"SUM(KDD73:KDD77)","v":0},{"$f":"SUM(KDE73:KDE77)","v":0},{"$f":"SUM(KDF73:KDF77)","v":0},{"$f":"SUM(KDG73:KDG77)","v":0},{"$f":"SUM(KDH73:KDH77)","v":0},{"$f":"SUM(KDI73:KDI77)","v":0},{"$f":"SUM(KDJ73:KDJ77)","v":0},{"$f":"SUM(KDK73:KDK77)","v":0},{"$f":"SUM(KDL73:KDL77)","v":0},{"$f":"SUM(KDM73:KDM77)","v":0},{"$f":"SUM(KDN73:KDN77)","v":0},{"$f":"SUM(KDO73:KDO77)","v":0},{"$f":"SUM(KDP73:KDP77)","v":0},{"$f":"SUM(KDQ73:KDQ77)","v":0},{"$f":"SUM(KDR73:KDR77)","v":0},{"$f":"SUM(KDS73:KDS77)","v":0},{"$f":"SUM(KDT73:KDT77)","v":0},{"$f":"SUM(KDU73:KDU77)","v":0},{"$f":"SUM(KDV73:KDV77)","v":0},{"$f":"SUM(KDW73:KDW77)","v":0},{"$f":"SUM(KDX73:KDX77)","v":0},{"$f":"SUM(KDY73:KDY77)","v":0},{"$f":"SUM(KDZ73:KDZ77)","v":0},{"$f":"SUM(KEA73:KEA77)","v":0},{"$f":"SUM(KEB73:KEB77)","v":0},{"$f":"SUM(KEC73:KEC77)","v":0},{"$f":"SUM(KED73:KED77)","v":0},{"$f":"SUM(KEE73:KEE77)","v":0},{"$f":"SUM(KEF73:KEF77)","v":0},{"$f":"SUM(KEG73:KEG77)","v":0},{"$f":"SUM(KEH73:KEH77)","v":0},{"$f":"SUM(KEI73:KEI77)","v":0},{"$f":"SUM(KEJ73:KEJ77)","v":0},{"$f":"SUM(KEK73:KEK77)","v":0},{"$f":"SUM(KEL73:KEL77)","v":0},{"$f":"SUM(KEM73:KEM77)","v":0},{"$f":"SUM(KEN73:KEN77)","v":0},{"$f":"SUM(KEO73:KEO77)","v":0},{"$f":"SUM(KEP73:KEP77)","v":0},{"$f":"SUM(KEQ73:KEQ77)","v":0},{"$f":"SUM(KER73:KER77)","v":0},{"$f":"SUM(KES73:KES77)","v":0},{"$f":"SUM(KET73:KET77)","v":0},{"$f":"SUM(KEU73:KEU77)","v":0},{"$f":"SUM(KEV73:KEV77)","v":0},{"$f":"SUM(KEW73:KEW77)","v":0},{"$f":"SUM(KEX73:KEX77)","v":0},{"$f":"SUM(KEY73:KEY77)","v":0},{"$f":"SUM(KEZ73:KEZ77)","v":0},{"$f":"SUM(KFA73:KFA77)","v":0},{"$f":"SUM(KFB73:KFB77)","v":0},{"$f":"SUM(KFC73:KFC77)","v":0},{"$f":"SUM(KFD73:KFD77)","v":0},{"$f":"SUM(KFE73:KFE77)","v":0},{"$f":"SUM(KFF73:KFF77)","v":0},{"$f":"SUM(KFG73:KFG77)","v":0},{"$f":"SUM(KFH73:KFH77)","v":0},{"$f":"SUM(KFI73:KFI77)","v":0},{"$f":"SUM(KFJ73:KFJ77)","v":0},{"$f":"SUM(KFK73:KFK77)","v":0},{"$f":"SUM(KFL73:KFL77)","v":0},{"$f":"SUM(KFM73:KFM77)","v":0},{"$f":"SUM(KFN73:KFN77)","v":0},{"$f":"SUM(KFO73:KFO77)","v":0},{"$f":"SUM(KFP73:KFP77)","v":0},{"$f":"SUM(KFQ73:KFQ77)","v":0},{"$f":"SUM(KFR73:KFR77)","v":0},{"$f":"SUM(KFS73:KFS77)","v":0},{"$f":"SUM(KFT73:KFT77)","v":0},{"$f":"SUM(KFU73:KFU77)","v":0},{"$f":"SUM(KFV73:KFV77)","v":0},{"$f":"SUM(KFW73:KFW77)","v":0},{"$f":"SUM(KFX73:KFX77)","v":0},{"$f":"SUM(KFY73:KFY77)","v":0},{"$f":"SUM(KFZ73:KFZ77)","v":0},{"$f":"SUM(KGA73:KGA77)","v":0},{"$f":"SUM(KGB73:KGB77)","v":0},{"$f":"SUM(KGC73:KGC77)","v":0},{"$f":"SUM(KGD73:KGD77)","v":0},{"$f":"SUM(KGE73:KGE77)","v":0},{"$f":"SUM(KGF73:KGF77)","v":0},{"$f":"SUM(KGG73:KGG77)","v":0},{"$f":"SUM(KGH73:KGH77)","v":0},{"$f":"SUM(KGI73:KGI77)","v":0},{"$f":"SUM(KGJ73:KGJ77)","v":0},{"$f":"SUM(KGK73:KGK77)","v":0},{"$f":"SUM(KGL73:KGL77)","v":0},{"$f":"SUM(KGM73:KGM77)","v":0},{"$f":"SUM(KGN73:KGN77)","v":0},{"$f":"SUM(KGO73:KGO77)","v":0},{"$f":"SUM(KGP73:KGP77)","v":0},{"$f":"SUM(KGQ73:KGQ77)","v":0},{"$f":"SUM(KGR73:KGR77)","v":0},{"$f":"SUM(KGS73:KGS77)","v":0},{"$f":"SUM(KGT73:KGT77)","v":0},{"$f":"SUM(KGU73:KGU77)","v":0},{"$f":"SUM(KGV73:KGV77)","v":0},{"$f":"SUM(KGW73:KGW77)","v":0},{"$f":"SUM(KGX73:KGX77)","v":0},{"$f":"SUM(KGY73:KGY77)","v":0},{"$f":"SUM(KGZ73:KGZ77)","v":0},{"$f":"SUM(KHA73:KHA77)","v":0},{"$f":"SUM(KHB73:KHB77)","v":0},{"$f":"SUM(KHC73:KHC77)","v":0},{"$f":"SUM(KHD73:KHD77)","v":0},{"$f":"SUM(KHE73:KHE77)","v":0},{"$f":"SUM(KHF73:KHF77)","v":0},{"$f":"SUM(KHG73:KHG77)","v":0},{"$f":"SUM(KHH73:KHH77)","v":0},{"$f":"SUM(KHI73:KHI77)","v":0},{"$f":"SUM(KHJ73:KHJ77)","v":0},{"$f":"SUM(KHK73:KHK77)","v":0},{"$f":"SUM(KHL73:KHL77)","v":0},{"$f":"SUM(KHM73:KHM77)","v":0},{"$f":"SUM(KHN73:KHN77)","v":0},{"$f":"SUM(KHO73:KHO77)","v":0},{"$f":"SUM(KHP73:KHP77)","v":0},{"$f":"SUM(KHQ73:KHQ77)","v":0},{"$f":"SUM(KHR73:KHR77)","v":0},{"$f":"SUM(KHS73:KHS77)","v":0},{"$f":"SUM(KHT73:KHT77)","v":0},{"$f":"SUM(KHU73:KHU77)","v":0},{"$f":"SUM(KHV73:KHV77)","v":0},{"$f":"SUM(KHW73:KHW77)","v":0},{"$f":"SUM(KHX73:KHX77)","v":0},{"$f":"SUM(KHY73:KHY77)","v":0},{"$f":"SUM(KHZ73:KHZ77)","v":0},{"$f":"SUM(KIA73:KIA77)","v":0},{"$f":"SUM(KIB73:KIB77)","v":0},{"$f":"SUM(KIC73:KIC77)","v":0},{"$f":"SUM(KID73:KID77)","v":0},{"$f":"SUM(KIE73:KIE77)","v":0},{"$f":"SUM(KIF73:KIF77)","v":0},{"$f":"SUM(KIG73:KIG77)","v":0},{"$f":"SUM(KIH73:KIH77)","v":0},{"$f":"SUM(KII73:KII77)","v":0},{"$f":"SUM(KIJ73:KIJ77)","v":0},{"$f":"SUM(KIK73:KIK77)","v":0},{"$f":"SUM(KIL73:KIL77)","v":0},{"$f":"SUM(KIM73:KIM77)","v":0},{"$f":"SUM(KIN73:KIN77)","v":0},{"$f":"SUM(KIO73:KIO77)","v":0},{"$f":"SUM(KIP73:KIP77)","v":0},{"$f":"SUM(KIQ73:KIQ77)","v":0},{"$f":"SUM(KIR73:KIR77)","v":0},{"$f":"SUM(KIS73:KIS77)","v":0},{"$f":"SUM(KIT73:KIT77)","v":0},{"$f":"SUM(KIU73:KIU77)","v":0},{"$f":"SUM(KIV73:KIV77)","v":0},{"$f":"SUM(KIW73:KIW77)","v":0},{"$f":"SUM(KIX73:KIX77)","v":0},{"$f":"SUM(KIY73:KIY77)","v":0},{"$f":"SUM(KIZ73:KIZ77)","v":0},{"$f":"SUM(KJA73:KJA77)","v":0},{"$f":"SUM(KJB73:KJB77)","v":0},{"$f":"SUM(KJC73:KJC77)","v":0},{"$f":"SUM(KJD73:KJD77)","v":0},{"$f":"SUM(KJE73:KJE77)","v":0},{"$f":"SUM(KJF73:KJF77)","v":0},{"$f":"SUM(KJG73:KJG77)","v":0},{"$f":"SUM(KJH73:KJH77)","v":0},{"$f":"SUM(KJI73:KJI77)","v":0},{"$f":"SUM(KJJ73:KJJ77)","v":0},{"$f":"SUM(KJK73:KJK77)","v":0},{"$f":"SUM(KJL73:KJL77)","v":0},{"$f":"SUM(KJM73:KJM77)","v":0},{"$f":"SUM(KJN73:KJN77)","v":0},{"$f":"SUM(KJO73:KJO77)","v":0},{"$f":"SUM(KJP73:KJP77)","v":0},{"$f":"SUM(KJQ73:KJQ77)","v":0},{"$f":"SUM(KJR73:KJR77)","v":0},{"$f":"SUM(KJS73:KJS77)","v":0},{"$f":"SUM(KJT73:KJT77)","v":0},{"$f":"SUM(KJU73:KJU77)","v":0},{"$f":"SUM(KJV73:KJV77)","v":0},{"$f":"SUM(KJW73:KJW77)","v":0},{"$f":"SUM(KJX73:KJX77)","v":0},{"$f":"SUM(KJY73:KJY77)","v":0},{"$f":"SUM(KJZ73:KJZ77)","v":0},{"$f":"SUM(KKA73:KKA77)","v":0},{"$f":"SUM(KKB73:KKB77)","v":0},{"$f":"SUM(KKC73:KKC77)","v":0},{"$f":"SUM(KKD73:KKD77)","v":0},{"$f":"SUM(KKE73:KKE77)","v":0},{"$f":"SUM(KKF73:KKF77)","v":0},{"$f":"SUM(KKG73:KKG77)","v":0},{"$f":"SUM(KKH73:KKH77)","v":0},{"$f":"SUM(KKI73:KKI77)","v":0},{"$f":"SUM(KKJ73:KKJ77)","v":0},{"$f":"SUM(KKK73:KKK77)","v":0},{"$f":"SUM(KKL73:KKL77)","v":0},{"$f":"SUM(KKM73:KKM77)","v":0},{"$f":"SUM(KKN73:KKN77)","v":0},{"$f":"SUM(KKO73:KKO77)","v":0},{"$f":"SUM(KKP73:KKP77)","v":0},{"$f":"SUM(KKQ73:KKQ77)","v":0},{"$f":"SUM(KKR73:KKR77)","v":0},{"$f":"SUM(KKS73:KKS77)","v":0},{"$f":"SUM(KKT73:KKT77)","v":0},{"$f":"SUM(KKU73:KKU77)","v":0},{"$f":"SUM(KKV73:KKV77)","v":0},{"$f":"SUM(KKW73:KKW77)","v":0},{"$f":"SUM(KKX73:KKX77)","v":0},{"$f":"SUM(KKY73:KKY77)","v":0},{"$f":"SUM(KKZ73:KKZ77)","v":0},{"$f":"SUM(KLA73:KLA77)","v":0},{"$f":"SUM(KLB73:KLB77)","v":0},{"$f":"SUM(KLC73:KLC77)","v":0},{"$f":"SUM(KLD73:KLD77)","v":0},{"$f":"SUM(KLE73:KLE77)","v":0},{"$f":"SUM(KLF73:KLF77)","v":0},{"$f":"SUM(KLG73:KLG77)","v":0},{"$f":"SUM(KLH73:KLH77)","v":0},{"$f":"SUM(KLI73:KLI77)","v":0},{"$f":"SUM(KLJ73:KLJ77)","v":0},{"$f":"SUM(KLK73:KLK77)","v":0},{"$f":"SUM(KLL73:KLL77)","v":0},{"$f":"SUM(KLM73:KLM77)","v":0},{"$f":"SUM(KLN73:KLN77)","v":0},{"$f":"SUM(KLO73:KLO77)","v":0},{"$f":"SUM(KLP73:KLP77)","v":0},{"$f":"SUM(KLQ73:KLQ77)","v":0},{"$f":"SUM(KLR73:KLR77)","v":0},{"$f":"SUM(KLS73:KLS77)","v":0},{"$f":"SUM(KLT73:KLT77)","v":0},{"$f":"SUM(KLU73:KLU77)","v":0},{"$f":"SUM(KLV73:KLV77)","v":0},{"$f":"SUM(KLW73:KLW77)","v":0},{"$f":"SUM(KLX73:KLX77)","v":0},{"$f":"SUM(KLY73:KLY77)","v":0},{"$f":"SUM(KLZ73:KLZ77)","v":0},{"$f":"SUM(KMA73:KMA77)","v":0},{"$f":"SUM(KMB73:KMB77)","v":0},{"$f":"SUM(KMC73:KMC77)","v":0},{"$f":"SUM(KMD73:KMD77)","v":0},{"$f":"SUM(KME73:KME77)","v":0},{"$f":"SUM(KMF73:KMF77)","v":0},{"$f":"SUM(KMG73:KMG77)","v":0},{"$f":"SUM(KMH73:KMH77)","v":0},{"$f":"SUM(KMI73:KMI77)","v":0},{"$f":"SUM(KMJ73:KMJ77)","v":0},{"$f":"SUM(KMK73:KMK77)","v":0},{"$f":"SUM(KML73:KML77)","v":0},{"$f":"SUM(KMM73:KMM77)","v":0},{"$f":"SUM(KMN73:KMN77)","v":0},{"$f":"SUM(KMO73:KMO77)","v":0},{"$f":"SUM(KMP73:KMP77)","v":0},{"$f":"SUM(KMQ73:KMQ77)","v":0},{"$f":"SUM(KMR73:KMR77)","v":0},{"$f":"SUM(KMS73:KMS77)","v":0},{"$f":"SUM(KMT73:KMT77)","v":0},{"$f":"SUM(KMU73:KMU77)","v":0},{"$f":"SUM(KMV73:KMV77)","v":0},{"$f":"SUM(KMW73:KMW77)","v":0},{"$f":"SUM(KMX73:KMX77)","v":0},{"$f":"SUM(KMY73:KMY77)","v":0},{"$f":"SUM(KMZ73:KMZ77)","v":0},{"$f":"SUM(KNA73:KNA77)","v":0},{"$f":"SUM(KNB73:KNB77)","v":0},{"$f":"SUM(KNC73:KNC77)","v":0},{"$f":"SUM(KND73:KND77)","v":0},{"$f":"SUM(KNE73:KNE77)","v":0},{"$f":"SUM(KNF73:KNF77)","v":0},{"$f":"SUM(KNG73:KNG77)","v":0},{"$f":"SUM(KNH73:KNH77)","v":0},{"$f":"SUM(KNI73:KNI77)","v":0},{"$f":"SUM(KNJ73:KNJ77)","v":0},{"$f":"SUM(KNK73:KNK77)","v":0},{"$f":"SUM(KNL73:KNL77)","v":0},{"$f":"SUM(KNM73:KNM77)","v":0},{"$f":"SUM(KNN73:KNN77)","v":0},{"$f":"SUM(KNO73:KNO77)","v":0},{"$f":"SUM(KNP73:KNP77)","v":0},{"$f":"SUM(KNQ73:KNQ77)","v":0},{"$f":"SUM(KNR73:KNR77)","v":0},{"$f":"SUM(KNS73:KNS77)","v":0},{"$f":"SUM(KNT73:KNT77)","v":0},{"$f":"SUM(KNU73:KNU77)","v":0},{"$f":"SUM(KNV73:KNV77)","v":0},{"$f":"SUM(KNW73:KNW77)","v":0},{"$f":"SUM(KNX73:KNX77)","v":0},{"$f":"SUM(KNY73:KNY77)","v":0},{"$f":"SUM(KNZ73:KNZ77)","v":0},{"$f":"SUM(KOA73:KOA77)","v":0},{"$f":"SUM(KOB73:KOB77)","v":0},{"$f":"SUM(KOC73:KOC77)","v":0},{"$f":"SUM(KOD73:KOD77)","v":0},{"$f":"SUM(KOE73:KOE77)","v":0},{"$f":"SUM(KOF73:KOF77)","v":0},{"$f":"SUM(KOG73:KOG77)","v":0},{"$f":"SUM(KOH73:KOH77)","v":0},{"$f":"SUM(KOI73:KOI77)","v":0},{"$f":"SUM(KOJ73:KOJ77)","v":0},{"$f":"SUM(KOK73:KOK77)","v":0},{"$f":"SUM(KOL73:KOL77)","v":0},{"$f":"SUM(KOM73:KOM77)","v":0},{"$f":"SUM(KON73:KON77)","v":0},{"$f":"SUM(KOO73:KOO77)","v":0},{"$f":"SUM(KOP73:KOP77)","v":0},{"$f":"SUM(KOQ73:KOQ77)","v":0},{"$f":"SUM(KOR73:KOR77)","v":0},{"$f":"SUM(KOS73:KOS77)","v":0},{"$f":"SUM(KOT73:KOT77)","v":0},{"$f":"SUM(KOU73:KOU77)","v":0},{"$f":"SUM(KOV73:KOV77)","v":0},{"$f":"SUM(KOW73:KOW77)","v":0},{"$f":"SUM(KOX73:KOX77)","v":0},{"$f":"SUM(KOY73:KOY77)","v":0},{"$f":"SUM(KOZ73:KOZ77)","v":0},{"$f":"SUM(KPA73:KPA77)","v":0},{"$f":"SUM(KPB73:KPB77)","v":0},{"$f":"SUM(KPC73:KPC77)","v":0},{"$f":"SUM(KPD73:KPD77)","v":0},{"$f":"SUM(KPE73:KPE77)","v":0},{"$f":"SUM(KPF73:KPF77)","v":0},{"$f":"SUM(KPG73:KPG77)","v":0},{"$f":"SUM(KPH73:KPH77)","v":0},{"$f":"SUM(KPI73:KPI77)","v":0},{"$f":"SUM(KPJ73:KPJ77)","v":0},{"$f":"SUM(KPK73:KPK77)","v":0},{"$f":"SUM(KPL73:KPL77)","v":0},{"$f":"SUM(KPM73:KPM77)","v":0},{"$f":"SUM(KPN73:KPN77)","v":0},{"$f":"SUM(KPO73:KPO77)","v":0},{"$f":"SUM(KPP73:KPP77)","v":0},{"$f":"SUM(KPQ73:KPQ77)","v":0},{"$f":"SUM(KPR73:KPR77)","v":0},{"$f":"SUM(KPS73:KPS77)","v":0},{"$f":"SUM(KPT73:KPT77)","v":0},{"$f":"SUM(KPU73:KPU77)","v":0},{"$f":"SUM(KPV73:KPV77)","v":0},{"$f":"SUM(KPW73:KPW77)","v":0},{"$f":"SUM(KPX73:KPX77)","v":0},{"$f":"SUM(KPY73:KPY77)","v":0},{"$f":"SUM(KPZ73:KPZ77)","v":0},{"$f":"SUM(KQA73:KQA77)","v":0},{"$f":"SUM(KQB73:KQB77)","v":0},{"$f":"SUM(KQC73:KQC77)","v":0},{"$f":"SUM(KQD73:KQD77)","v":0},{"$f":"SUM(KQE73:KQE77)","v":0},{"$f":"SUM(KQF73:KQF77)","v":0},{"$f":"SUM(KQG73:KQG77)","v":0},{"$f":"SUM(KQH73:KQH77)","v":0},{"$f":"SUM(KQI73:KQI77)","v":0},{"$f":"SUM(KQJ73:KQJ77)","v":0},{"$f":"SUM(KQK73:KQK77)","v":0},{"$f":"SUM(KQL73:KQL77)","v":0},{"$f":"SUM(KQM73:KQM77)","v":0},{"$f":"SUM(KQN73:KQN77)","v":0},{"$f":"SUM(KQO73:KQO77)","v":0},{"$f":"SUM(KQP73:KQP77)","v":0},{"$f":"SUM(KQQ73:KQQ77)","v":0},{"$f":"SUM(KQR73:KQR77)","v":0},{"$f":"SUM(KQS73:KQS77)","v":0},{"$f":"SUM(KQT73:KQT77)","v":0},{"$f":"SUM(KQU73:KQU77)","v":0},{"$f":"SUM(KQV73:KQV77)","v":0},{"$f":"SUM(KQW73:KQW77)","v":0},{"$f":"SUM(KQX73:KQX77)","v":0},{"$f":"SUM(KQY73:KQY77)","v":0},{"$f":"SUM(KQZ73:KQZ77)","v":0},{"$f":"SUM(KRA73:KRA77)","v":0},{"$f":"SUM(KRB73:KRB77)","v":0},{"$f":"SUM(KRC73:KRC77)","v":0},{"$f":"SUM(KRD73:KRD77)","v":0},{"$f":"SUM(KRE73:KRE77)","v":0},{"$f":"SUM(KRF73:KRF77)","v":0},{"$f":"SUM(KRG73:KRG77)","v":0},{"$f":"SUM(KRH73:KRH77)","v":0},{"$f":"SUM(KRI73:KRI77)","v":0},{"$f":"SUM(KRJ73:KRJ77)","v":0},{"$f":"SUM(KRK73:KRK77)","v":0},{"$f":"SUM(KRL73:KRL77)","v":0},{"$f":"SUM(KRM73:KRM77)","v":0},{"$f":"SUM(KRN73:KRN77)","v":0},{"$f":"SUM(KRO73:KRO77)","v":0},{"$f":"SUM(KRP73:KRP77)","v":0},{"$f":"SUM(KRQ73:KRQ77)","v":0},{"$f":"SUM(KRR73:KRR77)","v":0},{"$f":"SUM(KRS73:KRS77)","v":0},{"$f":"SUM(KRT73:KRT77)","v":0},{"$f":"SUM(KRU73:KRU77)","v":0},{"$f":"SUM(KRV73:KRV77)","v":0},{"$f":"SUM(KRW73:KRW77)","v":0},{"$f":"SUM(KRX73:KRX77)","v":0},{"$f":"SUM(KRY73:KRY77)","v":0},{"$f":"SUM(KRZ73:KRZ77)","v":0},{"$f":"SUM(KSA73:KSA77)","v":0},{"$f":"SUM(KSB73:KSB77)","v":0},{"$f":"SUM(KSC73:KSC77)","v":0},{"$f":"SUM(KSD73:KSD77)","v":0},{"$f":"SUM(KSE73:KSE77)","v":0},{"$f":"SUM(KSF73:KSF77)","v":0},{"$f":"SUM(KSG73:KSG77)","v":0},{"$f":"SUM(KSH73:KSH77)","v":0},{"$f":"SUM(KSI73:KSI77)","v":0},{"$f":"SUM(KSJ73:KSJ77)","v":0},{"$f":"SUM(KSK73:KSK77)","v":0},{"$f":"SUM(KSL73:KSL77)","v":0},{"$f":"SUM(KSM73:KSM77)","v":0},{"$f":"SUM(KSN73:KSN77)","v":0},{"$f":"SUM(KSO73:KSO77)","v":0},{"$f":"SUM(KSP73:KSP77)","v":0},{"$f":"SUM(KSQ73:KSQ77)","v":0},{"$f":"SUM(KSR73:KSR77)","v":0},{"$f":"SUM(KSS73:KSS77)","v":0},{"$f":"SUM(KST73:KST77)","v":0},{"$f":"SUM(KSU73:KSU77)","v":0},{"$f":"SUM(KSV73:KSV77)","v":0},{"$f":"SUM(KSW73:KSW77)","v":0},{"$f":"SUM(KSX73:KSX77)","v":0},{"$f":"SUM(KSY73:KSY77)","v":0},{"$f":"SUM(KSZ73:KSZ77)","v":0},{"$f":"SUM(KTA73:KTA77)","v":0},{"$f":"SUM(KTB73:KTB77)","v":0},{"$f":"SUM(KTC73:KTC77)","v":0},{"$f":"SUM(KTD73:KTD77)","v":0},{"$f":"SUM(KTE73:KTE77)","v":0},{"$f":"SUM(KTF73:KTF77)","v":0},{"$f":"SUM(KTG73:KTG77)","v":0},{"$f":"SUM(KTH73:KTH77)","v":0},{"$f":"SUM(KTI73:KTI77)","v":0},{"$f":"SUM(KTJ73:KTJ77)","v":0},{"$f":"SUM(KTK73:KTK77)","v":0},{"$f":"SUM(KTL73:KTL77)","v":0},{"$f":"SUM(KTM73:KTM77)","v":0},{"$f":"SUM(KTN73:KTN77)","v":0},{"$f":"SUM(KTO73:KTO77)","v":0},{"$f":"SUM(KTP73:KTP77)","v":0},{"$f":"SUM(KTQ73:KTQ77)","v":0},{"$f":"SUM(KTR73:KTR77)","v":0},{"$f":"SUM(KTS73:KTS77)","v":0},{"$f":"SUM(KTT73:KTT77)","v":0},{"$f":"SUM(KTU73:KTU77)","v":0},{"$f":"SUM(KTV73:KTV77)","v":0},{"$f":"SUM(KTW73:KTW77)","v":0},{"$f":"SUM(KTX73:KTX77)","v":0},{"$f":"SUM(KTY73:KTY77)","v":0},{"$f":"SUM(KTZ73:KTZ77)","v":0},{"$f":"SUM(KUA73:KUA77)","v":0},{"$f":"SUM(KUB73:KUB77)","v":0},{"$f":"SUM(KUC73:KUC77)","v":0},{"$f":"SUM(KUD73:KUD77)","v":0},{"$f":"SUM(KUE73:KUE77)","v":0},{"$f":"SUM(KUF73:KUF77)","v":0},{"$f":"SUM(KUG73:KUG77)","v":0},{"$f":"SUM(KUH73:KUH77)","v":0},{"$f":"SUM(KUI73:KUI77)","v":0},{"$f":"SUM(KUJ73:KUJ77)","v":0},{"$f":"SUM(KUK73:KUK77)","v":0},{"$f":"SUM(KUL73:KUL77)","v":0},{"$f":"SUM(KUM73:KUM77)","v":0},{"$f":"SUM(KUN73:KUN77)","v":0},{"$f":"SUM(KUO73:KUO77)","v":0},{"$f":"SUM(KUP73:KUP77)","v":0},{"$f":"SUM(KUQ73:KUQ77)","v":0},{"$f":"SUM(KUR73:KUR77)","v":0},{"$f":"SUM(KUS73:KUS77)","v":0},{"$f":"SUM(KUT73:KUT77)","v":0},{"$f":"SUM(KUU73:KUU77)","v":0},{"$f":"SUM(KUV73:KUV77)","v":0},{"$f":"SUM(KUW73:KUW77)","v":0},{"$f":"SUM(KUX73:KUX77)","v":0},{"$f":"SUM(KUY73:KUY77)","v":0},{"$f":"SUM(KUZ73:KUZ77)","v":0},{"$f":"SUM(KVA73:KVA77)","v":0},{"$f":"SUM(KVB73:KVB77)","v":0},{"$f":"SUM(KVC73:KVC77)","v":0},{"$f":"SUM(KVD73:KVD77)","v":0},{"$f":"SUM(KVE73:KVE77)","v":0},{"$f":"SUM(KVF73:KVF77)","v":0},{"$f":"SUM(KVG73:KVG77)","v":0},{"$f":"SUM(KVH73:KVH77)","v":0},{"$f":"SUM(KVI73:KVI77)","v":0},{"$f":"SUM(KVJ73:KVJ77)","v":0},{"$f":"SUM(KVK73:KVK77)","v":0},{"$f":"SUM(KVL73:KVL77)","v":0},{"$f":"SUM(KVM73:KVM77)","v":0},{"$f":"SUM(KVN73:KVN77)","v":0},{"$f":"SUM(KVO73:KVO77)","v":0},{"$f":"SUM(KVP73:KVP77)","v":0},{"$f":"SUM(KVQ73:KVQ77)","v":0},{"$f":"SUM(KVR73:KVR77)","v":0},{"$f":"SUM(KVS73:KVS77)","v":0},{"$f":"SUM(KVT73:KVT77)","v":0},{"$f":"SUM(KVU73:KVU77)","v":0},{"$f":"SUM(KVV73:KVV77)","v":0},{"$f":"SUM(KVW73:KVW77)","v":0},{"$f":"SUM(KVX73:KVX77)","v":0},{"$f":"SUM(KVY73:KVY77)","v":0},{"$f":"SUM(KVZ73:KVZ77)","v":0},{"$f":"SUM(KWA73:KWA77)","v":0},{"$f":"SUM(KWB73:KWB77)","v":0},{"$f":"SUM(KWC73:KWC77)","v":0},{"$f":"SUM(KWD73:KWD77)","v":0},{"$f":"SUM(KWE73:KWE77)","v":0},{"$f":"SUM(KWF73:KWF77)","v":0},{"$f":"SUM(KWG73:KWG77)","v":0},{"$f":"SUM(KWH73:KWH77)","v":0},{"$f":"SUM(KWI73:KWI77)","v":0},{"$f":"SUM(KWJ73:KWJ77)","v":0},{"$f":"SUM(KWK73:KWK77)","v":0},{"$f":"SUM(KWL73:KWL77)","v":0},{"$f":"SUM(KWM73:KWM77)","v":0},{"$f":"SUM(KWN73:KWN77)","v":0},{"$f":"SUM(KWO73:KWO77)","v":0},{"$f":"SUM(KWP73:KWP77)","v":0},{"$f":"SUM(KWQ73:KWQ77)","v":0},{"$f":"SUM(KWR73:KWR77)","v":0},{"$f":"SUM(KWS73:KWS77)","v":0},{"$f":"SUM(KWT73:KWT77)","v":0},{"$f":"SUM(KWU73:KWU77)","v":0},{"$f":"SUM(KWV73:KWV77)","v":0},{"$f":"SUM(KWW73:KWW77)","v":0},{"$f":"SUM(KWX73:KWX77)","v":0},{"$f":"SUM(KWY73:KWY77)","v":0},{"$f":"SUM(KWZ73:KWZ77)","v":0},{"$f":"SUM(KXA73:KXA77)","v":0},{"$f":"SUM(KXB73:KXB77)","v":0},{"$f":"SUM(KXC73:KXC77)","v":0},{"$f":"SUM(KXD73:KXD77)","v":0},{"$f":"SUM(KXE73:KXE77)","v":0},{"$f":"SUM(KXF73:KXF77)","v":0},{"$f":"SUM(KXG73:KXG77)","v":0},{"$f":"SUM(KXH73:KXH77)","v":0},{"$f":"SUM(KXI73:KXI77)","v":0},{"$f":"SUM(KXJ73:KXJ77)","v":0},{"$f":"SUM(KXK73:KXK77)","v":0},{"$f":"SUM(KXL73:KXL77)","v":0},{"$f":"SUM(KXM73:KXM77)","v":0},{"$f":"SUM(KXN73:KXN77)","v":0},{"$f":"SUM(KXO73:KXO77)","v":0},{"$f":"SUM(KXP73:KXP77)","v":0},{"$f":"SUM(KXQ73:KXQ77)","v":0},{"$f":"SUM(KXR73:KXR77)","v":0},{"$f":"SUM(KXS73:KXS77)","v":0},{"$f":"SUM(KXT73:KXT77)","v":0},{"$f":"SUM(KXU73:KXU77)","v":0},{"$f":"SUM(KXV73:KXV77)","v":0},{"$f":"SUM(KXW73:KXW77)","v":0},{"$f":"SUM(KXX73:KXX77)","v":0},{"$f":"SUM(KXY73:KXY77)","v":0},{"$f":"SUM(KXZ73:KXZ77)","v":0},{"$f":"SUM(KYA73:KYA77)","v":0},{"$f":"SUM(KYB73:KYB77)","v":0},{"$f":"SUM(KYC73:KYC77)","v":0},{"$f":"SUM(KYD73:KYD77)","v":0},{"$f":"SUM(KYE73:KYE77)","v":0},{"$f":"SUM(KYF73:KYF77)","v":0},{"$f":"SUM(KYG73:KYG77)","v":0},{"$f":"SUM(KYH73:KYH77)","v":0},{"$f":"SUM(KYI73:KYI77)","v":0},{"$f":"SUM(KYJ73:KYJ77)","v":0},{"$f":"SUM(KYK73:KYK77)","v":0},{"$f":"SUM(KYL73:KYL77)","v":0},{"$f":"SUM(KYM73:KYM77)","v":0},{"$f":"SUM(KYN73:KYN77)","v":0},{"$f":"SUM(KYO73:KYO77)","v":0},{"$f":"SUM(KYP73:KYP77)","v":0},{"$f":"SUM(KYQ73:KYQ77)","v":0},{"$f":"SUM(KYR73:KYR77)","v":0},{"$f":"SUM(KYS73:KYS77)","v":0},{"$f":"SUM(KYT73:KYT77)","v":0},{"$f":"SUM(KYU73:KYU77)","v":0},{"$f":"SUM(KYV73:KYV77)","v":0},{"$f":"SUM(KYW73:KYW77)","v":0},{"$f":"SUM(KYX73:KYX77)","v":0},{"$f":"SUM(KYY73:KYY77)","v":0},{"$f":"SUM(KYZ73:KYZ77)","v":0},{"$f":"SUM(KZA73:KZA77)","v":0},{"$f":"SUM(KZB73:KZB77)","v":0},{"$f":"SUM(KZC73:KZC77)","v":0},{"$f":"SUM(KZD73:KZD77)","v":0},{"$f":"SUM(KZE73:KZE77)","v":0},{"$f":"SUM(KZF73:KZF77)","v":0},{"$f":"SUM(KZG73:KZG77)","v":0},{"$f":"SUM(KZH73:KZH77)","v":0},{"$f":"SUM(KZI73:KZI77)","v":0},{"$f":"SUM(KZJ73:KZJ77)","v":0},{"$f":"SUM(KZK73:KZK77)","v":0},{"$f":"SUM(KZL73:KZL77)","v":0},{"$f":"SUM(KZM73:KZM77)","v":0},{"$f":"SUM(KZN73:KZN77)","v":0},{"$f":"SUM(KZO73:KZO77)","v":0},{"$f":"SUM(KZP73:KZP77)","v":0},{"$f":"SUM(KZQ73:KZQ77)","v":0},{"$f":"SUM(KZR73:KZR77)","v":0},{"$f":"SUM(KZS73:KZS77)","v":0},{"$f":"SUM(KZT73:KZT77)","v":0},{"$f":"SUM(KZU73:KZU77)","v":0},{"$f":"SUM(KZV73:KZV77)","v":0},{"$f":"SUM(KZW73:KZW77)","v":0},{"$f":"SUM(KZX73:KZX77)","v":0},{"$f":"SUM(KZY73:KZY77)","v":0},{"$f":"SUM(KZZ73:KZZ77)","v":0},{"$f":"SUM(LAA73:LAA77)","v":0},{"$f":"SUM(LAB73:LAB77)","v":0},{"$f":"SUM(LAC73:LAC77)","v":0},{"$f":"SUM(LAD73:LAD77)","v":0},{"$f":"SUM(LAE73:LAE77)","v":0},{"$f":"SUM(LAF73:LAF77)","v":0},{"$f":"SUM(LAG73:LAG77)","v":0},{"$f":"SUM(LAH73:LAH77)","v":0},{"$f":"SUM(LAI73:LAI77)","v":0},{"$f":"SUM(LAJ73:LAJ77)","v":0},{"$f":"SUM(LAK73:LAK77)","v":0},{"$f":"SUM(LAL73:LAL77)","v":0},{"$f":"SUM(LAM73:LAM77)","v":0},{"$f":"SUM(LAN73:LAN77)","v":0},{"$f":"SUM(LAO73:LAO77)","v":0},{"$f":"SUM(LAP73:LAP77)","v":0},{"$f":"SUM(LAQ73:LAQ77)","v":0},{"$f":"SUM(LAR73:LAR77)","v":0},{"$f":"SUM(LAS73:LAS77)","v":0},{"$f":"SUM(LAT73:LAT77)","v":0},{"$f":"SUM(LAU73:LAU77)","v":0},{"$f":"SUM(LAV73:LAV77)","v":0},{"$f":"SUM(LAW73:LAW77)","v":0},{"$f":"SUM(LAX73:LAX77)","v":0},{"$f":"SUM(LAY73:LAY77)","v":0},{"$f":"SUM(LAZ73:LAZ77)","v":0},{"$f":"SUM(LBA73:LBA77)","v":0},{"$f":"SUM(LBB73:LBB77)","v":0},{"$f":"SUM(LBC73:LBC77)","v":0},{"$f":"SUM(LBD73:LBD77)","v":0},{"$f":"SUM(LBE73:LBE77)","v":0},{"$f":"SUM(LBF73:LBF77)","v":0},{"$f":"SUM(LBG73:LBG77)","v":0},{"$f":"SUM(LBH73:LBH77)","v":0},{"$f":"SUM(LBI73:LBI77)","v":0},{"$f":"SUM(LBJ73:LBJ77)","v":0},{"$f":"SUM(LBK73:LBK77)","v":0},{"$f":"SUM(LBL73:LBL77)","v":0},{"$f":"SUM(LBM73:LBM77)","v":0},{"$f":"SUM(LBN73:LBN77)","v":0},{"$f":"SUM(LBO73:LBO77)","v":0},{"$f":"SUM(LBP73:LBP77)","v":0},{"$f":"SUM(LBQ73:LBQ77)","v":0},{"$f":"SUM(LBR73:LBR77)","v":0},{"$f":"SUM(LBS73:LBS77)","v":0},{"$f":"SUM(LBT73:LBT77)","v":0},{"$f":"SUM(LBU73:LBU77)","v":0},{"$f":"SUM(LBV73:LBV77)","v":0},{"$f":"SUM(LBW73:LBW77)","v":0},{"$f":"SUM(LBX73:LBX77)","v":0},{"$f":"SUM(LBY73:LBY77)","v":0},{"$f":"SUM(LBZ73:LBZ77)","v":0},{"$f":"SUM(LCA73:LCA77)","v":0},{"$f":"SUM(LCB73:LCB77)","v":0},{"$f":"SUM(LCC73:LCC77)","v":0},{"$f":"SUM(LCD73:LCD77)","v":0},{"$f":"SUM(LCE73:LCE77)","v":0},{"$f":"SUM(LCF73:LCF77)","v":0},{"$f":"SUM(LCG73:LCG77)","v":0},{"$f":"SUM(LCH73:LCH77)","v":0},{"$f":"SUM(LCI73:LCI77)","v":0},{"$f":"SUM(LCJ73:LCJ77)","v":0},{"$f":"SUM(LCK73:LCK77)","v":0},{"$f":"SUM(LCL73:LCL77)","v":0},{"$f":"SUM(LCM73:LCM77)","v":0},{"$f":"SUM(LCN73:LCN77)","v":0},{"$f":"SUM(LCO73:LCO77)","v":0},{"$f":"SUM(LCP73:LCP77)","v":0},{"$f":"SUM(LCQ73:LCQ77)","v":0},{"$f":"SUM(LCR73:LCR77)","v":0},{"$f":"SUM(LCS73:LCS77)","v":0},{"$f":"SUM(LCT73:LCT77)","v":0},{"$f":"SUM(LCU73:LCU77)","v":0},{"$f":"SUM(LCV73:LCV77)","v":0},{"$f":"SUM(LCW73:LCW77)","v":0},{"$f":"SUM(LCX73:LCX77)","v":0},{"$f":"SUM(LCY73:LCY77)","v":0},{"$f":"SUM(LCZ73:LCZ77)","v":0},{"$f":"SUM(LDA73:LDA77)","v":0},{"$f":"SUM(LDB73:LDB77)","v":0},{"$f":"SUM(LDC73:LDC77)","v":0},{"$f":"SUM(LDD73:LDD77)","v":0},{"$f":"SUM(LDE73:LDE77)","v":0},{"$f":"SUM(LDF73:LDF77)","v":0},{"$f":"SUM(LDG73:LDG77)","v":0},{"$f":"SUM(LDH73:LDH77)","v":0},{"$f":"SUM(LDI73:LDI77)","v":0},{"$f":"SUM(LDJ73:LDJ77)","v":0},{"$f":"SUM(LDK73:LDK77)","v":0},{"$f":"SUM(LDL73:LDL77)","v":0},{"$f":"SUM(LDM73:LDM77)","v":0},{"$f":"SUM(LDN73:LDN77)","v":0},{"$f":"SUM(LDO73:LDO77)","v":0},{"$f":"SUM(LDP73:LDP77)","v":0},{"$f":"SUM(LDQ73:LDQ77)","v":0},{"$f":"SUM(LDR73:LDR77)","v":0},{"$f":"SUM(LDS73:LDS77)","v":0},{"$f":"SUM(LDT73:LDT77)","v":0},{"$f":"SUM(LDU73:LDU77)","v":0},{"$f":"SUM(LDV73:LDV77)","v":0},{"$f":"SUM(LDW73:LDW77)","v":0},{"$f":"SUM(LDX73:LDX77)","v":0},{"$f":"SUM(LDY73:LDY77)","v":0},{"$f":"SUM(LDZ73:LDZ77)","v":0},{"$f":"SUM(LEA73:LEA77)","v":0},{"$f":"SUM(LEB73:LEB77)","v":0},{"$f":"SUM(LEC73:LEC77)","v":0},{"$f":"SUM(LED73:LED77)","v":0},{"$f":"SUM(LEE73:LEE77)","v":0},{"$f":"SUM(LEF73:LEF77)","v":0},{"$f":"SUM(LEG73:LEG77)","v":0},{"$f":"SUM(LEH73:LEH77)","v":0},{"$f":"SUM(LEI73:LEI77)","v":0},{"$f":"SUM(LEJ73:LEJ77)","v":0},{"$f":"SUM(LEK73:LEK77)","v":0},{"$f":"SUM(LEL73:LEL77)","v":0},{"$f":"SUM(LEM73:LEM77)","v":0},{"$f":"SUM(LEN73:LEN77)","v":0},{"$f":"SUM(LEO73:LEO77)","v":0},{"$f":"SUM(LEP73:LEP77)","v":0},{"$f":"SUM(LEQ73:LEQ77)","v":0},{"$f":"SUM(LER73:LER77)","v":0},{"$f":"SUM(LES73:LES77)","v":0},{"$f":"SUM(LET73:LET77)","v":0},{"$f":"SUM(LEU73:LEU77)","v":0},{"$f":"SUM(LEV73:LEV77)","v":0},{"$f":"SUM(LEW73:LEW77)","v":0},{"$f":"SUM(LEX73:LEX77)","v":0},{"$f":"SUM(LEY73:LEY77)","v":0},{"$f":"SUM(LEZ73:LEZ77)","v":0},{"$f":"SUM(LFA73:LFA77)","v":0},{"$f":"SUM(LFB73:LFB77)","v":0},{"$f":"SUM(LFC73:LFC77)","v":0},{"$f":"SUM(LFD73:LFD77)","v":0},{"$f":"SUM(LFE73:LFE77)","v":0},{"$f":"SUM(LFF73:LFF77)","v":0},{"$f":"SUM(LFG73:LFG77)","v":0},{"$f":"SUM(LFH73:LFH77)","v":0},{"$f":"SUM(LFI73:LFI77)","v":0},{"$f":"SUM(LFJ73:LFJ77)","v":0},{"$f":"SUM(LFK73:LFK77)","v":0},{"$f":"SUM(LFL73:LFL77)","v":0},{"$f":"SUM(LFM73:LFM77)","v":0},{"$f":"SUM(LFN73:LFN77)","v":0},{"$f":"SUM(LFO73:LFO77)","v":0},{"$f":"SUM(LFP73:LFP77)","v":0},{"$f":"SUM(LFQ73:LFQ77)","v":0},{"$f":"SUM(LFR73:LFR77)","v":0},{"$f":"SUM(LFS73:LFS77)","v":0},{"$f":"SUM(LFT73:LFT77)","v":0},{"$f":"SUM(LFU73:LFU77)","v":0},{"$f":"SUM(LFV73:LFV77)","v":0},{"$f":"SUM(LFW73:LFW77)","v":0},{"$f":"SUM(LFX73:LFX77)","v":0},{"$f":"SUM(LFY73:LFY77)","v":0},{"$f":"SUM(LFZ73:LFZ77)","v":0},{"$f":"SUM(LGA73:LGA77)","v":0},{"$f":"SUM(LGB73:LGB77)","v":0},{"$f":"SUM(LGC73:LGC77)","v":0},{"$f":"SUM(LGD73:LGD77)","v":0},{"$f":"SUM(LGE73:LGE77)","v":0},{"$f":"SUM(LGF73:LGF77)","v":0},{"$f":"SUM(LGG73:LGG77)","v":0},{"$f":"SUM(LGH73:LGH77)","v":0},{"$f":"SUM(LGI73:LGI77)","v":0},{"$f":"SUM(LGJ73:LGJ77)","v":0},{"$f":"SUM(LGK73:LGK77)","v":0},{"$f":"SUM(LGL73:LGL77)","v":0},{"$f":"SUM(LGM73:LGM77)","v":0},{"$f":"SUM(LGN73:LGN77)","v":0},{"$f":"SUM(LGO73:LGO77)","v":0},{"$f":"SUM(LGP73:LGP77)","v":0},{"$f":"SUM(LGQ73:LGQ77)","v":0},{"$f":"SUM(LGR73:LGR77)","v":0},{"$f":"SUM(LGS73:LGS77)","v":0},{"$f":"SUM(LGT73:LGT77)","v":0},{"$f":"SUM(LGU73:LGU77)","v":0},{"$f":"SUM(LGV73:LGV77)","v":0},{"$f":"SUM(LGW73:LGW77)","v":0},{"$f":"SUM(LGX73:LGX77)","v":0},{"$f":"SUM(LGY73:LGY77)","v":0},{"$f":"SUM(LGZ73:LGZ77)","v":0},{"$f":"SUM(LHA73:LHA77)","v":0},{"$f":"SUM(LHB73:LHB77)","v":0},{"$f":"SUM(LHC73:LHC77)","v":0},{"$f":"SUM(LHD73:LHD77)","v":0},{"$f":"SUM(LHE73:LHE77)","v":0},{"$f":"SUM(LHF73:LHF77)","v":0},{"$f":"SUM(LHG73:LHG77)","v":0},{"$f":"SUM(LHH73:LHH77)","v":0},{"$f":"SUM(LHI73:LHI77)","v":0},{"$f":"SUM(LHJ73:LHJ77)","v":0},{"$f":"SUM(LHK73:LHK77)","v":0},{"$f":"SUM(LHL73:LHL77)","v":0},{"$f":"SUM(LHM73:LHM77)","v":0},{"$f":"SUM(LHN73:LHN77)","v":0},{"$f":"SUM(LHO73:LHO77)","v":0},{"$f":"SUM(LHP73:LHP77)","v":0},{"$f":"SUM(LHQ73:LHQ77)","v":0},{"$f":"SUM(LHR73:LHR77)","v":0},{"$f":"SUM(LHS73:LHS77)","v":0},{"$f":"SUM(LHT73:LHT77)","v":0},{"$f":"SUM(LHU73:LHU77)","v":0},{"$f":"SUM(LHV73:LHV77)","v":0},{"$f":"SUM(LHW73:LHW77)","v":0},{"$f":"SUM(LHX73:LHX77)","v":0},{"$f":"SUM(LHY73:LHY77)","v":0},{"$f":"SUM(LHZ73:LHZ77)","v":0},{"$f":"SUM(LIA73:LIA77)","v":0},{"$f":"SUM(LIB73:LIB77)","v":0},{"$f":"SUM(LIC73:LIC77)","v":0},{"$f":"SUM(LID73:LID77)","v":0},{"$f":"SUM(LIE73:LIE77)","v":0},{"$f":"SUM(LIF73:LIF77)","v":0},{"$f":"SUM(LIG73:LIG77)","v":0},{"$f":"SUM(LIH73:LIH77)","v":0},{"$f":"SUM(LII73:LII77)","v":0},{"$f":"SUM(LIJ73:LIJ77)","v":0},{"$f":"SUM(LIK73:LIK77)","v":0},{"$f":"SUM(LIL73:LIL77)","v":0},{"$f":"SUM(LIM73:LIM77)","v":0},{"$f":"SUM(LIN73:LIN77)","v":0},{"$f":"SUM(LIO73:LIO77)","v":0},{"$f":"SUM(LIP73:LIP77)","v":0},{"$f":"SUM(LIQ73:LIQ77)","v":0},{"$f":"SUM(LIR73:LIR77)","v":0},{"$f":"SUM(LIS73:LIS77)","v":0},{"$f":"SUM(LIT73:LIT77)","v":0},{"$f":"SUM(LIU73:LIU77)","v":0},{"$f":"SUM(LIV73:LIV77)","v":0},{"$f":"SUM(LIW73:LIW77)","v":0},{"$f":"SUM(LIX73:LIX77)","v":0},{"$f":"SUM(LIY73:LIY77)","v":0},{"$f":"SUM(LIZ73:LIZ77)","v":0},{"$f":"SUM(LJA73:LJA77)","v":0},{"$f":"SUM(LJB73:LJB77)","v":0},{"$f":"SUM(LJC73:LJC77)","v":0},{"$f":"SUM(LJD73:LJD77)","v":0},{"$f":"SUM(LJE73:LJE77)","v":0},{"$f":"SUM(LJF73:LJF77)","v":0},{"$f":"SUM(LJG73:LJG77)","v":0},{"$f":"SUM(LJH73:LJH77)","v":0},{"$f":"SUM(LJI73:LJI77)","v":0},{"$f":"SUM(LJJ73:LJJ77)","v":0},{"$f":"SUM(LJK73:LJK77)","v":0},{"$f":"SUM(LJL73:LJL77)","v":0},{"$f":"SUM(LJM73:LJM77)","v":0},{"$f":"SUM(LJN73:LJN77)","v":0},{"$f":"SUM(LJO73:LJO77)","v":0},{"$f":"SUM(LJP73:LJP77)","v":0},{"$f":"SUM(LJQ73:LJQ77)","v":0},{"$f":"SUM(LJR73:LJR77)","v":0},{"$f":"SUM(LJS73:LJS77)","v":0},{"$f":"SUM(LJT73:LJT77)","v":0},{"$f":"SUM(LJU73:LJU77)","v":0},{"$f":"SUM(LJV73:LJV77)","v":0},{"$f":"SUM(LJW73:LJW77)","v":0},{"$f":"SUM(LJX73:LJX77)","v":0},{"$f":"SUM(LJY73:LJY77)","v":0},{"$f":"SUM(LJZ73:LJZ77)","v":0},{"$f":"SUM(LKA73:LKA77)","v":0},{"$f":"SUM(LKB73:LKB77)","v":0},{"$f":"SUM(LKC73:LKC77)","v":0},{"$f":"SUM(LKD73:LKD77)","v":0},{"$f":"SUM(LKE73:LKE77)","v":0},{"$f":"SUM(LKF73:LKF77)","v":0},{"$f":"SUM(LKG73:LKG77)","v":0},{"$f":"SUM(LKH73:LKH77)","v":0},{"$f":"SUM(LKI73:LKI77)","v":0},{"$f":"SUM(LKJ73:LKJ77)","v":0},{"$f":"SUM(LKK73:LKK77)","v":0},{"$f":"SUM(LKL73:LKL77)","v":0},{"$f":"SUM(LKM73:LKM77)","v":0},{"$f":"SUM(LKN73:LKN77)","v":0},{"$f":"SUM(LKO73:LKO77)","v":0},{"$f":"SUM(LKP73:LKP77)","v":0},{"$f":"SUM(LKQ73:LKQ77)","v":0},{"$f":"SUM(LKR73:LKR77)","v":0},{"$f":"SUM(LKS73:LKS77)","v":0},{"$f":"SUM(LKT73:LKT77)","v":0},{"$f":"SUM(LKU73:LKU77)","v":0},{"$f":"SUM(LKV73:LKV77)","v":0},{"$f":"SUM(LKW73:LKW77)","v":0},{"$f":"SUM(LKX73:LKX77)","v":0},{"$f":"SUM(LKY73:LKY77)","v":0},{"$f":"SUM(LKZ73:LKZ77)","v":0},{"$f":"SUM(LLA73:LLA77)","v":0},{"$f":"SUM(LLB73:LLB77)","v":0},{"$f":"SUM(LLC73:LLC77)","v":0},{"$f":"SUM(LLD73:LLD77)","v":0},{"$f":"SUM(LLE73:LLE77)","v":0},{"$f":"SUM(LLF73:LLF77)","v":0},{"$f":"SUM(LLG73:LLG77)","v":0},{"$f":"SUM(LLH73:LLH77)","v":0},{"$f":"SUM(LLI73:LLI77)","v":0},{"$f":"SUM(LLJ73:LLJ77)","v":0},{"$f":"SUM(LLK73:LLK77)","v":0},{"$f":"SUM(LLL73:LLL77)","v":0},{"$f":"SUM(LLM73:LLM77)","v":0},{"$f":"SUM(LLN73:LLN77)","v":0},{"$f":"SUM(LLO73:LLO77)","v":0},{"$f":"SUM(LLP73:LLP77)","v":0},{"$f":"SUM(LLQ73:LLQ77)","v":0},{"$f":"SUM(LLR73:LLR77)","v":0},{"$f":"SUM(LLS73:LLS77)","v":0},{"$f":"SUM(LLT73:LLT77)","v":0},{"$f":"SUM(LLU73:LLU77)","v":0},{"$f":"SUM(LLV73:LLV77)","v":0},{"$f":"SUM(LLW73:LLW77)","v":0},{"$f":"SUM(LLX73:LLX77)","v":0},{"$f":"SUM(LLY73:LLY77)","v":0},{"$f":"SUM(LLZ73:LLZ77)","v":0},{"$f":"SUM(LMA73:LMA77)","v":0},{"$f":"SUM(LMB73:LMB77)","v":0},{"$f":"SUM(LMC73:LMC77)","v":0},{"$f":"SUM(LMD73:LMD77)","v":0},{"$f":"SUM(LME73:LME77)","v":0},{"$f":"SUM(LMF73:LMF77)","v":0},{"$f":"SUM(LMG73:LMG77)","v":0},{"$f":"SUM(LMH73:LMH77)","v":0},{"$f":"SUM(LMI73:LMI77)","v":0},{"$f":"SUM(LMJ73:LMJ77)","v":0},{"$f":"SUM(LMK73:LMK77)","v":0},{"$f":"SUM(LML73:LML77)","v":0},{"$f":"SUM(LMM73:LMM77)","v":0},{"$f":"SUM(LMN73:LMN77)","v":0},{"$f":"SUM(LMO73:LMO77)","v":0},{"$f":"SUM(LMP73:LMP77)","v":0},{"$f":"SUM(LMQ73:LMQ77)","v":0},{"$f":"SUM(LMR73:LMR77)","v":0},{"$f":"SUM(LMS73:LMS77)","v":0},{"$f":"SUM(LMT73:LMT77)","v":0},{"$f":"SUM(LMU73:LMU77)","v":0},{"$f":"SUM(LMV73:LMV77)","v":0},{"$f":"SUM(LMW73:LMW77)","v":0},{"$f":"SUM(LMX73:LMX77)","v":0},{"$f":"SUM(LMY73:LMY77)","v":0},{"$f":"SUM(LMZ73:LMZ77)","v":0},{"$f":"SUM(LNA73:LNA77)","v":0},{"$f":"SUM(LNB73:LNB77)","v":0},{"$f":"SUM(LNC73:LNC77)","v":0},{"$f":"SUM(LND73:LND77)","v":0},{"$f":"SUM(LNE73:LNE77)","v":0},{"$f":"SUM(LNF73:LNF77)","v":0},{"$f":"SUM(LNG73:LNG77)","v":0},{"$f":"SUM(LNH73:LNH77)","v":0},{"$f":"SUM(LNI73:LNI77)","v":0},{"$f":"SUM(LNJ73:LNJ77)","v":0},{"$f":"SUM(LNK73:LNK77)","v":0},{"$f":"SUM(LNL73:LNL77)","v":0},{"$f":"SUM(LNM73:LNM77)","v":0},{"$f":"SUM(LNN73:LNN77)","v":0},{"$f":"SUM(LNO73:LNO77)","v":0},{"$f":"SUM(LNP73:LNP77)","v":0},{"$f":"SUM(LNQ73:LNQ77)","v":0},{"$f":"SUM(LNR73:LNR77)","v":0},{"$f":"SUM(LNS73:LNS77)","v":0},{"$f":"SUM(LNT73:LNT77)","v":0},{"$f":"SUM(LNU73:LNU77)","v":0},{"$f":"SUM(LNV73:LNV77)","v":0},{"$f":"SUM(LNW73:LNW77)","v":0},{"$f":"SUM(LNX73:LNX77)","v":0},{"$f":"SUM(LNY73:LNY77)","v":0},{"$f":"SUM(LNZ73:LNZ77)","v":0},{"$f":"SUM(LOA73:LOA77)","v":0},{"$f":"SUM(LOB73:LOB77)","v":0},{"$f":"SUM(LOC73:LOC77)","v":0},{"$f":"SUM(LOD73:LOD77)","v":0},{"$f":"SUM(LOE73:LOE77)","v":0},{"$f":"SUM(LOF73:LOF77)","v":0},{"$f":"SUM(LOG73:LOG77)","v":0},{"$f":"SUM(LOH73:LOH77)","v":0},{"$f":"SUM(LOI73:LOI77)","v":0},{"$f":"SUM(LOJ73:LOJ77)","v":0},{"$f":"SUM(LOK73:LOK77)","v":0},{"$f":"SUM(LOL73:LOL77)","v":0},{"$f":"SUM(LOM73:LOM77)","v":0},{"$f":"SUM(LON73:LON77)","v":0},{"$f":"SUM(LOO73:LOO77)","v":0},{"$f":"SUM(LOP73:LOP77)","v":0},{"$f":"SUM(LOQ73:LOQ77)","v":0},{"$f":"SUM(LOR73:LOR77)","v":0},{"$f":"SUM(LOS73:LOS77)","v":0},{"$f":"SUM(LOT73:LOT77)","v":0},{"$f":"SUM(LOU73:LOU77)","v":0},{"$f":"SUM(LOV73:LOV77)","v":0},{"$f":"SUM(LOW73:LOW77)","v":0},{"$f":"SUM(LOX73:LOX77)","v":0},{"$f":"SUM(LOY73:LOY77)","v":0},{"$f":"SUM(LOZ73:LOZ77)","v":0},{"$f":"SUM(LPA73:LPA77)","v":0},{"$f":"SUM(LPB73:LPB77)","v":0},{"$f":"SUM(LPC73:LPC77)","v":0},{"$f":"SUM(LPD73:LPD77)","v":0},{"$f":"SUM(LPE73:LPE77)","v":0},{"$f":"SUM(LPF73:LPF77)","v":0},{"$f":"SUM(LPG73:LPG77)","v":0},{"$f":"SUM(LPH73:LPH77)","v":0},{"$f":"SUM(LPI73:LPI77)","v":0},{"$f":"SUM(LPJ73:LPJ77)","v":0},{"$f":"SUM(LPK73:LPK77)","v":0},{"$f":"SUM(LPL73:LPL77)","v":0},{"$f":"SUM(LPM73:LPM77)","v":0},{"$f":"SUM(LPN73:LPN77)","v":0},{"$f":"SUM(LPO73:LPO77)","v":0},{"$f":"SUM(LPP73:LPP77)","v":0},{"$f":"SUM(LPQ73:LPQ77)","v":0},{"$f":"SUM(LPR73:LPR77)","v":0},{"$f":"SUM(LPS73:LPS77)","v":0},{"$f":"SUM(LPT73:LPT77)","v":0},{"$f":"SUM(LPU73:LPU77)","v":0},{"$f":"SUM(LPV73:LPV77)","v":0},{"$f":"SUM(LPW73:LPW77)","v":0},{"$f":"SUM(LPX73:LPX77)","v":0},{"$f":"SUM(LPY73:LPY77)","v":0},{"$f":"SUM(LPZ73:LPZ77)","v":0},{"$f":"SUM(LQA73:LQA77)","v":0},{"$f":"SUM(LQB73:LQB77)","v":0},{"$f":"SUM(LQC73:LQC77)","v":0},{"$f":"SUM(LQD73:LQD77)","v":0},{"$f":"SUM(LQE73:LQE77)","v":0},{"$f":"SUM(LQF73:LQF77)","v":0},{"$f":"SUM(LQG73:LQG77)","v":0},{"$f":"SUM(LQH73:LQH77)","v":0},{"$f":"SUM(LQI73:LQI77)","v":0},{"$f":"SUM(LQJ73:LQJ77)","v":0},{"$f":"SUM(LQK73:LQK77)","v":0},{"$f":"SUM(LQL73:LQL77)","v":0},{"$f":"SUM(LQM73:LQM77)","v":0},{"$f":"SUM(LQN73:LQN77)","v":0},{"$f":"SUM(LQO73:LQO77)","v":0},{"$f":"SUM(LQP73:LQP77)","v":0},{"$f":"SUM(LQQ73:LQQ77)","v":0},{"$f":"SUM(LQR73:LQR77)","v":0},{"$f":"SUM(LQS73:LQS77)","v":0},{"$f":"SUM(LQT73:LQT77)","v":0},{"$f":"SUM(LQU73:LQU77)","v":0},{"$f":"SUM(LQV73:LQV77)","v":0},{"$f":"SUM(LQW73:LQW77)","v":0},{"$f":"SUM(LQX73:LQX77)","v":0},{"$f":"SUM(LQY73:LQY77)","v":0},{"$f":"SUM(LQZ73:LQZ77)","v":0},{"$f":"SUM(LRA73:LRA77)","v":0},{"$f":"SUM(LRB73:LRB77)","v":0},{"$f":"SUM(LRC73:LRC77)","v":0},{"$f":"SUM(LRD73:LRD77)","v":0},{"$f":"SUM(LRE73:LRE77)","v":0},{"$f":"SUM(LRF73:LRF77)","v":0},{"$f":"SUM(LRG73:LRG77)","v":0},{"$f":"SUM(LRH73:LRH77)","v":0},{"$f":"SUM(LRI73:LRI77)","v":0},{"$f":"SUM(LRJ73:LRJ77)","v":0},{"$f":"SUM(LRK73:LRK77)","v":0},{"$f":"SUM(LRL73:LRL77)","v":0},{"$f":"SUM(LRM73:LRM77)","v":0},{"$f":"SUM(LRN73:LRN77)","v":0},{"$f":"SUM(LRO73:LRO77)","v":0},{"$f":"SUM(LRP73:LRP77)","v":0},{"$f":"SUM(LRQ73:LRQ77)","v":0},{"$f":"SUM(LRR73:LRR77)","v":0},{"$f":"SUM(LRS73:LRS77)","v":0},{"$f":"SUM(LRT73:LRT77)","v":0},{"$f":"SUM(LRU73:LRU77)","v":0},{"$f":"SUM(LRV73:LRV77)","v":0},{"$f":"SUM(LRW73:LRW77)","v":0},{"$f":"SUM(LRX73:LRX77)","v":0},{"$f":"SUM(LRY73:LRY77)","v":0},{"$f":"SUM(LRZ73:LRZ77)","v":0},{"$f":"SUM(LSA73:LSA77)","v":0},{"$f":"SUM(LSB73:LSB77)","v":0},{"$f":"SUM(LSC73:LSC77)","v":0},{"$f":"SUM(LSD73:LSD77)","v":0},{"$f":"SUM(LSE73:LSE77)","v":0},{"$f":"SUM(LSF73:LSF77)","v":0},{"$f":"SUM(LSG73:LSG77)","v":0},{"$f":"SUM(LSH73:LSH77)","v":0},{"$f":"SUM(LSI73:LSI77)","v":0},{"$f":"SUM(LSJ73:LSJ77)","v":0},{"$f":"SUM(LSK73:LSK77)","v":0},{"$f":"SUM(LSL73:LSL77)","v":0},{"$f":"SUM(LSM73:LSM77)","v":0},{"$f":"SUM(LSN73:LSN77)","v":0},{"$f":"SUM(LSO73:LSO77)","v":0},{"$f":"SUM(LSP73:LSP77)","v":0},{"$f":"SUM(LSQ73:LSQ77)","v":0},{"$f":"SUM(LSR73:LSR77)","v":0},{"$f":"SUM(LSS73:LSS77)","v":0},{"$f":"SUM(LST73:LST77)","v":0},{"$f":"SUM(LSU73:LSU77)","v":0},{"$f":"SUM(LSV73:LSV77)","v":0},{"$f":"SUM(LSW73:LSW77)","v":0},{"$f":"SUM(LSX73:LSX77)","v":0},{"$f":"SUM(LSY73:LSY77)","v":0},{"$f":"SUM(LSZ73:LSZ77)","v":0},{"$f":"SUM(LTA73:LTA77)","v":0},{"$f":"SUM(LTB73:LTB77)","v":0},{"$f":"SUM(LTC73:LTC77)","v":0},{"$f":"SUM(LTD73:LTD77)","v":0},{"$f":"SUM(LTE73:LTE77)","v":0},{"$f":"SUM(LTF73:LTF77)","v":0},{"$f":"SUM(LTG73:LTG77)","v":0},{"$f":"SUM(LTH73:LTH77)","v":0},{"$f":"SUM(LTI73:LTI77)","v":0},{"$f":"SUM(LTJ73:LTJ77)","v":0},{"$f":"SUM(LTK73:LTK77)","v":0},{"$f":"SUM(LTL73:LTL77)","v":0},{"$f":"SUM(LTM73:LTM77)","v":0},{"$f":"SUM(LTN73:LTN77)","v":0},{"$f":"SUM(LTO73:LTO77)","v":0},{"$f":"SUM(LTP73:LTP77)","v":0},{"$f":"SUM(LTQ73:LTQ77)","v":0},{"$f":"SUM(LTR73:LTR77)","v":0},{"$f":"SUM(LTS73:LTS77)","v":0},{"$f":"SUM(LTT73:LTT77)","v":0},{"$f":"SUM(LTU73:LTU77)","v":0},{"$f":"SUM(LTV73:LTV77)","v":0},{"$f":"SUM(LTW73:LTW77)","v":0},{"$f":"SUM(LTX73:LTX77)","v":0},{"$f":"SUM(LTY73:LTY77)","v":0},{"$f":"SUM(LTZ73:LTZ77)","v":0},{"$f":"SUM(LUA73:LUA77)","v":0},{"$f":"SUM(LUB73:LUB77)","v":0},{"$f":"SUM(LUC73:LUC77)","v":0},{"$f":"SUM(LUD73:LUD77)","v":0},{"$f":"SUM(LUE73:LUE77)","v":0},{"$f":"SUM(LUF73:LUF77)","v":0},{"$f":"SUM(LUG73:LUG77)","v":0},{"$f":"SUM(LUH73:LUH77)","v":0},{"$f":"SUM(LUI73:LUI77)","v":0},{"$f":"SUM(LUJ73:LUJ77)","v":0},{"$f":"SUM(LUK73:LUK77)","v":0},{"$f":"SUM(LUL73:LUL77)","v":0},{"$f":"SUM(LUM73:LUM77)","v":0},{"$f":"SUM(LUN73:LUN77)","v":0},{"$f":"SUM(LUO73:LUO77)","v":0},{"$f":"SUM(LUP73:LUP77)","v":0},{"$f":"SUM(LUQ73:LUQ77)","v":0},{"$f":"SUM(LUR73:LUR77)","v":0},{"$f":"SUM(LUS73:LUS77)","v":0},{"$f":"SUM(LUT73:LUT77)","v":0},{"$f":"SUM(LUU73:LUU77)","v":0},{"$f":"SUM(LUV73:LUV77)","v":0},{"$f":"SUM(LUW73:LUW77)","v":0},{"$f":"SUM(LUX73:LUX77)","v":0},{"$f":"SUM(LUY73:LUY77)","v":0},{"$f":"SUM(LUZ73:LUZ77)","v":0},{"$f":"SUM(LVA73:LVA77)","v":0},{"$f":"SUM(LVB73:LVB77)","v":0},{"$f":"SUM(LVC73:LVC77)","v":0},{"$f":"SUM(LVD73:LVD77)","v":0},{"$f":"SUM(LVE73:LVE77)","v":0},{"$f":"SUM(LVF73:LVF77)","v":0},{"$f":"SUM(LVG73:LVG77)","v":0},{"$f":"SUM(LVH73:LVH77)","v":0},{"$f":"SUM(LVI73:LVI77)","v":0},{"$f":"SUM(LVJ73:LVJ77)","v":0},{"$f":"SUM(LVK73:LVK77)","v":0},{"$f":"SUM(LVL73:LVL77)","v":0},{"$f":"SUM(LVM73:LVM77)","v":0},{"$f":"SUM(LVN73:LVN77)","v":0},{"$f":"SUM(LVO73:LVO77)","v":0},{"$f":"SUM(LVP73:LVP77)","v":0},{"$f":"SUM(LVQ73:LVQ77)","v":0},{"$f":"SUM(LVR73:LVR77)","v":0},{"$f":"SUM(LVS73:LVS77)","v":0},{"$f":"SUM(LVT73:LVT77)","v":0},{"$f":"SUM(LVU73:LVU77)","v":0},{"$f":"SUM(LVV73:LVV77)","v":0},{"$f":"SUM(LVW73:LVW77)","v":0},{"$f":"SUM(LVX73:LVX77)","v":0},{"$f":"SUM(LVY73:LVY77)","v":0},{"$f":"SUM(LVZ73:LVZ77)","v":0},{"$f":"SUM(LWA73:LWA77)","v":0},{"$f":"SUM(LWB73:LWB77)","v":0},{"$f":"SUM(LWC73:LWC77)","v":0},{"$f":"SUM(LWD73:LWD77)","v":0},{"$f":"SUM(LWE73:LWE77)","v":0},{"$f":"SUM(LWF73:LWF77)","v":0},{"$f":"SUM(LWG73:LWG77)","v":0},{"$f":"SUM(LWH73:LWH77)","v":0},{"$f":"SUM(LWI73:LWI77)","v":0},{"$f":"SUM(LWJ73:LWJ77)","v":0},{"$f":"SUM(LWK73:LWK77)","v":0},{"$f":"SUM(LWL73:LWL77)","v":0},{"$f":"SUM(LWM73:LWM77)","v":0},{"$f":"SUM(LWN73:LWN77)","v":0},{"$f":"SUM(LWO73:LWO77)","v":0},{"$f":"SUM(LWP73:LWP77)","v":0},{"$f":"SUM(LWQ73:LWQ77)","v":0},{"$f":"SUM(LWR73:LWR77)","v":0},{"$f":"SUM(LWS73:LWS77)","v":0},{"$f":"SUM(LWT73:LWT77)","v":0},{"$f":"SUM(LWU73:LWU77)","v":0},{"$f":"SUM(LWV73:LWV77)","v":0},{"$f":"SUM(LWW73:LWW77)","v":0},{"$f":"SUM(LWX73:LWX77)","v":0},{"$f":"SUM(LWY73:LWY77)","v":0},{"$f":"SUM(LWZ73:LWZ77)","v":0},{"$f":"SUM(LXA73:LXA77)","v":0},{"$f":"SUM(LXB73:LXB77)","v":0},{"$f":"SUM(LXC73:LXC77)","v":0},{"$f":"SUM(LXD73:LXD77)","v":0},{"$f":"SUM(LXE73:LXE77)","v":0},{"$f":"SUM(LXF73:LXF77)","v":0},{"$f":"SUM(LXG73:LXG77)","v":0},{"$f":"SUM(LXH73:LXH77)","v":0},{"$f":"SUM(LXI73:LXI77)","v":0},{"$f":"SUM(LXJ73:LXJ77)","v":0},{"$f":"SUM(LXK73:LXK77)","v":0},{"$f":"SUM(LXL73:LXL77)","v":0},{"$f":"SUM(LXM73:LXM77)","v":0},{"$f":"SUM(LXN73:LXN77)","v":0},{"$f":"SUM(LXO73:LXO77)","v":0},{"$f":"SUM(LXP73:LXP77)","v":0},{"$f":"SUM(LXQ73:LXQ77)","v":0},{"$f":"SUM(LXR73:LXR77)","v":0},{"$f":"SUM(LXS73:LXS77)","v":0},{"$f":"SUM(LXT73:LXT77)","v":0},{"$f":"SUM(LXU73:LXU77)","v":0},{"$f":"SUM(LXV73:LXV77)","v":0},{"$f":"SUM(LXW73:LXW77)","v":0},{"$f":"SUM(LXX73:LXX77)","v":0},{"$f":"SUM(LXY73:LXY77)","v":0},{"$f":"SUM(LXZ73:LXZ77)","v":0},{"$f":"SUM(LYA73:LYA77)","v":0},{"$f":"SUM(LYB73:LYB77)","v":0},{"$f":"SUM(LYC73:LYC77)","v":0},{"$f":"SUM(LYD73:LYD77)","v":0},{"$f":"SUM(LYE73:LYE77)","v":0},{"$f":"SUM(LYF73:LYF77)","v":0},{"$f":"SUM(LYG73:LYG77)","v":0},{"$f":"SUM(LYH73:LYH77)","v":0},{"$f":"SUM(LYI73:LYI77)","v":0},{"$f":"SUM(LYJ73:LYJ77)","v":0},{"$f":"SUM(LYK73:LYK77)","v":0},{"$f":"SUM(LYL73:LYL77)","v":0},{"$f":"SUM(LYM73:LYM77)","v":0},{"$f":"SUM(LYN73:LYN77)","v":0},{"$f":"SUM(LYO73:LYO77)","v":0},{"$f":"SUM(LYP73:LYP77)","v":0},{"$f":"SUM(LYQ73:LYQ77)","v":0},{"$f":"SUM(LYR73:LYR77)","v":0},{"$f":"SUM(LYS73:LYS77)","v":0},{"$f":"SUM(LYT73:LYT77)","v":0},{"$f":"SUM(LYU73:LYU77)","v":0},{"$f":"SUM(LYV73:LYV77)","v":0},{"$f":"SUM(LYW73:LYW77)","v":0},{"$f":"SUM(LYX73:LYX77)","v":0},{"$f":"SUM(LYY73:LYY77)","v":0},{"$f":"SUM(LYZ73:LYZ77)","v":0},{"$f":"SUM(LZA73:LZA77)","v":0},{"$f":"SUM(LZB73:LZB77)","v":0},{"$f":"SUM(LZC73:LZC77)","v":0},{"$f":"SUM(LZD73:LZD77)","v":0},{"$f":"SUM(LZE73:LZE77)","v":0},{"$f":"SUM(LZF73:LZF77)","v":0},{"$f":"SUM(LZG73:LZG77)","v":0},{"$f":"SUM(LZH73:LZH77)","v":0},{"$f":"SUM(LZI73:LZI77)","v":0},{"$f":"SUM(LZJ73:LZJ77)","v":0},{"$f":"SUM(LZK73:LZK77)","v":0},{"$f":"SUM(LZL73:LZL77)","v":0},{"$f":"SUM(LZM73:LZM77)","v":0},{"$f":"SUM(LZN73:LZN77)","v":0},{"$f":"SUM(LZO73:LZO77)","v":0},{"$f":"SUM(LZP73:LZP77)","v":0},{"$f":"SUM(LZQ73:LZQ77)","v":0},{"$f":"SUM(LZR73:LZR77)","v":0},{"$f":"SUM(LZS73:LZS77)","v":0},{"$f":"SUM(LZT73:LZT77)","v":0},{"$f":"SUM(LZU73:LZU77)","v":0},{"$f":"SUM(LZV73:LZV77)","v":0},{"$f":"SUM(LZW73:LZW77)","v":0},{"$f":"SUM(LZX73:LZX77)","v":0},{"$f":"SUM(LZY73:LZY77)","v":0},{"$f":"SUM(LZZ73:LZZ77)","v":0},{"$f":"SUM(MAA73:MAA77)","v":0},{"$f":"SUM(MAB73:MAB77)","v":0},{"$f":"SUM(MAC73:MAC77)","v":0},{"$f":"SUM(MAD73:MAD77)","v":0},{"$f":"SUM(MAE73:MAE77)","v":0},{"$f":"SUM(MAF73:MAF77)","v":0},{"$f":"SUM(MAG73:MAG77)","v":0},{"$f":"SUM(MAH73:MAH77)","v":0},{"$f":"SUM(MAI73:MAI77)","v":0},{"$f":"SUM(MAJ73:MAJ77)","v":0},{"$f":"SUM(MAK73:MAK77)","v":0},{"$f":"SUM(MAL73:MAL77)","v":0},{"$f":"SUM(MAM73:MAM77)","v":0},{"$f":"SUM(MAN73:MAN77)","v":0},{"$f":"SUM(MAO73:MAO77)","v":0},{"$f":"SUM(MAP73:MAP77)","v":0},{"$f":"SUM(MAQ73:MAQ77)","v":0},{"$f":"SUM(MAR73:MAR77)","v":0},{"$f":"SUM(MAS73:MAS77)","v":0},{"$f":"SUM(MAT73:MAT77)","v":0},{"$f":"SUM(MAU73:MAU77)","v":0},{"$f":"SUM(MAV73:MAV77)","v":0},{"$f":"SUM(MAW73:MAW77)","v":0},{"$f":"SUM(MAX73:MAX77)","v":0},{"$f":"SUM(MAY73:MAY77)","v":0},{"$f":"SUM(MAZ73:MAZ77)","v":0},{"$f":"SUM(MBA73:MBA77)","v":0},{"$f":"SUM(MBB73:MBB77)","v":0},{"$f":"SUM(MBC73:MBC77)","v":0},{"$f":"SUM(MBD73:MBD77)","v":0},{"$f":"SUM(MBE73:MBE77)","v":0},{"$f":"SUM(MBF73:MBF77)","v":0},{"$f":"SUM(MBG73:MBG77)","v":0},{"$f":"SUM(MBH73:MBH77)","v":0},{"$f":"SUM(MBI73:MBI77)","v":0},{"$f":"SUM(MBJ73:MBJ77)","v":0},{"$f":"SUM(MBK73:MBK77)","v":0},{"$f":"SUM(MBL73:MBL77)","v":0},{"$f":"SUM(MBM73:MBM77)","v":0},{"$f":"SUM(MBN73:MBN77)","v":0},{"$f":"SUM(MBO73:MBO77)","v":0},{"$f":"SUM(MBP73:MBP77)","v":0},{"$f":"SUM(MBQ73:MBQ77)","v":0},{"$f":"SUM(MBR73:MBR77)","v":0},{"$f":"SUM(MBS73:MBS77)","v":0},{"$f":"SUM(MBT73:MBT77)","v":0},{"$f":"SUM(MBU73:MBU77)","v":0},{"$f":"SUM(MBV73:MBV77)","v":0},{"$f":"SUM(MBW73:MBW77)","v":0},{"$f":"SUM(MBX73:MBX77)","v":0},{"$f":"SUM(MBY73:MBY77)","v":0},{"$f":"SUM(MBZ73:MBZ77)","v":0},{"$f":"SUM(MCA73:MCA77)","v":0},{"$f":"SUM(MCB73:MCB77)","v":0},{"$f":"SUM(MCC73:MCC77)","v":0},{"$f":"SUM(MCD73:MCD77)","v":0},{"$f":"SUM(MCE73:MCE77)","v":0},{"$f":"SUM(MCF73:MCF77)","v":0},{"$f":"SUM(MCG73:MCG77)","v":0},{"$f":"SUM(MCH73:MCH77)","v":0},{"$f":"SUM(MCI73:MCI77)","v":0},{"$f":"SUM(MCJ73:MCJ77)","v":0},{"$f":"SUM(MCK73:MCK77)","v":0},{"$f":"SUM(MCL73:MCL77)","v":0},{"$f":"SUM(MCM73:MCM77)","v":0},{"$f":"SUM(MCN73:MCN77)","v":0},{"$f":"SUM(MCO73:MCO77)","v":0},{"$f":"SUM(MCP73:MCP77)","v":0},{"$f":"SUM(MCQ73:MCQ77)","v":0},{"$f":"SUM(MCR73:MCR77)","v":0},{"$f":"SUM(MCS73:MCS77)","v":0},{"$f":"SUM(MCT73:MCT77)","v":0},{"$f":"SUM(MCU73:MCU77)","v":0},{"$f":"SUM(MCV73:MCV77)","v":0},{"$f":"SUM(MCW73:MCW77)","v":0},{"$f":"SUM(MCX73:MCX77)","v":0},{"$f":"SUM(MCY73:MCY77)","v":0},{"$f":"SUM(MCZ73:MCZ77)","v":0},{"$f":"SUM(MDA73:MDA77)","v":0},{"$f":"SUM(MDB73:MDB77)","v":0},{"$f":"SUM(MDC73:MDC77)","v":0},{"$f":"SUM(MDD73:MDD77)","v":0},{"$f":"SUM(MDE73:MDE77)","v":0},{"$f":"SUM(MDF73:MDF77)","v":0},{"$f":"SUM(MDG73:MDG77)","v":0},{"$f":"SUM(MDH73:MDH77)","v":0},{"$f":"SUM(MDI73:MDI77)","v":0},{"$f":"SUM(MDJ73:MDJ77)","v":0},{"$f":"SUM(MDK73:MDK77)","v":0},{"$f":"SUM(MDL73:MDL77)","v":0},{"$f":"SUM(MDM73:MDM77)","v":0},{"$f":"SUM(MDN73:MDN77)","v":0},{"$f":"SUM(MDO73:MDO77)","v":0},{"$f":"SUM(MDP73:MDP77)","v":0},{"$f":"SUM(MDQ73:MDQ77)","v":0},{"$f":"SUM(MDR73:MDR77)","v":0},{"$f":"SUM(MDS73:MDS77)","v":0},{"$f":"SUM(MDT73:MDT77)","v":0},{"$f":"SUM(MDU73:MDU77)","v":0},{"$f":"SUM(MDV73:MDV77)","v":0},{"$f":"SUM(MDW73:MDW77)","v":0},{"$f":"SUM(MDX73:MDX77)","v":0},{"$f":"SUM(MDY73:MDY77)","v":0},{"$f":"SUM(MDZ73:MDZ77)","v":0},{"$f":"SUM(MEA73:MEA77)","v":0},{"$f":"SUM(MEB73:MEB77)","v":0},{"$f":"SUM(MEC73:MEC77)","v":0},{"$f":"SUM(MED73:MED77)","v":0},{"$f":"SUM(MEE73:MEE77)","v":0},{"$f":"SUM(MEF73:MEF77)","v":0},{"$f":"SUM(MEG73:MEG77)","v":0},{"$f":"SUM(MEH73:MEH77)","v":0},{"$f":"SUM(MEI73:MEI77)","v":0},{"$f":"SUM(MEJ73:MEJ77)","v":0},{"$f":"SUM(MEK73:MEK77)","v":0},{"$f":"SUM(MEL73:MEL77)","v":0},{"$f":"SUM(MEM73:MEM77)","v":0},{"$f":"SUM(MEN73:MEN77)","v":0},{"$f":"SUM(MEO73:MEO77)","v":0},{"$f":"SUM(MEP73:MEP77)","v":0},{"$f":"SUM(MEQ73:MEQ77)","v":0},{"$f":"SUM(MER73:MER77)","v":0},{"$f":"SUM(MES73:MES77)","v":0},{"$f":"SUM(MET73:MET77)","v":0},{"$f":"SUM(MEU73:MEU77)","v":0},{"$f":"SUM(MEV73:MEV77)","v":0},{"$f":"SUM(MEW73:MEW77)","v":0},{"$f":"SUM(MEX73:MEX77)","v":0},{"$f":"SUM(MEY73:MEY77)","v":0},{"$f":"SUM(MEZ73:MEZ77)","v":0},{"$f":"SUM(MFA73:MFA77)","v":0},{"$f":"SUM(MFB73:MFB77)","v":0},{"$f":"SUM(MFC73:MFC77)","v":0},{"$f":"SUM(MFD73:MFD77)","v":0},{"$f":"SUM(MFE73:MFE77)","v":0},{"$f":"SUM(MFF73:MFF77)","v":0},{"$f":"SUM(MFG73:MFG77)","v":0},{"$f":"SUM(MFH73:MFH77)","v":0},{"$f":"SUM(MFI73:MFI77)","v":0},{"$f":"SUM(MFJ73:MFJ77)","v":0},{"$f":"SUM(MFK73:MFK77)","v":0},{"$f":"SUM(MFL73:MFL77)","v":0},{"$f":"SUM(MFM73:MFM77)","v":0},{"$f":"SUM(MFN73:MFN77)","v":0},{"$f":"SUM(MFO73:MFO77)","v":0},{"$f":"SUM(MFP73:MFP77)","v":0},{"$f":"SUM(MFQ73:MFQ77)","v":0},{"$f":"SUM(MFR73:MFR77)","v":0},{"$f":"SUM(MFS73:MFS77)","v":0},{"$f":"SUM(MFT73:MFT77)","v":0},{"$f":"SUM(MFU73:MFU77)","v":0},{"$f":"SUM(MFV73:MFV77)","v":0},{"$f":"SUM(MFW73:MFW77)","v":0},{"$f":"SUM(MFX73:MFX77)","v":0},{"$f":"SUM(MFY73:MFY77)","v":0},{"$f":"SUM(MFZ73:MFZ77)","v":0},{"$f":"SUM(MGA73:MGA77)","v":0},{"$f":"SUM(MGB73:MGB77)","v":0},{"$f":"SUM(MGC73:MGC77)","v":0},{"$f":"SUM(MGD73:MGD77)","v":0},{"$f":"SUM(MGE73:MGE77)","v":0},{"$f":"SUM(MGF73:MGF77)","v":0},{"$f":"SUM(MGG73:MGG77)","v":0},{"$f":"SUM(MGH73:MGH77)","v":0},{"$f":"SUM(MGI73:MGI77)","v":0},{"$f":"SUM(MGJ73:MGJ77)","v":0},{"$f":"SUM(MGK73:MGK77)","v":0},{"$f":"SUM(MGL73:MGL77)","v":0},{"$f":"SUM(MGM73:MGM77)","v":0},{"$f":"SUM(MGN73:MGN77)","v":0},{"$f":"SUM(MGO73:MGO77)","v":0},{"$f":"SUM(MGP73:MGP77)","v":0},{"$f":"SUM(MGQ73:MGQ77)","v":0},{"$f":"SUM(MGR73:MGR77)","v":0},{"$f":"SUM(MGS73:MGS77)","v":0},{"$f":"SUM(MGT73:MGT77)","v":0},{"$f":"SUM(MGU73:MGU77)","v":0},{"$f":"SUM(MGV73:MGV77)","v":0},{"$f":"SUM(MGW73:MGW77)","v":0},{"$f":"SUM(MGX73:MGX77)","v":0},{"$f":"SUM(MGY73:MGY77)","v":0},{"$f":"SUM(MGZ73:MGZ77)","v":0},{"$f":"SUM(MHA73:MHA77)","v":0},{"$f":"SUM(MHB73:MHB77)","v":0},{"$f":"SUM(MHC73:MHC77)","v":0},{"$f":"SUM(MHD73:MHD77)","v":0},{"$f":"SUM(MHE73:MHE77)","v":0},{"$f":"SUM(MHF73:MHF77)","v":0},{"$f":"SUM(MHG73:MHG77)","v":0},{"$f":"SUM(MHH73:MHH77)","v":0},{"$f":"SUM(MHI73:MHI77)","v":0},{"$f":"SUM(MHJ73:MHJ77)","v":0},{"$f":"SUM(MHK73:MHK77)","v":0},{"$f":"SUM(MHL73:MHL77)","v":0},{"$f":"SUM(MHM73:MHM77)","v":0},{"$f":"SUM(MHN73:MHN77)","v":0},{"$f":"SUM(MHO73:MHO77)","v":0},{"$f":"SUM(MHP73:MHP77)","v":0},{"$f":"SUM(MHQ73:MHQ77)","v":0},{"$f":"SUM(MHR73:MHR77)","v":0},{"$f":"SUM(MHS73:MHS77)","v":0},{"$f":"SUM(MHT73:MHT77)","v":0},{"$f":"SUM(MHU73:MHU77)","v":0},{"$f":"SUM(MHV73:MHV77)","v":0},{"$f":"SUM(MHW73:MHW77)","v":0},{"$f":"SUM(MHX73:MHX77)","v":0},{"$f":"SUM(MHY73:MHY77)","v":0},{"$f":"SUM(MHZ73:MHZ77)","v":0},{"$f":"SUM(MIA73:MIA77)","v":0},{"$f":"SUM(MIB73:MIB77)","v":0},{"$f":"SUM(MIC73:MIC77)","v":0},{"$f":"SUM(MID73:MID77)","v":0},{"$f":"SUM(MIE73:MIE77)","v":0},{"$f":"SUM(MIF73:MIF77)","v":0},{"$f":"SUM(MIG73:MIG77)","v":0},{"$f":"SUM(MIH73:MIH77)","v":0},{"$f":"SUM(MII73:MII77)","v":0},{"$f":"SUM(MIJ73:MIJ77)","v":0},{"$f":"SUM(MIK73:MIK77)","v":0},{"$f":"SUM(MIL73:MIL77)","v":0},{"$f":"SUM(MIM73:MIM77)","v":0},{"$f":"SUM(MIN73:MIN77)","v":0},{"$f":"SUM(MIO73:MIO77)","v":0},{"$f":"SUM(MIP73:MIP77)","v":0},{"$f":"SUM(MIQ73:MIQ77)","v":0},{"$f":"SUM(MIR73:MIR77)","v":0},{"$f":"SUM(MIS73:MIS77)","v":0},{"$f":"SUM(MIT73:MIT77)","v":0},{"$f":"SUM(MIU73:MIU77)","v":0},{"$f":"SUM(MIV73:MIV77)","v":0},{"$f":"SUM(MIW73:MIW77)","v":0},{"$f":"SUM(MIX73:MIX77)","v":0},{"$f":"SUM(MIY73:MIY77)","v":0},{"$f":"SUM(MIZ73:MIZ77)","v":0},{"$f":"SUM(MJA73:MJA77)","v":0},{"$f":"SUM(MJB73:MJB77)","v":0},{"$f":"SUM(MJC73:MJC77)","v":0},{"$f":"SUM(MJD73:MJD77)","v":0},{"$f":"SUM(MJE73:MJE77)","v":0},{"$f":"SUM(MJF73:MJF77)","v":0},{"$f":"SUM(MJG73:MJG77)","v":0},{"$f":"SUM(MJH73:MJH77)","v":0},{"$f":"SUM(MJI73:MJI77)","v":0},{"$f":"SUM(MJJ73:MJJ77)","v":0},{"$f":"SUM(MJK73:MJK77)","v":0},{"$f":"SUM(MJL73:MJL77)","v":0},{"$f":"SUM(MJM73:MJM77)","v":0},{"$f":"SUM(MJN73:MJN77)","v":0},{"$f":"SUM(MJO73:MJO77)","v":0},{"$f":"SUM(MJP73:MJP77)","v":0},{"$f":"SUM(MJQ73:MJQ77)","v":0},{"$f":"SUM(MJR73:MJR77)","v":0},{"$f":"SUM(MJS73:MJS77)","v":0},{"$f":"SUM(MJT73:MJT77)","v":0},{"$f":"SUM(MJU73:MJU77)","v":0},{"$f":"SUM(MJV73:MJV77)","v":0},{"$f":"SUM(MJW73:MJW77)","v":0},{"$f":"SUM(MJX73:MJX77)","v":0},{"$f":"SUM(MJY73:MJY77)","v":0},{"$f":"SUM(MJZ73:MJZ77)","v":0},{"$f":"SUM(MKA73:MKA77)","v":0},{"$f":"SUM(MKB73:MKB77)","v":0},{"$f":"SUM(MKC73:MKC77)","v":0},{"$f":"SUM(MKD73:MKD77)","v":0},{"$f":"SUM(MKE73:MKE77)","v":0},{"$f":"SUM(MKF73:MKF77)","v":0},{"$f":"SUM(MKG73:MKG77)","v":0},{"$f":"SUM(MKH73:MKH77)","v":0},{"$f":"SUM(MKI73:MKI77)","v":0},{"$f":"SUM(MKJ73:MKJ77)","v":0},{"$f":"SUM(MKK73:MKK77)","v":0},{"$f":"SUM(MKL73:MKL77)","v":0},{"$f":"SUM(MKM73:MKM77)","v":0},{"$f":"SUM(MKN73:MKN77)","v":0},{"$f":"SUM(MKO73:MKO77)","v":0},{"$f":"SUM(MKP73:MKP77)","v":0},{"$f":"SUM(MKQ73:MKQ77)","v":0},{"$f":"SUM(MKR73:MKR77)","v":0},{"$f":"SUM(MKS73:MKS77)","v":0},{"$f":"SUM(MKT73:MKT77)","v":0},{"$f":"SUM(MKU73:MKU77)","v":0},{"$f":"SUM(MKV73:MKV77)","v":0},{"$f":"SUM(MKW73:MKW77)","v":0},{"$f":"SUM(MKX73:MKX77)","v":0},{"$f":"SUM(MKY73:MKY77)","v":0},{"$f":"SUM(MKZ73:MKZ77)","v":0},{"$f":"SUM(MLA73:MLA77)","v":0},{"$f":"SUM(MLB73:MLB77)","v":0},{"$f":"SUM(MLC73:MLC77)","v":0},{"$f":"SUM(MLD73:MLD77)","v":0},{"$f":"SUM(MLE73:MLE77)","v":0},{"$f":"SUM(MLF73:MLF77)","v":0},{"$f":"SUM(MLG73:MLG77)","v":0},{"$f":"SUM(MLH73:MLH77)","v":0},{"$f":"SUM(MLI73:MLI77)","v":0},{"$f":"SUM(MLJ73:MLJ77)","v":0},{"$f":"SUM(MLK73:MLK77)","v":0},{"$f":"SUM(MLL73:MLL77)","v":0},{"$f":"SUM(MLM73:MLM77)","v":0},{"$f":"SUM(MLN73:MLN77)","v":0},{"$f":"SUM(MLO73:MLO77)","v":0},{"$f":"SUM(MLP73:MLP77)","v":0},{"$f":"SUM(MLQ73:MLQ77)","v":0},{"$f":"SUM(MLR73:MLR77)","v":0},{"$f":"SUM(MLS73:MLS77)","v":0},{"$f":"SUM(MLT73:MLT77)","v":0},{"$f":"SUM(MLU73:MLU77)","v":0},{"$f":"SUM(MLV73:MLV77)","v":0},{"$f":"SUM(MLW73:MLW77)","v":0},{"$f":"SUM(MLX73:MLX77)","v":0},{"$f":"SUM(MLY73:MLY77)","v":0},{"$f":"SUM(MLZ73:MLZ77)","v":0},{"$f":"SUM(MMA73:MMA77)","v":0},{"$f":"SUM(MMB73:MMB77)","v":0},{"$f":"SUM(MMC73:MMC77)","v":0},{"$f":"SUM(MMD73:MMD77)","v":0},{"$f":"SUM(MME73:MME77)","v":0},{"$f":"SUM(MMF73:MMF77)","v":0},{"$f":"SUM(MMG73:MMG77)","v":0},{"$f":"SUM(MMH73:MMH77)","v":0},{"$f":"SUM(MMI73:MMI77)","v":0},{"$f":"SUM(MMJ73:MMJ77)","v":0},{"$f":"SUM(MMK73:MMK77)","v":0},{"$f":"SUM(MML73:MML77)","v":0},{"$f":"SUM(MMM73:MMM77)","v":0},{"$f":"SUM(MMN73:MMN77)","v":0},{"$f":"SUM(MMO73:MMO77)","v":0},{"$f":"SUM(MMP73:MMP77)","v":0},{"$f":"SUM(MMQ73:MMQ77)","v":0},{"$f":"SUM(MMR73:MMR77)","v":0},{"$f":"SUM(MMS73:MMS77)","v":0},{"$f":"SUM(MMT73:MMT77)","v":0},{"$f":"SUM(MMU73:MMU77)","v":0},{"$f":"SUM(MMV73:MMV77)","v":0},{"$f":"SUM(MMW73:MMW77)","v":0},{"$f":"SUM(MMX73:MMX77)","v":0},{"$f":"SUM(MMY73:MMY77)","v":0},{"$f":"SUM(MMZ73:MMZ77)","v":0},{"$f":"SUM(MNA73:MNA77)","v":0},{"$f":"SUM(MNB73:MNB77)","v":0},{"$f":"SUM(MNC73:MNC77)","v":0},{"$f":"SUM(MND73:MND77)","v":0},{"$f":"SUM(MNE73:MNE77)","v":0},{"$f":"SUM(MNF73:MNF77)","v":0},{"$f":"SUM(MNG73:MNG77)","v":0},{"$f":"SUM(MNH73:MNH77)","v":0},{"$f":"SUM(MNI73:MNI77)","v":0},{"$f":"SUM(MNJ73:MNJ77)","v":0},{"$f":"SUM(MNK73:MNK77)","v":0},{"$f":"SUM(MNL73:MNL77)","v":0},{"$f":"SUM(MNM73:MNM77)","v":0},{"$f":"SUM(MNN73:MNN77)","v":0},{"$f":"SUM(MNO73:MNO77)","v":0},{"$f":"SUM(MNP73:MNP77)","v":0},{"$f":"SUM(MNQ73:MNQ77)","v":0},{"$f":"SUM(MNR73:MNR77)","v":0},{"$f":"SUM(MNS73:MNS77)","v":0},{"$f":"SUM(MNT73:MNT77)","v":0},{"$f":"SUM(MNU73:MNU77)","v":0},{"$f":"SUM(MNV73:MNV77)","v":0},{"$f":"SUM(MNW73:MNW77)","v":0},{"$f":"SUM(MNX73:MNX77)","v":0},{"$f":"SUM(MNY73:MNY77)","v":0},{"$f":"SUM(MNZ73:MNZ77)","v":0},{"$f":"SUM(MOA73:MOA77)","v":0},{"$f":"SUM(MOB73:MOB77)","v":0},{"$f":"SUM(MOC73:MOC77)","v":0},{"$f":"SUM(MOD73:MOD77)","v":0},{"$f":"SUM(MOE73:MOE77)","v":0},{"$f":"SUM(MOF73:MOF77)","v":0},{"$f":"SUM(MOG73:MOG77)","v":0},{"$f":"SUM(MOH73:MOH77)","v":0},{"$f":"SUM(MOI73:MOI77)","v":0},{"$f":"SUM(MOJ73:MOJ77)","v":0},{"$f":"SUM(MOK73:MOK77)","v":0},{"$f":"SUM(MOL73:MOL77)","v":0},{"$f":"SUM(MOM73:MOM77)","v":0},{"$f":"SUM(MON73:MON77)","v":0},{"$f":"SUM(MOO73:MOO77)","v":0},{"$f":"SUM(MOP73:MOP77)","v":0},{"$f":"SUM(MOQ73:MOQ77)","v":0},{"$f":"SUM(MOR73:MOR77)","v":0},{"$f":"SUM(MOS73:MOS77)","v":0},{"$f":"SUM(MOT73:MOT77)","v":0},{"$f":"SUM(MOU73:MOU77)","v":0},{"$f":"SUM(MOV73:MOV77)","v":0},{"$f":"SUM(MOW73:MOW77)","v":0},{"$f":"SUM(MOX73:MOX77)","v":0},{"$f":"SUM(MOY73:MOY77)","v":0},{"$f":"SUM(MOZ73:MOZ77)","v":0},{"$f":"SUM(MPA73:MPA77)","v":0},{"$f":"SUM(MPB73:MPB77)","v":0},{"$f":"SUM(MPC73:MPC77)","v":0},{"$f":"SUM(MPD73:MPD77)","v":0},{"$f":"SUM(MPE73:MPE77)","v":0},{"$f":"SUM(MPF73:MPF77)","v":0},{"$f":"SUM(MPG73:MPG77)","v":0},{"$f":"SUM(MPH73:MPH77)","v":0},{"$f":"SUM(MPI73:MPI77)","v":0},{"$f":"SUM(MPJ73:MPJ77)","v":0},{"$f":"SUM(MPK73:MPK77)","v":0},{"$f":"SUM(MPL73:MPL77)","v":0},{"$f":"SUM(MPM73:MPM77)","v":0},{"$f":"SUM(MPN73:MPN77)","v":0},{"$f":"SUM(MPO73:MPO77)","v":0},{"$f":"SUM(MPP73:MPP77)","v":0},{"$f":"SUM(MPQ73:MPQ77)","v":0},{"$f":"SUM(MPR73:MPR77)","v":0},{"$f":"SUM(MPS73:MPS77)","v":0},{"$f":"SUM(MPT73:MPT77)","v":0},{"$f":"SUM(MPU73:MPU77)","v":0},{"$f":"SUM(MPV73:MPV77)","v":0},{"$f":"SUM(MPW73:MPW77)","v":0},{"$f":"SUM(MPX73:MPX77)","v":0},{"$f":"SUM(MPY73:MPY77)","v":0},{"$f":"SUM(MPZ73:MPZ77)","v":0},{"$f":"SUM(MQA73:MQA77)","v":0},{"$f":"SUM(MQB73:MQB77)","v":0},{"$f":"SUM(MQC73:MQC77)","v":0},{"$f":"SUM(MQD73:MQD77)","v":0},{"$f":"SUM(MQE73:MQE77)","v":0},{"$f":"SUM(MQF73:MQF77)","v":0},{"$f":"SUM(MQG73:MQG77)","v":0},{"$f":"SUM(MQH73:MQH77)","v":0},{"$f":"SUM(MQI73:MQI77)","v":0},{"$f":"SUM(MQJ73:MQJ77)","v":0},{"$f":"SUM(MQK73:MQK77)","v":0},{"$f":"SUM(MQL73:MQL77)","v":0},{"$f":"SUM(MQM73:MQM77)","v":0},{"$f":"SUM(MQN73:MQN77)","v":0},{"$f":"SUM(MQO73:MQO77)","v":0},{"$f":"SUM(MQP73:MQP77)","v":0},{"$f":"SUM(MQQ73:MQQ77)","v":0},{"$f":"SUM(MQR73:MQR77)","v":0},{"$f":"SUM(MQS73:MQS77)","v":0},{"$f":"SUM(MQT73:MQT77)","v":0},{"$f":"SUM(MQU73:MQU77)","v":0},{"$f":"SUM(MQV73:MQV77)","v":0},{"$f":"SUM(MQW73:MQW77)","v":0},{"$f":"SUM(MQX73:MQX77)","v":0},{"$f":"SUM(MQY73:MQY77)","v":0},{"$f":"SUM(MQZ73:MQZ77)","v":0},{"$f":"SUM(MRA73:MRA77)","v":0},{"$f":"SUM(MRB73:MRB77)","v":0},{"$f":"SUM(MRC73:MRC77)","v":0},{"$f":"SUM(MRD73:MRD77)","v":0},{"$f":"SUM(MRE73:MRE77)","v":0},{"$f":"SUM(MRF73:MRF77)","v":0},{"$f":"SUM(MRG73:MRG77)","v":0},{"$f":"SUM(MRH73:MRH77)","v":0},{"$f":"SUM(MRI73:MRI77)","v":0},{"$f":"SUM(MRJ73:MRJ77)","v":0},{"$f":"SUM(MRK73:MRK77)","v":0},{"$f":"SUM(MRL73:MRL77)","v":0},{"$f":"SUM(MRM73:MRM77)","v":0},{"$f":"SUM(MRN73:MRN77)","v":0},{"$f":"SUM(MRO73:MRO77)","v":0},{"$f":"SUM(MRP73:MRP77)","v":0},{"$f":"SUM(MRQ73:MRQ77)","v":0},{"$f":"SUM(MRR73:MRR77)","v":0},{"$f":"SUM(MRS73:MRS77)","v":0},{"$f":"SUM(MRT73:MRT77)","v":0},{"$f":"SUM(MRU73:MRU77)","v":0},{"$f":"SUM(MRV73:MRV77)","v":0},{"$f":"SUM(MRW73:MRW77)","v":0},{"$f":"SUM(MRX73:MRX77)","v":0},{"$f":"SUM(MRY73:MRY77)","v":0},{"$f":"SUM(MRZ73:MRZ77)","v":0},{"$f":"SUM(MSA73:MSA77)","v":0},{"$f":"SUM(MSB73:MSB77)","v":0},{"$f":"SUM(MSC73:MSC77)","v":0},{"$f":"SUM(MSD73:MSD77)","v":0},{"$f":"SUM(MSE73:MSE77)","v":0},{"$f":"SUM(MSF73:MSF77)","v":0},{"$f":"SUM(MSG73:MSG77)","v":0},{"$f":"SUM(MSH73:MSH77)","v":0},{"$f":"SUM(MSI73:MSI77)","v":0},{"$f":"SUM(MSJ73:MSJ77)","v":0},{"$f":"SUM(MSK73:MSK77)","v":0},{"$f":"SUM(MSL73:MSL77)","v":0},{"$f":"SUM(MSM73:MSM77)","v":0},{"$f":"SUM(MSN73:MSN77)","v":0},{"$f":"SUM(MSO73:MSO77)","v":0},{"$f":"SUM(MSP73:MSP77)","v":0},{"$f":"SUM(MSQ73:MSQ77)","v":0},{"$f":"SUM(MSR73:MSR77)","v":0},{"$f":"SUM(MSS73:MSS77)","v":0},{"$f":"SUM(MST73:MST77)","v":0},{"$f":"SUM(MSU73:MSU77)","v":0},{"$f":"SUM(MSV73:MSV77)","v":0},{"$f":"SUM(MSW73:MSW77)","v":0},{"$f":"SUM(MSX73:MSX77)","v":0},{"$f":"SUM(MSY73:MSY77)","v":0},{"$f":"SUM(MSZ73:MSZ77)","v":0},{"$f":"SUM(MTA73:MTA77)","v":0},{"$f":"SUM(MTB73:MTB77)","v":0},{"$f":"SUM(MTC73:MTC77)","v":0},{"$f":"SUM(MTD73:MTD77)","v":0},{"$f":"SUM(MTE73:MTE77)","v":0},{"$f":"SUM(MTF73:MTF77)","v":0},{"$f":"SUM(MTG73:MTG77)","v":0},{"$f":"SUM(MTH73:MTH77)","v":0},{"$f":"SUM(MTI73:MTI77)","v":0},{"$f":"SUM(MTJ73:MTJ77)","v":0},{"$f":"SUM(MTK73:MTK77)","v":0},{"$f":"SUM(MTL73:MTL77)","v":0},{"$f":"SUM(MTM73:MTM77)","v":0},{"$f":"SUM(MTN73:MTN77)","v":0},{"$f":"SUM(MTO73:MTO77)","v":0},{"$f":"SUM(MTP73:MTP77)","v":0},{"$f":"SUM(MTQ73:MTQ77)","v":0},{"$f":"SUM(MTR73:MTR77)","v":0},{"$f":"SUM(MTS73:MTS77)","v":0},{"$f":"SUM(MTT73:MTT77)","v":0},{"$f":"SUM(MTU73:MTU77)","v":0},{"$f":"SUM(MTV73:MTV77)","v":0},{"$f":"SUM(MTW73:MTW77)","v":0},{"$f":"SUM(MTX73:MTX77)","v":0},{"$f":"SUM(MTY73:MTY77)","v":0},{"$f":"SUM(MTZ73:MTZ77)","v":0},{"$f":"SUM(MUA73:MUA77)","v":0},{"$f":"SUM(MUB73:MUB77)","v":0},{"$f":"SUM(MUC73:MUC77)","v":0},{"$f":"SUM(MUD73:MUD77)","v":0},{"$f":"SUM(MUE73:MUE77)","v":0},{"$f":"SUM(MUF73:MUF77)","v":0},{"$f":"SUM(MUG73:MUG77)","v":0},{"$f":"SUM(MUH73:MUH77)","v":0},{"$f":"SUM(MUI73:MUI77)","v":0},{"$f":"SUM(MUJ73:MUJ77)","v":0},{"$f":"SUM(MUK73:MUK77)","v":0},{"$f":"SUM(MUL73:MUL77)","v":0},{"$f":"SUM(MUM73:MUM77)","v":0},{"$f":"SUM(MUN73:MUN77)","v":0},{"$f":"SUM(MUO73:MUO77)","v":0},{"$f":"SUM(MUP73:MUP77)","v":0},{"$f":"SUM(MUQ73:MUQ77)","v":0},{"$f":"SUM(MUR73:MUR77)","v":0},{"$f":"SUM(MUS73:MUS77)","v":0},{"$f":"SUM(MUT73:MUT77)","v":0},{"$f":"SUM(MUU73:MUU77)","v":0},{"$f":"SUM(MUV73:MUV77)","v":0},{"$f":"SUM(MUW73:MUW77)","v":0},{"$f":"SUM(MUX73:MUX77)","v":0},{"$f":"SUM(MUY73:MUY77)","v":0},{"$f":"SUM(MUZ73:MUZ77)","v":0},{"$f":"SUM(MVA73:MVA77)","v":0},{"$f":"SUM(MVB73:MVB77)","v":0},{"$f":"SUM(MVC73:MVC77)","v":0},{"$f":"SUM(MVD73:MVD77)","v":0},{"$f":"SUM(MVE73:MVE77)","v":0},{"$f":"SUM(MVF73:MVF77)","v":0},{"$f":"SUM(MVG73:MVG77)","v":0},{"$f":"SUM(MVH73:MVH77)","v":0},{"$f":"SUM(MVI73:MVI77)","v":0},{"$f":"SUM(MVJ73:MVJ77)","v":0},{"$f":"SUM(MVK73:MVK77)","v":0},{"$f":"SUM(MVL73:MVL77)","v":0},{"$f":"SUM(MVM73:MVM77)","v":0},{"$f":"SUM(MVN73:MVN77)","v":0},{"$f":"SUM(MVO73:MVO77)","v":0},{"$f":"SUM(MVP73:MVP77)","v":0},{"$f":"SUM(MVQ73:MVQ77)","v":0},{"$f":"SUM(MVR73:MVR77)","v":0},{"$f":"SUM(MVS73:MVS77)","v":0},{"$f":"SUM(MVT73:MVT77)","v":0},{"$f":"SUM(MVU73:MVU77)","v":0},{"$f":"SUM(MVV73:MVV77)","v":0},{"$f":"SUM(MVW73:MVW77)","v":0},{"$f":"SUM(MVX73:MVX77)","v":0},{"$f":"SUM(MVY73:MVY77)","v":0},{"$f":"SUM(MVZ73:MVZ77)","v":0},{"$f":"SUM(MWA73:MWA77)","v":0},{"$f":"SUM(MWB73:MWB77)","v":0},{"$f":"SUM(MWC73:MWC77)","v":0},{"$f":"SUM(MWD73:MWD77)","v":0},{"$f":"SUM(MWE73:MWE77)","v":0},{"$f":"SUM(MWF73:MWF77)","v":0},{"$f":"SUM(MWG73:MWG77)","v":0},{"$f":"SUM(MWH73:MWH77)","v":0},{"$f":"SUM(MWI73:MWI77)","v":0},{"$f":"SUM(MWJ73:MWJ77)","v":0},{"$f":"SUM(MWK73:MWK77)","v":0},{"$f":"SUM(MWL73:MWL77)","v":0},{"$f":"SUM(MWM73:MWM77)","v":0},{"$f":"SUM(MWN73:MWN77)","v":0},{"$f":"SUM(MWO73:MWO77)","v":0},{"$f":"SUM(MWP73:MWP77)","v":0},{"$f":"SUM(MWQ73:MWQ77)","v":0},{"$f":"SUM(MWR73:MWR77)","v":0},{"$f":"SUM(MWS73:MWS77)","v":0},{"$f":"SUM(MWT73:MWT77)","v":0},{"$f":"SUM(MWU73:MWU77)","v":0},{"$f":"SUM(MWV73:MWV77)","v":0},{"$f":"SUM(MWW73:MWW77)","v":0},{"$f":"SUM(MWX73:MWX77)","v":0},{"$f":"SUM(MWY73:MWY77)","v":0},{"$f":"SUM(MWZ73:MWZ77)","v":0},{"$f":"SUM(MXA73:MXA77)","v":0},{"$f":"SUM(MXB73:MXB77)","v":0},{"$f":"SUM(MXC73:MXC77)","v":0},{"$f":"SUM(MXD73:MXD77)","v":0},{"$f":"SUM(MXE73:MXE77)","v":0},{"$f":"SUM(MXF73:MXF77)","v":0},{"$f":"SUM(MXG73:MXG77)","v":0},{"$f":"SUM(MXH73:MXH77)","v":0},{"$f":"SUM(MXI73:MXI77)","v":0},{"$f":"SUM(MXJ73:MXJ77)","v":0},{"$f":"SUM(MXK73:MXK77)","v":0},{"$f":"SUM(MXL73:MXL77)","v":0},{"$f":"SUM(MXM73:MXM77)","v":0},{"$f":"SUM(MXN73:MXN77)","v":0},{"$f":"SUM(MXO73:MXO77)","v":0},{"$f":"SUM(MXP73:MXP77)","v":0},{"$f":"SUM(MXQ73:MXQ77)","v":0},{"$f":"SUM(MXR73:MXR77)","v":0},{"$f":"SUM(MXS73:MXS77)","v":0},{"$f":"SUM(MXT73:MXT77)","v":0},{"$f":"SUM(MXU73:MXU77)","v":0},{"$f":"SUM(MXV73:MXV77)","v":0},{"$f":"SUM(MXW73:MXW77)","v":0},{"$f":"SUM(MXX73:MXX77)","v":0},{"$f":"SUM(MXY73:MXY77)","v":0},{"$f":"SUM(MXZ73:MXZ77)","v":0},{"$f":"SUM(MYA73:MYA77)","v":0},{"$f":"SUM(MYB73:MYB77)","v":0},{"$f":"SUM(MYC73:MYC77)","v":0},{"$f":"SUM(MYD73:MYD77)","v":0},{"$f":"SUM(MYE73:MYE77)","v":0},{"$f":"SUM(MYF73:MYF77)","v":0},{"$f":"SUM(MYG73:MYG77)","v":0},{"$f":"SUM(MYH73:MYH77)","v":0},{"$f":"SUM(MYI73:MYI77)","v":0},{"$f":"SUM(MYJ73:MYJ77)","v":0},{"$f":"SUM(MYK73:MYK77)","v":0},{"$f":"SUM(MYL73:MYL77)","v":0},{"$f":"SUM(MYM73:MYM77)","v":0},{"$f":"SUM(MYN73:MYN77)","v":0},{"$f":"SUM(MYO73:MYO77)","v":0},{"$f":"SUM(MYP73:MYP77)","v":0},{"$f":"SUM(MYQ73:MYQ77)","v":0},{"$f":"SUM(MYR73:MYR77)","v":0},{"$f":"SUM(MYS73:MYS77)","v":0},{"$f":"SUM(MYT73:MYT77)","v":0},{"$f":"SUM(MYU73:MYU77)","v":0},{"$f":"SUM(MYV73:MYV77)","v":0},{"$f":"SUM(MYW73:MYW77)","v":0},{"$f":"SUM(MYX73:MYX77)","v":0},{"$f":"SUM(MYY73:MYY77)","v":0},{"$f":"SUM(MYZ73:MYZ77)","v":0},{"$f":"SUM(MZA73:MZA77)","v":0},{"$f":"SUM(MZB73:MZB77)","v":0},{"$f":"SUM(MZC73:MZC77)","v":0},{"$f":"SUM(MZD73:MZD77)","v":0},{"$f":"SUM(MZE73:MZE77)","v":0},{"$f":"SUM(MZF73:MZF77)","v":0},{"$f":"SUM(MZG73:MZG77)","v":0},{"$f":"SUM(MZH73:MZH77)","v":0},{"$f":"SUM(MZI73:MZI77)","v":0},{"$f":"SUM(MZJ73:MZJ77)","v":0},{"$f":"SUM(MZK73:MZK77)","v":0},{"$f":"SUM(MZL73:MZL77)","v":0},{"$f":"SUM(MZM73:MZM77)","v":0},{"$f":"SUM(MZN73:MZN77)","v":0},{"$f":"SUM(MZO73:MZO77)","v":0},{"$f":"SUM(MZP73:MZP77)","v":0},{"$f":"SUM(MZQ73:MZQ77)","v":0},{"$f":"SUM(MZR73:MZR77)","v":0},{"$f":"SUM(MZS73:MZS77)","v":0},{"$f":"SUM(MZT73:MZT77)","v":0},{"$f":"SUM(MZU73:MZU77)","v":0},{"$f":"SUM(MZV73:MZV77)","v":0},{"$f":"SUM(MZW73:MZW77)","v":0},{"$f":"SUM(MZX73:MZX77)","v":0},{"$f":"SUM(MZY73:MZY77)","v":0},{"$f":"SUM(MZZ73:MZZ77)","v":0},{"$f":"SUM(NAA73:NAA77)","v":0},{"$f":"SUM(NAB73:NAB77)","v":0},{"$f":"SUM(NAC73:NAC77)","v":0},{"$f":"SUM(NAD73:NAD77)","v":0},{"$f":"SUM(NAE73:NAE77)","v":0},{"$f":"SUM(NAF73:NAF77)","v":0},{"$f":"SUM(NAG73:NAG77)","v":0},{"$f":"SUM(NAH73:NAH77)","v":0},{"$f":"SUM(NAI73:NAI77)","v":0},{"$f":"SUM(NAJ73:NAJ77)","v":0},{"$f":"SUM(NAK73:NAK77)","v":0},{"$f":"SUM(NAL73:NAL77)","v":0},{"$f":"SUM(NAM73:NAM77)","v":0},{"$f":"SUM(NAN73:NAN77)","v":0},{"$f":"SUM(NAO73:NAO77)","v":0},{"$f":"SUM(NAP73:NAP77)","v":0},{"$f":"SUM(NAQ73:NAQ77)","v":0},{"$f":"SUM(NAR73:NAR77)","v":0},{"$f":"SUM(NAS73:NAS77)","v":0},{"$f":"SUM(NAT73:NAT77)","v":0},{"$f":"SUM(NAU73:NAU77)","v":0},{"$f":"SUM(NAV73:NAV77)","v":0},{"$f":"SUM(NAW73:NAW77)","v":0},{"$f":"SUM(NAX73:NAX77)","v":0},{"$f":"SUM(NAY73:NAY77)","v":0},{"$f":"SUM(NAZ73:NAZ77)","v":0},{"$f":"SUM(NBA73:NBA77)","v":0},{"$f":"SUM(NBB73:NBB77)","v":0},{"$f":"SUM(NBC73:NBC77)","v":0},{"$f":"SUM(NBD73:NBD77)","v":0},{"$f":"SUM(NBE73:NBE77)","v":0},{"$f":"SUM(NBF73:NBF77)","v":0},{"$f":"SUM(NBG73:NBG77)","v":0},{"$f":"SUM(NBH73:NBH77)","v":0},{"$f":"SUM(NBI73:NBI77)","v":0},{"$f":"SUM(NBJ73:NBJ77)","v":0},{"$f":"SUM(NBK73:NBK77)","v":0},{"$f":"SUM(NBL73:NBL77)","v":0},{"$f":"SUM(NBM73:NBM77)","v":0},{"$f":"SUM(NBN73:NBN77)","v":0},{"$f":"SUM(NBO73:NBO77)","v":0},{"$f":"SUM(NBP73:NBP77)","v":0},{"$f":"SUM(NBQ73:NBQ77)","v":0},{"$f":"SUM(NBR73:NBR77)","v":0},{"$f":"SUM(NBS73:NBS77)","v":0},{"$f":"SUM(NBT73:NBT77)","v":0},{"$f":"SUM(NBU73:NBU77)","v":0},{"$f":"SUM(NBV73:NBV77)","v":0},{"$f":"SUM(NBW73:NBW77)","v":0},{"$f":"SUM(NBX73:NBX77)","v":0},{"$f":"SUM(NBY73:NBY77)","v":0},{"$f":"SUM(NBZ73:NBZ77)","v":0},{"$f":"SUM(NCA73:NCA77)","v":0},{"$f":"SUM(NCB73:NCB77)","v":0},{"$f":"SUM(NCC73:NCC77)","v":0},{"$f":"SUM(NCD73:NCD77)","v":0},{"$f":"SUM(NCE73:NCE77)","v":0},{"$f":"SUM(NCF73:NCF77)","v":0},{"$f":"SUM(NCG73:NCG77)","v":0},{"$f":"SUM(NCH73:NCH77)","v":0},{"$f":"SUM(NCI73:NCI77)","v":0},{"$f":"SUM(NCJ73:NCJ77)","v":0},{"$f":"SUM(NCK73:NCK77)","v":0},{"$f":"SUM(NCL73:NCL77)","v":0},{"$f":"SUM(NCM73:NCM77)","v":0},{"$f":"SUM(NCN73:NCN77)","v":0},{"$f":"SUM(NCO73:NCO77)","v":0},{"$f":"SUM(NCP73:NCP77)","v":0},{"$f":"SUM(NCQ73:NCQ77)","v":0},{"$f":"SUM(NCR73:NCR77)","v":0},{"$f":"SUM(NCS73:NCS77)","v":0},{"$f":"SUM(NCT73:NCT77)","v":0},{"$f":"SUM(NCU73:NCU77)","v":0},{"$f":"SUM(NCV73:NCV77)","v":0},{"$f":"SUM(NCW73:NCW77)","v":0},{"$f":"SUM(NCX73:NCX77)","v":0},{"$f":"SUM(NCY73:NCY77)","v":0},{"$f":"SUM(NCZ73:NCZ77)","v":0},{"$f":"SUM(NDA73:NDA77)","v":0},{"$f":"SUM(NDB73:NDB77)","v":0},{"$f":"SUM(NDC73:NDC77)","v":0},{"$f":"SUM(NDD73:NDD77)","v":0},{"$f":"SUM(NDE73:NDE77)","v":0},{"$f":"SUM(NDF73:NDF77)","v":0},{"$f":"SUM(NDG73:NDG77)","v":0},{"$f":"SUM(NDH73:NDH77)","v":0},{"$f":"SUM(NDI73:NDI77)","v":0},{"$f":"SUM(NDJ73:NDJ77)","v":0},{"$f":"SUM(NDK73:NDK77)","v":0},{"$f":"SUM(NDL73:NDL77)","v":0},{"$f":"SUM(NDM73:NDM77)","v":0},{"$f":"SUM(NDN73:NDN77)","v":0},{"$f":"SUM(NDO73:NDO77)","v":0},{"$f":"SUM(NDP73:NDP77)","v":0},{"$f":"SUM(NDQ73:NDQ77)","v":0},{"$f":"SUM(NDR73:NDR77)","v":0},{"$f":"SUM(NDS73:NDS77)","v":0},{"$f":"SUM(NDT73:NDT77)","v":0},{"$f":"SUM(NDU73:NDU77)","v":0},{"$f":"SUM(NDV73:NDV77)","v":0},{"$f":"SUM(NDW73:NDW77)","v":0},{"$f":"SUM(NDX73:NDX77)","v":0},{"$f":"SUM(NDY73:NDY77)","v":0},{"$f":"SUM(NDZ73:NDZ77)","v":0},{"$f":"SUM(NEA73:NEA77)","v":0},{"$f":"SUM(NEB73:NEB77)","v":0},{"$f":"SUM(NEC73:NEC77)","v":0},{"$f":"SUM(NED73:NED77)","v":0},{"$f":"SUM(NEE73:NEE77)","v":0},{"$f":"SUM(NEF73:NEF77)","v":0},{"$f":"SUM(NEG73:NEG77)","v":0},{"$f":"SUM(NEH73:NEH77)","v":0},{"$f":"SUM(NEI73:NEI77)","v":0},{"$f":"SUM(NEJ73:NEJ77)","v":0},{"$f":"SUM(NEK73:NEK77)","v":0},{"$f":"SUM(NEL73:NEL77)","v":0},{"$f":"SUM(NEM73:NEM77)","v":0},{"$f":"SUM(NEN73:NEN77)","v":0},{"$f":"SUM(NEO73:NEO77)","v":0},{"$f":"SUM(NEP73:NEP77)","v":0},{"$f":"SUM(NEQ73:NEQ77)","v":0},{"$f":"SUM(NER73:NER77)","v":0},{"$f":"SUM(NES73:NES77)","v":0},{"$f":"SUM(NET73:NET77)","v":0},{"$f":"SUM(NEU73:NEU77)","v":0},{"$f":"SUM(NEV73:NEV77)","v":0},{"$f":"SUM(NEW73:NEW77)","v":0},{"$f":"SUM(NEX73:NEX77)","v":0},{"$f":"SUM(NEY73:NEY77)","v":0},{"$f":"SUM(NEZ73:NEZ77)","v":0},{"$f":"SUM(NFA73:NFA77)","v":0},{"$f":"SUM(NFB73:NFB77)","v":0},{"$f":"SUM(NFC73:NFC77)","v":0},{"$f":"SUM(NFD73:NFD77)","v":0},{"$f":"SUM(NFE73:NFE77)","v":0},{"$f":"SUM(NFF73:NFF77)","v":0},{"$f":"SUM(NFG73:NFG77)","v":0},{"$f":"SUM(NFH73:NFH77)","v":0},{"$f":"SUM(NFI73:NFI77)","v":0},{"$f":"SUM(NFJ73:NFJ77)","v":0},{"$f":"SUM(NFK73:NFK77)","v":0},{"$f":"SUM(NFL73:NFL77)","v":0},{"$f":"SUM(NFM73:NFM77)","v":0},{"$f":"SUM(NFN73:NFN77)","v":0},{"$f":"SUM(NFO73:NFO77)","v":0},{"$f":"SUM(NFP73:NFP77)","v":0},{"$f":"SUM(NFQ73:NFQ77)","v":0},{"$f":"SUM(NFR73:NFR77)","v":0},{"$f":"SUM(NFS73:NFS77)","v":0},{"$f":"SUM(NFT73:NFT77)","v":0},{"$f":"SUM(NFU73:NFU77)","v":0},{"$f":"SUM(NFV73:NFV77)","v":0},{"$f":"SUM(NFW73:NFW77)","v":0},{"$f":"SUM(NFX73:NFX77)","v":0},{"$f":"SUM(NFY73:NFY77)","v":0},{"$f":"SUM(NFZ73:NFZ77)","v":0},{"$f":"SUM(NGA73:NGA77)","v":0},{"$f":"SUM(NGB73:NGB77)","v":0},{"$f":"SUM(NGC73:NGC77)","v":0},{"$f":"SUM(NGD73:NGD77)","v":0},{"$f":"SUM(NGE73:NGE77)","v":0},{"$f":"SUM(NGF73:NGF77)","v":0},{"$f":"SUM(NGG73:NGG77)","v":0},{"$f":"SUM(NGH73:NGH77)","v":0},{"$f":"SUM(NGI73:NGI77)","v":0},{"$f":"SUM(NGJ73:NGJ77)","v":0},{"$f":"SUM(NGK73:NGK77)","v":0},{"$f":"SUM(NGL73:NGL77)","v":0},{"$f":"SUM(NGM73:NGM77)","v":0},{"$f":"SUM(NGN73:NGN77)","v":0},{"$f":"SUM(NGO73:NGO77)","v":0},{"$f":"SUM(NGP73:NGP77)","v":0},{"$f":"SUM(NGQ73:NGQ77)","v":0},{"$f":"SUM(NGR73:NGR77)","v":0},{"$f":"SUM(NGS73:NGS77)","v":0},{"$f":"SUM(NGT73:NGT77)","v":0},{"$f":"SUM(NGU73:NGU77)","v":0},{"$f":"SUM(NGV73:NGV77)","v":0},{"$f":"SUM(NGW73:NGW77)","v":0},{"$f":"SUM(NGX73:NGX77)","v":0},{"$f":"SUM(NGY73:NGY77)","v":0},{"$f":"SUM(NGZ73:NGZ77)","v":0},{"$f":"SUM(NHA73:NHA77)","v":0},{"$f":"SUM(NHB73:NHB77)","v":0},{"$f":"SUM(NHC73:NHC77)","v":0},{"$f":"SUM(NHD73:NHD77)","v":0},{"$f":"SUM(NHE73:NHE77)","v":0},{"$f":"SUM(NHF73:NHF77)","v":0},{"$f":"SUM(NHG73:NHG77)","v":0},{"$f":"SUM(NHH73:NHH77)","v":0},{"$f":"SUM(NHI73:NHI77)","v":0},{"$f":"SUM(NHJ73:NHJ77)","v":0},{"$f":"SUM(NHK73:NHK77)","v":0},{"$f":"SUM(NHL73:NHL77)","v":0},{"$f":"SUM(NHM73:NHM77)","v":0},{"$f":"SUM(NHN73:NHN77)","v":0},{"$f":"SUM(NHO73:NHO77)","v":0},{"$f":"SUM(NHP73:NHP77)","v":0},{"$f":"SUM(NHQ73:NHQ77)","v":0},{"$f":"SUM(NHR73:NHR77)","v":0},{"$f":"SUM(NHS73:NHS77)","v":0},{"$f":"SUM(NHT73:NHT77)","v":0},{"$f":"SUM(NHU73:NHU77)","v":0},{"$f":"SUM(NHV73:NHV77)","v":0},{"$f":"SUM(NHW73:NHW77)","v":0},{"$f":"SUM(NHX73:NHX77)","v":0},{"$f":"SUM(NHY73:NHY77)","v":0},{"$f":"SUM(NHZ73:NHZ77)","v":0},{"$f":"SUM(NIA73:NIA77)","v":0},{"$f":"SUM(NIB73:NIB77)","v":0},{"$f":"SUM(NIC73:NIC77)","v":0},{"$f":"SUM(NID73:NID77)","v":0},{"$f":"SUM(NIE73:NIE77)","v":0},{"$f":"SUM(NIF73:NIF77)","v":0},{"$f":"SUM(NIG73:NIG77)","v":0},{"$f":"SUM(NIH73:NIH77)","v":0},{"$f":"SUM(NII73:NII77)","v":0},{"$f":"SUM(NIJ73:NIJ77)","v":0},{"$f":"SUM(NIK73:NIK77)","v":0},{"$f":"SUM(NIL73:NIL77)","v":0},{"$f":"SUM(NIM73:NIM77)","v":0},{"$f":"SUM(NIN73:NIN77)","v":0},{"$f":"SUM(NIO73:NIO77)","v":0},{"$f":"SUM(NIP73:NIP77)","v":0},{"$f":"SUM(NIQ73:NIQ77)","v":0},{"$f":"SUM(NIR73:NIR77)","v":0},{"$f":"SUM(NIS73:NIS77)","v":0},{"$f":"SUM(NIT73:NIT77)","v":0},{"$f":"SUM(NIU73:NIU77)","v":0},{"$f":"SUM(NIV73:NIV77)","v":0},{"$f":"SUM(NIW73:NIW77)","v":0},{"$f":"SUM(NIX73:NIX77)","v":0},{"$f":"SUM(NIY73:NIY77)","v":0},{"$f":"SUM(NIZ73:NIZ77)","v":0},{"$f":"SUM(NJA73:NJA77)","v":0},{"$f":"SUM(NJB73:NJB77)","v":0},{"$f":"SUM(NJC73:NJC77)","v":0},{"$f":"SUM(NJD73:NJD77)","v":0},{"$f":"SUM(NJE73:NJE77)","v":0},{"$f":"SUM(NJF73:NJF77)","v":0},{"$f":"SUM(NJG73:NJG77)","v":0},{"$f":"SUM(NJH73:NJH77)","v":0},{"$f":"SUM(NJI73:NJI77)","v":0},{"$f":"SUM(NJJ73:NJJ77)","v":0},{"$f":"SUM(NJK73:NJK77)","v":0},{"$f":"SUM(NJL73:NJL77)","v":0},{"$f":"SUM(NJM73:NJM77)","v":0},{"$f":"SUM(NJN73:NJN77)","v":0},{"$f":"SUM(NJO73:NJO77)","v":0},{"$f":"SUM(NJP73:NJP77)","v":0},{"$f":"SUM(NJQ73:NJQ77)","v":0},{"$f":"SUM(NJR73:NJR77)","v":0},{"$f":"SUM(NJS73:NJS77)","v":0},{"$f":"SUM(NJT73:NJT77)","v":0},{"$f":"SUM(NJU73:NJU77)","v":0},{"$f":"SUM(NJV73:NJV77)","v":0},{"$f":"SUM(NJW73:NJW77)","v":0},{"$f":"SUM(NJX73:NJX77)","v":0},{"$f":"SUM(NJY73:NJY77)","v":0},{"$f":"SUM(NJZ73:NJZ77)","v":0},{"$f":"SUM(NKA73:NKA77)","v":0},{"$f":"SUM(NKB73:NKB77)","v":0},{"$f":"SUM(NKC73:NKC77)","v":0},{"$f":"SUM(NKD73:NKD77)","v":0},{"$f":"SUM(NKE73:NKE77)","v":0},{"$f":"SUM(NKF73:NKF77)","v":0},{"$f":"SUM(NKG73:NKG77)","v":0},{"$f":"SUM(NKH73:NKH77)","v":0},{"$f":"SUM(NKI73:NKI77)","v":0},{"$f":"SUM(NKJ73:NKJ77)","v":0},{"$f":"SUM(NKK73:NKK77)","v":0},{"$f":"SUM(NKL73:NKL77)","v":0},{"$f":"SUM(NKM73:NKM77)","v":0},{"$f":"SUM(NKN73:NKN77)","v":0},{"$f":"SUM(NKO73:NKO77)","v":0},{"$f":"SUM(NKP73:NKP77)","v":0},{"$f":"SUM(NKQ73:NKQ77)","v":0},{"$f":"SUM(NKR73:NKR77)","v":0},{"$f":"SUM(NKS73:NKS77)","v":0},{"$f":"SUM(NKT73:NKT77)","v":0},{"$f":"SUM(NKU73:NKU77)","v":0},{"$f":"SUM(NKV73:NKV77)","v":0},{"$f":"SUM(NKW73:NKW77)","v":0},{"$f":"SUM(NKX73:NKX77)","v":0},{"$f":"SUM(NKY73:NKY77)","v":0},{"$f":"SUM(NKZ73:NKZ77)","v":0},{"$f":"SUM(NLA73:NLA77)","v":0},{"$f":"SUM(NLB73:NLB77)","v":0},{"$f":"SUM(NLC73:NLC77)","v":0},{"$f":"SUM(NLD73:NLD77)","v":0},{"$f":"SUM(NLE73:NLE77)","v":0},{"$f":"SUM(NLF73:NLF77)","v":0},{"$f":"SUM(NLG73:NLG77)","v":0},{"$f":"SUM(NLH73:NLH77)","v":0},{"$f":"SUM(NLI73:NLI77)","v":0},{"$f":"SUM(NLJ73:NLJ77)","v":0},{"$f":"SUM(NLK73:NLK77)","v":0},{"$f":"SUM(NLL73:NLL77)","v":0},{"$f":"SUM(NLM73:NLM77)","v":0},{"$f":"SUM(NLN73:NLN77)","v":0},{"$f":"SUM(NLO73:NLO77)","v":0},{"$f":"SUM(NLP73:NLP77)","v":0},{"$f":"SUM(NLQ73:NLQ77)","v":0},{"$f":"SUM(NLR73:NLR77)","v":0},{"$f":"SUM(NLS73:NLS77)","v":0},{"$f":"SUM(NLT73:NLT77)","v":0},{"$f":"SUM(NLU73:NLU77)","v":0},{"$f":"SUM(NLV73:NLV77)","v":0},{"$f":"SUM(NLW73:NLW77)","v":0},{"$f":"SUM(NLX73:NLX77)","v":0},{"$f":"SUM(NLY73:NLY77)","v":0},{"$f":"SUM(NLZ73:NLZ77)","v":0},{"$f":"SUM(NMA73:NMA77)","v":0},{"$f":"SUM(NMB73:NMB77)","v":0},{"$f":"SUM(NMC73:NMC77)","v":0},{"$f":"SUM(NMD73:NMD77)","v":0},{"$f":"SUM(NME73:NME77)","v":0},{"$f":"SUM(NMF73:NMF77)","v":0},{"$f":"SUM(NMG73:NMG77)","v":0},{"$f":"SUM(NMH73:NMH77)","v":0},{"$f":"SUM(NMI73:NMI77)","v":0},{"$f":"SUM(NMJ73:NMJ77)","v":0},{"$f":"SUM(NMK73:NMK77)","v":0},{"$f":"SUM(NML73:NML77)","v":0},{"$f":"SUM(NMM73:NMM77)","v":0},{"$f":"SUM(NMN73:NMN77)","v":0},{"$f":"SUM(NMO73:NMO77)","v":0},{"$f":"SUM(NMP73:NMP77)","v":0},{"$f":"SUM(NMQ73:NMQ77)","v":0},{"$f":"SUM(NMR73:NMR77)","v":0},{"$f":"SUM(NMS73:NMS77)","v":0},{"$f":"SUM(NMT73:NMT77)","v":0},{"$f":"SUM(NMU73:NMU77)","v":0},{"$f":"SUM(NMV73:NMV77)","v":0},{"$f":"SUM(NMW73:NMW77)","v":0},{"$f":"SUM(NMX73:NMX77)","v":0},{"$f":"SUM(NMY73:NMY77)","v":0},{"$f":"SUM(NMZ73:NMZ77)","v":0},{"$f":"SUM(NNA73:NNA77)","v":0},{"$f":"SUM(NNB73:NNB77)","v":0},{"$f":"SUM(NNC73:NNC77)","v":0},{"$f":"SUM(NND73:NND77)","v":0},{"$f":"SUM(NNE73:NNE77)","v":0},{"$f":"SUM(NNF73:NNF77)","v":0},{"$f":"SUM(NNG73:NNG77)","v":0},{"$f":"SUM(NNH73:NNH77)","v":0},{"$f":"SUM(NNI73:NNI77)","v":0},{"$f":"SUM(NNJ73:NNJ77)","v":0},{"$f":"SUM(NNK73:NNK77)","v":0},{"$f":"SUM(NNL73:NNL77)","v":0},{"$f":"SUM(NNM73:NNM77)","v":0},{"$f":"SUM(NNN73:NNN77)","v":0},{"$f":"SUM(NNO73:NNO77)","v":0},{"$f":"SUM(NNP73:NNP77)","v":0},{"$f":"SUM(NNQ73:NNQ77)","v":0},{"$f":"SUM(NNR73:NNR77)","v":0},{"$f":"SUM(NNS73:NNS77)","v":0},{"$f":"SUM(NNT73:NNT77)","v":0},{"$f":"SUM(NNU73:NNU77)","v":0},{"$f":"SUM(NNV73:NNV77)","v":0},{"$f":"SUM(NNW73:NNW77)","v":0},{"$f":"SUM(NNX73:NNX77)","v":0},{"$f":"SUM(NNY73:NNY77)","v":0},{"$f":"SUM(NNZ73:NNZ77)","v":0},{"$f":"SUM(NOA73:NOA77)","v":0},{"$f":"SUM(NOB73:NOB77)","v":0},{"$f":"SUM(NOC73:NOC77)","v":0},{"$f":"SUM(NOD73:NOD77)","v":0},{"$f":"SUM(NOE73:NOE77)","v":0},{"$f":"SUM(NOF73:NOF77)","v":0},{"$f":"SUM(NOG73:NOG77)","v":0},{"$f":"SUM(NOH73:NOH77)","v":0},{"$f":"SUM(NOI73:NOI77)","v":0},{"$f":"SUM(NOJ73:NOJ77)","v":0},{"$f":"SUM(NOK73:NOK77)","v":0},{"$f":"SUM(NOL73:NOL77)","v":0},{"$f":"SUM(NOM73:NOM77)","v":0},{"$f":"SUM(NON73:NON77)","v":0},{"$f":"SUM(NOO73:NOO77)","v":0},{"$f":"SUM(NOP73:NOP77)","v":0},{"$f":"SUM(NOQ73:NOQ77)","v":0},{"$f":"SUM(NOR73:NOR77)","v":0},{"$f":"SUM(NOS73:NOS77)","v":0},{"$f":"SUM(NOT73:NOT77)","v":0},{"$f":"SUM(NOU73:NOU77)","v":0},{"$f":"SUM(NOV73:NOV77)","v":0},{"$f":"SUM(NOW73:NOW77)","v":0},{"$f":"SUM(NOX73:NOX77)","v":0},{"$f":"SUM(NOY73:NOY77)","v":0},{"$f":"SUM(NOZ73:NOZ77)","v":0},{"$f":"SUM(NPA73:NPA77)","v":0},{"$f":"SUM(NPB73:NPB77)","v":0},{"$f":"SUM(NPC73:NPC77)","v":0},{"$f":"SUM(NPD73:NPD77)","v":0},{"$f":"SUM(NPE73:NPE77)","v":0},{"$f":"SUM(NPF73:NPF77)","v":0},{"$f":"SUM(NPG73:NPG77)","v":0},{"$f":"SUM(NPH73:NPH77)","v":0},{"$f":"SUM(NPI73:NPI77)","v":0},{"$f":"SUM(NPJ73:NPJ77)","v":0},{"$f":"SUM(NPK73:NPK77)","v":0},{"$f":"SUM(NPL73:NPL77)","v":0},{"$f":"SUM(NPM73:NPM77)","v":0},{"$f":"SUM(NPN73:NPN77)","v":0},{"$f":"SUM(NPO73:NPO77)","v":0},{"$f":"SUM(NPP73:NPP77)","v":0},{"$f":"SUM(NPQ73:NPQ77)","v":0},{"$f":"SUM(NPR73:NPR77)","v":0},{"$f":"SUM(NPS73:NPS77)","v":0},{"$f":"SUM(NPT73:NPT77)","v":0},{"$f":"SUM(NPU73:NPU77)","v":0},{"$f":"SUM(NPV73:NPV77)","v":0},{"$f":"SUM(NPW73:NPW77)","v":0},{"$f":"SUM(NPX73:NPX77)","v":0},{"$f":"SUM(NPY73:NPY77)","v":0},{"$f":"SUM(NPZ73:NPZ77)","v":0},{"$f":"SUM(NQA73:NQA77)","v":0},{"$f":"SUM(NQB73:NQB77)","v":0},{"$f":"SUM(NQC73:NQC77)","v":0},{"$f":"SUM(NQD73:NQD77)","v":0},{"$f":"SUM(NQE73:NQE77)","v":0},{"$f":"SUM(NQF73:NQF77)","v":0},{"$f":"SUM(NQG73:NQG77)","v":0},{"$f":"SUM(NQH73:NQH77)","v":0},{"$f":"SUM(NQI73:NQI77)","v":0},{"$f":"SUM(NQJ73:NQJ77)","v":0},{"$f":"SUM(NQK73:NQK77)","v":0},{"$f":"SUM(NQL73:NQL77)","v":0},{"$f":"SUM(NQM73:NQM77)","v":0},{"$f":"SUM(NQN73:NQN77)","v":0},{"$f":"SUM(NQO73:NQO77)","v":0},{"$f":"SUM(NQP73:NQP77)","v":0},{"$f":"SUM(NQQ73:NQQ77)","v":0},{"$f":"SUM(NQR73:NQR77)","v":0},{"$f":"SUM(NQS73:NQS77)","v":0},{"$f":"SUM(NQT73:NQT77)","v":0},{"$f":"SUM(NQU73:NQU77)","v":0},{"$f":"SUM(NQV73:NQV77)","v":0},{"$f":"SUM(NQW73:NQW77)","v":0},{"$f":"SUM(NQX73:NQX77)","v":0},{"$f":"SUM(NQY73:NQY77)","v":0},{"$f":"SUM(NQZ73:NQZ77)","v":0},{"$f":"SUM(NRA73:NRA77)","v":0},{"$f":"SUM(NRB73:NRB77)","v":0},{"$f":"SUM(NRC73:NRC77)","v":0},{"$f":"SUM(NRD73:NRD77)","v":0},{"$f":"SUM(NRE73:NRE77)","v":0},{"$f":"SUM(NRF73:NRF77)","v":0},{"$f":"SUM(NRG73:NRG77)","v":0},{"$f":"SUM(NRH73:NRH77)","v":0},{"$f":"SUM(NRI73:NRI77)","v":0},{"$f":"SUM(NRJ73:NRJ77)","v":0},{"$f":"SUM(NRK73:NRK77)","v":0},{"$f":"SUM(NRL73:NRL77)","v":0},{"$f":"SUM(NRM73:NRM77)","v":0},{"$f":"SUM(NRN73:NRN77)","v":0},{"$f":"SUM(NRO73:NRO77)","v":0},{"$f":"SUM(NRP73:NRP77)","v":0},{"$f":"SUM(NRQ73:NRQ77)","v":0},{"$f":"SUM(NRR73:NRR77)","v":0},{"$f":"SUM(NRS73:NRS77)","v":0},{"$f":"SUM(NRT73:NRT77)","v":0},{"$f":"SUM(NRU73:NRU77)","v":0},{"$f":"SUM(NRV73:NRV77)","v":0},{"$f":"SUM(NRW73:NRW77)","v":0},{"$f":"SUM(NRX73:NRX77)","v":0},{"$f":"SUM(NRY73:NRY77)","v":0},{"$f":"SUM(NRZ73:NRZ77)","v":0},{"$f":"SUM(NSA73:NSA77)","v":0},{"$f":"SUM(NSB73:NSB77)","v":0},{"$f":"SUM(NSC73:NSC77)","v":0},{"$f":"SUM(NSD73:NSD77)","v":0},{"$f":"SUM(NSE73:NSE77)","v":0},{"$f":"SUM(NSF73:NSF77)","v":0},{"$f":"SUM(NSG73:NSG77)","v":0},{"$f":"SUM(NSH73:NSH77)","v":0},{"$f":"SUM(NSI73:NSI77)","v":0},{"$f":"SUM(NSJ73:NSJ77)","v":0},{"$f":"SUM(NSK73:NSK77)","v":0},{"$f":"SUM(NSL73:NSL77)","v":0},{"$f":"SUM(NSM73:NSM77)","v":0},{"$f":"SUM(NSN73:NSN77)","v":0},{"$f":"SUM(NSO73:NSO77)","v":0},{"$f":"SUM(NSP73:NSP77)","v":0},{"$f":"SUM(NSQ73:NSQ77)","v":0},{"$f":"SUM(NSR73:NSR77)","v":0},{"$f":"SUM(NSS73:NSS77)","v":0},{"$f":"SUM(NST73:NST77)","v":0},{"$f":"SUM(NSU73:NSU77)","v":0},{"$f":"SUM(NSV73:NSV77)","v":0},{"$f":"SUM(NSW73:NSW77)","v":0},{"$f":"SUM(NSX73:NSX77)","v":0},{"$f":"SUM(NSY73:NSY77)","v":0},{"$f":"SUM(NSZ73:NSZ77)","v":0},{"$f":"SUM(NTA73:NTA77)","v":0},{"$f":"SUM(NTB73:NTB77)","v":0},{"$f":"SUM(NTC73:NTC77)","v":0},{"$f":"SUM(NTD73:NTD77)","v":0},{"$f":"SUM(NTE73:NTE77)","v":0},{"$f":"SUM(NTF73:NTF77)","v":0},{"$f":"SUM(NTG73:NTG77)","v":0},{"$f":"SUM(NTH73:NTH77)","v":0},{"$f":"SUM(NTI73:NTI77)","v":0},{"$f":"SUM(NTJ73:NTJ77)","v":0},{"$f":"SUM(NTK73:NTK77)","v":0},{"$f":"SUM(NTL73:NTL77)","v":0},{"$f":"SUM(NTM73:NTM77)","v":0},{"$f":"SUM(NTN73:NTN77)","v":0},{"$f":"SUM(NTO73:NTO77)","v":0},{"$f":"SUM(NTP73:NTP77)","v":0},{"$f":"SUM(NTQ73:NTQ77)","v":0},{"$f":"SUM(NTR73:NTR77)","v":0},{"$f":"SUM(NTS73:NTS77)","v":0},{"$f":"SUM(NTT73:NTT77)","v":0},{"$f":"SUM(NTU73:NTU77)","v":0},{"$f":"SUM(NTV73:NTV77)","v":0},{"$f":"SUM(NTW73:NTW77)","v":0},{"$f":"SUM(NTX73:NTX77)","v":0},{"$f":"SUM(NTY73:NTY77)","v":0},{"$f":"SUM(NTZ73:NTZ77)","v":0},{"$f":"SUM(NUA73:NUA77)","v":0},{"$f":"SUM(NUB73:NUB77)","v":0},{"$f":"SUM(NUC73:NUC77)","v":0},{"$f":"SUM(NUD73:NUD77)","v":0},{"$f":"SUM(NUE73:NUE77)","v":0},{"$f":"SUM(NUF73:NUF77)","v":0},{"$f":"SUM(NUG73:NUG77)","v":0},{"$f":"SUM(NUH73:NUH77)","v":0},{"$f":"SUM(NUI73:NUI77)","v":0},{"$f":"SUM(NUJ73:NUJ77)","v":0},{"$f":"SUM(NUK73:NUK77)","v":0},{"$f":"SUM(NUL73:NUL77)","v":0},{"$f":"SUM(NUM73:NUM77)","v":0},{"$f":"SUM(NUN73:NUN77)","v":0},{"$f":"SUM(NUO73:NUO77)","v":0},{"$f":"SUM(NUP73:NUP77)","v":0},{"$f":"SUM(NUQ73:NUQ77)","v":0},{"$f":"SUM(NUR73:NUR77)","v":0},{"$f":"SUM(NUS73:NUS77)","v":0},{"$f":"SUM(NUT73:NUT77)","v":0},{"$f":"SUM(NUU73:NUU77)","v":0},{"$f":"SUM(NUV73:NUV77)","v":0},{"$f":"SUM(NUW73:NUW77)","v":0},{"$f":"SUM(NUX73:NUX77)","v":0},{"$f":"SUM(NUY73:NUY77)","v":0},{"$f":"SUM(NUZ73:NUZ77)","v":0},{"$f":"SUM(NVA73:NVA77)","v":0},{"$f":"SUM(NVB73:NVB77)","v":0},{"$f":"SUM(NVC73:NVC77)","v":0},{"$f":"SUM(NVD73:NVD77)","v":0},{"$f":"SUM(NVE73:NVE77)","v":0},{"$f":"SUM(NVF73:NVF77)","v":0},{"$f":"SUM(NVG73:NVG77)","v":0},{"$f":"SUM(NVH73:NVH77)","v":0},{"$f":"SUM(NVI73:NVI77)","v":0},{"$f":"SUM(NVJ73:NVJ77)","v":0},{"$f":"SUM(NVK73:NVK77)","v":0},{"$f":"SUM(NVL73:NVL77)","v":0},{"$f":"SUM(NVM73:NVM77)","v":0},{"$f":"SUM(NVN73:NVN77)","v":0},{"$f":"SUM(NVO73:NVO77)","v":0},{"$f":"SUM(NVP73:NVP77)","v":0},{"$f":"SUM(NVQ73:NVQ77)","v":0},{"$f":"SUM(NVR73:NVR77)","v":0},{"$f":"SUM(NVS73:NVS77)","v":0},{"$f":"SUM(NVT73:NVT77)","v":0},{"$f":"SUM(NVU73:NVU77)","v":0},{"$f":"SUM(NVV73:NVV77)","v":0},{"$f":"SUM(NVW73:NVW77)","v":0},{"$f":"SUM(NVX73:NVX77)","v":0},{"$f":"SUM(NVY73:NVY77)","v":0},{"$f":"SUM(NVZ73:NVZ77)","v":0},{"$f":"SUM(NWA73:NWA77)","v":0},{"$f":"SUM(NWB73:NWB77)","v":0},{"$f":"SUM(NWC73:NWC77)","v":0},{"$f":"SUM(NWD73:NWD77)","v":0},{"$f":"SUM(NWE73:NWE77)","v":0},{"$f":"SUM(NWF73:NWF77)","v":0},{"$f":"SUM(NWG73:NWG77)","v":0},{"$f":"SUM(NWH73:NWH77)","v":0},{"$f":"SUM(NWI73:NWI77)","v":0},{"$f":"SUM(NWJ73:NWJ77)","v":0},{"$f":"SUM(NWK73:NWK77)","v":0},{"$f":"SUM(NWL73:NWL77)","v":0},{"$f":"SUM(NWM73:NWM77)","v":0},{"$f":"SUM(NWN73:NWN77)","v":0},{"$f":"SUM(NWO73:NWO77)","v":0},{"$f":"SUM(NWP73:NWP77)","v":0},{"$f":"SUM(NWQ73:NWQ77)","v":0},{"$f":"SUM(NWR73:NWR77)","v":0},{"$f":"SUM(NWS73:NWS77)","v":0},{"$f":"SUM(NWT73:NWT77)","v":0},{"$f":"SUM(NWU73:NWU77)","v":0},{"$f":"SUM(NWV73:NWV77)","v":0},{"$f":"SUM(NWW73:NWW77)","v":0},{"$f":"SUM(NWX73:NWX77)","v":0},{"$f":"SUM(NWY73:NWY77)","v":0},{"$f":"SUM(NWZ73:NWZ77)","v":0},{"$f":"SUM(NXA73:NXA77)","v":0},{"$f":"SUM(NXB73:NXB77)","v":0},{"$f":"SUM(NXC73:NXC77)","v":0},{"$f":"SUM(NXD73:NXD77)","v":0},{"$f":"SUM(NXE73:NXE77)","v":0},{"$f":"SUM(NXF73:NXF77)","v":0},{"$f":"SUM(NXG73:NXG77)","v":0},{"$f":"SUM(NXH73:NXH77)","v":0},{"$f":"SUM(NXI73:NXI77)","v":0},{"$f":"SUM(NXJ73:NXJ77)","v":0},{"$f":"SUM(NXK73:NXK77)","v":0},{"$f":"SUM(NXL73:NXL77)","v":0},{"$f":"SUM(NXM73:NXM77)","v":0},{"$f":"SUM(NXN73:NXN77)","v":0},{"$f":"SUM(NXO73:NXO77)","v":0},{"$f":"SUM(NXP73:NXP77)","v":0},{"$f":"SUM(NXQ73:NXQ77)","v":0},{"$f":"SUM(NXR73:NXR77)","v":0},{"$f":"SUM(NXS73:NXS77)","v":0},{"$f":"SUM(NXT73:NXT77)","v":0},{"$f":"SUM(NXU73:NXU77)","v":0},{"$f":"SUM(NXV73:NXV77)","v":0},{"$f":"SUM(NXW73:NXW77)","v":0},{"$f":"SUM(NXX73:NXX77)","v":0},{"$f":"SUM(NXY73:NXY77)","v":0},{"$f":"SUM(NXZ73:NXZ77)","v":0},{"$f":"SUM(NYA73:NYA77)","v":0},{"$f":"SUM(NYB73:NYB77)","v":0},{"$f":"SUM(NYC73:NYC77)","v":0},{"$f":"SUM(NYD73:NYD77)","v":0},{"$f":"SUM(NYE73:NYE77)","v":0},{"$f":"SUM(NYF73:NYF77)","v":0},{"$f":"SUM(NYG73:NYG77)","v":0},{"$f":"SUM(NYH73:NYH77)","v":0},{"$f":"SUM(NYI73:NYI77)","v":0},{"$f":"SUM(NYJ73:NYJ77)","v":0},{"$f":"SUM(NYK73:NYK77)","v":0},{"$f":"SUM(NYL73:NYL77)","v":0},{"$f":"SUM(NYM73:NYM77)","v":0},{"$f":"SUM(NYN73:NYN77)","v":0},{"$f":"SUM(NYO73:NYO77)","v":0},{"$f":"SUM(NYP73:NYP77)","v":0},{"$f":"SUM(NYQ73:NYQ77)","v":0},{"$f":"SUM(NYR73:NYR77)","v":0},{"$f":"SUM(NYS73:NYS77)","v":0},{"$f":"SUM(NYT73:NYT77)","v":0},{"$f":"SUM(NYU73:NYU77)","v":0},{"$f":"SUM(NYV73:NYV77)","v":0},{"$f":"SUM(NYW73:NYW77)","v":0},{"$f":"SUM(NYX73:NYX77)","v":0},{"$f":"SUM(NYY73:NYY77)","v":0},{"$f":"SUM(NYZ73:NYZ77)","v":0},{"$f":"SUM(NZA73:NZA77)","v":0},{"$f":"SUM(NZB73:NZB77)","v":0},{"$f":"SUM(NZC73:NZC77)","v":0},{"$f":"SUM(NZD73:NZD77)","v":0},{"$f":"SUM(NZE73:NZE77)","v":0},{"$f":"SUM(NZF73:NZF77)","v":0},{"$f":"SUM(NZG73:NZG77)","v":0},{"$f":"SUM(NZH73:NZH77)","v":0},{"$f":"SUM(NZI73:NZI77)","v":0},{"$f":"SUM(NZJ73:NZJ77)","v":0},{"$f":"SUM(NZK73:NZK77)","v":0},{"$f":"SUM(NZL73:NZL77)","v":0},{"$f":"SUM(NZM73:NZM77)","v":0},{"$f":"SUM(NZN73:NZN77)","v":0},{"$f":"SUM(NZO73:NZO77)","v":0},{"$f":"SUM(NZP73:NZP77)","v":0},{"$f":"SUM(NZQ73:NZQ77)","v":0},{"$f":"SUM(NZR73:NZR77)","v":0},{"$f":"SUM(NZS73:NZS77)","v":0},{"$f":"SUM(NZT73:NZT77)","v":0},{"$f":"SUM(NZU73:NZU77)","v":0},{"$f":"SUM(NZV73:NZV77)","v":0},{"$f":"SUM(NZW73:NZW77)","v":0},{"$f":"SUM(NZX73:NZX77)","v":0},{"$f":"SUM(NZY73:NZY77)","v":0},{"$f":"SUM(NZZ73:NZZ77)","v":0},{"$f":"SUM(OAA73:OAA77)","v":0},{"$f":"SUM(OAB73:OAB77)","v":0},{"$f":"SUM(OAC73:OAC77)","v":0},{"$f":"SUM(OAD73:OAD77)","v":0},{"$f":"SUM(OAE73:OAE77)","v":0},{"$f":"SUM(OAF73:OAF77)","v":0},{"$f":"SUM(OAG73:OAG77)","v":0},{"$f":"SUM(OAH73:OAH77)","v":0},{"$f":"SUM(OAI73:OAI77)","v":0},{"$f":"SUM(OAJ73:OAJ77)","v":0},{"$f":"SUM(OAK73:OAK77)","v":0},{"$f":"SUM(OAL73:OAL77)","v":0},{"$f":"SUM(OAM73:OAM77)","v":0},{"$f":"SUM(OAN73:OAN77)","v":0},{"$f":"SUM(OAO73:OAO77)","v":0},{"$f":"SUM(OAP73:OAP77)","v":0},{"$f":"SUM(OAQ73:OAQ77)","v":0},{"$f":"SUM(OAR73:OAR77)","v":0},{"$f":"SUM(OAS73:OAS77)","v":0},{"$f":"SUM(OAT73:OAT77)","v":0},{"$f":"SUM(OAU73:OAU77)","v":0},{"$f":"SUM(OAV73:OAV77)","v":0},{"$f":"SUM(OAW73:OAW77)","v":0},{"$f":"SUM(OAX73:OAX77)","v":0},{"$f":"SUM(OAY73:OAY77)","v":0},{"$f":"SUM(OAZ73:OAZ77)","v":0},{"$f":"SUM(OBA73:OBA77)","v":0},{"$f":"SUM(OBB73:OBB77)","v":0},{"$f":"SUM(OBC73:OBC77)","v":0},{"$f":"SUM(OBD73:OBD77)","v":0},{"$f":"SUM(OBE73:OBE77)","v":0},{"$f":"SUM(OBF73:OBF77)","v":0},{"$f":"SUM(OBG73:OBG77)","v":0},{"$f":"SUM(OBH73:OBH77)","v":0},{"$f":"SUM(OBI73:OBI77)","v":0},{"$f":"SUM(OBJ73:OBJ77)","v":0},{"$f":"SUM(OBK73:OBK77)","v":0},{"$f":"SUM(OBL73:OBL77)","v":0},{"$f":"SUM(OBM73:OBM77)","v":0},{"$f":"SUM(OBN73:OBN77)","v":0},{"$f":"SUM(OBO73:OBO77)","v":0},{"$f":"SUM(OBP73:OBP77)","v":0},{"$f":"SUM(OBQ73:OBQ77)","v":0},{"$f":"SUM(OBR73:OBR77)","v":0},{"$f":"SUM(OBS73:OBS77)","v":0},{"$f":"SUM(OBT73:OBT77)","v":0},{"$f":"SUM(OBU73:OBU77)","v":0},{"$f":"SUM(OBV73:OBV77)","v":0},{"$f":"SUM(OBW73:OBW77)","v":0},{"$f":"SUM(OBX73:OBX77)","v":0},{"$f":"SUM(OBY73:OBY77)","v":0},{"$f":"SUM(OBZ73:OBZ77)","v":0},{"$f":"SUM(OCA73:OCA77)","v":0},{"$f":"SUM(OCB73:OCB77)","v":0},{"$f":"SUM(OCC73:OCC77)","v":0},{"$f":"SUM(OCD73:OCD77)","v":0},{"$f":"SUM(OCE73:OCE77)","v":0},{"$f":"SUM(OCF73:OCF77)","v":0},{"$f":"SUM(OCG73:OCG77)","v":0},{"$f":"SUM(OCH73:OCH77)","v":0},{"$f":"SUM(OCI73:OCI77)","v":0},{"$f":"SUM(OCJ73:OCJ77)","v":0},{"$f":"SUM(OCK73:OCK77)","v":0},{"$f":"SUM(OCL73:OCL77)","v":0},{"$f":"SUM(OCM73:OCM77)","v":0},{"$f":"SUM(OCN73:OCN77)","v":0},{"$f":"SUM(OCO73:OCO77)","v":0},{"$f":"SUM(OCP73:OCP77)","v":0},{"$f":"SUM(OCQ73:OCQ77)","v":0},{"$f":"SUM(OCR73:OCR77)","v":0},{"$f":"SUM(OCS73:OCS77)","v":0},{"$f":"SUM(OCT73:OCT77)","v":0},{"$f":"SUM(OCU73:OCU77)","v":0},{"$f":"SUM(OCV73:OCV77)","v":0},{"$f":"SUM(OCW73:OCW77)","v":0},{"$f":"SUM(OCX73:OCX77)","v":0},{"$f":"SUM(OCY73:OCY77)","v":0},{"$f":"SUM(OCZ73:OCZ77)","v":0},{"$f":"SUM(ODA73:ODA77)","v":0},{"$f":"SUM(ODB73:ODB77)","v":0},{"$f":"SUM(ODC73:ODC77)","v":0},{"$f":"SUM(ODD73:ODD77)","v":0},{"$f":"SUM(ODE73:ODE77)","v":0},{"$f":"SUM(ODF73:ODF77)","v":0},{"$f":"SUM(ODG73:ODG77)","v":0},{"$f":"SUM(ODH73:ODH77)","v":0},{"$f":"SUM(ODI73:ODI77)","v":0},{"$f":"SUM(ODJ73:ODJ77)","v":0},{"$f":"SUM(ODK73:ODK77)","v":0},{"$f":"SUM(ODL73:ODL77)","v":0},{"$f":"SUM(ODM73:ODM77)","v":0},{"$f":"SUM(ODN73:ODN77)","v":0},{"$f":"SUM(ODO73:ODO77)","v":0},{"$f":"SUM(ODP73:ODP77)","v":0},{"$f":"SUM(ODQ73:ODQ77)","v":0},{"$f":"SUM(ODR73:ODR77)","v":0},{"$f":"SUM(ODS73:ODS77)","v":0},{"$f":"SUM(ODT73:ODT77)","v":0},{"$f":"SUM(ODU73:ODU77)","v":0},{"$f":"SUM(ODV73:ODV77)","v":0},{"$f":"SUM(ODW73:ODW77)","v":0},{"$f":"SUM(ODX73:ODX77)","v":0},{"$f":"SUM(ODY73:ODY77)","v":0},{"$f":"SUM(ODZ73:ODZ77)","v":0},{"$f":"SUM(OEA73:OEA77)","v":0},{"$f":"SUM(OEB73:OEB77)","v":0},{"$f":"SUM(OEC73:OEC77)","v":0},{"$f":"SUM(OED73:OED77)","v":0},{"$f":"SUM(OEE73:OEE77)","v":0},{"$f":"SUM(OEF73:OEF77)","v":0},{"$f":"SUM(OEG73:OEG77)","v":0},{"$f":"SUM(OEH73:OEH77)","v":0},{"$f":"SUM(OEI73:OEI77)","v":0},{"$f":"SUM(OEJ73:OEJ77)","v":0},{"$f":"SUM(OEK73:OEK77)","v":0},{"$f":"SUM(OEL73:OEL77)","v":0},{"$f":"SUM(OEM73:OEM77)","v":0},{"$f":"SUM(OEN73:OEN77)","v":0},{"$f":"SUM(OEO73:OEO77)","v":0},{"$f":"SUM(OEP73:OEP77)","v":0},{"$f":"SUM(OEQ73:OEQ77)","v":0},{"$f":"SUM(OER73:OER77)","v":0},{"$f":"SUM(OES73:OES77)","v":0},{"$f":"SUM(OET73:OET77)","v":0},{"$f":"SUM(OEU73:OEU77)","v":0},{"$f":"SUM(OEV73:OEV77)","v":0},{"$f":"SUM(OEW73:OEW77)","v":0},{"$f":"SUM(OEX73:OEX77)","v":0},{"$f":"SUM(OEY73:OEY77)","v":0},{"$f":"SUM(OEZ73:OEZ77)","v":0},{"$f":"SUM(OFA73:OFA77)","v":0},{"$f":"SUM(OFB73:OFB77)","v":0},{"$f":"SUM(OFC73:OFC77)","v":0},{"$f":"SUM(OFD73:OFD77)","v":0},{"$f":"SUM(OFE73:OFE77)","v":0},{"$f":"SUM(OFF73:OFF77)","v":0},{"$f":"SUM(OFG73:OFG77)","v":0},{"$f":"SUM(OFH73:OFH77)","v":0},{"$f":"SUM(OFI73:OFI77)","v":0},{"$f":"SUM(OFJ73:OFJ77)","v":0},{"$f":"SUM(OFK73:OFK77)","v":0},{"$f":"SUM(OFL73:OFL77)","v":0},{"$f":"SUM(OFM73:OFM77)","v":0},{"$f":"SUM(OFN73:OFN77)","v":0},{"$f":"SUM(OFO73:OFO77)","v":0},{"$f":"SUM(OFP73:OFP77)","v":0},{"$f":"SUM(OFQ73:OFQ77)","v":0},{"$f":"SUM(OFR73:OFR77)","v":0},{"$f":"SUM(OFS73:OFS77)","v":0},{"$f":"SUM(OFT73:OFT77)","v":0},{"$f":"SUM(OFU73:OFU77)","v":0},{"$f":"SUM(OFV73:OFV77)","v":0},{"$f":"SUM(OFW73:OFW77)","v":0},{"$f":"SUM(OFX73:OFX77)","v":0},{"$f":"SUM(OFY73:OFY77)","v":0},{"$f":"SUM(OFZ73:OFZ77)","v":0},{"$f":"SUM(OGA73:OGA77)","v":0},{"$f":"SUM(OGB73:OGB77)","v":0},{"$f":"SUM(OGC73:OGC77)","v":0},{"$f":"SUM(OGD73:OGD77)","v":0},{"$f":"SUM(OGE73:OGE77)","v":0},{"$f":"SUM(OGF73:OGF77)","v":0},{"$f":"SUM(OGG73:OGG77)","v":0},{"$f":"SUM(OGH73:OGH77)","v":0},{"$f":"SUM(OGI73:OGI77)","v":0},{"$f":"SUM(OGJ73:OGJ77)","v":0},{"$f":"SUM(OGK73:OGK77)","v":0},{"$f":"SUM(OGL73:OGL77)","v":0},{"$f":"SUM(OGM73:OGM77)","v":0},{"$f":"SUM(OGN73:OGN77)","v":0},{"$f":"SUM(OGO73:OGO77)","v":0},{"$f":"SUM(OGP73:OGP77)","v":0},{"$f":"SUM(OGQ73:OGQ77)","v":0},{"$f":"SUM(OGR73:OGR77)","v":0},{"$f":"SUM(OGS73:OGS77)","v":0},{"$f":"SUM(OGT73:OGT77)","v":0},{"$f":"SUM(OGU73:OGU77)","v":0},{"$f":"SUM(OGV73:OGV77)","v":0},{"$f":"SUM(OGW73:OGW77)","v":0},{"$f":"SUM(OGX73:OGX77)","v":0},{"$f":"SUM(OGY73:OGY77)","v":0},{"$f":"SUM(OGZ73:OGZ77)","v":0},{"$f":"SUM(OHA73:OHA77)","v":0},{"$f":"SUM(OHB73:OHB77)","v":0},{"$f":"SUM(OHC73:OHC77)","v":0},{"$f":"SUM(OHD73:OHD77)","v":0},{"$f":"SUM(OHE73:OHE77)","v":0},{"$f":"SUM(OHF73:OHF77)","v":0},{"$f":"SUM(OHG73:OHG77)","v":0},{"$f":"SUM(OHH73:OHH77)","v":0},{"$f":"SUM(OHI73:OHI77)","v":0},{"$f":"SUM(OHJ73:OHJ77)","v":0},{"$f":"SUM(OHK73:OHK77)","v":0},{"$f":"SUM(OHL73:OHL77)","v":0},{"$f":"SUM(OHM73:OHM77)","v":0},{"$f":"SUM(OHN73:OHN77)","v":0},{"$f":"SUM(OHO73:OHO77)","v":0},{"$f":"SUM(OHP73:OHP77)","v":0},{"$f":"SUM(OHQ73:OHQ77)","v":0},{"$f":"SUM(OHR73:OHR77)","v":0},{"$f":"SUM(OHS73:OHS77)","v":0},{"$f":"SUM(OHT73:OHT77)","v":0},{"$f":"SUM(OHU73:OHU77)","v":0},{"$f":"SUM(OHV73:OHV77)","v":0},{"$f":"SUM(OHW73:OHW77)","v":0},{"$f":"SUM(OHX73:OHX77)","v":0},{"$f":"SUM(OHY73:OHY77)","v":0},{"$f":"SUM(OHZ73:OHZ77)","v":0},{"$f":"SUM(OIA73:OIA77)","v":0},{"$f":"SUM(OIB73:OIB77)","v":0},{"$f":"SUM(OIC73:OIC77)","v":0},{"$f":"SUM(OID73:OID77)","v":0},{"$f":"SUM(OIE73:OIE77)","v":0},{"$f":"SUM(OIF73:OIF77)","v":0},{"$f":"SUM(OIG73:OIG77)","v":0},{"$f":"SUM(OIH73:OIH77)","v":0},{"$f":"SUM(OII73:OII77)","v":0},{"$f":"SUM(OIJ73:OIJ77)","v":0},{"$f":"SUM(OIK73:OIK77)","v":0},{"$f":"SUM(OIL73:OIL77)","v":0},{"$f":"SUM(OIM73:OIM77)","v":0},{"$f":"SUM(OIN73:OIN77)","v":0},{"$f":"SUM(OIO73:OIO77)","v":0},{"$f":"SUM(OIP73:OIP77)","v":0},{"$f":"SUM(OIQ73:OIQ77)","v":0},{"$f":"SUM(OIR73:OIR77)","v":0},{"$f":"SUM(OIS73:OIS77)","v":0},{"$f":"SUM(OIT73:OIT77)","v":0},{"$f":"SUM(OIU73:OIU77)","v":0},{"$f":"SUM(OIV73:OIV77)","v":0},{"$f":"SUM(OIW73:OIW77)","v":0},{"$f":"SUM(OIX73:OIX77)","v":0},{"$f":"SUM(OIY73:OIY77)","v":0},{"$f":"SUM(OIZ73:OIZ77)","v":0},{"$f":"SUM(OJA73:OJA77)","v":0},{"$f":"SUM(OJB73:OJB77)","v":0},{"$f":"SUM(OJC73:OJC77)","v":0},{"$f":"SUM(OJD73:OJD77)","v":0},{"$f":"SUM(OJE73:OJE77)","v":0},{"$f":"SUM(OJF73:OJF77)","v":0},{"$f":"SUM(OJG73:OJG77)","v":0},{"$f":"SUM(OJH73:OJH77)","v":0},{"$f":"SUM(OJI73:OJI77)","v":0},{"$f":"SUM(OJJ73:OJJ77)","v":0},{"$f":"SUM(OJK73:OJK77)","v":0},{"$f":"SUM(OJL73:OJL77)","v":0},{"$f":"SUM(OJM73:OJM77)","v":0},{"$f":"SUM(OJN73:OJN77)","v":0},{"$f":"SUM(OJO73:OJO77)","v":0},{"$f":"SUM(OJP73:OJP77)","v":0},{"$f":"SUM(OJQ73:OJQ77)","v":0},{"$f":"SUM(OJR73:OJR77)","v":0},{"$f":"SUM(OJS73:OJS77)","v":0},{"$f":"SUM(OJT73:OJT77)","v":0},{"$f":"SUM(OJU73:OJU77)","v":0},{"$f":"SUM(OJV73:OJV77)","v":0},{"$f":"SUM(OJW73:OJW77)","v":0},{"$f":"SUM(OJX73:OJX77)","v":0},{"$f":"SUM(OJY73:OJY77)","v":0},{"$f":"SUM(OJZ73:OJZ77)","v":0},{"$f":"SUM(OKA73:OKA77)","v":0},{"$f":"SUM(OKB73:OKB77)","v":0},{"$f":"SUM(OKC73:OKC77)","v":0},{"$f":"SUM(OKD73:OKD77)","v":0},{"$f":"SUM(OKE73:OKE77)","v":0},{"$f":"SUM(OKF73:OKF77)","v":0},{"$f":"SUM(OKG73:OKG77)","v":0},{"$f":"SUM(OKH73:OKH77)","v":0},{"$f":"SUM(OKI73:OKI77)","v":0},{"$f":"SUM(OKJ73:OKJ77)","v":0},{"$f":"SUM(OKK73:OKK77)","v":0},{"$f":"SUM(OKL73:OKL77)","v":0},{"$f":"SUM(OKM73:OKM77)","v":0},{"$f":"SUM(OKN73:OKN77)","v":0},{"$f":"SUM(OKO73:OKO77)","v":0},{"$f":"SUM(OKP73:OKP77)","v":0},{"$f":"SUM(OKQ73:OKQ77)","v":0},{"$f":"SUM(OKR73:OKR77)","v":0},{"$f":"SUM(OKS73:OKS77)","v":0},{"$f":"SUM(OKT73:OKT77)","v":0},{"$f":"SUM(OKU73:OKU77)","v":0},{"$f":"SUM(OKV73:OKV77)","v":0},{"$f":"SUM(OKW73:OKW77)","v":0},{"$f":"SUM(OKX73:OKX77)","v":0},{"$f":"SUM(OKY73:OKY77)","v":0},{"$f":"SUM(OKZ73:OKZ77)","v":0},{"$f":"SUM(OLA73:OLA77)","v":0},{"$f":"SUM(OLB73:OLB77)","v":0},{"$f":"SUM(OLC73:OLC77)","v":0},{"$f":"SUM(OLD73:OLD77)","v":0},{"$f":"SUM(OLE73:OLE77)","v":0},{"$f":"SUM(OLF73:OLF77)","v":0},{"$f":"SUM(OLG73:OLG77)","v":0},{"$f":"SUM(OLH73:OLH77)","v":0},{"$f":"SUM(OLI73:OLI77)","v":0},{"$f":"SUM(OLJ73:OLJ77)","v":0},{"$f":"SUM(OLK73:OLK77)","v":0},{"$f":"SUM(OLL73:OLL77)","v":0},{"$f":"SUM(OLM73:OLM77)","v":0},{"$f":"SUM(OLN73:OLN77)","v":0},{"$f":"SUM(OLO73:OLO77)","v":0},{"$f":"SUM(OLP73:OLP77)","v":0},{"$f":"SUM(OLQ73:OLQ77)","v":0},{"$f":"SUM(OLR73:OLR77)","v":0},{"$f":"SUM(OLS73:OLS77)","v":0},{"$f":"SUM(OLT73:OLT77)","v":0},{"$f":"SUM(OLU73:OLU77)","v":0},{"$f":"SUM(OLV73:OLV77)","v":0},{"$f":"SUM(OLW73:OLW77)","v":0},{"$f":"SUM(OLX73:OLX77)","v":0},{"$f":"SUM(OLY73:OLY77)","v":0},{"$f":"SUM(OLZ73:OLZ77)","v":0},{"$f":"SUM(OMA73:OMA77)","v":0},{"$f":"SUM(OMB73:OMB77)","v":0},{"$f":"SUM(OMC73:OMC77)","v":0},{"$f":"SUM(OMD73:OMD77)","v":0},{"$f":"SUM(OME73:OME77)","v":0},{"$f":"SUM(OMF73:OMF77)","v":0},{"$f":"SUM(OMG73:OMG77)","v":0},{"$f":"SUM(OMH73:OMH77)","v":0},{"$f":"SUM(OMI73:OMI77)","v":0},{"$f":"SUM(OMJ73:OMJ77)","v":0},{"$f":"SUM(OMK73:OMK77)","v":0},{"$f":"SUM(OML73:OML77)","v":0},{"$f":"SUM(OMM73:OMM77)","v":0},{"$f":"SUM(OMN73:OMN77)","v":0},{"$f":"SUM(OMO73:OMO77)","v":0},{"$f":"SUM(OMP73:OMP77)","v":0},{"$f":"SUM(OMQ73:OMQ77)","v":0},{"$f":"SUM(OMR73:OMR77)","v":0},{"$f":"SUM(OMS73:OMS77)","v":0},{"$f":"SUM(OMT73:OMT77)","v":0},{"$f":"SUM(OMU73:OMU77)","v":0},{"$f":"SUM(OMV73:OMV77)","v":0},{"$f":"SUM(OMW73:OMW77)","v":0},{"$f":"SUM(OMX73:OMX77)","v":0},{"$f":"SUM(OMY73:OMY77)","v":0},{"$f":"SUM(OMZ73:OMZ77)","v":0},{"$f":"SUM(ONA73:ONA77)","v":0},{"$f":"SUM(ONB73:ONB77)","v":0},{"$f":"SUM(ONC73:ONC77)","v":0},{"$f":"SUM(OND73:OND77)","v":0},{"$f":"SUM(ONE73:ONE77)","v":0},{"$f":"SUM(ONF73:ONF77)","v":0},{"$f":"SUM(ONG73:ONG77)","v":0},{"$f":"SUM(ONH73:ONH77)","v":0},{"$f":"SUM(ONI73:ONI77)","v":0},{"$f":"SUM(ONJ73:ONJ77)","v":0},{"$f":"SUM(ONK73:ONK77)","v":0},{"$f":"SUM(ONL73:ONL77)","v":0},{"$f":"SUM(ONM73:ONM77)","v":0},{"$f":"SUM(ONN73:ONN77)","v":0},{"$f":"SUM(ONO73:ONO77)","v":0},{"$f":"SUM(ONP73:ONP77)","v":0},{"$f":"SUM(ONQ73:ONQ77)","v":0},{"$f":"SUM(ONR73:ONR77)","v":0},{"$f":"SUM(ONS73:ONS77)","v":0},{"$f":"SUM(ONT73:ONT77)","v":0},{"$f":"SUM(ONU73:ONU77)","v":0},{"$f":"SUM(ONV73:ONV77)","v":0},{"$f":"SUM(ONW73:ONW77)","v":0},{"$f":"SUM(ONX73:ONX77)","v":0},{"$f":"SUM(ONY73:ONY77)","v":0},{"$f":"SUM(ONZ73:ONZ77)","v":0},{"$f":"SUM(OOA73:OOA77)","v":0},{"$f":"SUM(OOB73:OOB77)","v":0},{"$f":"SUM(OOC73:OOC77)","v":0},{"$f":"SUM(OOD73:OOD77)","v":0},{"$f":"SUM(OOE73:OOE77)","v":0},{"$f":"SUM(OOF73:OOF77)","v":0},{"$f":"SUM(OOG73:OOG77)","v":0},{"$f":"SUM(OOH73:OOH77)","v":0},{"$f":"SUM(OOI73:OOI77)","v":0},{"$f":"SUM(OOJ73:OOJ77)","v":0},{"$f":"SUM(OOK73:OOK77)","v":0},{"$f":"SUM(OOL73:OOL77)","v":0},{"$f":"SUM(OOM73:OOM77)","v":0},{"$f":"SUM(OON73:OON77)","v":0},{"$f":"SUM(OOO73:OOO77)","v":0},{"$f":"SUM(OOP73:OOP77)","v":0},{"$f":"SUM(OOQ73:OOQ77)","v":0},{"$f":"SUM(OOR73:OOR77)","v":0},{"$f":"SUM(OOS73:OOS77)","v":0},{"$f":"SUM(OOT73:OOT77)","v":0},{"$f":"SUM(OOU73:OOU77)","v":0},{"$f":"SUM(OOV73:OOV77)","v":0},{"$f":"SUM(OOW73:OOW77)","v":0},{"$f":"SUM(OOX73:OOX77)","v":0},{"$f":"SUM(OOY73:OOY77)","v":0},{"$f":"SUM(OOZ73:OOZ77)","v":0},{"$f":"SUM(OPA73:OPA77)","v":0},{"$f":"SUM(OPB73:OPB77)","v":0},{"$f":"SUM(OPC73:OPC77)","v":0},{"$f":"SUM(OPD73:OPD77)","v":0},{"$f":"SUM(OPE73:OPE77)","v":0},{"$f":"SUM(OPF73:OPF77)","v":0},{"$f":"SUM(OPG73:OPG77)","v":0},{"$f":"SUM(OPH73:OPH77)","v":0},{"$f":"SUM(OPI73:OPI77)","v":0},{"$f":"SUM(OPJ73:OPJ77)","v":0},{"$f":"SUM(OPK73:OPK77)","v":0},{"$f":"SUM(OPL73:OPL77)","v":0},{"$f":"SUM(OPM73:OPM77)","v":0},{"$f":"SUM(OPN73:OPN77)","v":0},{"$f":"SUM(OPO73:OPO77)","v":0},{"$f":"SUM(OPP73:OPP77)","v":0},{"$f":"SUM(OPQ73:OPQ77)","v":0},{"$f":"SUM(OPR73:OPR77)","v":0},{"$f":"SUM(OPS73:OPS77)","v":0},{"$f":"SUM(OPT73:OPT77)","v":0},{"$f":"SUM(OPU73:OPU77)","v":0},{"$f":"SUM(OPV73:OPV77)","v":0},{"$f":"SUM(OPW73:OPW77)","v":0},{"$f":"SUM(OPX73:OPX77)","v":0},{"$f":"SUM(OPY73:OPY77)","v":0},{"$f":"SUM(OPZ73:OPZ77)","v":0},{"$f":"SUM(OQA73:OQA77)","v":0},{"$f":"SUM(OQB73:OQB77)","v":0},{"$f":"SUM(OQC73:OQC77)","v":0},{"$f":"SUM(OQD73:OQD77)","v":0},{"$f":"SUM(OQE73:OQE77)","v":0},{"$f":"SUM(OQF73:OQF77)","v":0},{"$f":"SUM(OQG73:OQG77)","v":0},{"$f":"SUM(OQH73:OQH77)","v":0},{"$f":"SUM(OQI73:OQI77)","v":0},{"$f":"SUM(OQJ73:OQJ77)","v":0},{"$f":"SUM(OQK73:OQK77)","v":0},{"$f":"SUM(OQL73:OQL77)","v":0},{"$f":"SUM(OQM73:OQM77)","v":0},{"$f":"SUM(OQN73:OQN77)","v":0},{"$f":"SUM(OQO73:OQO77)","v":0},{"$f":"SUM(OQP73:OQP77)","v":0},{"$f":"SUM(OQQ73:OQQ77)","v":0},{"$f":"SUM(OQR73:OQR77)","v":0},{"$f":"SUM(OQS73:OQS77)","v":0},{"$f":"SUM(OQT73:OQT77)","v":0},{"$f":"SUM(OQU73:OQU77)","v":0},{"$f":"SUM(OQV73:OQV77)","v":0},{"$f":"SUM(OQW73:OQW77)","v":0},{"$f":"SUM(OQX73:OQX77)","v":0},{"$f":"SUM(OQY73:OQY77)","v":0},{"$f":"SUM(OQZ73:OQZ77)","v":0},{"$f":"SUM(ORA73:ORA77)","v":0},{"$f":"SUM(ORB73:ORB77)","v":0},{"$f":"SUM(ORC73:ORC77)","v":0},{"$f":"SUM(ORD73:ORD77)","v":0},{"$f":"SUM(ORE73:ORE77)","v":0},{"$f":"SUM(ORF73:ORF77)","v":0},{"$f":"SUM(ORG73:ORG77)","v":0},{"$f":"SUM(ORH73:ORH77)","v":0},{"$f":"SUM(ORI73:ORI77)","v":0},{"$f":"SUM(ORJ73:ORJ77)","v":0},{"$f":"SUM(ORK73:ORK77)","v":0},{"$f":"SUM(ORL73:ORL77)","v":0},{"$f":"SUM(ORM73:ORM77)","v":0},{"$f":"SUM(ORN73:ORN77)","v":0},{"$f":"SUM(ORO73:ORO77)","v":0},{"$f":"SUM(ORP73:ORP77)","v":0},{"$f":"SUM(ORQ73:ORQ77)","v":0},{"$f":"SUM(ORR73:ORR77)","v":0},{"$f":"SUM(ORS73:ORS77)","v":0},{"$f":"SUM(ORT73:ORT77)","v":0},{"$f":"SUM(ORU73:ORU77)","v":0},{"$f":"SUM(ORV73:ORV77)","v":0},{"$f":"SUM(ORW73:ORW77)","v":0},{"$f":"SUM(ORX73:ORX77)","v":0},{"$f":"SUM(ORY73:ORY77)","v":0},{"$f":"SUM(ORZ73:ORZ77)","v":0},{"$f":"SUM(OSA73:OSA77)","v":0},{"$f":"SUM(OSB73:OSB77)","v":0},{"$f":"SUM(OSC73:OSC77)","v":0},{"$f":"SUM(OSD73:OSD77)","v":0},{"$f":"SUM(OSE73:OSE77)","v":0},{"$f":"SUM(OSF73:OSF77)","v":0},{"$f":"SUM(OSG73:OSG77)","v":0},{"$f":"SUM(OSH73:OSH77)","v":0},{"$f":"SUM(OSI73:OSI77)","v":0},{"$f":"SUM(OSJ73:OSJ77)","v":0},{"$f":"SUM(OSK73:OSK77)","v":0},{"$f":"SUM(OSL73:OSL77)","v":0},{"$f":"SUM(OSM73:OSM77)","v":0},{"$f":"SUM(OSN73:OSN77)","v":0},{"$f":"SUM(OSO73:OSO77)","v":0},{"$f":"SUM(OSP73:OSP77)","v":0},{"$f":"SUM(OSQ73:OSQ77)","v":0},{"$f":"SUM(OSR73:OSR77)","v":0},{"$f":"SUM(OSS73:OSS77)","v":0},{"$f":"SUM(OST73:OST77)","v":0},{"$f":"SUM(OSU73:OSU77)","v":0},{"$f":"SUM(OSV73:OSV77)","v":0},{"$f":"SUM(OSW73:OSW77)","v":0},{"$f":"SUM(OSX73:OSX77)","v":0},{"$f":"SUM(OSY73:OSY77)","v":0},{"$f":"SUM(OSZ73:OSZ77)","v":0},{"$f":"SUM(OTA73:OTA77)","v":0},{"$f":"SUM(OTB73:OTB77)","v":0},{"$f":"SUM(OTC73:OTC77)","v":0},{"$f":"SUM(OTD73:OTD77)","v":0},{"$f":"SUM(OTE73:OTE77)","v":0},{"$f":"SUM(OTF73:OTF77)","v":0},{"$f":"SUM(OTG73:OTG77)","v":0},{"$f":"SUM(OTH73:OTH77)","v":0},{"$f":"SUM(OTI73:OTI77)","v":0},{"$f":"SUM(OTJ73:OTJ77)","v":0},{"$f":"SUM(OTK73:OTK77)","v":0},{"$f":"SUM(OTL73:OTL77)","v":0},{"$f":"SUM(OTM73:OTM77)","v":0},{"$f":"SUM(OTN73:OTN77)","v":0},{"$f":"SUM(OTO73:OTO77)","v":0},{"$f":"SUM(OTP73:OTP77)","v":0},{"$f":"SUM(OTQ73:OTQ77)","v":0},{"$f":"SUM(OTR73:OTR77)","v":0},{"$f":"SUM(OTS73:OTS77)","v":0},{"$f":"SUM(OTT73:OTT77)","v":0},{"$f":"SUM(OTU73:OTU77)","v":0},{"$f":"SUM(OTV73:OTV77)","v":0},{"$f":"SUM(OTW73:OTW77)","v":0},{"$f":"SUM(OTX73:OTX77)","v":0},{"$f":"SUM(OTY73:OTY77)","v":0},{"$f":"SUM(OTZ73:OTZ77)","v":0},{"$f":"SUM(OUA73:OUA77)","v":0},{"$f":"SUM(OUB73:OUB77)","v":0},{"$f":"SUM(OUC73:OUC77)","v":0},{"$f":"SUM(OUD73:OUD77)","v":0},{"$f":"SUM(OUE73:OUE77)","v":0},{"$f":"SUM(OUF73:OUF77)","v":0},{"$f":"SUM(OUG73:OUG77)","v":0},{"$f":"SUM(OUH73:OUH77)","v":0},{"$f":"SUM(OUI73:OUI77)","v":0},{"$f":"SUM(OUJ73:OUJ77)","v":0},{"$f":"SUM(OUK73:OUK77)","v":0},{"$f":"SUM(OUL73:OUL77)","v":0},{"$f":"SUM(OUM73:OUM77)","v":0},{"$f":"SUM(OUN73:OUN77)","v":0},{"$f":"SUM(OUO73:OUO77)","v":0},{"$f":"SUM(OUP73:OUP77)","v":0},{"$f":"SUM(OUQ73:OUQ77)","v":0},{"$f":"SUM(OUR73:OUR77)","v":0},{"$f":"SUM(OUS73:OUS77)","v":0},{"$f":"SUM(OUT73:OUT77)","v":0},{"$f":"SUM(OUU73:OUU77)","v":0},{"$f":"SUM(OUV73:OUV77)","v":0},{"$f":"SUM(OUW73:OUW77)","v":0},{"$f":"SUM(OUX73:OUX77)","v":0},{"$f":"SUM(OUY73:OUY77)","v":0},{"$f":"SUM(OUZ73:OUZ77)","v":0},{"$f":"SUM(OVA73:OVA77)","v":0},{"$f":"SUM(OVB73:OVB77)","v":0},{"$f":"SUM(OVC73:OVC77)","v":0},{"$f":"SUM(OVD73:OVD77)","v":0},{"$f":"SUM(OVE73:OVE77)","v":0},{"$f":"SUM(OVF73:OVF77)","v":0},{"$f":"SUM(OVG73:OVG77)","v":0},{"$f":"SUM(OVH73:OVH77)","v":0},{"$f":"SUM(OVI73:OVI77)","v":0},{"$f":"SUM(OVJ73:OVJ77)","v":0},{"$f":"SUM(OVK73:OVK77)","v":0},{"$f":"SUM(OVL73:OVL77)","v":0},{"$f":"SUM(OVM73:OVM77)","v":0},{"$f":"SUM(OVN73:OVN77)","v":0},{"$f":"SUM(OVO73:OVO77)","v":0},{"$f":"SUM(OVP73:OVP77)","v":0},{"$f":"SUM(OVQ73:OVQ77)","v":0},{"$f":"SUM(OVR73:OVR77)","v":0},{"$f":"SUM(OVS73:OVS77)","v":0},{"$f":"SUM(OVT73:OVT77)","v":0},{"$f":"SUM(OVU73:OVU77)","v":0},{"$f":"SUM(OVV73:OVV77)","v":0},{"$f":"SUM(OVW73:OVW77)","v":0},{"$f":"SUM(OVX73:OVX77)","v":0},{"$f":"SUM(OVY73:OVY77)","v":0},{"$f":"SUM(OVZ73:OVZ77)","v":0},{"$f":"SUM(OWA73:OWA77)","v":0},{"$f":"SUM(OWB73:OWB77)","v":0},{"$f":"SUM(OWC73:OWC77)","v":0},{"$f":"SUM(OWD73:OWD77)","v":0},{"$f":"SUM(OWE73:OWE77)","v":0},{"$f":"SUM(OWF73:OWF77)","v":0},{"$f":"SUM(OWG73:OWG77)","v":0},{"$f":"SUM(OWH73:OWH77)","v":0},{"$f":"SUM(OWI73:OWI77)","v":0},{"$f":"SUM(OWJ73:OWJ77)","v":0},{"$f":"SUM(OWK73:OWK77)","v":0},{"$f":"SUM(OWL73:OWL77)","v":0},{"$f":"SUM(OWM73:OWM77)","v":0},{"$f":"SUM(OWN73:OWN77)","v":0},{"$f":"SUM(OWO73:OWO77)","v":0},{"$f":"SUM(OWP73:OWP77)","v":0},{"$f":"SUM(OWQ73:OWQ77)","v":0},{"$f":"SUM(OWR73:OWR77)","v":0},{"$f":"SUM(OWS73:OWS77)","v":0},{"$f":"SUM(OWT73:OWT77)","v":0},{"$f":"SUM(OWU73:OWU77)","v":0},{"$f":"SUM(OWV73:OWV77)","v":0},{"$f":"SUM(OWW73:OWW77)","v":0},{"$f":"SUM(OWX73:OWX77)","v":0},{"$f":"SUM(OWY73:OWY77)","v":0},{"$f":"SUM(OWZ73:OWZ77)","v":0},{"$f":"SUM(OXA73:OXA77)","v":0},{"$f":"SUM(OXB73:OXB77)","v":0},{"$f":"SUM(OXC73:OXC77)","v":0},{"$f":"SUM(OXD73:OXD77)","v":0},{"$f":"SUM(OXE73:OXE77)","v":0},{"$f":"SUM(OXF73:OXF77)","v":0},{"$f":"SUM(OXG73:OXG77)","v":0},{"$f":"SUM(OXH73:OXH77)","v":0},{"$f":"SUM(OXI73:OXI77)","v":0},{"$f":"SUM(OXJ73:OXJ77)","v":0},{"$f":"SUM(OXK73:OXK77)","v":0},{"$f":"SUM(OXL73:OXL77)","v":0},{"$f":"SUM(OXM73:OXM77)","v":0},{"$f":"SUM(OXN73:OXN77)","v":0},{"$f":"SUM(OXO73:OXO77)","v":0},{"$f":"SUM(OXP73:OXP77)","v":0},{"$f":"SUM(OXQ73:OXQ77)","v":0},{"$f":"SUM(OXR73:OXR77)","v":0},{"$f":"SUM(OXS73:OXS77)","v":0},{"$f":"SUM(OXT73:OXT77)","v":0},{"$f":"SUM(OXU73:OXU77)","v":0},{"$f":"SUM(OXV73:OXV77)","v":0},{"$f":"SUM(OXW73:OXW77)","v":0},{"$f":"SUM(OXX73:OXX77)","v":0},{"$f":"SUM(OXY73:OXY77)","v":0},{"$f":"SUM(OXZ73:OXZ77)","v":0},{"$f":"SUM(OYA73:OYA77)","v":0},{"$f":"SUM(OYB73:OYB77)","v":0},{"$f":"SUM(OYC73:OYC77)","v":0},{"$f":"SUM(OYD73:OYD77)","v":0},{"$f":"SUM(OYE73:OYE77)","v":0},{"$f":"SUM(OYF73:OYF77)","v":0},{"$f":"SUM(OYG73:OYG77)","v":0},{"$f":"SUM(OYH73:OYH77)","v":0},{"$f":"SUM(OYI73:OYI77)","v":0},{"$f":"SUM(OYJ73:OYJ77)","v":0},{"$f":"SUM(OYK73:OYK77)","v":0},{"$f":"SUM(OYL73:OYL77)","v":0},{"$f":"SUM(OYM73:OYM77)","v":0},{"$f":"SUM(OYN73:OYN77)","v":0},{"$f":"SUM(OYO73:OYO77)","v":0},{"$f":"SUM(OYP73:OYP77)","v":0},{"$f":"SUM(OYQ73:OYQ77)","v":0},{"$f":"SUM(OYR73:OYR77)","v":0},{"$f":"SUM(OYS73:OYS77)","v":0},{"$f":"SUM(OYT73:OYT77)","v":0},{"$f":"SUM(OYU73:OYU77)","v":0},{"$f":"SUM(OYV73:OYV77)","v":0},{"$f":"SUM(OYW73:OYW77)","v":0},{"$f":"SUM(OYX73:OYX77)","v":0},{"$f":"SUM(OYY73:OYY77)","v":0},{"$f":"SUM(OYZ73:OYZ77)","v":0},{"$f":"SUM(OZA73:OZA77)","v":0},{"$f":"SUM(OZB73:OZB77)","v":0},{"$f":"SUM(OZC73:OZC77)","v":0},{"$f":"SUM(OZD73:OZD77)","v":0},{"$f":"SUM(OZE73:OZE77)","v":0},{"$f":"SUM(OZF73:OZF77)","v":0},{"$f":"SUM(OZG73:OZG77)","v":0},{"$f":"SUM(OZH73:OZH77)","v":0},{"$f":"SUM(OZI73:OZI77)","v":0},{"$f":"SUM(OZJ73:OZJ77)","v":0},{"$f":"SUM(OZK73:OZK77)","v":0},{"$f":"SUM(OZL73:OZL77)","v":0},{"$f":"SUM(OZM73:OZM77)","v":0},{"$f":"SUM(OZN73:OZN77)","v":0},{"$f":"SUM(OZO73:OZO77)","v":0},{"$f":"SUM(OZP73:OZP77)","v":0},{"$f":"SUM(OZQ73:OZQ77)","v":0},{"$f":"SUM(OZR73:OZR77)","v":0},{"$f":"SUM(OZS73:OZS77)","v":0},{"$f":"SUM(OZT73:OZT77)","v":0},{"$f":"SUM(OZU73:OZU77)","v":0},{"$f":"SUM(OZV73:OZV77)","v":0},{"$f":"SUM(OZW73:OZW77)","v":0},{"$f":"SUM(OZX73:OZX77)","v":0},{"$f":"SUM(OZY73:OZY77)","v":0},{"$f":"SUM(OZZ73:OZZ77)","v":0},{"$f":"SUM(PAA73:PAA77)","v":0},{"$f":"SUM(PAB73:PAB77)","v":0},{"$f":"SUM(PAC73:PAC77)","v":0},{"$f":"SUM(PAD73:PAD77)","v":0},{"$f":"SUM(PAE73:PAE77)","v":0},{"$f":"SUM(PAF73:PAF77)","v":0},{"$f":"SUM(PAG73:PAG77)","v":0},{"$f":"SUM(PAH73:PAH77)","v":0},{"$f":"SUM(PAI73:PAI77)","v":0},{"$f":"SUM(PAJ73:PAJ77)","v":0},{"$f":"SUM(PAK73:PAK77)","v":0},{"$f":"SUM(PAL73:PAL77)","v":0},{"$f":"SUM(PAM73:PAM77)","v":0},{"$f":"SUM(PAN73:PAN77)","v":0},{"$f":"SUM(PAO73:PAO77)","v":0},{"$f":"SUM(PAP73:PAP77)","v":0},{"$f":"SUM(PAQ73:PAQ77)","v":0},{"$f":"SUM(PAR73:PAR77)","v":0},{"$f":"SUM(PAS73:PAS77)","v":0},{"$f":"SUM(PAT73:PAT77)","v":0},{"$f":"SUM(PAU73:PAU77)","v":0},{"$f":"SUM(PAV73:PAV77)","v":0},{"$f":"SUM(PAW73:PAW77)","v":0},{"$f":"SUM(PAX73:PAX77)","v":0},{"$f":"SUM(PAY73:PAY77)","v":0},{"$f":"SUM(PAZ73:PAZ77)","v":0},{"$f":"SUM(PBA73:PBA77)","v":0},{"$f":"SUM(PBB73:PBB77)","v":0},{"$f":"SUM(PBC73:PBC77)","v":0},{"$f":"SUM(PBD73:PBD77)","v":0},{"$f":"SUM(PBE73:PBE77)","v":0},{"$f":"SUM(PBF73:PBF77)","v":0},{"$f":"SUM(PBG73:PBG77)","v":0},{"$f":"SUM(PBH73:PBH77)","v":0},{"$f":"SUM(PBI73:PBI77)","v":0},{"$f":"SUM(PBJ73:PBJ77)","v":0},{"$f":"SUM(PBK73:PBK77)","v":0},{"$f":"SUM(PBL73:PBL77)","v":0},{"$f":"SUM(PBM73:PBM77)","v":0},{"$f":"SUM(PBN73:PBN77)","v":0},{"$f":"SUM(PBO73:PBO77)","v":0},{"$f":"SUM(PBP73:PBP77)","v":0},{"$f":"SUM(PBQ73:PBQ77)","v":0},{"$f":"SUM(PBR73:PBR77)","v":0},{"$f":"SUM(PBS73:PBS77)","v":0},{"$f":"SUM(PBT73:PBT77)","v":0},{"$f":"SUM(PBU73:PBU77)","v":0},{"$f":"SUM(PBV73:PBV77)","v":0},{"$f":"SUM(PBW73:PBW77)","v":0},{"$f":"SUM(PBX73:PBX77)","v":0},{"$f":"SUM(PBY73:PBY77)","v":0},{"$f":"SUM(PBZ73:PBZ77)","v":0},{"$f":"SUM(PCA73:PCA77)","v":0},{"$f":"SUM(PCB73:PCB77)","v":0},{"$f":"SUM(PCC73:PCC77)","v":0},{"$f":"SUM(PCD73:PCD77)","v":0},{"$f":"SUM(PCE73:PCE77)","v":0},{"$f":"SUM(PCF73:PCF77)","v":0},{"$f":"SUM(PCG73:PCG77)","v":0},{"$f":"SUM(PCH73:PCH77)","v":0},{"$f":"SUM(PCI73:PCI77)","v":0},{"$f":"SUM(PCJ73:PCJ77)","v":0},{"$f":"SUM(PCK73:PCK77)","v":0},{"$f":"SUM(PCL73:PCL77)","v":0},{"$f":"SUM(PCM73:PCM77)","v":0},{"$f":"SUM(PCN73:PCN77)","v":0},{"$f":"SUM(PCO73:PCO77)","v":0},{"$f":"SUM(PCP73:PCP77)","v":0},{"$f":"SUM(PCQ73:PCQ77)","v":0},{"$f":"SUM(PCR73:PCR77)","v":0},{"$f":"SUM(PCS73:PCS77)","v":0},{"$f":"SUM(PCT73:PCT77)","v":0},{"$f":"SUM(PCU73:PCU77)","v":0},{"$f":"SUM(PCV73:PCV77)","v":0},{"$f":"SUM(PCW73:PCW77)","v":0},{"$f":"SUM(PCX73:PCX77)","v":0},{"$f":"SUM(PCY73:PCY77)","v":0},{"$f":"SUM(PCZ73:PCZ77)","v":0},{"$f":"SUM(PDA73:PDA77)","v":0},{"$f":"SUM(PDB73:PDB77)","v":0},{"$f":"SUM(PDC73:PDC77)","v":0},{"$f":"SUM(PDD73:PDD77)","v":0},{"$f":"SUM(PDE73:PDE77)","v":0},{"$f":"SUM(PDF73:PDF77)","v":0},{"$f":"SUM(PDG73:PDG77)","v":0},{"$f":"SUM(PDH73:PDH77)","v":0},{"$f":"SUM(PDI73:PDI77)","v":0},{"$f":"SUM(PDJ73:PDJ77)","v":0},{"$f":"SUM(PDK73:PDK77)","v":0},{"$f":"SUM(PDL73:PDL77)","v":0},{"$f":"SUM(PDM73:PDM77)","v":0},{"$f":"SUM(PDN73:PDN77)","v":0},{"$f":"SUM(PDO73:PDO77)","v":0},{"$f":"SUM(PDP73:PDP77)","v":0},{"$f":"SUM(PDQ73:PDQ77)","v":0},{"$f":"SUM(PDR73:PDR77)","v":0},{"$f":"SUM(PDS73:PDS77)","v":0},{"$f":"SUM(PDT73:PDT77)","v":0},{"$f":"SUM(PDU73:PDU77)","v":0},{"$f":"SUM(PDV73:PDV77)","v":0},{"$f":"SUM(PDW73:PDW77)","v":0},{"$f":"SUM(PDX73:PDX77)","v":0},{"$f":"SUM(PDY73:PDY77)","v":0},{"$f":"SUM(PDZ73:PDZ77)","v":0},{"$f":"SUM(PEA73:PEA77)","v":0},{"$f":"SUM(PEB73:PEB77)","v":0},{"$f":"SUM(PEC73:PEC77)","v":0},{"$f":"SUM(PED73:PED77)","v":0},{"$f":"SUM(PEE73:PEE77)","v":0},{"$f":"SUM(PEF73:PEF77)","v":0},{"$f":"SUM(PEG73:PEG77)","v":0},{"$f":"SUM(PEH73:PEH77)","v":0},{"$f":"SUM(PEI73:PEI77)","v":0},{"$f":"SUM(PEJ73:PEJ77)","v":0},{"$f":"SUM(PEK73:PEK77)","v":0},{"$f":"SUM(PEL73:PEL77)","v":0},{"$f":"SUM(PEM73:PEM77)","v":0},{"$f":"SUM(PEN73:PEN77)","v":0},{"$f":"SUM(PEO73:PEO77)","v":0},{"$f":"SUM(PEP73:PEP77)","v":0},{"$f":"SUM(PEQ73:PEQ77)","v":0},{"$f":"SUM(PER73:PER77)","v":0},{"$f":"SUM(PES73:PES77)","v":0},{"$f":"SUM(PET73:PET77)","v":0},{"$f":"SUM(PEU73:PEU77)","v":0},{"$f":"SUM(PEV73:PEV77)","v":0},{"$f":"SUM(PEW73:PEW77)","v":0},{"$f":"SUM(PEX73:PEX77)","v":0},{"$f":"SUM(PEY73:PEY77)","v":0},{"$f":"SUM(PEZ73:PEZ77)","v":0},{"$f":"SUM(PFA73:PFA77)","v":0},{"$f":"SUM(PFB73:PFB77)","v":0},{"$f":"SUM(PFC73:PFC77)","v":0},{"$f":"SUM(PFD73:PFD77)","v":0},{"$f":"SUM(PFE73:PFE77)","v":0},{"$f":"SUM(PFF73:PFF77)","v":0},{"$f":"SUM(PFG73:PFG77)","v":0},{"$f":"SUM(PFH73:PFH77)","v":0},{"$f":"SUM(PFI73:PFI77)","v":0},{"$f":"SUM(PFJ73:PFJ77)","v":0},{"$f":"SUM(PFK73:PFK77)","v":0},{"$f":"SUM(PFL73:PFL77)","v":0},{"$f":"SUM(PFM73:PFM77)","v":0},{"$f":"SUM(PFN73:PFN77)","v":0},{"$f":"SUM(PFO73:PFO77)","v":0},{"$f":"SUM(PFP73:PFP77)","v":0},{"$f":"SUM(PFQ73:PFQ77)","v":0},{"$f":"SUM(PFR73:PFR77)","v":0},{"$f":"SUM(PFS73:PFS77)","v":0},{"$f":"SUM(PFT73:PFT77)","v":0},{"$f":"SUM(PFU73:PFU77)","v":0},{"$f":"SUM(PFV73:PFV77)","v":0},{"$f":"SUM(PFW73:PFW77)","v":0},{"$f":"SUM(PFX73:PFX77)","v":0},{"$f":"SUM(PFY73:PFY77)","v":0},{"$f":"SUM(PFZ73:PFZ77)","v":0},{"$f":"SUM(PGA73:PGA77)","v":0},{"$f":"SUM(PGB73:PGB77)","v":0},{"$f":"SUM(PGC73:PGC77)","v":0},{"$f":"SUM(PGD73:PGD77)","v":0},{"$f":"SUM(PGE73:PGE77)","v":0},{"$f":"SUM(PGF73:PGF77)","v":0},{"$f":"SUM(PGG73:PGG77)","v":0},{"$f":"SUM(PGH73:PGH77)","v":0},{"$f":"SUM(PGI73:PGI77)","v":0},{"$f":"SUM(PGJ73:PGJ77)","v":0},{"$f":"SUM(PGK73:PGK77)","v":0},{"$f":"SUM(PGL73:PGL77)","v":0},{"$f":"SUM(PGM73:PGM77)","v":0},{"$f":"SUM(PGN73:PGN77)","v":0},{"$f":"SUM(PGO73:PGO77)","v":0},{"$f":"SUM(PGP73:PGP77)","v":0},{"$f":"SUM(PGQ73:PGQ77)","v":0},{"$f":"SUM(PGR73:PGR77)","v":0},{"$f":"SUM(PGS73:PGS77)","v":0},{"$f":"SUM(PGT73:PGT77)","v":0},{"$f":"SUM(PGU73:PGU77)","v":0},{"$f":"SUM(PGV73:PGV77)","v":0},{"$f":"SUM(PGW73:PGW77)","v":0},{"$f":"SUM(PGX73:PGX77)","v":0},{"$f":"SUM(PGY73:PGY77)","v":0},{"$f":"SUM(PGZ73:PGZ77)","v":0},{"$f":"SUM(PHA73:PHA77)","v":0},{"$f":"SUM(PHB73:PHB77)","v":0},{"$f":"SUM(PHC73:PHC77)","v":0},{"$f":"SUM(PHD73:PHD77)","v":0},{"$f":"SUM(PHE73:PHE77)","v":0},{"$f":"SUM(PHF73:PHF77)","v":0},{"$f":"SUM(PHG73:PHG77)","v":0},{"$f":"SUM(PHH73:PHH77)","v":0},{"$f":"SUM(PHI73:PHI77)","v":0},{"$f":"SUM(PHJ73:PHJ77)","v":0},{"$f":"SUM(PHK73:PHK77)","v":0},{"$f":"SUM(PHL73:PHL77)","v":0},{"$f":"SUM(PHM73:PHM77)","v":0},{"$f":"SUM(PHN73:PHN77)","v":0},{"$f":"SUM(PHO73:PHO77)","v":0},{"$f":"SUM(PHP73:PHP77)","v":0},{"$f":"SUM(PHQ73:PHQ77)","v":0},{"$f":"SUM(PHR73:PHR77)","v":0},{"$f":"SUM(PHS73:PHS77)","v":0},{"$f":"SUM(PHT73:PHT77)","v":0},{"$f":"SUM(PHU73:PHU77)","v":0},{"$f":"SUM(PHV73:PHV77)","v":0},{"$f":"SUM(PHW73:PHW77)","v":0},{"$f":"SUM(PHX73:PHX77)","v":0},{"$f":"SUM(PHY73:PHY77)","v":0},{"$f":"SUM(PHZ73:PHZ77)","v":0},{"$f":"SUM(PIA73:PIA77)","v":0},{"$f":"SUM(PIB73:PIB77)","v":0},{"$f":"SUM(PIC73:PIC77)","v":0},{"$f":"SUM(PID73:PID77)","v":0},{"$f":"SUM(PIE73:PIE77)","v":0},{"$f":"SUM(PIF73:PIF77)","v":0},{"$f":"SUM(PIG73:PIG77)","v":0},{"$f":"SUM(PIH73:PIH77)","v":0},{"$f":"SUM(PII73:PII77)","v":0},{"$f":"SUM(PIJ73:PIJ77)","v":0},{"$f":"SUM(PIK73:PIK77)","v":0},{"$f":"SUM(PIL73:PIL77)","v":0},{"$f":"SUM(PIM73:PIM77)","v":0},{"$f":"SUM(PIN73:PIN77)","v":0},{"$f":"SUM(PIO73:PIO77)","v":0},{"$f":"SUM(PIP73:PIP77)","v":0},{"$f":"SUM(PIQ73:PIQ77)","v":0},{"$f":"SUM(PIR73:PIR77)","v":0},{"$f":"SUM(PIS73:PIS77)","v":0},{"$f":"SUM(PIT73:PIT77)","v":0},{"$f":"SUM(PIU73:PIU77)","v":0},{"$f":"SUM(PIV73:PIV77)","v":0},{"$f":"SUM(PIW73:PIW77)","v":0},{"$f":"SUM(PIX73:PIX77)","v":0},{"$f":"SUM(PIY73:PIY77)","v":0},{"$f":"SUM(PIZ73:PIZ77)","v":0},{"$f":"SUM(PJA73:PJA77)","v":0},{"$f":"SUM(PJB73:PJB77)","v":0},{"$f":"SUM(PJC73:PJC77)","v":0},{"$f":"SUM(PJD73:PJD77)","v":0},{"$f":"SUM(PJE73:PJE77)","v":0},{"$f":"SUM(PJF73:PJF77)","v":0},{"$f":"SUM(PJG73:PJG77)","v":0},{"$f":"SUM(PJH73:PJH77)","v":0},{"$f":"SUM(PJI73:PJI77)","v":0},{"$f":"SUM(PJJ73:PJJ77)","v":0},{"$f":"SUM(PJK73:PJK77)","v":0},{"$f":"SUM(PJL73:PJL77)","v":0},{"$f":"SUM(PJM73:PJM77)","v":0},{"$f":"SUM(PJN73:PJN77)","v":0},{"$f":"SUM(PJO73:PJO77)","v":0},{"$f":"SUM(PJP73:PJP77)","v":0},{"$f":"SUM(PJQ73:PJQ77)","v":0},{"$f":"SUM(PJR73:PJR77)","v":0},{"$f":"SUM(PJS73:PJS77)","v":0},{"$f":"SUM(PJT73:PJT77)","v":0},{"$f":"SUM(PJU73:PJU77)","v":0},{"$f":"SUM(PJV73:PJV77)","v":0},{"$f":"SUM(PJW73:PJW77)","v":0},{"$f":"SUM(PJX73:PJX77)","v":0},{"$f":"SUM(PJY73:PJY77)","v":0},{"$f":"SUM(PJZ73:PJZ77)","v":0},{"$f":"SUM(PKA73:PKA77)","v":0},{"$f":"SUM(PKB73:PKB77)","v":0},{"$f":"SUM(PKC73:PKC77)","v":0},{"$f":"SUM(PKD73:PKD77)","v":0},{"$f":"SUM(PKE73:PKE77)","v":0},{"$f":"SUM(PKF73:PKF77)","v":0},{"$f":"SUM(PKG73:PKG77)","v":0},{"$f":"SUM(PKH73:PKH77)","v":0},{"$f":"SUM(PKI73:PKI77)","v":0},{"$f":"SUM(PKJ73:PKJ77)","v":0},{"$f":"SUM(PKK73:PKK77)","v":0},{"$f":"SUM(PKL73:PKL77)","v":0},{"$f":"SUM(PKM73:PKM77)","v":0},{"$f":"SUM(PKN73:PKN77)","v":0},{"$f":"SUM(PKO73:PKO77)","v":0},{"$f":"SUM(PKP73:PKP77)","v":0},{"$f":"SUM(PKQ73:PKQ77)","v":0},{"$f":"SUM(PKR73:PKR77)","v":0},{"$f":"SUM(PKS73:PKS77)","v":0},{"$f":"SUM(PKT73:PKT77)","v":0},{"$f":"SUM(PKU73:PKU77)","v":0},{"$f":"SUM(PKV73:PKV77)","v":0},{"$f":"SUM(PKW73:PKW77)","v":0},{"$f":"SUM(PKX73:PKX77)","v":0},{"$f":"SUM(PKY73:PKY77)","v":0},{"$f":"SUM(PKZ73:PKZ77)","v":0},{"$f":"SUM(PLA73:PLA77)","v":0},{"$f":"SUM(PLB73:PLB77)","v":0},{"$f":"SUM(PLC73:PLC77)","v":0},{"$f":"SUM(PLD73:PLD77)","v":0},{"$f":"SUM(PLE73:PLE77)","v":0},{"$f":"SUM(PLF73:PLF77)","v":0},{"$f":"SUM(PLG73:PLG77)","v":0},{"$f":"SUM(PLH73:PLH77)","v":0},{"$f":"SUM(PLI73:PLI77)","v":0},{"$f":"SUM(PLJ73:PLJ77)","v":0},{"$f":"SUM(PLK73:PLK77)","v":0},{"$f":"SUM(PLL73:PLL77)","v":0},{"$f":"SUM(PLM73:PLM77)","v":0},{"$f":"SUM(PLN73:PLN77)","v":0},{"$f":"SUM(PLO73:PLO77)","v":0},{"$f":"SUM(PLP73:PLP77)","v":0},{"$f":"SUM(PLQ73:PLQ77)","v":0},{"$f":"SUM(PLR73:PLR77)","v":0},{"$f":"SUM(PLS73:PLS77)","v":0},{"$f":"SUM(PLT73:PLT77)","v":0},{"$f":"SUM(PLU73:PLU77)","v":0},{"$f":"SUM(PLV73:PLV77)","v":0},{"$f":"SUM(PLW73:PLW77)","v":0},{"$f":"SUM(PLX73:PLX77)","v":0},{"$f":"SUM(PLY73:PLY77)","v":0},{"$f":"SUM(PLZ73:PLZ77)","v":0},{"$f":"SUM(PMA73:PMA77)","v":0},{"$f":"SUM(PMB73:PMB77)","v":0},{"$f":"SUM(PMC73:PMC77)","v":0},{"$f":"SUM(PMD73:PMD77)","v":0},{"$f":"SUM(PME73:PME77)","v":0},{"$f":"SUM(PMF73:PMF77)","v":0},{"$f":"SUM(PMG73:PMG77)","v":0},{"$f":"SUM(PMH73:PMH77)","v":0},{"$f":"SUM(PMI73:PMI77)","v":0},{"$f":"SUM(PMJ73:PMJ77)","v":0},{"$f":"SUM(PMK73:PMK77)","v":0},{"$f":"SUM(PML73:PML77)","v":0},{"$f":"SUM(PMM73:PMM77)","v":0},{"$f":"SUM(PMN73:PMN77)","v":0},{"$f":"SUM(PMO73:PMO77)","v":0},{"$f":"SUM(PMP73:PMP77)","v":0},{"$f":"SUM(PMQ73:PMQ77)","v":0},{"$f":"SUM(PMR73:PMR77)","v":0},{"$f":"SUM(PMS73:PMS77)","v":0},{"$f":"SUM(PMT73:PMT77)","v":0},{"$f":"SUM(PMU73:PMU77)","v":0},{"$f":"SUM(PMV73:PMV77)","v":0},{"$f":"SUM(PMW73:PMW77)","v":0},{"$f":"SUM(PMX73:PMX77)","v":0},{"$f":"SUM(PMY73:PMY77)","v":0},{"$f":"SUM(PMZ73:PMZ77)","v":0},{"$f":"SUM(PNA73:PNA77)","v":0},{"$f":"SUM(PNB73:PNB77)","v":0},{"$f":"SUM(PNC73:PNC77)","v":0},{"$f":"SUM(PND73:PND77)","v":0},{"$f":"SUM(PNE73:PNE77)","v":0},{"$f":"SUM(PNF73:PNF77)","v":0},{"$f":"SUM(PNG73:PNG77)","v":0},{"$f":"SUM(PNH73:PNH77)","v":0},{"$f":"SUM(PNI73:PNI77)","v":0},{"$f":"SUM(PNJ73:PNJ77)","v":0},{"$f":"SUM(PNK73:PNK77)","v":0},{"$f":"SUM(PNL73:PNL77)","v":0},{"$f":"SUM(PNM73:PNM77)","v":0},{"$f":"SUM(PNN73:PNN77)","v":0},{"$f":"SUM(PNO73:PNO77)","v":0},{"$f":"SUM(PNP73:PNP77)","v":0},{"$f":"SUM(PNQ73:PNQ77)","v":0},{"$f":"SUM(PNR73:PNR77)","v":0},{"$f":"SUM(PNS73:PNS77)","v":0},{"$f":"SUM(PNT73:PNT77)","v":0},{"$f":"SUM(PNU73:PNU77)","v":0},{"$f":"SUM(PNV73:PNV77)","v":0},{"$f":"SUM(PNW73:PNW77)","v":0},{"$f":"SUM(PNX73:PNX77)","v":0},{"$f":"SUM(PNY73:PNY77)","v":0},{"$f":"SUM(PNZ73:PNZ77)","v":0},{"$f":"SUM(POA73:POA77)","v":0},{"$f":"SUM(POB73:POB77)","v":0},{"$f":"SUM(POC73:POC77)","v":0},{"$f":"SUM(POD73:POD77)","v":0},{"$f":"SUM(POE73:POE77)","v":0},{"$f":"SUM(POF73:POF77)","v":0},{"$f":"SUM(POG73:POG77)","v":0},{"$f":"SUM(POH73:POH77)","v":0},{"$f":"SUM(POI73:POI77)","v":0},{"$f":"SUM(POJ73:POJ77)","v":0},{"$f":"SUM(POK73:POK77)","v":0},{"$f":"SUM(POL73:POL77)","v":0},{"$f":"SUM(POM73:POM77)","v":0},{"$f":"SUM(PON73:PON77)","v":0},{"$f":"SUM(POO73:POO77)","v":0},{"$f":"SUM(POP73:POP77)","v":0},{"$f":"SUM(POQ73:POQ77)","v":0},{"$f":"SUM(POR73:POR77)","v":0},{"$f":"SUM(POS73:POS77)","v":0},{"$f":"SUM(POT73:POT77)","v":0},{"$f":"SUM(POU73:POU77)","v":0},{"$f":"SUM(POV73:POV77)","v":0},{"$f":"SUM(POW73:POW77)","v":0},{"$f":"SUM(POX73:POX77)","v":0},{"$f":"SUM(POY73:POY77)","v":0},{"$f":"SUM(POZ73:POZ77)","v":0},{"$f":"SUM(PPA73:PPA77)","v":0},{"$f":"SUM(PPB73:PPB77)","v":0},{"$f":"SUM(PPC73:PPC77)","v":0},{"$f":"SUM(PPD73:PPD77)","v":0},{"$f":"SUM(PPE73:PPE77)","v":0},{"$f":"SUM(PPF73:PPF77)","v":0},{"$f":"SUM(PPG73:PPG77)","v":0},{"$f":"SUM(PPH73:PPH77)","v":0},{"$f":"SUM(PPI73:PPI77)","v":0},{"$f":"SUM(PPJ73:PPJ77)","v":0},{"$f":"SUM(PPK73:PPK77)","v":0},{"$f":"SUM(PPL73:PPL77)","v":0},{"$f":"SUM(PPM73:PPM77)","v":0},{"$f":"SUM(PPN73:PPN77)","v":0},{"$f":"SUM(PPO73:PPO77)","v":0},{"$f":"SUM(PPP73:PPP77)","v":0},{"$f":"SUM(PPQ73:PPQ77)","v":0},{"$f":"SUM(PPR73:PPR77)","v":0},{"$f":"SUM(PPS73:PPS77)","v":0},{"$f":"SUM(PPT73:PPT77)","v":0},{"$f":"SUM(PPU73:PPU77)","v":0},{"$f":"SUM(PPV73:PPV77)","v":0},{"$f":"SUM(PPW73:PPW77)","v":0},{"$f":"SUM(PPX73:PPX77)","v":0},{"$f":"SUM(PPY73:PPY77)","v":0},{"$f":"SUM(PPZ73:PPZ77)","v":0},{"$f":"SUM(PQA73:PQA77)","v":0},{"$f":"SUM(PQB73:PQB77)","v":0},{"$f":"SUM(PQC73:PQC77)","v":0},{"$f":"SUM(PQD73:PQD77)","v":0},{"$f":"SUM(PQE73:PQE77)","v":0},{"$f":"SUM(PQF73:PQF77)","v":0},{"$f":"SUM(PQG73:PQG77)","v":0},{"$f":"SUM(PQH73:PQH77)","v":0},{"$f":"SUM(PQI73:PQI77)","v":0},{"$f":"SUM(PQJ73:PQJ77)","v":0},{"$f":"SUM(PQK73:PQK77)","v":0},{"$f":"SUM(PQL73:PQL77)","v":0},{"$f":"SUM(PQM73:PQM77)","v":0},{"$f":"SUM(PQN73:PQN77)","v":0},{"$f":"SUM(PQO73:PQO77)","v":0},{"$f":"SUM(PQP73:PQP77)","v":0},{"$f":"SUM(PQQ73:PQQ77)","v":0},{"$f":"SUM(PQR73:PQR77)","v":0},{"$f":"SUM(PQS73:PQS77)","v":0},{"$f":"SUM(PQT73:PQT77)","v":0},{"$f":"SUM(PQU73:PQU77)","v":0},{"$f":"SUM(PQV73:PQV77)","v":0},{"$f":"SUM(PQW73:PQW77)","v":0},{"$f":"SUM(PQX73:PQX77)","v":0},{"$f":"SUM(PQY73:PQY77)","v":0},{"$f":"SUM(PQZ73:PQZ77)","v":0},{"$f":"SUM(PRA73:PRA77)","v":0},{"$f":"SUM(PRB73:PRB77)","v":0},{"$f":"SUM(PRC73:PRC77)","v":0},{"$f":"SUM(PRD73:PRD77)","v":0},{"$f":"SUM(PRE73:PRE77)","v":0},{"$f":"SUM(PRF73:PRF77)","v":0},{"$f":"SUM(PRG73:PRG77)","v":0},{"$f":"SUM(PRH73:PRH77)","v":0},{"$f":"SUM(PRI73:PRI77)","v":0},{"$f":"SUM(PRJ73:PRJ77)","v":0},{"$f":"SUM(PRK73:PRK77)","v":0},{"$f":"SUM(PRL73:PRL77)","v":0},{"$f":"SUM(PRM73:PRM77)","v":0},{"$f":"SUM(PRN73:PRN77)","v":0},{"$f":"SUM(PRO73:PRO77)","v":0},{"$f":"SUM(PRP73:PRP77)","v":0},{"$f":"SUM(PRQ73:PRQ77)","v":0},{"$f":"SUM(PRR73:PRR77)","v":0},{"$f":"SUM(PRS73:PRS77)","v":0},{"$f":"SUM(PRT73:PRT77)","v":0},{"$f":"SUM(PRU73:PRU77)","v":0},{"$f":"SUM(PRV73:PRV77)","v":0},{"$f":"SUM(PRW73:PRW77)","v":0},{"$f":"SUM(PRX73:PRX77)","v":0},{"$f":"SUM(PRY73:PRY77)","v":0},{"$f":"SUM(PRZ73:PRZ77)","v":0},{"$f":"SUM(PSA73:PSA77)","v":0},{"$f":"SUM(PSB73:PSB77)","v":0},{"$f":"SUM(PSC73:PSC77)","v":0},{"$f":"SUM(PSD73:PSD77)","v":0},{"$f":"SUM(PSE73:PSE77)","v":0},{"$f":"SUM(PSF73:PSF77)","v":0},{"$f":"SUM(PSG73:PSG77)","v":0},{"$f":"SUM(PSH73:PSH77)","v":0},{"$f":"SUM(PSI73:PSI77)","v":0},{"$f":"SUM(PSJ73:PSJ77)","v":0},{"$f":"SUM(PSK73:PSK77)","v":0},{"$f":"SUM(PSL73:PSL77)","v":0},{"$f":"SUM(PSM73:PSM77)","v":0},{"$f":"SUM(PSN73:PSN77)","v":0},{"$f":"SUM(PSO73:PSO77)","v":0},{"$f":"SUM(PSP73:PSP77)","v":0},{"$f":"SUM(PSQ73:PSQ77)","v":0},{"$f":"SUM(PSR73:PSR77)","v":0},{"$f":"SUM(PSS73:PSS77)","v":0},{"$f":"SUM(PST73:PST77)","v":0},{"$f":"SUM(PSU73:PSU77)","v":0},{"$f":"SUM(PSV73:PSV77)","v":0},{"$f":"SUM(PSW73:PSW77)","v":0},{"$f":"SUM(PSX73:PSX77)","v":0},{"$f":"SUM(PSY73:PSY77)","v":0},{"$f":"SUM(PSZ73:PSZ77)","v":0},{"$f":"SUM(PTA73:PTA77)","v":0},{"$f":"SUM(PTB73:PTB77)","v":0},{"$f":"SUM(PTC73:PTC77)","v":0},{"$f":"SUM(PTD73:PTD77)","v":0},{"$f":"SUM(PTE73:PTE77)","v":0},{"$f":"SUM(PTF73:PTF77)","v":0},{"$f":"SUM(PTG73:PTG77)","v":0},{"$f":"SUM(PTH73:PTH77)","v":0},{"$f":"SUM(PTI73:PTI77)","v":0},{"$f":"SUM(PTJ73:PTJ77)","v":0},{"$f":"SUM(PTK73:PTK77)","v":0},{"$f":"SUM(PTL73:PTL77)","v":0},{"$f":"SUM(PTM73:PTM77)","v":0},{"$f":"SUM(PTN73:PTN77)","v":0},{"$f":"SUM(PTO73:PTO77)","v":0},{"$f":"SUM(PTP73:PTP77)","v":0},{"$f":"SUM(PTQ73:PTQ77)","v":0},{"$f":"SUM(PTR73:PTR77)","v":0},{"$f":"SUM(PTS73:PTS77)","v":0},{"$f":"SUM(PTT73:PTT77)","v":0},{"$f":"SUM(PTU73:PTU77)","v":0},{"$f":"SUM(PTV73:PTV77)","v":0},{"$f":"SUM(PTW73:PTW77)","v":0},{"$f":"SUM(PTX73:PTX77)","v":0},{"$f":"SUM(PTY73:PTY77)","v":0},{"$f":"SUM(PTZ73:PTZ77)","v":0},{"$f":"SUM(PUA73:PUA77)","v":0},{"$f":"SUM(PUB73:PUB77)","v":0},{"$f":"SUM(PUC73:PUC77)","v":0},{"$f":"SUM(PUD73:PUD77)","v":0},{"$f":"SUM(PUE73:PUE77)","v":0},{"$f":"SUM(PUF73:PUF77)","v":0},{"$f":"SUM(PUG73:PUG77)","v":0},{"$f":"SUM(PUH73:PUH77)","v":0},{"$f":"SUM(PUI73:PUI77)","v":0},{"$f":"SUM(PUJ73:PUJ77)","v":0},{"$f":"SUM(PUK73:PUK77)","v":0},{"$f":"SUM(PUL73:PUL77)","v":0},{"$f":"SUM(PUM73:PUM77)","v":0},{"$f":"SUM(PUN73:PUN77)","v":0},{"$f":"SUM(PUO73:PUO77)","v":0},{"$f":"SUM(PUP73:PUP77)","v":0},{"$f":"SUM(PUQ73:PUQ77)","v":0},{"$f":"SUM(PUR73:PUR77)","v":0},{"$f":"SUM(PUS73:PUS77)","v":0},{"$f":"SUM(PUT73:PUT77)","v":0},{"$f":"SUM(PUU73:PUU77)","v":0},{"$f":"SUM(PUV73:PUV77)","v":0},{"$f":"SUM(PUW73:PUW77)","v":0},{"$f":"SUM(PUX73:PUX77)","v":0},{"$f":"SUM(PUY73:PUY77)","v":0},{"$f":"SUM(PUZ73:PUZ77)","v":0},{"$f":"SUM(PVA73:PVA77)","v":0},{"$f":"SUM(PVB73:PVB77)","v":0},{"$f":"SUM(PVC73:PVC77)","v":0},{"$f":"SUM(PVD73:PVD77)","v":0},{"$f":"SUM(PVE73:PVE77)","v":0},{"$f":"SUM(PVF73:PVF77)","v":0},{"$f":"SUM(PVG73:PVG77)","v":0},{"$f":"SUM(PVH73:PVH77)","v":0},{"$f":"SUM(PVI73:PVI77)","v":0},{"$f":"SUM(PVJ73:PVJ77)","v":0},{"$f":"SUM(PVK73:PVK77)","v":0},{"$f":"SUM(PVL73:PVL77)","v":0},{"$f":"SUM(PVM73:PVM77)","v":0},{"$f":"SUM(PVN73:PVN77)","v":0},{"$f":"SUM(PVO73:PVO77)","v":0},{"$f":"SUM(PVP73:PVP77)","v":0},{"$f":"SUM(PVQ73:PVQ77)","v":0},{"$f":"SUM(PVR73:PVR77)","v":0},{"$f":"SUM(PVS73:PVS77)","v":0},{"$f":"SUM(PVT73:PVT77)","v":0},{"$f":"SUM(PVU73:PVU77)","v":0},{"$f":"SUM(PVV73:PVV77)","v":0},{"$f":"SUM(PVW73:PVW77)","v":0},{"$f":"SUM(PVX73:PVX77)","v":0},{"$f":"SUM(PVY73:PVY77)","v":0},{"$f":"SUM(PVZ73:PVZ77)","v":0},{"$f":"SUM(PWA73:PWA77)","v":0},{"$f":"SUM(PWB73:PWB77)","v":0},{"$f":"SUM(PWC73:PWC77)","v":0},{"$f":"SUM(PWD73:PWD77)","v":0},{"$f":"SUM(PWE73:PWE77)","v":0},{"$f":"SUM(PWF73:PWF77)","v":0},{"$f":"SUM(PWG73:PWG77)","v":0},{"$f":"SUM(PWH73:PWH77)","v":0},{"$f":"SUM(PWI73:PWI77)","v":0},{"$f":"SUM(PWJ73:PWJ77)","v":0},{"$f":"SUM(PWK73:PWK77)","v":0},{"$f":"SUM(PWL73:PWL77)","v":0},{"$f":"SUM(PWM73:PWM77)","v":0},{"$f":"SUM(PWN73:PWN77)","v":0},{"$f":"SUM(PWO73:PWO77)","v":0},{"$f":"SUM(PWP73:PWP77)","v":0},{"$f":"SUM(PWQ73:PWQ77)","v":0},{"$f":"SUM(PWR73:PWR77)","v":0},{"$f":"SUM(PWS73:PWS77)","v":0},{"$f":"SUM(PWT73:PWT77)","v":0},{"$f":"SUM(PWU73:PWU77)","v":0},{"$f":"SUM(PWV73:PWV77)","v":0},{"$f":"SUM(PWW73:PWW77)","v":0},{"$f":"SUM(PWX73:PWX77)","v":0},{"$f":"SUM(PWY73:PWY77)","v":0},{"$f":"SUM(PWZ73:PWZ77)","v":0},{"$f":"SUM(PXA73:PXA77)","v":0},{"$f":"SUM(PXB73:PXB77)","v":0},{"$f":"SUM(PXC73:PXC77)","v":0},{"$f":"SUM(PXD73:PXD77)","v":0},{"$f":"SUM(PXE73:PXE77)","v":0},{"$f":"SUM(PXF73:PXF77)","v":0},{"$f":"SUM(PXG73:PXG77)","v":0},{"$f":"SUM(PXH73:PXH77)","v":0},{"$f":"SUM(PXI73:PXI77)","v":0},{"$f":"SUM(PXJ73:PXJ77)","v":0},{"$f":"SUM(PXK73:PXK77)","v":0},{"$f":"SUM(PXL73:PXL77)","v":0},{"$f":"SUM(PXM73:PXM77)","v":0},{"$f":"SUM(PXN73:PXN77)","v":0},{"$f":"SUM(PXO73:PXO77)","v":0},{"$f":"SUM(PXP73:PXP77)","v":0},{"$f":"SUM(PXQ73:PXQ77)","v":0},{"$f":"SUM(PXR73:PXR77)","v":0},{"$f":"SUM(PXS73:PXS77)","v":0},{"$f":"SUM(PXT73:PXT77)","v":0},{"$f":"SUM(PXU73:PXU77)","v":0},{"$f":"SUM(PXV73:PXV77)","v":0},{"$f":"SUM(PXW73:PXW77)","v":0},{"$f":"SUM(PXX73:PXX77)","v":0},{"$f":"SUM(PXY73:PXY77)","v":0},{"$f":"SUM(PXZ73:PXZ77)","v":0},{"$f":"SUM(PYA73:PYA77)","v":0},{"$f":"SUM(PYB73:PYB77)","v":0},{"$f":"SUM(PYC73:PYC77)","v":0},{"$f":"SUM(PYD73:PYD77)","v":0},{"$f":"SUM(PYE73:PYE77)","v":0},{"$f":"SUM(PYF73:PYF77)","v":0},{"$f":"SUM(PYG73:PYG77)","v":0},{"$f":"SUM(PYH73:PYH77)","v":0},{"$f":"SUM(PYI73:PYI77)","v":0},{"$f":"SUM(PYJ73:PYJ77)","v":0},{"$f":"SUM(PYK73:PYK77)","v":0},{"$f":"SUM(PYL73:PYL77)","v":0},{"$f":"SUM(PYM73:PYM77)","v":0},{"$f":"SUM(PYN73:PYN77)","v":0},{"$f":"SUM(PYO73:PYO77)","v":0},{"$f":"SUM(PYP73:PYP77)","v":0},{"$f":"SUM(PYQ73:PYQ77)","v":0},{"$f":"SUM(PYR73:PYR77)","v":0},{"$f":"SUM(PYS73:PYS77)","v":0},{"$f":"SUM(PYT73:PYT77)","v":0},{"$f":"SUM(PYU73:PYU77)","v":0},{"$f":"SUM(PYV73:PYV77)","v":0},{"$f":"SUM(PYW73:PYW77)","v":0},{"$f":"SUM(PYX73:PYX77)","v":0},{"$f":"SUM(PYY73:PYY77)","v":0},{"$f":"SUM(PYZ73:PYZ77)","v":0},{"$f":"SUM(PZA73:PZA77)","v":0},{"$f":"SUM(PZB73:PZB77)","v":0},{"$f":"SUM(PZC73:PZC77)","v":0},{"$f":"SUM(PZD73:PZD77)","v":0},{"$f":"SUM(PZE73:PZE77)","v":0},{"$f":"SUM(PZF73:PZF77)","v":0},{"$f":"SUM(PZG73:PZG77)","v":0},{"$f":"SUM(PZH73:PZH77)","v":0},{"$f":"SUM(PZI73:PZI77)","v":0},{"$f":"SUM(PZJ73:PZJ77)","v":0},{"$f":"SUM(PZK73:PZK77)","v":0},{"$f":"SUM(PZL73:PZL77)","v":0},{"$f":"SUM(PZM73:PZM77)","v":0},{"$f":"SUM(PZN73:PZN77)","v":0},{"$f":"SUM(PZO73:PZO77)","v":0},{"$f":"SUM(PZP73:PZP77)","v":0},{"$f":"SUM(PZQ73:PZQ77)","v":0},{"$f":"SUM(PZR73:PZR77)","v":0},{"$f":"SUM(PZS73:PZS77)","v":0},{"$f":"SUM(PZT73:PZT77)","v":0},{"$f":"SUM(PZU73:PZU77)","v":0},{"$f":"SUM(PZV73:PZV77)","v":0},{"$f":"SUM(PZW73:PZW77)","v":0},{"$f":"SUM(PZX73:PZX77)","v":0},{"$f":"SUM(PZY73:PZY77)","v":0},{"$f":"SUM(PZZ73:PZZ77)","v":0},{"$f":"SUM(QAA73:QAA77)","v":0},{"$f":"SUM(QAB73:QAB77)","v":0},{"$f":"SUM(QAC73:QAC77)","v":0},{"$f":"SUM(QAD73:QAD77)","v":0},{"$f":"SUM(QAE73:QAE77)","v":0},{"$f":"SUM(QAF73:QAF77)","v":0},{"$f":"SUM(QAG73:QAG77)","v":0},{"$f":"SUM(QAH73:QAH77)","v":0},{"$f":"SUM(QAI73:QAI77)","v":0},{"$f":"SUM(QAJ73:QAJ77)","v":0},{"$f":"SUM(QAK73:QAK77)","v":0},{"$f":"SUM(QAL73:QAL77)","v":0},{"$f":"SUM(QAM73:QAM77)","v":0},{"$f":"SUM(QAN73:QAN77)","v":0},{"$f":"SUM(QAO73:QAO77)","v":0},{"$f":"SUM(QAP73:QAP77)","v":0},{"$f":"SUM(QAQ73:QAQ77)","v":0},{"$f":"SUM(QAR73:QAR77)","v":0},{"$f":"SUM(QAS73:QAS77)","v":0},{"$f":"SUM(QAT73:QAT77)","v":0},{"$f":"SUM(QAU73:QAU77)","v":0},{"$f":"SUM(QAV73:QAV77)","v":0},{"$f":"SUM(QAW73:QAW77)","v":0},{"$f":"SUM(QAX73:QAX77)","v":0},{"$f":"SUM(QAY73:QAY77)","v":0},{"$f":"SUM(QAZ73:QAZ77)","v":0},{"$f":"SUM(QBA73:QBA77)","v":0},{"$f":"SUM(QBB73:QBB77)","v":0},{"$f":"SUM(QBC73:QBC77)","v":0},{"$f":"SUM(QBD73:QBD77)","v":0},{"$f":"SUM(QBE73:QBE77)","v":0},{"$f":"SUM(QBF73:QBF77)","v":0},{"$f":"SUM(QBG73:QBG77)","v":0},{"$f":"SUM(QBH73:QBH77)","v":0},{"$f":"SUM(QBI73:QBI77)","v":0},{"$f":"SUM(QBJ73:QBJ77)","v":0},{"$f":"SUM(QBK73:QBK77)","v":0},{"$f":"SUM(QBL73:QBL77)","v":0},{"$f":"SUM(QBM73:QBM77)","v":0},{"$f":"SUM(QBN73:QBN77)","v":0},{"$f":"SUM(QBO73:QBO77)","v":0},{"$f":"SUM(QBP73:QBP77)","v":0},{"$f":"SUM(QBQ73:QBQ77)","v":0},{"$f":"SUM(QBR73:QBR77)","v":0},{"$f":"SUM(QBS73:QBS77)","v":0},{"$f":"SUM(QBT73:QBT77)","v":0},{"$f":"SUM(QBU73:QBU77)","v":0},{"$f":"SUM(QBV73:QBV77)","v":0},{"$f":"SUM(QBW73:QBW77)","v":0},{"$f":"SUM(QBX73:QBX77)","v":0},{"$f":"SUM(QBY73:QBY77)","v":0},{"$f":"SUM(QBZ73:QBZ77)","v":0},{"$f":"SUM(QCA73:QCA77)","v":0},{"$f":"SUM(QCB73:QCB77)","v":0},{"$f":"SUM(QCC73:QCC77)","v":0},{"$f":"SUM(QCD73:QCD77)","v":0},{"$f":"SUM(QCE73:QCE77)","v":0},{"$f":"SUM(QCF73:QCF77)","v":0},{"$f":"SUM(QCG73:QCG77)","v":0},{"$f":"SUM(QCH73:QCH77)","v":0},{"$f":"SUM(QCI73:QCI77)","v":0},{"$f":"SUM(QCJ73:QCJ77)","v":0},{"$f":"SUM(QCK73:QCK77)","v":0},{"$f":"SUM(QCL73:QCL77)","v":0},{"$f":"SUM(QCM73:QCM77)","v":0},{"$f":"SUM(QCN73:QCN77)","v":0},{"$f":"SUM(QCO73:QCO77)","v":0},{"$f":"SUM(QCP73:QCP77)","v":0},{"$f":"SUM(QCQ73:QCQ77)","v":0},{"$f":"SUM(QCR73:QCR77)","v":0},{"$f":"SUM(QCS73:QCS77)","v":0},{"$f":"SUM(QCT73:QCT77)","v":0},{"$f":"SUM(QCU73:QCU77)","v":0},{"$f":"SUM(QCV73:QCV77)","v":0},{"$f":"SUM(QCW73:QCW77)","v":0},{"$f":"SUM(QCX73:QCX77)","v":0},{"$f":"SUM(QCY73:QCY77)","v":0},{"$f":"SUM(QCZ73:QCZ77)","v":0},{"$f":"SUM(QDA73:QDA77)","v":0},{"$f":"SUM(QDB73:QDB77)","v":0},{"$f":"SUM(QDC73:QDC77)","v":0},{"$f":"SUM(QDD73:QDD77)","v":0},{"$f":"SUM(QDE73:QDE77)","v":0},{"$f":"SUM(QDF73:QDF77)","v":0},{"$f":"SUM(QDG73:QDG77)","v":0},{"$f":"SUM(QDH73:QDH77)","v":0},{"$f":"SUM(QDI73:QDI77)","v":0},{"$f":"SUM(QDJ73:QDJ77)","v":0},{"$f":"SUM(QDK73:QDK77)","v":0},{"$f":"SUM(QDL73:QDL77)","v":0},{"$f":"SUM(QDM73:QDM77)","v":0},{"$f":"SUM(QDN73:QDN77)","v":0},{"$f":"SUM(QDO73:QDO77)","v":0},{"$f":"SUM(QDP73:QDP77)","v":0},{"$f":"SUM(QDQ73:QDQ77)","v":0},{"$f":"SUM(QDR73:QDR77)","v":0},{"$f":"SUM(QDS73:QDS77)","v":0},{"$f":"SUM(QDT73:QDT77)","v":0},{"$f":"SUM(QDU73:QDU77)","v":0},{"$f":"SUM(QDV73:QDV77)","v":0},{"$f":"SUM(QDW73:QDW77)","v":0},{"$f":"SUM(QDX73:QDX77)","v":0},{"$f":"SUM(QDY73:QDY77)","v":0},{"$f":"SUM(QDZ73:QDZ77)","v":0},{"$f":"SUM(QEA73:QEA77)","v":0},{"$f":"SUM(QEB73:QEB77)","v":0},{"$f":"SUM(QEC73:QEC77)","v":0},{"$f":"SUM(QED73:QED77)","v":0},{"$f":"SUM(QEE73:QEE77)","v":0},{"$f":"SUM(QEF73:QEF77)","v":0},{"$f":"SUM(QEG73:QEG77)","v":0},{"$f":"SUM(QEH73:QEH77)","v":0},{"$f":"SUM(QEI73:QEI77)","v":0},{"$f":"SUM(QEJ73:QEJ77)","v":0},{"$f":"SUM(QEK73:QEK77)","v":0},{"$f":"SUM(QEL73:QEL77)","v":0},{"$f":"SUM(QEM73:QEM77)","v":0},{"$f":"SUM(QEN73:QEN77)","v":0},{"$f":"SUM(QEO73:QEO77)","v":0},{"$f":"SUM(QEP73:QEP77)","v":0},{"$f":"SUM(QEQ73:QEQ77)","v":0},{"$f":"SUM(QER73:QER77)","v":0},{"$f":"SUM(QES73:QES77)","v":0},{"$f":"SUM(QET73:QET77)","v":0},{"$f":"SUM(QEU73:QEU77)","v":0},{"$f":"SUM(QEV73:QEV77)","v":0},{"$f":"SUM(QEW73:QEW77)","v":0},{"$f":"SUM(QEX73:QEX77)","v":0},{"$f":"SUM(QEY73:QEY77)","v":0},{"$f":"SUM(QEZ73:QEZ77)","v":0},{"$f":"SUM(QFA73:QFA77)","v":0},{"$f":"SUM(QFB73:QFB77)","v":0},{"$f":"SUM(QFC73:QFC77)","v":0},{"$f":"SUM(QFD73:QFD77)","v":0},{"$f":"SUM(QFE73:QFE77)","v":0},{"$f":"SUM(QFF73:QFF77)","v":0},{"$f":"SUM(QFG73:QFG77)","v":0},{"$f":"SUM(QFH73:QFH77)","v":0},{"$f":"SUM(QFI73:QFI77)","v":0},{"$f":"SUM(QFJ73:QFJ77)","v":0},{"$f":"SUM(QFK73:QFK77)","v":0},{"$f":"SUM(QFL73:QFL77)","v":0},{"$f":"SUM(QFM73:QFM77)","v":0},{"$f":"SUM(QFN73:QFN77)","v":0},{"$f":"SUM(QFO73:QFO77)","v":0},{"$f":"SUM(QFP73:QFP77)","v":0},{"$f":"SUM(QFQ73:QFQ77)","v":0},{"$f":"SUM(QFR73:QFR77)","v":0},{"$f":"SUM(QFS73:QFS77)","v":0},{"$f":"SUM(QFT73:QFT77)","v":0},{"$f":"SUM(QFU73:QFU77)","v":0},{"$f":"SUM(QFV73:QFV77)","v":0},{"$f":"SUM(QFW73:QFW77)","v":0},{"$f":"SUM(QFX73:QFX77)","v":0},{"$f":"SUM(QFY73:QFY77)","v":0},{"$f":"SUM(QFZ73:QFZ77)","v":0},{"$f":"SUM(QGA73:QGA77)","v":0},{"$f":"SUM(QGB73:QGB77)","v":0},{"$f":"SUM(QGC73:QGC77)","v":0},{"$f":"SUM(QGD73:QGD77)","v":0},{"$f":"SUM(QGE73:QGE77)","v":0},{"$f":"SUM(QGF73:QGF77)","v":0},{"$f":"SUM(QGG73:QGG77)","v":0},{"$f":"SUM(QGH73:QGH77)","v":0},{"$f":"SUM(QGI73:QGI77)","v":0},{"$f":"SUM(QGJ73:QGJ77)","v":0},{"$f":"SUM(QGK73:QGK77)","v":0},{"$f":"SUM(QGL73:QGL77)","v":0},{"$f":"SUM(QGM73:QGM77)","v":0},{"$f":"SUM(QGN73:QGN77)","v":0},{"$f":"SUM(QGO73:QGO77)","v":0},{"$f":"SUM(QGP73:QGP77)","v":0},{"$f":"SUM(QGQ73:QGQ77)","v":0},{"$f":"SUM(QGR73:QGR77)","v":0},{"$f":"SUM(QGS73:QGS77)","v":0},{"$f":"SUM(QGT73:QGT77)","v":0},{"$f":"SUM(QGU73:QGU77)","v":0},{"$f":"SUM(QGV73:QGV77)","v":0},{"$f":"SUM(QGW73:QGW77)","v":0},{"$f":"SUM(QGX73:QGX77)","v":0},{"$f":"SUM(QGY73:QGY77)","v":0},{"$f":"SUM(QGZ73:QGZ77)","v":0},{"$f":"SUM(QHA73:QHA77)","v":0},{"$f":"SUM(QHB73:QHB77)","v":0},{"$f":"SUM(QHC73:QHC77)","v":0},{"$f":"SUM(QHD73:QHD77)","v":0},{"$f":"SUM(QHE73:QHE77)","v":0},{"$f":"SUM(QHF73:QHF77)","v":0},{"$f":"SUM(QHG73:QHG77)","v":0},{"$f":"SUM(QHH73:QHH77)","v":0},{"$f":"SUM(QHI73:QHI77)","v":0},{"$f":"SUM(QHJ73:QHJ77)","v":0},{"$f":"SUM(QHK73:QHK77)","v":0},{"$f":"SUM(QHL73:QHL77)","v":0},{"$f":"SUM(QHM73:QHM77)","v":0},{"$f":"SUM(QHN73:QHN77)","v":0},{"$f":"SUM(QHO73:QHO77)","v":0},{"$f":"SUM(QHP73:QHP77)","v":0},{"$f":"SUM(QHQ73:QHQ77)","v":0},{"$f":"SUM(QHR73:QHR77)","v":0},{"$f":"SUM(QHS73:QHS77)","v":0},{"$f":"SUM(QHT73:QHT77)","v":0},{"$f":"SUM(QHU73:QHU77)","v":0},{"$f":"SUM(QHV73:QHV77)","v":0},{"$f":"SUM(QHW73:QHW77)","v":0},{"$f":"SUM(QHX73:QHX77)","v":0},{"$f":"SUM(QHY73:QHY77)","v":0},{"$f":"SUM(QHZ73:QHZ77)","v":0},{"$f":"SUM(QIA73:QIA77)","v":0},{"$f":"SUM(QIB73:QIB77)","v":0},{"$f":"SUM(QIC73:QIC77)","v":0},{"$f":"SUM(QID73:QID77)","v":0},{"$f":"SUM(QIE73:QIE77)","v":0},{"$f":"SUM(QIF73:QIF77)","v":0},{"$f":"SUM(QIG73:QIG77)","v":0},{"$f":"SUM(QIH73:QIH77)","v":0},{"$f":"SUM(QII73:QII77)","v":0},{"$f":"SUM(QIJ73:QIJ77)","v":0},{"$f":"SUM(QIK73:QIK77)","v":0},{"$f":"SUM(QIL73:QIL77)","v":0},{"$f":"SUM(QIM73:QIM77)","v":0},{"$f":"SUM(QIN73:QIN77)","v":0},{"$f":"SUM(QIO73:QIO77)","v":0},{"$f":"SUM(QIP73:QIP77)","v":0},{"$f":"SUM(QIQ73:QIQ77)","v":0},{"$f":"SUM(QIR73:QIR77)","v":0},{"$f":"SUM(QIS73:QIS77)","v":0},{"$f":"SUM(QIT73:QIT77)","v":0},{"$f":"SUM(QIU73:QIU77)","v":0},{"$f":"SUM(QIV73:QIV77)","v":0},{"$f":"SUM(QIW73:QIW77)","v":0},{"$f":"SUM(QIX73:QIX77)","v":0},{"$f":"SUM(QIY73:QIY77)","v":0},{"$f":"SUM(QIZ73:QIZ77)","v":0},{"$f":"SUM(QJA73:QJA77)","v":0},{"$f":"SUM(QJB73:QJB77)","v":0},{"$f":"SUM(QJC73:QJC77)","v":0},{"$f":"SUM(QJD73:QJD77)","v":0},{"$f":"SUM(QJE73:QJE77)","v":0},{"$f":"SUM(QJF73:QJF77)","v":0},{"$f":"SUM(QJG73:QJG77)","v":0},{"$f":"SUM(QJH73:QJH77)","v":0},{"$f":"SUM(QJI73:QJI77)","v":0},{"$f":"SUM(QJJ73:QJJ77)","v":0},{"$f":"SUM(QJK73:QJK77)","v":0},{"$f":"SUM(QJL73:QJL77)","v":0},{"$f":"SUM(QJM73:QJM77)","v":0},{"$f":"SUM(QJN73:QJN77)","v":0},{"$f":"SUM(QJO73:QJO77)","v":0},{"$f":"SUM(QJP73:QJP77)","v":0},{"$f":"SUM(QJQ73:QJQ77)","v":0},{"$f":"SUM(QJR73:QJR77)","v":0},{"$f":"SUM(QJS73:QJS77)","v":0},{"$f":"SUM(QJT73:QJT77)","v":0},{"$f":"SUM(QJU73:QJU77)","v":0},{"$f":"SUM(QJV73:QJV77)","v":0},{"$f":"SUM(QJW73:QJW77)","v":0},{"$f":"SUM(QJX73:QJX77)","v":0},{"$f":"SUM(QJY73:QJY77)","v":0},{"$f":"SUM(QJZ73:QJZ77)","v":0},{"$f":"SUM(QKA73:QKA77)","v":0},{"$f":"SUM(QKB73:QKB77)","v":0},{"$f":"SUM(QKC73:QKC77)","v":0},{"$f":"SUM(QKD73:QKD77)","v":0},{"$f":"SUM(QKE73:QKE77)","v":0},{"$f":"SUM(QKF73:QKF77)","v":0},{"$f":"SUM(QKG73:QKG77)","v":0},{"$f":"SUM(QKH73:QKH77)","v":0},{"$f":"SUM(QKI73:QKI77)","v":0},{"$f":"SUM(QKJ73:QKJ77)","v":0},{"$f":"SUM(QKK73:QKK77)","v":0},{"$f":"SUM(QKL73:QKL77)","v":0},{"$f":"SUM(QKM73:QKM77)","v":0},{"$f":"SUM(QKN73:QKN77)","v":0},{"$f":"SUM(QKO73:QKO77)","v":0},{"$f":"SUM(QKP73:QKP77)","v":0},{"$f":"SUM(QKQ73:QKQ77)","v":0},{"$f":"SUM(QKR73:QKR77)","v":0},{"$f":"SUM(QKS73:QKS77)","v":0},{"$f":"SUM(QKT73:QKT77)","v":0},{"$f":"SUM(QKU73:QKU77)","v":0},{"$f":"SUM(QKV73:QKV77)","v":0},{"$f":"SUM(QKW73:QKW77)","v":0},{"$f":"SUM(QKX73:QKX77)","v":0},{"$f":"SUM(QKY73:QKY77)","v":0},{"$f":"SUM(QKZ73:QKZ77)","v":0},{"$f":"SUM(QLA73:QLA77)","v":0},{"$f":"SUM(QLB73:QLB77)","v":0},{"$f":"SUM(QLC73:QLC77)","v":0},{"$f":"SUM(QLD73:QLD77)","v":0},{"$f":"SUM(QLE73:QLE77)","v":0},{"$f":"SUM(QLF73:QLF77)","v":0},{"$f":"SUM(QLG73:QLG77)","v":0},{"$f":"SUM(QLH73:QLH77)","v":0},{"$f":"SUM(QLI73:QLI77)","v":0},{"$f":"SUM(QLJ73:QLJ77)","v":0},{"$f":"SUM(QLK73:QLK77)","v":0},{"$f":"SUM(QLL73:QLL77)","v":0},{"$f":"SUM(QLM73:QLM77)","v":0},{"$f":"SUM(QLN73:QLN77)","v":0},{"$f":"SUM(QLO73:QLO77)","v":0},{"$f":"SUM(QLP73:QLP77)","v":0},{"$f":"SUM(QLQ73:QLQ77)","v":0},{"$f":"SUM(QLR73:QLR77)","v":0},{"$f":"SUM(QLS73:QLS77)","v":0},{"$f":"SUM(QLT73:QLT77)","v":0},{"$f":"SUM(QLU73:QLU77)","v":0},{"$f":"SUM(QLV73:QLV77)","v":0},{"$f":"SUM(QLW73:QLW77)","v":0},{"$f":"SUM(QLX73:QLX77)","v":0},{"$f":"SUM(QLY73:QLY77)","v":0},{"$f":"SUM(QLZ73:QLZ77)","v":0},{"$f":"SUM(QMA73:QMA77)","v":0},{"$f":"SUM(QMB73:QMB77)","v":0},{"$f":"SUM(QMC73:QMC77)","v":0},{"$f":"SUM(QMD73:QMD77)","v":0},{"$f":"SUM(QME73:QME77)","v":0},{"$f":"SUM(QMF73:QMF77)","v":0},{"$f":"SUM(QMG73:QMG77)","v":0},{"$f":"SUM(QMH73:QMH77)","v":0},{"$f":"SUM(QMI73:QMI77)","v":0},{"$f":"SUM(QMJ73:QMJ77)","v":0},{"$f":"SUM(QMK73:QMK77)","v":0},{"$f":"SUM(QML73:QML77)","v":0},{"$f":"SUM(QMM73:QMM77)","v":0},{"$f":"SUM(QMN73:QMN77)","v":0},{"$f":"SUM(QMO73:QMO77)","v":0},{"$f":"SUM(QMP73:QMP77)","v":0},{"$f":"SUM(QMQ73:QMQ77)","v":0},{"$f":"SUM(QMR73:QMR77)","v":0},{"$f":"SUM(QMS73:QMS77)","v":0},{"$f":"SUM(QMT73:QMT77)","v":0},{"$f":"SUM(QMU73:QMU77)","v":0},{"$f":"SUM(QMV73:QMV77)","v":0},{"$f":"SUM(QMW73:QMW77)","v":0},{"$f":"SUM(QMX73:QMX77)","v":0},{"$f":"SUM(QMY73:QMY77)","v":0},{"$f":"SUM(QMZ73:QMZ77)","v":0},{"$f":"SUM(QNA73:QNA77)","v":0},{"$f":"SUM(QNB73:QNB77)","v":0},{"$f":"SUM(QNC73:QNC77)","v":0},{"$f":"SUM(QND73:QND77)","v":0},{"$f":"SUM(QNE73:QNE77)","v":0},{"$f":"SUM(QNF73:QNF77)","v":0},{"$f":"SUM(QNG73:QNG77)","v":0},{"$f":"SUM(QNH73:QNH77)","v":0},{"$f":"SUM(QNI73:QNI77)","v":0},{"$f":"SUM(QNJ73:QNJ77)","v":0},{"$f":"SUM(QNK73:QNK77)","v":0},{"$f":"SUM(QNL73:QNL77)","v":0},{"$f":"SUM(QNM73:QNM77)","v":0},{"$f":"SUM(QNN73:QNN77)","v":0},{"$f":"SUM(QNO73:QNO77)","v":0},{"$f":"SUM(QNP73:QNP77)","v":0},{"$f":"SUM(QNQ73:QNQ77)","v":0},{"$f":"SUM(QNR73:QNR77)","v":0},{"$f":"SUM(QNS73:QNS77)","v":0},{"$f":"SUM(QNT73:QNT77)","v":0},{"$f":"SUM(QNU73:QNU77)","v":0},{"$f":"SUM(QNV73:QNV77)","v":0},{"$f":"SUM(QNW73:QNW77)","v":0},{"$f":"SUM(QNX73:QNX77)","v":0},{"$f":"SUM(QNY73:QNY77)","v":0},{"$f":"SUM(QNZ73:QNZ77)","v":0},{"$f":"SUM(QOA73:QOA77)","v":0},{"$f":"SUM(QOB73:QOB77)","v":0},{"$f":"SUM(QOC73:QOC77)","v":0},{"$f":"SUM(QOD73:QOD77)","v":0},{"$f":"SUM(QOE73:QOE77)","v":0},{"$f":"SUM(QOF73:QOF77)","v":0},{"$f":"SUM(QOG73:QOG77)","v":0},{"$f":"SUM(QOH73:QOH77)","v":0},{"$f":"SUM(QOI73:QOI77)","v":0},{"$f":"SUM(QOJ73:QOJ77)","v":0},{"$f":"SUM(QOK73:QOK77)","v":0},{"$f":"SUM(QOL73:QOL77)","v":0},{"$f":"SUM(QOM73:QOM77)","v":0},{"$f":"SUM(QON73:QON77)","v":0},{"$f":"SUM(QOO73:QOO77)","v":0},{"$f":"SUM(QOP73:QOP77)","v":0},{"$f":"SUM(QOQ73:QOQ77)","v":0},{"$f":"SUM(QOR73:QOR77)","v":0},{"$f":"SUM(QOS73:QOS77)","v":0},{"$f":"SUM(QOT73:QOT77)","v":0},{"$f":"SUM(QOU73:QOU77)","v":0},{"$f":"SUM(QOV73:QOV77)","v":0},{"$f":"SUM(QOW73:QOW77)","v":0},{"$f":"SUM(QOX73:QOX77)","v":0},{"$f":"SUM(QOY73:QOY77)","v":0},{"$f":"SUM(QOZ73:QOZ77)","v":0},{"$f":"SUM(QPA73:QPA77)","v":0},{"$f":"SUM(QPB73:QPB77)","v":0},{"$f":"SUM(QPC73:QPC77)","v":0},{"$f":"SUM(QPD73:QPD77)","v":0},{"$f":"SUM(QPE73:QPE77)","v":0},{"$f":"SUM(QPF73:QPF77)","v":0},{"$f":"SUM(QPG73:QPG77)","v":0},{"$f":"SUM(QPH73:QPH77)","v":0},{"$f":"SUM(QPI73:QPI77)","v":0},{"$f":"SUM(QPJ73:QPJ77)","v":0},{"$f":"SUM(QPK73:QPK77)","v":0},{"$f":"SUM(QPL73:QPL77)","v":0},{"$f":"SUM(QPM73:QPM77)","v":0},{"$f":"SUM(QPN73:QPN77)","v":0},{"$f":"SUM(QPO73:QPO77)","v":0},{"$f":"SUM(QPP73:QPP77)","v":0},{"$f":"SUM(QPQ73:QPQ77)","v":0},{"$f":"SUM(QPR73:QPR77)","v":0},{"$f":"SUM(QPS73:QPS77)","v":0},{"$f":"SUM(QPT73:QPT77)","v":0},{"$f":"SUM(QPU73:QPU77)","v":0},{"$f":"SUM(QPV73:QPV77)","v":0},{"$f":"SUM(QPW73:QPW77)","v":0},{"$f":"SUM(QPX73:QPX77)","v":0},{"$f":"SUM(QPY73:QPY77)","v":0},{"$f":"SUM(QPZ73:QPZ77)","v":0},{"$f":"SUM(QQA73:QQA77)","v":0},{"$f":"SUM(QQB73:QQB77)","v":0},{"$f":"SUM(QQC73:QQC77)","v":0},{"$f":"SUM(QQD73:QQD77)","v":0},{"$f":"SUM(QQE73:QQE77)","v":0},{"$f":"SUM(QQF73:QQF77)","v":0},{"$f":"SUM(QQG73:QQG77)","v":0},{"$f":"SUM(QQH73:QQH77)","v":0},{"$f":"SUM(QQI73:QQI77)","v":0},{"$f":"SUM(QQJ73:QQJ77)","v":0},{"$f":"SUM(QQK73:QQK77)","v":0},{"$f":"SUM(QQL73:QQL77)","v":0},{"$f":"SUM(QQM73:QQM77)","v":0},{"$f":"SUM(QQN73:QQN77)","v":0},{"$f":"SUM(QQO73:QQO77)","v":0},{"$f":"SUM(QQP73:QQP77)","v":0},{"$f":"SUM(QQQ73:QQQ77)","v":0},{"$f":"SUM(QQR73:QQR77)","v":0},{"$f":"SUM(QQS73:QQS77)","v":0},{"$f":"SUM(QQT73:QQT77)","v":0},{"$f":"SUM(QQU73:QQU77)","v":0},{"$f":"SUM(QQV73:QQV77)","v":0},{"$f":"SUM(QQW73:QQW77)","v":0},{"$f":"SUM(QQX73:QQX77)","v":0},{"$f":"SUM(QQY73:QQY77)","v":0},{"$f":"SUM(QQZ73:QQZ77)","v":0},{"$f":"SUM(QRA73:QRA77)","v":0},{"$f":"SUM(QRB73:QRB77)","v":0},{"$f":"SUM(QRC73:QRC77)","v":0},{"$f":"SUM(QRD73:QRD77)","v":0},{"$f":"SUM(QRE73:QRE77)","v":0},{"$f":"SUM(QRF73:QRF77)","v":0},{"$f":"SUM(QRG73:QRG77)","v":0},{"$f":"SUM(QRH73:QRH77)","v":0},{"$f":"SUM(QRI73:QRI77)","v":0},{"$f":"SUM(QRJ73:QRJ77)","v":0},{"$f":"SUM(QRK73:QRK77)","v":0},{"$f":"SUM(QRL73:QRL77)","v":0},{"$f":"SUM(QRM73:QRM77)","v":0},{"$f":"SUM(QRN73:QRN77)","v":0},{"$f":"SUM(QRO73:QRO77)","v":0},{"$f":"SUM(QRP73:QRP77)","v":0},{"$f":"SUM(QRQ73:QRQ77)","v":0},{"$f":"SUM(QRR73:QRR77)","v":0},{"$f":"SUM(QRS73:QRS77)","v":0},{"$f":"SUM(QRT73:QRT77)","v":0},{"$f":"SUM(QRU73:QRU77)","v":0},{"$f":"SUM(QRV73:QRV77)","v":0},{"$f":"SUM(QRW73:QRW77)","v":0},{"$f":"SUM(QRX73:QRX77)","v":0},{"$f":"SUM(QRY73:QRY77)","v":0},{"$f":"SUM(QRZ73:QRZ77)","v":0},{"$f":"SUM(QSA73:QSA77)","v":0},{"$f":"SUM(QSB73:QSB77)","v":0},{"$f":"SUM(QSC73:QSC77)","v":0},{"$f":"SUM(QSD73:QSD77)","v":0},{"$f":"SUM(QSE73:QSE77)","v":0},{"$f":"SUM(QSF73:QSF77)","v":0},{"$f":"SUM(QSG73:QSG77)","v":0},{"$f":"SUM(QSH73:QSH77)","v":0},{"$f":"SUM(QSI73:QSI77)","v":0},{"$f":"SUM(QSJ73:QSJ77)","v":0},{"$f":"SUM(QSK73:QSK77)","v":0},{"$f":"SUM(QSL73:QSL77)","v":0},{"$f":"SUM(QSM73:QSM77)","v":0},{"$f":"SUM(QSN73:QSN77)","v":0},{"$f":"SUM(QSO73:QSO77)","v":0},{"$f":"SUM(QSP73:QSP77)","v":0},{"$f":"SUM(QSQ73:QSQ77)","v":0},{"$f":"SUM(QSR73:QSR77)","v":0},{"$f":"SUM(QSS73:QSS77)","v":0},{"$f":"SUM(QST73:QST77)","v":0},{"$f":"SUM(QSU73:QSU77)","v":0},{"$f":"SUM(QSV73:QSV77)","v":0},{"$f":"SUM(QSW73:QSW77)","v":0},{"$f":"SUM(QSX73:QSX77)","v":0},{"$f":"SUM(QSY73:QSY77)","v":0},{"$f":"SUM(QSZ73:QSZ77)","v":0},{"$f":"SUM(QTA73:QTA77)","v":0},{"$f":"SUM(QTB73:QTB77)","v":0},{"$f":"SUM(QTC73:QTC77)","v":0},{"$f":"SUM(QTD73:QTD77)","v":0},{"$f":"SUM(QTE73:QTE77)","v":0},{"$f":"SUM(QTF73:QTF77)","v":0},{"$f":"SUM(QTG73:QTG77)","v":0},{"$f":"SUM(QTH73:QTH77)","v":0},{"$f":"SUM(QTI73:QTI77)","v":0},{"$f":"SUM(QTJ73:QTJ77)","v":0},{"$f":"SUM(QTK73:QTK77)","v":0},{"$f":"SUM(QTL73:QTL77)","v":0},{"$f":"SUM(QTM73:QTM77)","v":0},{"$f":"SUM(QTN73:QTN77)","v":0},{"$f":"SUM(QTO73:QTO77)","v":0},{"$f":"SUM(QTP73:QTP77)","v":0},{"$f":"SUM(QTQ73:QTQ77)","v":0},{"$f":"SUM(QTR73:QTR77)","v":0},{"$f":"SUM(QTS73:QTS77)","v":0},{"$f":"SUM(QTT73:QTT77)","v":0},{"$f":"SUM(QTU73:QTU77)","v":0},{"$f":"SUM(QTV73:QTV77)","v":0},{"$f":"SUM(QTW73:QTW77)","v":0},{"$f":"SUM(QTX73:QTX77)","v":0},{"$f":"SUM(QTY73:QTY77)","v":0},{"$f":"SUM(QTZ73:QTZ77)","v":0},{"$f":"SUM(QUA73:QUA77)","v":0},{"$f":"SUM(QUB73:QUB77)","v":0},{"$f":"SUM(QUC73:QUC77)","v":0},{"$f":"SUM(QUD73:QUD77)","v":0},{"$f":"SUM(QUE73:QUE77)","v":0},{"$f":"SUM(QUF73:QUF77)","v":0},{"$f":"SUM(QUG73:QUG77)","v":0},{"$f":"SUM(QUH73:QUH77)","v":0},{"$f":"SUM(QUI73:QUI77)","v":0},{"$f":"SUM(QUJ73:QUJ77)","v":0},{"$f":"SUM(QUK73:QUK77)","v":0},{"$f":"SUM(QUL73:QUL77)","v":0},{"$f":"SUM(QUM73:QUM77)","v":0},{"$f":"SUM(QUN73:QUN77)","v":0},{"$f":"SUM(QUO73:QUO77)","v":0},{"$f":"SUM(QUP73:QUP77)","v":0},{"$f":"SUM(QUQ73:QUQ77)","v":0},{"$f":"SUM(QUR73:QUR77)","v":0},{"$f":"SUM(QUS73:QUS77)","v":0},{"$f":"SUM(QUT73:QUT77)","v":0},{"$f":"SUM(QUU73:QUU77)","v":0},{"$f":"SUM(QUV73:QUV77)","v":0},{"$f":"SUM(QUW73:QUW77)","v":0},{"$f":"SUM(QUX73:QUX77)","v":0},{"$f":"SUM(QUY73:QUY77)","v":0},{"$f":"SUM(QUZ73:QUZ77)","v":0},{"$f":"SUM(QVA73:QVA77)","v":0},{"$f":"SUM(QVB73:QVB77)","v":0},{"$f":"SUM(QVC73:QVC77)","v":0},{"$f":"SUM(QVD73:QVD77)","v":0},{"$f":"SUM(QVE73:QVE77)","v":0},{"$f":"SUM(QVF73:QVF77)","v":0},{"$f":"SUM(QVG73:QVG77)","v":0},{"$f":"SUM(QVH73:QVH77)","v":0},{"$f":"SUM(QVI73:QVI77)","v":0},{"$f":"SUM(QVJ73:QVJ77)","v":0},{"$f":"SUM(QVK73:QVK77)","v":0},{"$f":"SUM(QVL73:QVL77)","v":0},{"$f":"SUM(QVM73:QVM77)","v":0},{"$f":"SUM(QVN73:QVN77)","v":0},{"$f":"SUM(QVO73:QVO77)","v":0},{"$f":"SUM(QVP73:QVP77)","v":0},{"$f":"SUM(QVQ73:QVQ77)","v":0},{"$f":"SUM(QVR73:QVR77)","v":0},{"$f":"SUM(QVS73:QVS77)","v":0},{"$f":"SUM(QVT73:QVT77)","v":0},{"$f":"SUM(QVU73:QVU77)","v":0},{"$f":"SUM(QVV73:QVV77)","v":0},{"$f":"SUM(QVW73:QVW77)","v":0},{"$f":"SUM(QVX73:QVX77)","v":0},{"$f":"SUM(QVY73:QVY77)","v":0},{"$f":"SUM(QVZ73:QVZ77)","v":0},{"$f":"SUM(QWA73:QWA77)","v":0},{"$f":"SUM(QWB73:QWB77)","v":0},{"$f":"SUM(QWC73:QWC77)","v":0},{"$f":"SUM(QWD73:QWD77)","v":0},{"$f":"SUM(QWE73:QWE77)","v":0},{"$f":"SUM(QWF73:QWF77)","v":0},{"$f":"SUM(QWG73:QWG77)","v":0},{"$f":"SUM(QWH73:QWH77)","v":0},{"$f":"SUM(QWI73:QWI77)","v":0},{"$f":"SUM(QWJ73:QWJ77)","v":0},{"$f":"SUM(QWK73:QWK77)","v":0},{"$f":"SUM(QWL73:QWL77)","v":0},{"$f":"SUM(QWM73:QWM77)","v":0},{"$f":"SUM(QWN73:QWN77)","v":0},{"$f":"SUM(QWO73:QWO77)","v":0},{"$f":"SUM(QWP73:QWP77)","v":0},{"$f":"SUM(QWQ73:QWQ77)","v":0},{"$f":"SUM(QWR73:QWR77)","v":0},{"$f":"SUM(QWS73:QWS77)","v":0},{"$f":"SUM(QWT73:QWT77)","v":0},{"$f":"SUM(QWU73:QWU77)","v":0},{"$f":"SUM(QWV73:QWV77)","v":0},{"$f":"SUM(QWW73:QWW77)","v":0},{"$f":"SUM(QWX73:QWX77)","v":0},{"$f":"SUM(QWY73:QWY77)","v":0},{"$f":"SUM(QWZ73:QWZ77)","v":0},{"$f":"SUM(QXA73:QXA77)","v":0},{"$f":"SUM(QXB73:QXB77)","v":0},{"$f":"SUM(QXC73:QXC77)","v":0},{"$f":"SUM(QXD73:QXD77)","v":0},{"$f":"SUM(QXE73:QXE77)","v":0},{"$f":"SUM(QXF73:QXF77)","v":0},{"$f":"SUM(QXG73:QXG77)","v":0},{"$f":"SUM(QXH73:QXH77)","v":0},{"$f":"SUM(QXI73:QXI77)","v":0},{"$f":"SUM(QXJ73:QXJ77)","v":0},{"$f":"SUM(QXK73:QXK77)","v":0},{"$f":"SUM(QXL73:QXL77)","v":0},{"$f":"SUM(QXM73:QXM77)","v":0},{"$f":"SUM(QXN73:QXN77)","v":0},{"$f":"SUM(QXO73:QXO77)","v":0},{"$f":"SUM(QXP73:QXP77)","v":0},{"$f":"SUM(QXQ73:QXQ77)","v":0},{"$f":"SUM(QXR73:QXR77)","v":0},{"$f":"SUM(QXS73:QXS77)","v":0},{"$f":"SUM(QXT73:QXT77)","v":0},{"$f":"SUM(QXU73:QXU77)","v":0},{"$f":"SUM(QXV73:QXV77)","v":0},{"$f":"SUM(QXW73:QXW77)","v":0},{"$f":"SUM(QXX73:QXX77)","v":0},{"$f":"SUM(QXY73:QXY77)","v":0},{"$f":"SUM(QXZ73:QXZ77)","v":0},{"$f":"SUM(QYA73:QYA77)","v":0},{"$f":"SUM(QYB73:QYB77)","v":0},{"$f":"SUM(QYC73:QYC77)","v":0},{"$f":"SUM(QYD73:QYD77)","v":0},{"$f":"SUM(QYE73:QYE77)","v":0},{"$f":"SUM(QYF73:QYF77)","v":0},{"$f":"SUM(QYG73:QYG77)","v":0},{"$f":"SUM(QYH73:QYH77)","v":0},{"$f":"SUM(QYI73:QYI77)","v":0},{"$f":"SUM(QYJ73:QYJ77)","v":0},{"$f":"SUM(QYK73:QYK77)","v":0},{"$f":"SUM(QYL73:QYL77)","v":0},{"$f":"SUM(QYM73:QYM77)","v":0},{"$f":"SUM(QYN73:QYN77)","v":0},{"$f":"SUM(QYO73:QYO77)","v":0},{"$f":"SUM(QYP73:QYP77)","v":0},{"$f":"SUM(QYQ73:QYQ77)","v":0},{"$f":"SUM(QYR73:QYR77)","v":0},{"$f":"SUM(QYS73:QYS77)","v":0},{"$f":"SUM(QYT73:QYT77)","v":0},{"$f":"SUM(QYU73:QYU77)","v":0},{"$f":"SUM(QYV73:QYV77)","v":0},{"$f":"SUM(QYW73:QYW77)","v":0},{"$f":"SUM(QYX73:QYX77)","v":0},{"$f":"SUM(QYY73:QYY77)","v":0},{"$f":"SUM(QYZ73:QYZ77)","v":0},{"$f":"SUM(QZA73:QZA77)","v":0},{"$f":"SUM(QZB73:QZB77)","v":0},{"$f":"SUM(QZC73:QZC77)","v":0},{"$f":"SUM(QZD73:QZD77)","v":0},{"$f":"SUM(QZE73:QZE77)","v":0},{"$f":"SUM(QZF73:QZF77)","v":0},{"$f":"SUM(QZG73:QZG77)","v":0},{"$f":"SUM(QZH73:QZH77)","v":0},{"$f":"SUM(QZI73:QZI77)","v":0},{"$f":"SUM(QZJ73:QZJ77)","v":0},{"$f":"SUM(QZK73:QZK77)","v":0},{"$f":"SUM(QZL73:QZL77)","v":0},{"$f":"SUM(QZM73:QZM77)","v":0},{"$f":"SUM(QZN73:QZN77)","v":0},{"$f":"SUM(QZO73:QZO77)","v":0},{"$f":"SUM(QZP73:QZP77)","v":0},{"$f":"SUM(QZQ73:QZQ77)","v":0},{"$f":"SUM(QZR73:QZR77)","v":0},{"$f":"SUM(QZS73:QZS77)","v":0},{"$f":"SUM(QZT73:QZT77)","v":0},{"$f":"SUM(QZU73:QZU77)","v":0},{"$f":"SUM(QZV73:QZV77)","v":0},{"$f":"SUM(QZW73:QZW77)","v":0},{"$f":"SUM(QZX73:QZX77)","v":0},{"$f":"SUM(QZY73:QZY77)","v":0},{"$f":"SUM(QZZ73:QZZ77)","v":0},{"$f":"SUM(RAA73:RAA77)","v":0},{"$f":"SUM(RAB73:RAB77)","v":0},{"$f":"SUM(RAC73:RAC77)","v":0},{"$f":"SUM(RAD73:RAD77)","v":0},{"$f":"SUM(RAE73:RAE77)","v":0},{"$f":"SUM(RAF73:RAF77)","v":0},{"$f":"SUM(RAG73:RAG77)","v":0},{"$f":"SUM(RAH73:RAH77)","v":0},{"$f":"SUM(RAI73:RAI77)","v":0},{"$f":"SUM(RAJ73:RAJ77)","v":0},{"$f":"SUM(RAK73:RAK77)","v":0},{"$f":"SUM(RAL73:RAL77)","v":0},{"$f":"SUM(RAM73:RAM77)","v":0},{"$f":"SUM(RAN73:RAN77)","v":0},{"$f":"SUM(RAO73:RAO77)","v":0},{"$f":"SUM(RAP73:RAP77)","v":0},{"$f":"SUM(RAQ73:RAQ77)","v":0},{"$f":"SUM(RAR73:RAR77)","v":0},{"$f":"SUM(RAS73:RAS77)","v":0},{"$f":"SUM(RAT73:RAT77)","v":0},{"$f":"SUM(RAU73:RAU77)","v":0},{"$f":"SUM(RAV73:RAV77)","v":0},{"$f":"SUM(RAW73:RAW77)","v":0},{"$f":"SUM(RAX73:RAX77)","v":0},{"$f":"SUM(RAY73:RAY77)","v":0},{"$f":"SUM(RAZ73:RAZ77)","v":0},{"$f":"SUM(RBA73:RBA77)","v":0},{"$f":"SUM(RBB73:RBB77)","v":0},{"$f":"SUM(RBC73:RBC77)","v":0},{"$f":"SUM(RBD73:RBD77)","v":0},{"$f":"SUM(RBE73:RBE77)","v":0},{"$f":"SUM(RBF73:RBF77)","v":0},{"$f":"SUM(RBG73:RBG77)","v":0},{"$f":"SUM(RBH73:RBH77)","v":0},{"$f":"SUM(RBI73:RBI77)","v":0},{"$f":"SUM(RBJ73:RBJ77)","v":0},{"$f":"SUM(RBK73:RBK77)","v":0},{"$f":"SUM(RBL73:RBL77)","v":0},{"$f":"SUM(RBM73:RBM77)","v":0},{"$f":"SUM(RBN73:RBN77)","v":0},{"$f":"SUM(RBO73:RBO77)","v":0},{"$f":"SUM(RBP73:RBP77)","v":0},{"$f":"SUM(RBQ73:RBQ77)","v":0},{"$f":"SUM(RBR73:RBR77)","v":0},{"$f":"SUM(RBS73:RBS77)","v":0},{"$f":"SUM(RBT73:RBT77)","v":0},{"$f":"SUM(RBU73:RBU77)","v":0},{"$f":"SUM(RBV73:RBV77)","v":0},{"$f":"SUM(RBW73:RBW77)","v":0},{"$f":"SUM(RBX73:RBX77)","v":0},{"$f":"SUM(RBY73:RBY77)","v":0},{"$f":"SUM(RBZ73:RBZ77)","v":0},{"$f":"SUM(RCA73:RCA77)","v":0},{"$f":"SUM(RCB73:RCB77)","v":0},{"$f":"SUM(RCC73:RCC77)","v":0},{"$f":"SUM(RCD73:RCD77)","v":0},{"$f":"SUM(RCE73:RCE77)","v":0},{"$f":"SUM(RCF73:RCF77)","v":0},{"$f":"SUM(RCG73:RCG77)","v":0},{"$f":"SUM(RCH73:RCH77)","v":0},{"$f":"SUM(RCI73:RCI77)","v":0},{"$f":"SUM(RCJ73:RCJ77)","v":0},{"$f":"SUM(RCK73:RCK77)","v":0},{"$f":"SUM(RCL73:RCL77)","v":0},{"$f":"SUM(RCM73:RCM77)","v":0},{"$f":"SUM(RCN73:RCN77)","v":0},{"$f":"SUM(RCO73:RCO77)","v":0},{"$f":"SUM(RCP73:RCP77)","v":0},{"$f":"SUM(RCQ73:RCQ77)","v":0},{"$f":"SUM(RCR73:RCR77)","v":0},{"$f":"SUM(RCS73:RCS77)","v":0},{"$f":"SUM(RCT73:RCT77)","v":0},{"$f":"SUM(RCU73:RCU77)","v":0},{"$f":"SUM(RCV73:RCV77)","v":0},{"$f":"SUM(RCW73:RCW77)","v":0},{"$f":"SUM(RCX73:RCX77)","v":0},{"$f":"SUM(RCY73:RCY77)","v":0},{"$f":"SUM(RCZ73:RCZ77)","v":0},{"$f":"SUM(RDA73:RDA77)","v":0},{"$f":"SUM(RDB73:RDB77)","v":0},{"$f":"SUM(RDC73:RDC77)","v":0},{"$f":"SUM(RDD73:RDD77)","v":0},{"$f":"SUM(RDE73:RDE77)","v":0},{"$f":"SUM(RDF73:RDF77)","v":0},{"$f":"SUM(RDG73:RDG77)","v":0},{"$f":"SUM(RDH73:RDH77)","v":0},{"$f":"SUM(RDI73:RDI77)","v":0},{"$f":"SUM(RDJ73:RDJ77)","v":0},{"$f":"SUM(RDK73:RDK77)","v":0},{"$f":"SUM(RDL73:RDL77)","v":0},{"$f":"SUM(RDM73:RDM77)","v":0},{"$f":"SUM(RDN73:RDN77)","v":0},{"$f":"SUM(RDO73:RDO77)","v":0},{"$f":"SUM(RDP73:RDP77)","v":0},{"$f":"SUM(RDQ73:RDQ77)","v":0},{"$f":"SUM(RDR73:RDR77)","v":0},{"$f":"SUM(RDS73:RDS77)","v":0},{"$f":"SUM(RDT73:RDT77)","v":0},{"$f":"SUM(RDU73:RDU77)","v":0},{"$f":"SUM(RDV73:RDV77)","v":0},{"$f":"SUM(RDW73:RDW77)","v":0},{"$f":"SUM(RDX73:RDX77)","v":0},{"$f":"SUM(RDY73:RDY77)","v":0},{"$f":"SUM(RDZ73:RDZ77)","v":0},{"$f":"SUM(REA73:REA77)","v":0},{"$f":"SUM(REB73:REB77)","v":0},{"$f":"SUM(REC73:REC77)","v":0},{"$f":"SUM(RED73:RED77)","v":0},{"$f":"SUM(REE73:REE77)","v":0},{"$f":"SUM(REF73:REF77)","v":0},{"$f":"SUM(REG73:REG77)","v":0},{"$f":"SUM(REH73:REH77)","v":0},{"$f":"SUM(REI73:REI77)","v":0},{"$f":"SUM(REJ73:REJ77)","v":0},{"$f":"SUM(REK73:REK77)","v":0},{"$f":"SUM(REL73:REL77)","v":0},{"$f":"SUM(REM73:REM77)","v":0},{"$f":"SUM(REN73:REN77)","v":0},{"$f":"SUM(REO73:REO77)","v":0},{"$f":"SUM(REP73:REP77)","v":0},{"$f":"SUM(REQ73:REQ77)","v":0},{"$f":"SUM(RER73:RER77)","v":0},{"$f":"SUM(RES73:RES77)","v":0},{"$f":"SUM(RET73:RET77)","v":0},{"$f":"SUM(REU73:REU77)","v":0},{"$f":"SUM(REV73:REV77)","v":0},{"$f":"SUM(REW73:REW77)","v":0},{"$f":"SUM(REX73:REX77)","v":0},{"$f":"SUM(REY73:REY77)","v":0},{"$f":"SUM(REZ73:REZ77)","v":0},{"$f":"SUM(RFA73:RFA77)","v":0},{"$f":"SUM(RFB73:RFB77)","v":0},{"$f":"SUM(RFC73:RFC77)","v":0},{"$f":"SUM(RFD73:RFD77)","v":0},{"$f":"SUM(RFE73:RFE77)","v":0},{"$f":"SUM(RFF73:RFF77)","v":0},{"$f":"SUM(RFG73:RFG77)","v":0},{"$f":"SUM(RFH73:RFH77)","v":0},{"$f":"SUM(RFI73:RFI77)","v":0},{"$f":"SUM(RFJ73:RFJ77)","v":0},{"$f":"SUM(RFK73:RFK77)","v":0},{"$f":"SUM(RFL73:RFL77)","v":0},{"$f":"SUM(RFM73:RFM77)","v":0},{"$f":"SUM(RFN73:RFN77)","v":0},{"$f":"SUM(RFO73:RFO77)","v":0},{"$f":"SUM(RFP73:RFP77)","v":0},{"$f":"SUM(RFQ73:RFQ77)","v":0},{"$f":"SUM(RFR73:RFR77)","v":0},{"$f":"SUM(RFS73:RFS77)","v":0},{"$f":"SUM(RFT73:RFT77)","v":0},{"$f":"SUM(RFU73:RFU77)","v":0},{"$f":"SUM(RFV73:RFV77)","v":0},{"$f":"SUM(RFW73:RFW77)","v":0},{"$f":"SUM(RFX73:RFX77)","v":0},{"$f":"SUM(RFY73:RFY77)","v":0},{"$f":"SUM(RFZ73:RFZ77)","v":0},{"$f":"SUM(RGA73:RGA77)","v":0},{"$f":"SUM(RGB73:RGB77)","v":0},{"$f":"SUM(RGC73:RGC77)","v":0},{"$f":"SUM(RGD73:RGD77)","v":0},{"$f":"SUM(RGE73:RGE77)","v":0},{"$f":"SUM(RGF73:RGF77)","v":0},{"$f":"SUM(RGG73:RGG77)","v":0},{"$f":"SUM(RGH73:RGH77)","v":0},{"$f":"SUM(RGI73:RGI77)","v":0},{"$f":"SUM(RGJ73:RGJ77)","v":0},{"$f":"SUM(RGK73:RGK77)","v":0},{"$f":"SUM(RGL73:RGL77)","v":0},{"$f":"SUM(RGM73:RGM77)","v":0},{"$f":"SUM(RGN73:RGN77)","v":0},{"$f":"SUM(RGO73:RGO77)","v":0},{"$f":"SUM(RGP73:RGP77)","v":0},{"$f":"SUM(RGQ73:RGQ77)","v":0},{"$f":"SUM(RGR73:RGR77)","v":0},{"$f":"SUM(RGS73:RGS77)","v":0},{"$f":"SUM(RGT73:RGT77)","v":0},{"$f":"SUM(RGU73:RGU77)","v":0},{"$f":"SUM(RGV73:RGV77)","v":0},{"$f":"SUM(RGW73:RGW77)","v":0},{"$f":"SUM(RGX73:RGX77)","v":0},{"$f":"SUM(RGY73:RGY77)","v":0},{"$f":"SUM(RGZ73:RGZ77)","v":0},{"$f":"SUM(RHA73:RHA77)","v":0},{"$f":"SUM(RHB73:RHB77)","v":0},{"$f":"SUM(RHC73:RHC77)","v":0},{"$f":"SUM(RHD73:RHD77)","v":0},{"$f":"SUM(RHE73:RHE77)","v":0},{"$f":"SUM(RHF73:RHF77)","v":0},{"$f":"SUM(RHG73:RHG77)","v":0},{"$f":"SUM(RHH73:RHH77)","v":0},{"$f":"SUM(RHI73:RHI77)","v":0},{"$f":"SUM(RHJ73:RHJ77)","v":0},{"$f":"SUM(RHK73:RHK77)","v":0},{"$f":"SUM(RHL73:RHL77)","v":0},{"$f":"SUM(RHM73:RHM77)","v":0},{"$f":"SUM(RHN73:RHN77)","v":0},{"$f":"SUM(RHO73:RHO77)","v":0},{"$f":"SUM(RHP73:RHP77)","v":0},{"$f":"SUM(RHQ73:RHQ77)","v":0},{"$f":"SUM(RHR73:RHR77)","v":0},{"$f":"SUM(RHS73:RHS77)","v":0},{"$f":"SUM(RHT73:RHT77)","v":0},{"$f":"SUM(RHU73:RHU77)","v":0},{"$f":"SUM(RHV73:RHV77)","v":0},{"$f":"SUM(RHW73:RHW77)","v":0},{"$f":"SUM(RHX73:RHX77)","v":0},{"$f":"SUM(RHY73:RHY77)","v":0},{"$f":"SUM(RHZ73:RHZ77)","v":0},{"$f":"SUM(RIA73:RIA77)","v":0},{"$f":"SUM(RIB73:RIB77)","v":0},{"$f":"SUM(RIC73:RIC77)","v":0},{"$f":"SUM(RID73:RID77)","v":0},{"$f":"SUM(RIE73:RIE77)","v":0},{"$f":"SUM(RIF73:RIF77)","v":0},{"$f":"SUM(RIG73:RIG77)","v":0},{"$f":"SUM(RIH73:RIH77)","v":0},{"$f":"SUM(RII73:RII77)","v":0},{"$f":"SUM(RIJ73:RIJ77)","v":0},{"$f":"SUM(RIK73:RIK77)","v":0},{"$f":"SUM(RIL73:RIL77)","v":0},{"$f":"SUM(RIM73:RIM77)","v":0},{"$f":"SUM(RIN73:RIN77)","v":0},{"$f":"SUM(RIO73:RIO77)","v":0},{"$f":"SUM(RIP73:RIP77)","v":0},{"$f":"SUM(RIQ73:RIQ77)","v":0},{"$f":"SUM(RIR73:RIR77)","v":0},{"$f":"SUM(RIS73:RIS77)","v":0},{"$f":"SUM(RIT73:RIT77)","v":0},{"$f":"SUM(RIU73:RIU77)","v":0},{"$f":"SUM(RIV73:RIV77)","v":0},{"$f":"SUM(RIW73:RIW77)","v":0},{"$f":"SUM(RIX73:RIX77)","v":0},{"$f":"SUM(RIY73:RIY77)","v":0},{"$f":"SUM(RIZ73:RIZ77)","v":0},{"$f":"SUM(RJA73:RJA77)","v":0},{"$f":"SUM(RJB73:RJB77)","v":0},{"$f":"SUM(RJC73:RJC77)","v":0},{"$f":"SUM(RJD73:RJD77)","v":0},{"$f":"SUM(RJE73:RJE77)","v":0},{"$f":"SUM(RJF73:RJF77)","v":0},{"$f":"SUM(RJG73:RJG77)","v":0},{"$f":"SUM(RJH73:RJH77)","v":0},{"$f":"SUM(RJI73:RJI77)","v":0},{"$f":"SUM(RJJ73:RJJ77)","v":0},{"$f":"SUM(RJK73:RJK77)","v":0},{"$f":"SUM(RJL73:RJL77)","v":0},{"$f":"SUM(RJM73:RJM77)","v":0},{"$f":"SUM(RJN73:RJN77)","v":0},{"$f":"SUM(RJO73:RJO77)","v":0},{"$f":"SUM(RJP73:RJP77)","v":0},{"$f":"SUM(RJQ73:RJQ77)","v":0},{"$f":"SUM(RJR73:RJR77)","v":0},{"$f":"SUM(RJS73:RJS77)","v":0},{"$f":"SUM(RJT73:RJT77)","v":0},{"$f":"SUM(RJU73:RJU77)","v":0},{"$f":"SUM(RJV73:RJV77)","v":0},{"$f":"SUM(RJW73:RJW77)","v":0},{"$f":"SUM(RJX73:RJX77)","v":0},{"$f":"SUM(RJY73:RJY77)","v":0},{"$f":"SUM(RJZ73:RJZ77)","v":0},{"$f":"SUM(RKA73:RKA77)","v":0},{"$f":"SUM(RKB73:RKB77)","v":0},{"$f":"SUM(RKC73:RKC77)","v":0},{"$f":"SUM(RKD73:RKD77)","v":0},{"$f":"SUM(RKE73:RKE77)","v":0},{"$f":"SUM(RKF73:RKF77)","v":0},{"$f":"SUM(RKG73:RKG77)","v":0},{"$f":"SUM(RKH73:RKH77)","v":0},{"$f":"SUM(RKI73:RKI77)","v":0},{"$f":"SUM(RKJ73:RKJ77)","v":0},{"$f":"SUM(RKK73:RKK77)","v":0},{"$f":"SUM(RKL73:RKL77)","v":0},{"$f":"SUM(RKM73:RKM77)","v":0},{"$f":"SUM(RKN73:RKN77)","v":0},{"$f":"SUM(RKO73:RKO77)","v":0},{"$f":"SUM(RKP73:RKP77)","v":0},{"$f":"SUM(RKQ73:RKQ77)","v":0},{"$f":"SUM(RKR73:RKR77)","v":0},{"$f":"SUM(RKS73:RKS77)","v":0},{"$f":"SUM(RKT73:RKT77)","v":0},{"$f":"SUM(RKU73:RKU77)","v":0},{"$f":"SUM(RKV73:RKV77)","v":0},{"$f":"SUM(RKW73:RKW77)","v":0},{"$f":"SUM(RKX73:RKX77)","v":0},{"$f":"SUM(RKY73:RKY77)","v":0},{"$f":"SUM(RKZ73:RKZ77)","v":0},{"$f":"SUM(RLA73:RLA77)","v":0},{"$f":"SUM(RLB73:RLB77)","v":0},{"$f":"SUM(RLC73:RLC77)","v":0},{"$f":"SUM(RLD73:RLD77)","v":0},{"$f":"SUM(RLE73:RLE77)","v":0},{"$f":"SUM(RLF73:RLF77)","v":0},{"$f":"SUM(RLG73:RLG77)","v":0},{"$f":"SUM(RLH73:RLH77)","v":0},{"$f":"SUM(RLI73:RLI77)","v":0},{"$f":"SUM(RLJ73:RLJ77)","v":0},{"$f":"SUM(RLK73:RLK77)","v":0},{"$f":"SUM(RLL73:RLL77)","v":0},{"$f":"SUM(RLM73:RLM77)","v":0},{"$f":"SUM(RLN73:RLN77)","v":0},{"$f":"SUM(RLO73:RLO77)","v":0},{"$f":"SUM(RLP73:RLP77)","v":0},{"$f":"SUM(RLQ73:RLQ77)","v":0},{"$f":"SUM(RLR73:RLR77)","v":0},{"$f":"SUM(RLS73:RLS77)","v":0},{"$f":"SUM(RLT73:RLT77)","v":0},{"$f":"SUM(RLU73:RLU77)","v":0},{"$f":"SUM(RLV73:RLV77)","v":0},{"$f":"SUM(RLW73:RLW77)","v":0},{"$f":"SUM(RLX73:RLX77)","v":0},{"$f":"SUM(RLY73:RLY77)","v":0},{"$f":"SUM(RLZ73:RLZ77)","v":0},{"$f":"SUM(RMA73:RMA77)","v":0},{"$f":"SUM(RMB73:RMB77)","v":0},{"$f":"SUM(RMC73:RMC77)","v":0},{"$f":"SUM(RMD73:RMD77)","v":0},{"$f":"SUM(RME73:RME77)","v":0},{"$f":"SUM(RMF73:RMF77)","v":0},{"$f":"SUM(RMG73:RMG77)","v":0},{"$f":"SUM(RMH73:RMH77)","v":0},{"$f":"SUM(RMI73:RMI77)","v":0},{"$f":"SUM(RMJ73:RMJ77)","v":0},{"$f":"SUM(RMK73:RMK77)","v":0},{"$f":"SUM(RML73:RML77)","v":0},{"$f":"SUM(RMM73:RMM77)","v":0},{"$f":"SUM(RMN73:RMN77)","v":0},{"$f":"SUM(RMO73:RMO77)","v":0},{"$f":"SUM(RMP73:RMP77)","v":0},{"$f":"SUM(RMQ73:RMQ77)","v":0},{"$f":"SUM(RMR73:RMR77)","v":0},{"$f":"SUM(RMS73:RMS77)","v":0},{"$f":"SUM(RMT73:RMT77)","v":0},{"$f":"SUM(RMU73:RMU77)","v":0},{"$f":"SUM(RMV73:RMV77)","v":0},{"$f":"SUM(RMW73:RMW77)","v":0},{"$f":"SUM(RMX73:RMX77)","v":0},{"$f":"SUM(RMY73:RMY77)","v":0},{"$f":"SUM(RMZ73:RMZ77)","v":0},{"$f":"SUM(RNA73:RNA77)","v":0},{"$f":"SUM(RNB73:RNB77)","v":0},{"$f":"SUM(RNC73:RNC77)","v":0},{"$f":"SUM(RND73:RND77)","v":0},{"$f":"SUM(RNE73:RNE77)","v":0},{"$f":"SUM(RNF73:RNF77)","v":0},{"$f":"SUM(RNG73:RNG77)","v":0},{"$f":"SUM(RNH73:RNH77)","v":0},{"$f":"SUM(RNI73:RNI77)","v":0},{"$f":"SUM(RNJ73:RNJ77)","v":0},{"$f":"SUM(RNK73:RNK77)","v":0},{"$f":"SUM(RNL73:RNL77)","v":0},{"$f":"SUM(RNM73:RNM77)","v":0},{"$f":"SUM(RNN73:RNN77)","v":0},{"$f":"SUM(RNO73:RNO77)","v":0},{"$f":"SUM(RNP73:RNP77)","v":0},{"$f":"SUM(RNQ73:RNQ77)","v":0},{"$f":"SUM(RNR73:RNR77)","v":0},{"$f":"SUM(RNS73:RNS77)","v":0},{"$f":"SUM(RNT73:RNT77)","v":0},{"$f":"SUM(RNU73:RNU77)","v":0},{"$f":"SUM(RNV73:RNV77)","v":0},{"$f":"SUM(RNW73:RNW77)","v":0},{"$f":"SUM(RNX73:RNX77)","v":0},{"$f":"SUM(RNY73:RNY77)","v":0},{"$f":"SUM(RNZ73:RNZ77)","v":0},{"$f":"SUM(ROA73:ROA77)","v":0},{"$f":"SUM(ROB73:ROB77)","v":0},{"$f":"SUM(ROC73:ROC77)","v":0},{"$f":"SUM(ROD73:ROD77)","v":0},{"$f":"SUM(ROE73:ROE77)","v":0},{"$f":"SUM(ROF73:ROF77)","v":0},{"$f":"SUM(ROG73:ROG77)","v":0},{"$f":"SUM(ROH73:ROH77)","v":0},{"$f":"SUM(ROI73:ROI77)","v":0},{"$f":"SUM(ROJ73:ROJ77)","v":0},{"$f":"SUM(ROK73:ROK77)","v":0},{"$f":"SUM(ROL73:ROL77)","v":0},{"$f":"SUM(ROM73:ROM77)","v":0},{"$f":"SUM(RON73:RON77)","v":0},{"$f":"SUM(ROO73:ROO77)","v":0},{"$f":"SUM(ROP73:ROP77)","v":0},{"$f":"SUM(ROQ73:ROQ77)","v":0},{"$f":"SUM(ROR73:ROR77)","v":0},{"$f":"SUM(ROS73:ROS77)","v":0},{"$f":"SUM(ROT73:ROT77)","v":0},{"$f":"SUM(ROU73:ROU77)","v":0},{"$f":"SUM(ROV73:ROV77)","v":0},{"$f":"SUM(ROW73:ROW77)","v":0},{"$f":"SUM(ROX73:ROX77)","v":0},{"$f":"SUM(ROY73:ROY77)","v":0},{"$f":"SUM(ROZ73:ROZ77)","v":0},{"$f":"SUM(RPA73:RPA77)","v":0},{"$f":"SUM(RPB73:RPB77)","v":0},{"$f":"SUM(RPC73:RPC77)","v":0},{"$f":"SUM(RPD73:RPD77)","v":0},{"$f":"SUM(RPE73:RPE77)","v":0},{"$f":"SUM(RPF73:RPF77)","v":0},{"$f":"SUM(RPG73:RPG77)","v":0},{"$f":"SUM(RPH73:RPH77)","v":0},{"$f":"SUM(RPI73:RPI77)","v":0},{"$f":"SUM(RPJ73:RPJ77)","v":0},{"$f":"SUM(RPK73:RPK77)","v":0},{"$f":"SUM(RPL73:RPL77)","v":0},{"$f":"SUM(RPM73:RPM77)","v":0},{"$f":"SUM(RPN73:RPN77)","v":0},{"$f":"SUM(RPO73:RPO77)","v":0},{"$f":"SUM(RPP73:RPP77)","v":0},{"$f":"SUM(RPQ73:RPQ77)","v":0},{"$f":"SUM(RPR73:RPR77)","v":0},{"$f":"SUM(RPS73:RPS77)","v":0},{"$f":"SUM(RPT73:RPT77)","v":0},{"$f":"SUM(RPU73:RPU77)","v":0},{"$f":"SUM(RPV73:RPV77)","v":0},{"$f":"SUM(RPW73:RPW77)","v":0},{"$f":"SUM(RPX73:RPX77)","v":0},{"$f":"SUM(RPY73:RPY77)","v":0},{"$f":"SUM(RPZ73:RPZ77)","v":0},{"$f":"SUM(RQA73:RQA77)","v":0},{"$f":"SUM(RQB73:RQB77)","v":0},{"$f":"SUM(RQC73:RQC77)","v":0},{"$f":"SUM(RQD73:RQD77)","v":0},{"$f":"SUM(RQE73:RQE77)","v":0},{"$f":"SUM(RQF73:RQF77)","v":0},{"$f":"SUM(RQG73:RQG77)","v":0},{"$f":"SUM(RQH73:RQH77)","v":0},{"$f":"SUM(RQI73:RQI77)","v":0},{"$f":"SUM(RQJ73:RQJ77)","v":0},{"$f":"SUM(RQK73:RQK77)","v":0},{"$f":"SUM(RQL73:RQL77)","v":0},{"$f":"SUM(RQM73:RQM77)","v":0},{"$f":"SUM(RQN73:RQN77)","v":0},{"$f":"SUM(RQO73:RQO77)","v":0},{"$f":"SUM(RQP73:RQP77)","v":0},{"$f":"SUM(RQQ73:RQQ77)","v":0},{"$f":"SUM(RQR73:RQR77)","v":0},{"$f":"SUM(RQS73:RQS77)","v":0},{"$f":"SUM(RQT73:RQT77)","v":0},{"$f":"SUM(RQU73:RQU77)","v":0},{"$f":"SUM(RQV73:RQV77)","v":0},{"$f":"SUM(RQW73:RQW77)","v":0},{"$f":"SUM(RQX73:RQX77)","v":0},{"$f":"SUM(RQY73:RQY77)","v":0},{"$f":"SUM(RQZ73:RQZ77)","v":0},{"$f":"SUM(RRA73:RRA77)","v":0},{"$f":"SUM(RRB73:RRB77)","v":0},{"$f":"SUM(RRC73:RRC77)","v":0},{"$f":"SUM(RRD73:RRD77)","v":0},{"$f":"SUM(RRE73:RRE77)","v":0},{"$f":"SUM(RRF73:RRF77)","v":0},{"$f":"SUM(RRG73:RRG77)","v":0},{"$f":"SUM(RRH73:RRH77)","v":0},{"$f":"SUM(RRI73:RRI77)","v":0},{"$f":"SUM(RRJ73:RRJ77)","v":0},{"$f":"SUM(RRK73:RRK77)","v":0},{"$f":"SUM(RRL73:RRL77)","v":0},{"$f":"SUM(RRM73:RRM77)","v":0},{"$f":"SUM(RRN73:RRN77)","v":0},{"$f":"SUM(RRO73:RRO77)","v":0},{"$f":"SUM(RRP73:RRP77)","v":0},{"$f":"SUM(RRQ73:RRQ77)","v":0},{"$f":"SUM(RRR73:RRR77)","v":0},{"$f":"SUM(RRS73:RRS77)","v":0},{"$f":"SUM(RRT73:RRT77)","v":0},{"$f":"SUM(RRU73:RRU77)","v":0},{"$f":"SUM(RRV73:RRV77)","v":0},{"$f":"SUM(RRW73:RRW77)","v":0},{"$f":"SUM(RRX73:RRX77)","v":0},{"$f":"SUM(RRY73:RRY77)","v":0},{"$f":"SUM(RRZ73:RRZ77)","v":0},{"$f":"SUM(RSA73:RSA77)","v":0},{"$f":"SUM(RSB73:RSB77)","v":0},{"$f":"SUM(RSC73:RSC77)","v":0},{"$f":"SUM(RSD73:RSD77)","v":0},{"$f":"SUM(RSE73:RSE77)","v":0},{"$f":"SUM(RSF73:RSF77)","v":0},{"$f":"SUM(RSG73:RSG77)","v":0},{"$f":"SUM(RSH73:RSH77)","v":0},{"$f":"SUM(RSI73:RSI77)","v":0},{"$f":"SUM(RSJ73:RSJ77)","v":0},{"$f":"SUM(RSK73:RSK77)","v":0},{"$f":"SUM(RSL73:RSL77)","v":0},{"$f":"SUM(RSM73:RSM77)","v":0},{"$f":"SUM(RSN73:RSN77)","v":0},{"$f":"SUM(RSO73:RSO77)","v":0},{"$f":"SUM(RSP73:RSP77)","v":0},{"$f":"SUM(RSQ73:RSQ77)","v":0},{"$f":"SUM(RSR73:RSR77)","v":0},{"$f":"SUM(RSS73:RSS77)","v":0},{"$f":"SUM(RST73:RST77)","v":0},{"$f":"SUM(RSU73:RSU77)","v":0},{"$f":"SUM(RSV73:RSV77)","v":0},{"$f":"SUM(RSW73:RSW77)","v":0},{"$f":"SUM(RSX73:RSX77)","v":0},{"$f":"SUM(RSY73:RSY77)","v":0},{"$f":"SUM(RSZ73:RSZ77)","v":0},{"$f":"SUM(RTA73:RTA77)","v":0},{"$f":"SUM(RTB73:RTB77)","v":0},{"$f":"SUM(RTC73:RTC77)","v":0},{"$f":"SUM(RTD73:RTD77)","v":0},{"$f":"SUM(RTE73:RTE77)","v":0},{"$f":"SUM(RTF73:RTF77)","v":0},{"$f":"SUM(RTG73:RTG77)","v":0},{"$f":"SUM(RTH73:RTH77)","v":0},{"$f":"SUM(RTI73:RTI77)","v":0},{"$f":"SUM(RTJ73:RTJ77)","v":0},{"$f":"SUM(RTK73:RTK77)","v":0},{"$f":"SUM(RTL73:RTL77)","v":0},{"$f":"SUM(RTM73:RTM77)","v":0},{"$f":"SUM(RTN73:RTN77)","v":0},{"$f":"SUM(RTO73:RTO77)","v":0},{"$f":"SUM(RTP73:RTP77)","v":0},{"$f":"SUM(RTQ73:RTQ77)","v":0},{"$f":"SUM(RTR73:RTR77)","v":0},{"$f":"SUM(RTS73:RTS77)","v":0},{"$f":"SUM(RTT73:RTT77)","v":0},{"$f":"SUM(RTU73:RTU77)","v":0},{"$f":"SUM(RTV73:RTV77)","v":0},{"$f":"SUM(RTW73:RTW77)","v":0},{"$f":"SUM(RTX73:RTX77)","v":0},{"$f":"SUM(RTY73:RTY77)","v":0},{"$f":"SUM(RTZ73:RTZ77)","v":0},{"$f":"SUM(RUA73:RUA77)","v":0},{"$f":"SUM(RUB73:RUB77)","v":0},{"$f":"SUM(RUC73:RUC77)","v":0},{"$f":"SUM(RUD73:RUD77)","v":0},{"$f":"SUM(RUE73:RUE77)","v":0},{"$f":"SUM(RUF73:RUF77)","v":0},{"$f":"SUM(RUG73:RUG77)","v":0},{"$f":"SUM(RUH73:RUH77)","v":0},{"$f":"SUM(RUI73:RUI77)","v":0},{"$f":"SUM(RUJ73:RUJ77)","v":0},{"$f":"SUM(RUK73:RUK77)","v":0},{"$f":"SUM(RUL73:RUL77)","v":0},{"$f":"SUM(RUM73:RUM77)","v":0},{"$f":"SUM(RUN73:RUN77)","v":0},{"$f":"SUM(RUO73:RUO77)","v":0},{"$f":"SUM(RUP73:RUP77)","v":0},{"$f":"SUM(RUQ73:RUQ77)","v":0},{"$f":"SUM(RUR73:RUR77)","v":0},{"$f":"SUM(RUS73:RUS77)","v":0},{"$f":"SUM(RUT73:RUT77)","v":0},{"$f":"SUM(RUU73:RUU77)","v":0},{"$f":"SUM(RUV73:RUV77)","v":0},{"$f":"SUM(RUW73:RUW77)","v":0},{"$f":"SUM(RUX73:RUX77)","v":0},{"$f":"SUM(RUY73:RUY77)","v":0},{"$f":"SUM(RUZ73:RUZ77)","v":0},{"$f":"SUM(RVA73:RVA77)","v":0},{"$f":"SUM(RVB73:RVB77)","v":0},{"$f":"SUM(RVC73:RVC77)","v":0},{"$f":"SUM(RVD73:RVD77)","v":0},{"$f":"SUM(RVE73:RVE77)","v":0},{"$f":"SUM(RVF73:RVF77)","v":0},{"$f":"SUM(RVG73:RVG77)","v":0},{"$f":"SUM(RVH73:RVH77)","v":0},{"$f":"SUM(RVI73:RVI77)","v":0},{"$f":"SUM(RVJ73:RVJ77)","v":0},{"$f":"SUM(RVK73:RVK77)","v":0},{"$f":"SUM(RVL73:RVL77)","v":0},{"$f":"SUM(RVM73:RVM77)","v":0},{"$f":"SUM(RVN73:RVN77)","v":0},{"$f":"SUM(RVO73:RVO77)","v":0},{"$f":"SUM(RVP73:RVP77)","v":0},{"$f":"SUM(RVQ73:RVQ77)","v":0},{"$f":"SUM(RVR73:RVR77)","v":0},{"$f":"SUM(RVS73:RVS77)","v":0},{"$f":"SUM(RVT73:RVT77)","v":0},{"$f":"SUM(RVU73:RVU77)","v":0},{"$f":"SUM(RVV73:RVV77)","v":0},{"$f":"SUM(RVW73:RVW77)","v":0},{"$f":"SUM(RVX73:RVX77)","v":0},{"$f":"SUM(RVY73:RVY77)","v":0},{"$f":"SUM(RVZ73:RVZ77)","v":0},{"$f":"SUM(RWA73:RWA77)","v":0},{"$f":"SUM(RWB73:RWB77)","v":0},{"$f":"SUM(RWC73:RWC77)","v":0},{"$f":"SUM(RWD73:RWD77)","v":0},{"$f":"SUM(RWE73:RWE77)","v":0},{"$f":"SUM(RWF73:RWF77)","v":0},{"$f":"SUM(RWG73:RWG77)","v":0},{"$f":"SUM(RWH73:RWH77)","v":0},{"$f":"SUM(RWI73:RWI77)","v":0},{"$f":"SUM(RWJ73:RWJ77)","v":0},{"$f":"SUM(RWK73:RWK77)","v":0},{"$f":"SUM(RWL73:RWL77)","v":0},{"$f":"SUM(RWM73:RWM77)","v":0},{"$f":"SUM(RWN73:RWN77)","v":0},{"$f":"SUM(RWO73:RWO77)","v":0},{"$f":"SUM(RWP73:RWP77)","v":0},{"$f":"SUM(RWQ73:RWQ77)","v":0},{"$f":"SUM(RWR73:RWR77)","v":0},{"$f":"SUM(RWS73:RWS77)","v":0},{"$f":"SUM(RWT73:RWT77)","v":0},{"$f":"SUM(RWU73:RWU77)","v":0},{"$f":"SUM(RWV73:RWV77)","v":0},{"$f":"SUM(RWW73:RWW77)","v":0},{"$f":"SUM(RWX73:RWX77)","v":0},{"$f":"SUM(RWY73:RWY77)","v":0},{"$f":"SUM(RWZ73:RWZ77)","v":0},{"$f":"SUM(RXA73:RXA77)","v":0},{"$f":"SUM(RXB73:RXB77)","v":0},{"$f":"SUM(RXC73:RXC77)","v":0},{"$f":"SUM(RXD73:RXD77)","v":0},{"$f":"SUM(RXE73:RXE77)","v":0},{"$f":"SUM(RXF73:RXF77)","v":0},{"$f":"SUM(RXG73:RXG77)","v":0},{"$f":"SUM(RXH73:RXH77)","v":0},{"$f":"SUM(RXI73:RXI77)","v":0},{"$f":"SUM(RXJ73:RXJ77)","v":0},{"$f":"SUM(RXK73:RXK77)","v":0},{"$f":"SUM(RXL73:RXL77)","v":0},{"$f":"SUM(RXM73:RXM77)","v":0},{"$f":"SUM(RXN73:RXN77)","v":0},{"$f":"SUM(RXO73:RXO77)","v":0},{"$f":"SUM(RXP73:RXP77)","v":0},{"$f":"SUM(RXQ73:RXQ77)","v":0},{"$f":"SUM(RXR73:RXR77)","v":0},{"$f":"SUM(RXS73:RXS77)","v":0},{"$f":"SUM(RXT73:RXT77)","v":0},{"$f":"SUM(RXU73:RXU77)","v":0},{"$f":"SUM(RXV73:RXV77)","v":0},{"$f":"SUM(RXW73:RXW77)","v":0},{"$f":"SUM(RXX73:RXX77)","v":0},{"$f":"SUM(RXY73:RXY77)","v":0},{"$f":"SUM(RXZ73:RXZ77)","v":0},{"$f":"SUM(RYA73:RYA77)","v":0},{"$f":"SUM(RYB73:RYB77)","v":0},{"$f":"SUM(RYC73:RYC77)","v":0},{"$f":"SUM(RYD73:RYD77)","v":0},{"$f":"SUM(RYE73:RYE77)","v":0},{"$f":"SUM(RYF73:RYF77)","v":0},{"$f":"SUM(RYG73:RYG77)","v":0},{"$f":"SUM(RYH73:RYH77)","v":0},{"$f":"SUM(RYI73:RYI77)","v":0},{"$f":"SUM(RYJ73:RYJ77)","v":0},{"$f":"SUM(RYK73:RYK77)","v":0},{"$f":"SUM(RYL73:RYL77)","v":0},{"$f":"SUM(RYM73:RYM77)","v":0},{"$f":"SUM(RYN73:RYN77)","v":0},{"$f":"SUM(RYO73:RYO77)","v":0},{"$f":"SUM(RYP73:RYP77)","v":0},{"$f":"SUM(RYQ73:RYQ77)","v":0},{"$f":"SUM(RYR73:RYR77)","v":0},{"$f":"SUM(RYS73:RYS77)","v":0},{"$f":"SUM(RYT73:RYT77)","v":0},{"$f":"SUM(RYU73:RYU77)","v":0},{"$f":"SUM(RYV73:RYV77)","v":0},{"$f":"SUM(RYW73:RYW77)","v":0},{"$f":"SUM(RYX73:RYX77)","v":0},{"$f":"SUM(RYY73:RYY77)","v":0},{"$f":"SUM(RYZ73:RYZ77)","v":0},{"$f":"SUM(RZA73:RZA77)","v":0},{"$f":"SUM(RZB73:RZB77)","v":0},{"$f":"SUM(RZC73:RZC77)","v":0},{"$f":"SUM(RZD73:RZD77)","v":0},{"$f":"SUM(RZE73:RZE77)","v":0},{"$f":"SUM(RZF73:RZF77)","v":0},{"$f":"SUM(RZG73:RZG77)","v":0},{"$f":"SUM(RZH73:RZH77)","v":0},{"$f":"SUM(RZI73:RZI77)","v":0},{"$f":"SUM(RZJ73:RZJ77)","v":0},{"$f":"SUM(RZK73:RZK77)","v":0},{"$f":"SUM(RZL73:RZL77)","v":0},{"$f":"SUM(RZM73:RZM77)","v":0},{"$f":"SUM(RZN73:RZN77)","v":0},{"$f":"SUM(RZO73:RZO77)","v":0},{"$f":"SUM(RZP73:RZP77)","v":0},{"$f":"SUM(RZQ73:RZQ77)","v":0},{"$f":"SUM(RZR73:RZR77)","v":0},{"$f":"SUM(RZS73:RZS77)","v":0},{"$f":"SUM(RZT73:RZT77)","v":0},{"$f":"SUM(RZU73:RZU77)","v":0},{"$f":"SUM(RZV73:RZV77)","v":0},{"$f":"SUM(RZW73:RZW77)","v":0},{"$f":"SUM(RZX73:RZX77)","v":0},{"$f":"SUM(RZY73:RZY77)","v":0},{"$f":"SUM(RZZ73:RZZ77)","v":0},{"$f":"SUM(SAA73:SAA77)","v":0},{"$f":"SUM(SAB73:SAB77)","v":0},{"$f":"SUM(SAC73:SAC77)","v":0},{"$f":"SUM(SAD73:SAD77)","v":0},{"$f":"SUM(SAE73:SAE77)","v":0},{"$f":"SUM(SAF73:SAF77)","v":0},{"$f":"SUM(SAG73:SAG77)","v":0},{"$f":"SUM(SAH73:SAH77)","v":0},{"$f":"SUM(SAI73:SAI77)","v":0},{"$f":"SUM(SAJ73:SAJ77)","v":0},{"$f":"SUM(SAK73:SAK77)","v":0},{"$f":"SUM(SAL73:SAL77)","v":0},{"$f":"SUM(SAM73:SAM77)","v":0},{"$f":"SUM(SAN73:SAN77)","v":0},{"$f":"SUM(SAO73:SAO77)","v":0},{"$f":"SUM(SAP73:SAP77)","v":0},{"$f":"SUM(SAQ73:SAQ77)","v":0},{"$f":"SUM(SAR73:SAR77)","v":0},{"$f":"SUM(SAS73:SAS77)","v":0},{"$f":"SUM(SAT73:SAT77)","v":0},{"$f":"SUM(SAU73:SAU77)","v":0},{"$f":"SUM(SAV73:SAV77)","v":0},{"$f":"SUM(SAW73:SAW77)","v":0},{"$f":"SUM(SAX73:SAX77)","v":0},{"$f":"SUM(SAY73:SAY77)","v":0},{"$f":"SUM(SAZ73:SAZ77)","v":0},{"$f":"SUM(SBA73:SBA77)","v":0},{"$f":"SUM(SBB73:SBB77)","v":0},{"$f":"SUM(SBC73:SBC77)","v":0},{"$f":"SUM(SBD73:SBD77)","v":0},{"$f":"SUM(SBE73:SBE77)","v":0},{"$f":"SUM(SBF73:SBF77)","v":0},{"$f":"SUM(SBG73:SBG77)","v":0},{"$f":"SUM(SBH73:SBH77)","v":0},{"$f":"SUM(SBI73:SBI77)","v":0},{"$f":"SUM(SBJ73:SBJ77)","v":0},{"$f":"SUM(SBK73:SBK77)","v":0},{"$f":"SUM(SBL73:SBL77)","v":0},{"$f":"SUM(SBM73:SBM77)","v":0},{"$f":"SUM(SBN73:SBN77)","v":0},{"$f":"SUM(SBO73:SBO77)","v":0},{"$f":"SUM(SBP73:SBP77)","v":0},{"$f":"SUM(SBQ73:SBQ77)","v":0},{"$f":"SUM(SBR73:SBR77)","v":0},{"$f":"SUM(SBS73:SBS77)","v":0},{"$f":"SUM(SBT73:SBT77)","v":0},{"$f":"SUM(SBU73:SBU77)","v":0},{"$f":"SUM(SBV73:SBV77)","v":0},{"$f":"SUM(SBW73:SBW77)","v":0},{"$f":"SUM(SBX73:SBX77)","v":0},{"$f":"SUM(SBY73:SBY77)","v":0},{"$f":"SUM(SBZ73:SBZ77)","v":0},{"$f":"SUM(SCA73:SCA77)","v":0},{"$f":"SUM(SCB73:SCB77)","v":0},{"$f":"SUM(SCC73:SCC77)","v":0},{"$f":"SUM(SCD73:SCD77)","v":0},{"$f":"SUM(SCE73:SCE77)","v":0},{"$f":"SUM(SCF73:SCF77)","v":0},{"$f":"SUM(SCG73:SCG77)","v":0},{"$f":"SUM(SCH73:SCH77)","v":0},{"$f":"SUM(SCI73:SCI77)","v":0},{"$f":"SUM(SCJ73:SCJ77)","v":0},{"$f":"SUM(SCK73:SCK77)","v":0},{"$f":"SUM(SCL73:SCL77)","v":0},{"$f":"SUM(SCM73:SCM77)","v":0},{"$f":"SUM(SCN73:SCN77)","v":0},{"$f":"SUM(SCO73:SCO77)","v":0},{"$f":"SUM(SCP73:SCP77)","v":0},{"$f":"SUM(SCQ73:SCQ77)","v":0},{"$f":"SUM(SCR73:SCR77)","v":0},{"$f":"SUM(SCS73:SCS77)","v":0},{"$f":"SUM(SCT73:SCT77)","v":0},{"$f":"SUM(SCU73:SCU77)","v":0},{"$f":"SUM(SCV73:SCV77)","v":0},{"$f":"SUM(SCW73:SCW77)","v":0},{"$f":"SUM(SCX73:SCX77)","v":0},{"$f":"SUM(SCY73:SCY77)","v":0},{"$f":"SUM(SCZ73:SCZ77)","v":0},{"$f":"SUM(SDA73:SDA77)","v":0},{"$f":"SUM(SDB73:SDB77)","v":0},{"$f":"SUM(SDC73:SDC77)","v":0},{"$f":"SUM(SDD73:SDD77)","v":0},{"$f":"SUM(SDE73:SDE77)","v":0},{"$f":"SUM(SDF73:SDF77)","v":0},{"$f":"SUM(SDG73:SDG77)","v":0},{"$f":"SUM(SDH73:SDH77)","v":0},{"$f":"SUM(SDI73:SDI77)","v":0},{"$f":"SUM(SDJ73:SDJ77)","v":0},{"$f":"SUM(SDK73:SDK77)","v":0},{"$f":"SUM(SDL73:SDL77)","v":0},{"$f":"SUM(SDM73:SDM77)","v":0},{"$f":"SUM(SDN73:SDN77)","v":0},{"$f":"SUM(SDO73:SDO77)","v":0},{"$f":"SUM(SDP73:SDP77)","v":0},{"$f":"SUM(SDQ73:SDQ77)","v":0},{"$f":"SUM(SDR73:SDR77)","v":0},{"$f":"SUM(SDS73:SDS77)","v":0},{"$f":"SUM(SDT73:SDT77)","v":0},{"$f":"SUM(SDU73:SDU77)","v":0},{"$f":"SUM(SDV73:SDV77)","v":0},{"$f":"SUM(SDW73:SDW77)","v":0},{"$f":"SUM(SDX73:SDX77)","v":0},{"$f":"SUM(SDY73:SDY77)","v":0},{"$f":"SUM(SDZ73:SDZ77)","v":0},{"$f":"SUM(SEA73:SEA77)","v":0},{"$f":"SUM(SEB73:SEB77)","v":0},{"$f":"SUM(SEC73:SEC77)","v":0},{"$f":"SUM(SED73:SED77)","v":0},{"$f":"SUM(SEE73:SEE77)","v":0},{"$f":"SUM(SEF73:SEF77)","v":0},{"$f":"SUM(SEG73:SEG77)","v":0},{"$f":"SUM(SEH73:SEH77)","v":0},{"$f":"SUM(SEI73:SEI77)","v":0},{"$f":"SUM(SEJ73:SEJ77)","v":0},{"$f":"SUM(SEK73:SEK77)","v":0},{"$f":"SUM(SEL73:SEL77)","v":0},{"$f":"SUM(SEM73:SEM77)","v":0},{"$f":"SUM(SEN73:SEN77)","v":0},{"$f":"SUM(SEO73:SEO77)","v":0},{"$f":"SUM(SEP73:SEP77)","v":0},{"$f":"SUM(SEQ73:SEQ77)","v":0},{"$f":"SUM(SER73:SER77)","v":0},{"$f":"SUM(SES73:SES77)","v":0},{"$f":"SUM(SET73:SET77)","v":0},{"$f":"SUM(SEU73:SEU77)","v":0},{"$f":"SUM(SEV73:SEV77)","v":0},{"$f":"SUM(SEW73:SEW77)","v":0},{"$f":"SUM(SEX73:SEX77)","v":0},{"$f":"SUM(SEY73:SEY77)","v":0},{"$f":"SUM(SEZ73:SEZ77)","v":0},{"$f":"SUM(SFA73:SFA77)","v":0},{"$f":"SUM(SFB73:SFB77)","v":0},{"$f":"SUM(SFC73:SFC77)","v":0},{"$f":"SUM(SFD73:SFD77)","v":0},{"$f":"SUM(SFE73:SFE77)","v":0},{"$f":"SUM(SFF73:SFF77)","v":0},{"$f":"SUM(SFG73:SFG77)","v":0},{"$f":"SUM(SFH73:SFH77)","v":0},{"$f":"SUM(SFI73:SFI77)","v":0},{"$f":"SUM(SFJ73:SFJ77)","v":0},{"$f":"SUM(SFK73:SFK77)","v":0},{"$f":"SUM(SFL73:SFL77)","v":0},{"$f":"SUM(SFM73:SFM77)","v":0},{"$f":"SUM(SFN73:SFN77)","v":0},{"$f":"SUM(SFO73:SFO77)","v":0},{"$f":"SUM(SFP73:SFP77)","v":0},{"$f":"SUM(SFQ73:SFQ77)","v":0},{"$f":"SUM(SFR73:SFR77)","v":0},{"$f":"SUM(SFS73:SFS77)","v":0},{"$f":"SUM(SFT73:SFT77)","v":0},{"$f":"SUM(SFU73:SFU77)","v":0},{"$f":"SUM(SFV73:SFV77)","v":0},{"$f":"SUM(SFW73:SFW77)","v":0},{"$f":"SUM(SFX73:SFX77)","v":0},{"$f":"SUM(SFY73:SFY77)","v":0},{"$f":"SUM(SFZ73:SFZ77)","v":0},{"$f":"SUM(SGA73:SGA77)","v":0},{"$f":"SUM(SGB73:SGB77)","v":0},{"$f":"SUM(SGC73:SGC77)","v":0},{"$f":"SUM(SGD73:SGD77)","v":0},{"$f":"SUM(SGE73:SGE77)","v":0},{"$f":"SUM(SGF73:SGF77)","v":0},{"$f":"SUM(SGG73:SGG77)","v":0},{"$f":"SUM(SGH73:SGH77)","v":0},{"$f":"SUM(SGI73:SGI77)","v":0},{"$f":"SUM(SGJ73:SGJ77)","v":0},{"$f":"SUM(SGK73:SGK77)","v":0},{"$f":"SUM(SGL73:SGL77)","v":0},{"$f":"SUM(SGM73:SGM77)","v":0},{"$f":"SUM(SGN73:SGN77)","v":0},{"$f":"SUM(SGO73:SGO77)","v":0},{"$f":"SUM(SGP73:SGP77)","v":0},{"$f":"SUM(SGQ73:SGQ77)","v":0},{"$f":"SUM(SGR73:SGR77)","v":0},{"$f":"SUM(SGS73:SGS77)","v":0},{"$f":"SUM(SGT73:SGT77)","v":0},{"$f":"SUM(SGU73:SGU77)","v":0},{"$f":"SUM(SGV73:SGV77)","v":0},{"$f":"SUM(SGW73:SGW77)","v":0},{"$f":"SUM(SGX73:SGX77)","v":0},{"$f":"SUM(SGY73:SGY77)","v":0},{"$f":"SUM(SGZ73:SGZ77)","v":0},{"$f":"SUM(SHA73:SHA77)","v":0},{"$f":"SUM(SHB73:SHB77)","v":0},{"$f":"SUM(SHC73:SHC77)","v":0},{"$f":"SUM(SHD73:SHD77)","v":0},{"$f":"SUM(SHE73:SHE77)","v":0},{"$f":"SUM(SHF73:SHF77)","v":0},{"$f":"SUM(SHG73:SHG77)","v":0},{"$f":"SUM(SHH73:SHH77)","v":0},{"$f":"SUM(SHI73:SHI77)","v":0},{"$f":"SUM(SHJ73:SHJ77)","v":0},{"$f":"SUM(SHK73:SHK77)","v":0},{"$f":"SUM(SHL73:SHL77)","v":0},{"$f":"SUM(SHM73:SHM77)","v":0},{"$f":"SUM(SHN73:SHN77)","v":0},{"$f":"SUM(SHO73:SHO77)","v":0},{"$f":"SUM(SHP73:SHP77)","v":0},{"$f":"SUM(SHQ73:SHQ77)","v":0},{"$f":"SUM(SHR73:SHR77)","v":0},{"$f":"SUM(SHS73:SHS77)","v":0},{"$f":"SUM(SHT73:SHT77)","v":0},{"$f":"SUM(SHU73:SHU77)","v":0},{"$f":"SUM(SHV73:SHV77)","v":0},{"$f":"SUM(SHW73:SHW77)","v":0},{"$f":"SUM(SHX73:SHX77)","v":0},{"$f":"SUM(SHY73:SHY77)","v":0},{"$f":"SUM(SHZ73:SHZ77)","v":0},{"$f":"SUM(SIA73:SIA77)","v":0},{"$f":"SUM(SIB73:SIB77)","v":0},{"$f":"SUM(SIC73:SIC77)","v":0},{"$f":"SUM(SID73:SID77)","v":0},{"$f":"SUM(SIE73:SIE77)","v":0},{"$f":"SUM(SIF73:SIF77)","v":0},{"$f":"SUM(SIG73:SIG77)","v":0},{"$f":"SUM(SIH73:SIH77)","v":0},{"$f":"SUM(SII73:SII77)","v":0},{"$f":"SUM(SIJ73:SIJ77)","v":0},{"$f":"SUM(SIK73:SIK77)","v":0},{"$f":"SUM(SIL73:SIL77)","v":0},{"$f":"SUM(SIM73:SIM77)","v":0},{"$f":"SUM(SIN73:SIN77)","v":0},{"$f":"SUM(SIO73:SIO77)","v":0},{"$f":"SUM(SIP73:SIP77)","v":0},{"$f":"SUM(SIQ73:SIQ77)","v":0},{"$f":"SUM(SIR73:SIR77)","v":0},{"$f":"SUM(SIS73:SIS77)","v":0},{"$f":"SUM(SIT73:SIT77)","v":0},{"$f":"SUM(SIU73:SIU77)","v":0},{"$f":"SUM(SIV73:SIV77)","v":0},{"$f":"SUM(SIW73:SIW77)","v":0},{"$f":"SUM(SIX73:SIX77)","v":0},{"$f":"SUM(SIY73:SIY77)","v":0},{"$f":"SUM(SIZ73:SIZ77)","v":0},{"$f":"SUM(SJA73:SJA77)","v":0},{"$f":"SUM(SJB73:SJB77)","v":0},{"$f":"SUM(SJC73:SJC77)","v":0},{"$f":"SUM(SJD73:SJD77)","v":0},{"$f":"SUM(SJE73:SJE77)","v":0},{"$f":"SUM(SJF73:SJF77)","v":0},{"$f":"SUM(SJG73:SJG77)","v":0},{"$f":"SUM(SJH73:SJH77)","v":0},{"$f":"SUM(SJI73:SJI77)","v":0},{"$f":"SUM(SJJ73:SJJ77)","v":0},{"$f":"SUM(SJK73:SJK77)","v":0},{"$f":"SUM(SJL73:SJL77)","v":0},{"$f":"SUM(SJM73:SJM77)","v":0},{"$f":"SUM(SJN73:SJN77)","v":0},{"$f":"SUM(SJO73:SJO77)","v":0},{"$f":"SUM(SJP73:SJP77)","v":0},{"$f":"SUM(SJQ73:SJQ77)","v":0},{"$f":"SUM(SJR73:SJR77)","v":0},{"$f":"SUM(SJS73:SJS77)","v":0},{"$f":"SUM(SJT73:SJT77)","v":0},{"$f":"SUM(SJU73:SJU77)","v":0},{"$f":"SUM(SJV73:SJV77)","v":0},{"$f":"SUM(SJW73:SJW77)","v":0},{"$f":"SUM(SJX73:SJX77)","v":0},{"$f":"SUM(SJY73:SJY77)","v":0},{"$f":"SUM(SJZ73:SJZ77)","v":0},{"$f":"SUM(SKA73:SKA77)","v":0},{"$f":"SUM(SKB73:SKB77)","v":0},{"$f":"SUM(SKC73:SKC77)","v":0},{"$f":"SUM(SKD73:SKD77)","v":0},{"$f":"SUM(SKE73:SKE77)","v":0},{"$f":"SUM(SKF73:SKF77)","v":0},{"$f":"SUM(SKG73:SKG77)","v":0},{"$f":"SUM(SKH73:SKH77)","v":0},{"$f":"SUM(SKI73:SKI77)","v":0},{"$f":"SUM(SKJ73:SKJ77)","v":0},{"$f":"SUM(SKK73:SKK77)","v":0},{"$f":"SUM(SKL73:SKL77)","v":0},{"$f":"SUM(SKM73:SKM77)","v":0},{"$f":"SUM(SKN73:SKN77)","v":0},{"$f":"SUM(SKO73:SKO77)","v":0},{"$f":"SUM(SKP73:SKP77)","v":0},{"$f":"SUM(SKQ73:SKQ77)","v":0},{"$f":"SUM(SKR73:SKR77)","v":0},{"$f":"SUM(SKS73:SKS77)","v":0},{"$f":"SUM(SKT73:SKT77)","v":0},{"$f":"SUM(SKU73:SKU77)","v":0},{"$f":"SUM(SKV73:SKV77)","v":0},{"$f":"SUM(SKW73:SKW77)","v":0},{"$f":"SUM(SKX73:SKX77)","v":0},{"$f":"SUM(SKY73:SKY77)","v":0},{"$f":"SUM(SKZ73:SKZ77)","v":0},{"$f":"SUM(SLA73:SLA77)","v":0},{"$f":"SUM(SLB73:SLB77)","v":0},{"$f":"SUM(SLC73:SLC77)","v":0},{"$f":"SUM(SLD73:SLD77)","v":0},{"$f":"SUM(SLE73:SLE77)","v":0},{"$f":"SUM(SLF73:SLF77)","v":0},{"$f":"SUM(SLG73:SLG77)","v":0},{"$f":"SUM(SLH73:SLH77)","v":0},{"$f":"SUM(SLI73:SLI77)","v":0},{"$f":"SUM(SLJ73:SLJ77)","v":0},{"$f":"SUM(SLK73:SLK77)","v":0},{"$f":"SUM(SLL73:SLL77)","v":0},{"$f":"SUM(SLM73:SLM77)","v":0},{"$f":"SUM(SLN73:SLN77)","v":0},{"$f":"SUM(SLO73:SLO77)","v":0},{"$f":"SUM(SLP73:SLP77)","v":0},{"$f":"SUM(SLQ73:SLQ77)","v":0},{"$f":"SUM(SLR73:SLR77)","v":0},{"$f":"SUM(SLS73:SLS77)","v":0},{"$f":"SUM(SLT73:SLT77)","v":0},{"$f":"SUM(SLU73:SLU77)","v":0},{"$f":"SUM(SLV73:SLV77)","v":0},{"$f":"SUM(SLW73:SLW77)","v":0},{"$f":"SUM(SLX73:SLX77)","v":0},{"$f":"SUM(SLY73:SLY77)","v":0},{"$f":"SUM(SLZ73:SLZ77)","v":0},{"$f":"SUM(SMA73:SMA77)","v":0},{"$f":"SUM(SMB73:SMB77)","v":0},{"$f":"SUM(SMC73:SMC77)","v":0},{"$f":"SUM(SMD73:SMD77)","v":0},{"$f":"SUM(SME73:SME77)","v":0},{"$f":"SUM(SMF73:SMF77)","v":0},{"$f":"SUM(SMG73:SMG77)","v":0},{"$f":"SUM(SMH73:SMH77)","v":0},{"$f":"SUM(SMI73:SMI77)","v":0},{"$f":"SUM(SMJ73:SMJ77)","v":0},{"$f":"SUM(SMK73:SMK77)","v":0},{"$f":"SUM(SML73:SML77)","v":0},{"$f":"SUM(SMM73:SMM77)","v":0},{"$f":"SUM(SMN73:SMN77)","v":0},{"$f":"SUM(SMO73:SMO77)","v":0},{"$f":"SUM(SMP73:SMP77)","v":0},{"$f":"SUM(SMQ73:SMQ77)","v":0},{"$f":"SUM(SMR73:SMR77)","v":0},{"$f":"SUM(SMS73:SMS77)","v":0},{"$f":"SUM(SMT73:SMT77)","v":0},{"$f":"SUM(SMU73:SMU77)","v":0},{"$f":"SUM(SMV73:SMV77)","v":0},{"$f":"SUM(SMW73:SMW77)","v":0},{"$f":"SUM(SMX73:SMX77)","v":0},{"$f":"SUM(SMY73:SMY77)","v":0},{"$f":"SUM(SMZ73:SMZ77)","v":0},{"$f":"SUM(SNA73:SNA77)","v":0},{"$f":"SUM(SNB73:SNB77)","v":0},{"$f":"SUM(SNC73:SNC77)","v":0},{"$f":"SUM(SND73:SND77)","v":0},{"$f":"SUM(SNE73:SNE77)","v":0},{"$f":"SUM(SNF73:SNF77)","v":0},{"$f":"SUM(SNG73:SNG77)","v":0},{"$f":"SUM(SNH73:SNH77)","v":0},{"$f":"SUM(SNI73:SNI77)","v":0},{"$f":"SUM(SNJ73:SNJ77)","v":0},{"$f":"SUM(SNK73:SNK77)","v":0},{"$f":"SUM(SNL73:SNL77)","v":0},{"$f":"SUM(SNM73:SNM77)","v":0},{"$f":"SUM(SNN73:SNN77)","v":0},{"$f":"SUM(SNO73:SNO77)","v":0},{"$f":"SUM(SNP73:SNP77)","v":0},{"$f":"SUM(SNQ73:SNQ77)","v":0},{"$f":"SUM(SNR73:SNR77)","v":0},{"$f":"SUM(SNS73:SNS77)","v":0},{"$f":"SUM(SNT73:SNT77)","v":0},{"$f":"SUM(SNU73:SNU77)","v":0},{"$f":"SUM(SNV73:SNV77)","v":0},{"$f":"SUM(SNW73:SNW77)","v":0},{"$f":"SUM(SNX73:SNX77)","v":0},{"$f":"SUM(SNY73:SNY77)","v":0},{"$f":"SUM(SNZ73:SNZ77)","v":0},{"$f":"SUM(SOA73:SOA77)","v":0},{"$f":"SUM(SOB73:SOB77)","v":0},{"$f":"SUM(SOC73:SOC77)","v":0},{"$f":"SUM(SOD73:SOD77)","v":0},{"$f":"SUM(SOE73:SOE77)","v":0},{"$f":"SUM(SOF73:SOF77)","v":0},{"$f":"SUM(SOG73:SOG77)","v":0},{"$f":"SUM(SOH73:SOH77)","v":0},{"$f":"SUM(SOI73:SOI77)","v":0},{"$f":"SUM(SOJ73:SOJ77)","v":0},{"$f":"SUM(SOK73:SOK77)","v":0},{"$f":"SUM(SOL73:SOL77)","v":0},{"$f":"SUM(SOM73:SOM77)","v":0},{"$f":"SUM(SON73:SON77)","v":0},{"$f":"SUM(SOO73:SOO77)","v":0},{"$f":"SUM(SOP73:SOP77)","v":0},{"$f":"SUM(SOQ73:SOQ77)","v":0},{"$f":"SUM(SOR73:SOR77)","v":0},{"$f":"SUM(SOS73:SOS77)","v":0},{"$f":"SUM(SOT73:SOT77)","v":0},{"$f":"SUM(SOU73:SOU77)","v":0},{"$f":"SUM(SOV73:SOV77)","v":0},{"$f":"SUM(SOW73:SOW77)","v":0},{"$f":"SUM(SOX73:SOX77)","v":0},{"$f":"SUM(SOY73:SOY77)","v":0},{"$f":"SUM(SOZ73:SOZ77)","v":0},{"$f":"SUM(SPA73:SPA77)","v":0},{"$f":"SUM(SPB73:SPB77)","v":0},{"$f":"SUM(SPC73:SPC77)","v":0},{"$f":"SUM(SPD73:SPD77)","v":0},{"$f":"SUM(SPE73:SPE77)","v":0},{"$f":"SUM(SPF73:SPF77)","v":0},{"$f":"SUM(SPG73:SPG77)","v":0},{"$f":"SUM(SPH73:SPH77)","v":0},{"$f":"SUM(SPI73:SPI77)","v":0},{"$f":"SUM(SPJ73:SPJ77)","v":0},{"$f":"SUM(SPK73:SPK77)","v":0},{"$f":"SUM(SPL73:SPL77)","v":0},{"$f":"SUM(SPM73:SPM77)","v":0},{"$f":"SUM(SPN73:SPN77)","v":0},{"$f":"SUM(SPO73:SPO77)","v":0},{"$f":"SUM(SPP73:SPP77)","v":0},{"$f":"SUM(SPQ73:SPQ77)","v":0},{"$f":"SUM(SPR73:SPR77)","v":0},{"$f":"SUM(SPS73:SPS77)","v":0},{"$f":"SUM(SPT73:SPT77)","v":0},{"$f":"SUM(SPU73:SPU77)","v":0},{"$f":"SUM(SPV73:SPV77)","v":0},{"$f":"SUM(SPW73:SPW77)","v":0},{"$f":"SUM(SPX73:SPX77)","v":0},{"$f":"SUM(SPY73:SPY77)","v":0},{"$f":"SUM(SPZ73:SPZ77)","v":0},{"$f":"SUM(SQA73:SQA77)","v":0},{"$f":"SUM(SQB73:SQB77)","v":0},{"$f":"SUM(SQC73:SQC77)","v":0},{"$f":"SUM(SQD73:SQD77)","v":0},{"$f":"SUM(SQE73:SQE77)","v":0},{"$f":"SUM(SQF73:SQF77)","v":0},{"$f":"SUM(SQG73:SQG77)","v":0},{"$f":"SUM(SQH73:SQH77)","v":0},{"$f":"SUM(SQI73:SQI77)","v":0},{"$f":"SUM(SQJ73:SQJ77)","v":0},{"$f":"SUM(SQK73:SQK77)","v":0},{"$f":"SUM(SQL73:SQL77)","v":0},{"$f":"SUM(SQM73:SQM77)","v":0},{"$f":"SUM(SQN73:SQN77)","v":0},{"$f":"SUM(SQO73:SQO77)","v":0},{"$f":"SUM(SQP73:SQP77)","v":0},{"$f":"SUM(SQQ73:SQQ77)","v":0},{"$f":"SUM(SQR73:SQR77)","v":0},{"$f":"SUM(SQS73:SQS77)","v":0},{"$f":"SUM(SQT73:SQT77)","v":0},{"$f":"SUM(SQU73:SQU77)","v":0},{"$f":"SUM(SQV73:SQV77)","v":0},{"$f":"SUM(SQW73:SQW77)","v":0},{"$f":"SUM(SQX73:SQX77)","v":0},{"$f":"SUM(SQY73:SQY77)","v":0},{"$f":"SUM(SQZ73:SQZ77)","v":0},{"$f":"SUM(SRA73:SRA77)","v":0},{"$f":"SUM(SRB73:SRB77)","v":0},{"$f":"SUM(SRC73:SRC77)","v":0},{"$f":"SUM(SRD73:SRD77)","v":0},{"$f":"SUM(SRE73:SRE77)","v":0},{"$f":"SUM(SRF73:SRF77)","v":0},{"$f":"SUM(SRG73:SRG77)","v":0},{"$f":"SUM(SRH73:SRH77)","v":0},{"$f":"SUM(SRI73:SRI77)","v":0},{"$f":"SUM(SRJ73:SRJ77)","v":0},{"$f":"SUM(SRK73:SRK77)","v":0},{"$f":"SUM(SRL73:SRL77)","v":0},{"$f":"SUM(SRM73:SRM77)","v":0},{"$f":"SUM(SRN73:SRN77)","v":0},{"$f":"SUM(SRO73:SRO77)","v":0},{"$f":"SUM(SRP73:SRP77)","v":0},{"$f":"SUM(SRQ73:SRQ77)","v":0},{"$f":"SUM(SRR73:SRR77)","v":0},{"$f":"SUM(SRS73:SRS77)","v":0},{"$f":"SUM(SRT73:SRT77)","v":0},{"$f":"SUM(SRU73:SRU77)","v":0},{"$f":"SUM(SRV73:SRV77)","v":0},{"$f":"SUM(SRW73:SRW77)","v":0},{"$f":"SUM(SRX73:SRX77)","v":0},{"$f":"SUM(SRY73:SRY77)","v":0},{"$f":"SUM(SRZ73:SRZ77)","v":0},{"$f":"SUM(SSA73:SSA77)","v":0},{"$f":"SUM(SSB73:SSB77)","v":0},{"$f":"SUM(SSC73:SSC77)","v":0},{"$f":"SUM(SSD73:SSD77)","v":0},{"$f":"SUM(SSE73:SSE77)","v":0},{"$f":"SUM(SSF73:SSF77)","v":0},{"$f":"SUM(SSG73:SSG77)","v":0},{"$f":"SUM(SSH73:SSH77)","v":0},{"$f":"SUM(SSI73:SSI77)","v":0},{"$f":"SUM(SSJ73:SSJ77)","v":0},{"$f":"SUM(SSK73:SSK77)","v":0},{"$f":"SUM(SSL73:SSL77)","v":0},{"$f":"SUM(SSM73:SSM77)","v":0},{"$f":"SUM(SSN73:SSN77)","v":0},{"$f":"SUM(SSO73:SSO77)","v":0},{"$f":"SUM(SSP73:SSP77)","v":0},{"$f":"SUM(SSQ73:SSQ77)","v":0},{"$f":"SUM(SSR73:SSR77)","v":0},{"$f":"SUM(SSS73:SSS77)","v":0},{"$f":"SUM(SST73:SST77)","v":0},{"$f":"SUM(SSU73:SSU77)","v":0},{"$f":"SUM(SSV73:SSV77)","v":0},{"$f":"SUM(SSW73:SSW77)","v":0},{"$f":"SUM(SSX73:SSX77)","v":0},{"$f":"SUM(SSY73:SSY77)","v":0},{"$f":"SUM(SSZ73:SSZ77)","v":0},{"$f":"SUM(STA73:STA77)","v":0},{"$f":"SUM(STB73:STB77)","v":0},{"$f":"SUM(STC73:STC77)","v":0},{"$f":"SUM(STD73:STD77)","v":0},{"$f":"SUM(STE73:STE77)","v":0},{"$f":"SUM(STF73:STF77)","v":0},{"$f":"SUM(STG73:STG77)","v":0},{"$f":"SUM(STH73:STH77)","v":0},{"$f":"SUM(STI73:STI77)","v":0},{"$f":"SUM(STJ73:STJ77)","v":0},{"$f":"SUM(STK73:STK77)","v":0},{"$f":"SUM(STL73:STL77)","v":0},{"$f":"SUM(STM73:STM77)","v":0},{"$f":"SUM(STN73:STN77)","v":0},{"$f":"SUM(STO73:STO77)","v":0},{"$f":"SUM(STP73:STP77)","v":0},{"$f":"SUM(STQ73:STQ77)","v":0},{"$f":"SUM(STR73:STR77)","v":0},{"$f":"SUM(STS73:STS77)","v":0},{"$f":"SUM(STT73:STT77)","v":0},{"$f":"SUM(STU73:STU77)","v":0},{"$f":"SUM(STV73:STV77)","v":0},{"$f":"SUM(STW73:STW77)","v":0},{"$f":"SUM(STX73:STX77)","v":0},{"$f":"SUM(STY73:STY77)","v":0},{"$f":"SUM(STZ73:STZ77)","v":0},{"$f":"SUM(SUA73:SUA77)","v":0},{"$f":"SUM(SUB73:SUB77)","v":0},{"$f":"SUM(SUC73:SUC77)","v":0},{"$f":"SUM(SUD73:SUD77)","v":0},{"$f":"SUM(SUE73:SUE77)","v":0},{"$f":"SUM(SUF73:SUF77)","v":0},{"$f":"SUM(SUG73:SUG77)","v":0},{"$f":"SUM(SUH73:SUH77)","v":0},{"$f":"SUM(SUI73:SUI77)","v":0},{"$f":"SUM(SUJ73:SUJ77)","v":0},{"$f":"SUM(SUK73:SUK77)","v":0},{"$f":"SUM(SUL73:SUL77)","v":0},{"$f":"SUM(SUM73:SUM77)","v":0},{"$f":"SUM(SUN73:SUN77)","v":0},{"$f":"SUM(SUO73:SUO77)","v":0},{"$f":"SUM(SUP73:SUP77)","v":0},{"$f":"SUM(SUQ73:SUQ77)","v":0},{"$f":"SUM(SUR73:SUR77)","v":0},{"$f":"SUM(SUS73:SUS77)","v":0},{"$f":"SUM(SUT73:SUT77)","v":0},{"$f":"SUM(SUU73:SUU77)","v":0},{"$f":"SUM(SUV73:SUV77)","v":0},{"$f":"SUM(SUW73:SUW77)","v":0},{"$f":"SUM(SUX73:SUX77)","v":0},{"$f":"SUM(SUY73:SUY77)","v":0},{"$f":"SUM(SUZ73:SUZ77)","v":0},{"$f":"SUM(SVA73:SVA77)","v":0},{"$f":"SUM(SVB73:SVB77)","v":0},{"$f":"SUM(SVC73:SVC77)","v":0},{"$f":"SUM(SVD73:SVD77)","v":0},{"$f":"SUM(SVE73:SVE77)","v":0},{"$f":"SUM(SVF73:SVF77)","v":0},{"$f":"SUM(SVG73:SVG77)","v":0},{"$f":"SUM(SVH73:SVH77)","v":0},{"$f":"SUM(SVI73:SVI77)","v":0},{"$f":"SUM(SVJ73:SVJ77)","v":0},{"$f":"SUM(SVK73:SVK77)","v":0},{"$f":"SUM(SVL73:SVL77)","v":0},{"$f":"SUM(SVM73:SVM77)","v":0},{"$f":"SUM(SVN73:SVN77)","v":0},{"$f":"SUM(SVO73:SVO77)","v":0},{"$f":"SUM(SVP73:SVP77)","v":0},{"$f":"SUM(SVQ73:SVQ77)","v":0},{"$f":"SUM(SVR73:SVR77)","v":0},{"$f":"SUM(SVS73:SVS77)","v":0},{"$f":"SUM(SVT73:SVT77)","v":0},{"$f":"SUM(SVU73:SVU77)","v":0},{"$f":"SUM(SVV73:SVV77)","v":0},{"$f":"SUM(SVW73:SVW77)","v":0},{"$f":"SUM(SVX73:SVX77)","v":0},{"$f":"SUM(SVY73:SVY77)","v":0},{"$f":"SUM(SVZ73:SVZ77)","v":0},{"$f":"SUM(SWA73:SWA77)","v":0},{"$f":"SUM(SWB73:SWB77)","v":0},{"$f":"SUM(SWC73:SWC77)","v":0},{"$f":"SUM(SWD73:SWD77)","v":0},{"$f":"SUM(SWE73:SWE77)","v":0},{"$f":"SUM(SWF73:SWF77)","v":0},{"$f":"SUM(SWG73:SWG77)","v":0},{"$f":"SUM(SWH73:SWH77)","v":0},{"$f":"SUM(SWI73:SWI77)","v":0},{"$f":"SUM(SWJ73:SWJ77)","v":0},{"$f":"SUM(SWK73:SWK77)","v":0},{"$f":"SUM(SWL73:SWL77)","v":0},{"$f":"SUM(SWM73:SWM77)","v":0},{"$f":"SUM(SWN73:SWN77)","v":0},{"$f":"SUM(SWO73:SWO77)","v":0},{"$f":"SUM(SWP73:SWP77)","v":0},{"$f":"SUM(SWQ73:SWQ77)","v":0},{"$f":"SUM(SWR73:SWR77)","v":0},{"$f":"SUM(SWS73:SWS77)","v":0},{"$f":"SUM(SWT73:SWT77)","v":0},{"$f":"SUM(SWU73:SWU77)","v":0},{"$f":"SUM(SWV73:SWV77)","v":0},{"$f":"SUM(SWW73:SWW77)","v":0},{"$f":"SUM(SWX73:SWX77)","v":0},{"$f":"SUM(SWY73:SWY77)","v":0},{"$f":"SUM(SWZ73:SWZ77)","v":0},{"$f":"SUM(SXA73:SXA77)","v":0},{"$f":"SUM(SXB73:SXB77)","v":0},{"$f":"SUM(SXC73:SXC77)","v":0},{"$f":"SUM(SXD73:SXD77)","v":0},{"$f":"SUM(SXE73:SXE77)","v":0},{"$f":"SUM(SXF73:SXF77)","v":0},{"$f":"SUM(SXG73:SXG77)","v":0},{"$f":"SUM(SXH73:SXH77)","v":0},{"$f":"SUM(SXI73:SXI77)","v":0},{"$f":"SUM(SXJ73:SXJ77)","v":0},{"$f":"SUM(SXK73:SXK77)","v":0},{"$f":"SUM(SXL73:SXL77)","v":0},{"$f":"SUM(SXM73:SXM77)","v":0},{"$f":"SUM(SXN73:SXN77)","v":0},{"$f":"SUM(SXO73:SXO77)","v":0},{"$f":"SUM(SXP73:SXP77)","v":0},{"$f":"SUM(SXQ73:SXQ77)","v":0},{"$f":"SUM(SXR73:SXR77)","v":0},{"$f":"SUM(SXS73:SXS77)","v":0},{"$f":"SUM(SXT73:SXT77)","v":0},{"$f":"SUM(SXU73:SXU77)","v":0},{"$f":"SUM(SXV73:SXV77)","v":0},{"$f":"SUM(SXW73:SXW77)","v":0},{"$f":"SUM(SXX73:SXX77)","v":0},{"$f":"SUM(SXY73:SXY77)","v":0},{"$f":"SUM(SXZ73:SXZ77)","v":0},{"$f":"SUM(SYA73:SYA77)","v":0},{"$f":"SUM(SYB73:SYB77)","v":0},{"$f":"SUM(SYC73:SYC77)","v":0},{"$f":"SUM(SYD73:SYD77)","v":0},{"$f":"SUM(SYE73:SYE77)","v":0},{"$f":"SUM(SYF73:SYF77)","v":0},{"$f":"SUM(SYG73:SYG77)","v":0},{"$f":"SUM(SYH73:SYH77)","v":0},{"$f":"SUM(SYI73:SYI77)","v":0},{"$f":"SUM(SYJ73:SYJ77)","v":0},{"$f":"SUM(SYK73:SYK77)","v":0},{"$f":"SUM(SYL73:SYL77)","v":0},{"$f":"SUM(SYM73:SYM77)","v":0},{"$f":"SUM(SYN73:SYN77)","v":0},{"$f":"SUM(SYO73:SYO77)","v":0},{"$f":"SUM(SYP73:SYP77)","v":0},{"$f":"SUM(SYQ73:SYQ77)","v":0},{"$f":"SUM(SYR73:SYR77)","v":0},{"$f":"SUM(SYS73:SYS77)","v":0},{"$f":"SUM(SYT73:SYT77)","v":0},{"$f":"SUM(SYU73:SYU77)","v":0},{"$f":"SUM(SYV73:SYV77)","v":0},{"$f":"SUM(SYW73:SYW77)","v":0},{"$f":"SUM(SYX73:SYX77)","v":0},{"$f":"SUM(SYY73:SYY77)","v":0},{"$f":"SUM(SYZ73:SYZ77)","v":0},{"$f":"SUM(SZA73:SZA77)","v":0},{"$f":"SUM(SZB73:SZB77)","v":0},{"$f":"SUM(SZC73:SZC77)","v":0},{"$f":"SUM(SZD73:SZD77)","v":0},{"$f":"SUM(SZE73:SZE77)","v":0},{"$f":"SUM(SZF73:SZF77)","v":0},{"$f":"SUM(SZG73:SZG77)","v":0},{"$f":"SUM(SZH73:SZH77)","v":0},{"$f":"SUM(SZI73:SZI77)","v":0},{"$f":"SUM(SZJ73:SZJ77)","v":0},{"$f":"SUM(SZK73:SZK77)","v":0},{"$f":"SUM(SZL73:SZL77)","v":0},{"$f":"SUM(SZM73:SZM77)","v":0},{"$f":"SUM(SZN73:SZN77)","v":0},{"$f":"SUM(SZO73:SZO77)","v":0},{"$f":"SUM(SZP73:SZP77)","v":0},{"$f":"SUM(SZQ73:SZQ77)","v":0},{"$f":"SUM(SZR73:SZR77)","v":0},{"$f":"SUM(SZS73:SZS77)","v":0},{"$f":"SUM(SZT73:SZT77)","v":0},{"$f":"SUM(SZU73:SZU77)","v":0},{"$f":"SUM(SZV73:SZV77)","v":0},{"$f":"SUM(SZW73:SZW77)","v":0},{"$f":"SUM(SZX73:SZX77)","v":0},{"$f":"SUM(SZY73:SZY77)","v":0},{"$f":"SUM(SZZ73:SZZ77)","v":0},{"$f":"SUM(TAA73:TAA77)","v":0},{"$f":"SUM(TAB73:TAB77)","v":0},{"$f":"SUM(TAC73:TAC77)","v":0},{"$f":"SUM(TAD73:TAD77)","v":0},{"$f":"SUM(TAE73:TAE77)","v":0},{"$f":"SUM(TAF73:TAF77)","v":0},{"$f":"SUM(TAG73:TAG77)","v":0},{"$f":"SUM(TAH73:TAH77)","v":0},{"$f":"SUM(TAI73:TAI77)","v":0},{"$f":"SUM(TAJ73:TAJ77)","v":0},{"$f":"SUM(TAK73:TAK77)","v":0},{"$f":"SUM(TAL73:TAL77)","v":0},{"$f":"SUM(TAM73:TAM77)","v":0},{"$f":"SUM(TAN73:TAN77)","v":0},{"$f":"SUM(TAO73:TAO77)","v":0},{"$f":"SUM(TAP73:TAP77)","v":0},{"$f":"SUM(TAQ73:TAQ77)","v":0},{"$f":"SUM(TAR73:TAR77)","v":0},{"$f":"SUM(TAS73:TAS77)","v":0},{"$f":"SUM(TAT73:TAT77)","v":0},{"$f":"SUM(TAU73:TAU77)","v":0},{"$f":"SUM(TAV73:TAV77)","v":0},{"$f":"SUM(TAW73:TAW77)","v":0},{"$f":"SUM(TAX73:TAX77)","v":0},{"$f":"SUM(TAY73:TAY77)","v":0},{"$f":"SUM(TAZ73:TAZ77)","v":0},{"$f":"SUM(TBA73:TBA77)","v":0},{"$f":"SUM(TBB73:TBB77)","v":0},{"$f":"SUM(TBC73:TBC77)","v":0},{"$f":"SUM(TBD73:TBD77)","v":0},{"$f":"SUM(TBE73:TBE77)","v":0},{"$f":"SUM(TBF73:TBF77)","v":0},{"$f":"SUM(TBG73:TBG77)","v":0},{"$f":"SUM(TBH73:TBH77)","v":0},{"$f":"SUM(TBI73:TBI77)","v":0},{"$f":"SUM(TBJ73:TBJ77)","v":0},{"$f":"SUM(TBK73:TBK77)","v":0},{"$f":"SUM(TBL73:TBL77)","v":0},{"$f":"SUM(TBM73:TBM77)","v":0},{"$f":"SUM(TBN73:TBN77)","v":0},{"$f":"SUM(TBO73:TBO77)","v":0},{"$f":"SUM(TBP73:TBP77)","v":0},{"$f":"SUM(TBQ73:TBQ77)","v":0},{"$f":"SUM(TBR73:TBR77)","v":0},{"$f":"SUM(TBS73:TBS77)","v":0},{"$f":"SUM(TBT73:TBT77)","v":0},{"$f":"SUM(TBU73:TBU77)","v":0},{"$f":"SUM(TBV73:TBV77)","v":0},{"$f":"SUM(TBW73:TBW77)","v":0},{"$f":"SUM(TBX73:TBX77)","v":0},{"$f":"SUM(TBY73:TBY77)","v":0},{"$f":"SUM(TBZ73:TBZ77)","v":0},{"$f":"SUM(TCA73:TCA77)","v":0},{"$f":"SUM(TCB73:TCB77)","v":0},{"$f":"SUM(TCC73:TCC77)","v":0},{"$f":"SUM(TCD73:TCD77)","v":0},{"$f":"SUM(TCE73:TCE77)","v":0},{"$f":"SUM(TCF73:TCF77)","v":0},{"$f":"SUM(TCG73:TCG77)","v":0},{"$f":"SUM(TCH73:TCH77)","v":0},{"$f":"SUM(TCI73:TCI77)","v":0},{"$f":"SUM(TCJ73:TCJ77)","v":0},{"$f":"SUM(TCK73:TCK77)","v":0},{"$f":"SUM(TCL73:TCL77)","v":0},{"$f":"SUM(TCM73:TCM77)","v":0},{"$f":"SUM(TCN73:TCN77)","v":0},{"$f":"SUM(TCO73:TCO77)","v":0},{"$f":"SUM(TCP73:TCP77)","v":0},{"$f":"SUM(TCQ73:TCQ77)","v":0},{"$f":"SUM(TCR73:TCR77)","v":0},{"$f":"SUM(TCS73:TCS77)","v":0},{"$f":"SUM(TCT73:TCT77)","v":0},{"$f":"SUM(TCU73:TCU77)","v":0},{"$f":"SUM(TCV73:TCV77)","v":0},{"$f":"SUM(TCW73:TCW77)","v":0},{"$f":"SUM(TCX73:TCX77)","v":0},{"$f":"SUM(TCY73:TCY77)","v":0},{"$f":"SUM(TCZ73:TCZ77)","v":0},{"$f":"SUM(TDA73:TDA77)","v":0},{"$f":"SUM(TDB73:TDB77)","v":0},{"$f":"SUM(TDC73:TDC77)","v":0},{"$f":"SUM(TDD73:TDD77)","v":0},{"$f":"SUM(TDE73:TDE77)","v":0},{"$f":"SUM(TDF73:TDF77)","v":0},{"$f":"SUM(TDG73:TDG77)","v":0},{"$f":"SUM(TDH73:TDH77)","v":0},{"$f":"SUM(TDI73:TDI77)","v":0},{"$f":"SUM(TDJ73:TDJ77)","v":0},{"$f":"SUM(TDK73:TDK77)","v":0},{"$f":"SUM(TDL73:TDL77)","v":0},{"$f":"SUM(TDM73:TDM77)","v":0},{"$f":"SUM(TDN73:TDN77)","v":0},{"$f":"SUM(TDO73:TDO77)","v":0},{"$f":"SUM(TDP73:TDP77)","v":0},{"$f":"SUM(TDQ73:TDQ77)","v":0},{"$f":"SUM(TDR73:TDR77)","v":0},{"$f":"SUM(TDS73:TDS77)","v":0},{"$f":"SUM(TDT73:TDT77)","v":0},{"$f":"SUM(TDU73:TDU77)","v":0},{"$f":"SUM(TDV73:TDV77)","v":0},{"$f":"SUM(TDW73:TDW77)","v":0},{"$f":"SUM(TDX73:TDX77)","v":0},{"$f":"SUM(TDY73:TDY77)","v":0},{"$f":"SUM(TDZ73:TDZ77)","v":0},{"$f":"SUM(TEA73:TEA77)","v":0},{"$f":"SUM(TEB73:TEB77)","v":0},{"$f":"SUM(TEC73:TEC77)","v":0},{"$f":"SUM(TED73:TED77)","v":0},{"$f":"SUM(TEE73:TEE77)","v":0},{"$f":"SUM(TEF73:TEF77)","v":0},{"$f":"SUM(TEG73:TEG77)","v":0},{"$f":"SUM(TEH73:TEH77)","v":0},{"$f":"SUM(TEI73:TEI77)","v":0},{"$f":"SUM(TEJ73:TEJ77)","v":0},{"$f":"SUM(TEK73:TEK77)","v":0},{"$f":"SUM(TEL73:TEL77)","v":0},{"$f":"SUM(TEM73:TEM77)","v":0},{"$f":"SUM(TEN73:TEN77)","v":0},{"$f":"SUM(TEO73:TEO77)","v":0},{"$f":"SUM(TEP73:TEP77)","v":0},{"$f":"SUM(TEQ73:TEQ77)","v":0},{"$f":"SUM(TER73:TER77)","v":0},{"$f":"SUM(TES73:TES77)","v":0},{"$f":"SUM(TET73:TET77)","v":0},{"$f":"SUM(TEU73:TEU77)","v":0},{"$f":"SUM(TEV73:TEV77)","v":0},{"$f":"SUM(TEW73:TEW77)","v":0},{"$f":"SUM(TEX73:TEX77)","v":0},{"$f":"SUM(TEY73:TEY77)","v":0},{"$f":"SUM(TEZ73:TEZ77)","v":0},{"$f":"SUM(TFA73:TFA77)","v":0},{"$f":"SUM(TFB73:TFB77)","v":0},{"$f":"SUM(TFC73:TFC77)","v":0},{"$f":"SUM(TFD73:TFD77)","v":0},{"$f":"SUM(TFE73:TFE77)","v":0},{"$f":"SUM(TFF73:TFF77)","v":0},{"$f":"SUM(TFG73:TFG77)","v":0},{"$f":"SUM(TFH73:TFH77)","v":0},{"$f":"SUM(TFI73:TFI77)","v":0},{"$f":"SUM(TFJ73:TFJ77)","v":0},{"$f":"SUM(TFK73:TFK77)","v":0},{"$f":"SUM(TFL73:TFL77)","v":0},{"$f":"SUM(TFM73:TFM77)","v":0},{"$f":"SUM(TFN73:TFN77)","v":0},{"$f":"SUM(TFO73:TFO77)","v":0},{"$f":"SUM(TFP73:TFP77)","v":0},{"$f":"SUM(TFQ73:TFQ77)","v":0},{"$f":"SUM(TFR73:TFR77)","v":0},{"$f":"SUM(TFS73:TFS77)","v":0},{"$f":"SUM(TFT73:TFT77)","v":0},{"$f":"SUM(TFU73:TFU77)","v":0},{"$f":"SUM(TFV73:TFV77)","v":0},{"$f":"SUM(TFW73:TFW77)","v":0},{"$f":"SUM(TFX73:TFX77)","v":0},{"$f":"SUM(TFY73:TFY77)","v":0},{"$f":"SUM(TFZ73:TFZ77)","v":0},{"$f":"SUM(TGA73:TGA77)","v":0},{"$f":"SUM(TGB73:TGB77)","v":0},{"$f":"SUM(TGC73:TGC77)","v":0},{"$f":"SUM(TGD73:TGD77)","v":0},{"$f":"SUM(TGE73:TGE77)","v":0},{"$f":"SUM(TGF73:TGF77)","v":0},{"$f":"SUM(TGG73:TGG77)","v":0},{"$f":"SUM(TGH73:TGH77)","v":0},{"$f":"SUM(TGI73:TGI77)","v":0},{"$f":"SUM(TGJ73:TGJ77)","v":0},{"$f":"SUM(TGK73:TGK77)","v":0},{"$f":"SUM(TGL73:TGL77)","v":0},{"$f":"SUM(TGM73:TGM77)","v":0},{"$f":"SUM(TGN73:TGN77)","v":0},{"$f":"SUM(TGO73:TGO77)","v":0},{"$f":"SUM(TGP73:TGP77)","v":0},{"$f":"SUM(TGQ73:TGQ77)","v":0},{"$f":"SUM(TGR73:TGR77)","v":0},{"$f":"SUM(TGS73:TGS77)","v":0},{"$f":"SUM(TGT73:TGT77)","v":0},{"$f":"SUM(TGU73:TGU77)","v":0},{"$f":"SUM(TGV73:TGV77)","v":0},{"$f":"SUM(TGW73:TGW77)","v":0},{"$f":"SUM(TGX73:TGX77)","v":0},{"$f":"SUM(TGY73:TGY77)","v":0},{"$f":"SUM(TGZ73:TGZ77)","v":0},{"$f":"SUM(THA73:THA77)","v":0},{"$f":"SUM(THB73:THB77)","v":0},{"$f":"SUM(THC73:THC77)","v":0},{"$f":"SUM(THD73:THD77)","v":0},{"$f":"SUM(THE73:THE77)","v":0},{"$f":"SUM(THF73:THF77)","v":0},{"$f":"SUM(THG73:THG77)","v":0},{"$f":"SUM(THH73:THH77)","v":0},{"$f":"SUM(THI73:THI77)","v":0},{"$f":"SUM(THJ73:THJ77)","v":0},{"$f":"SUM(THK73:THK77)","v":0},{"$f":"SUM(THL73:THL77)","v":0},{"$f":"SUM(THM73:THM77)","v":0},{"$f":"SUM(THN73:THN77)","v":0},{"$f":"SUM(THO73:THO77)","v":0},{"$f":"SUM(THP73:THP77)","v":0},{"$f":"SUM(THQ73:THQ77)","v":0},{"$f":"SUM(THR73:THR77)","v":0},{"$f":"SUM(THS73:THS77)","v":0},{"$f":"SUM(THT73:THT77)","v":0},{"$f":"SUM(THU73:THU77)","v":0},{"$f":"SUM(THV73:THV77)","v":0},{"$f":"SUM(THW73:THW77)","v":0},{"$f":"SUM(THX73:THX77)","v":0},{"$f":"SUM(THY73:THY77)","v":0},{"$f":"SUM(THZ73:THZ77)","v":0},{"$f":"SUM(TIA73:TIA77)","v":0},{"$f":"SUM(TIB73:TIB77)","v":0},{"$f":"SUM(TIC73:TIC77)","v":0},{"$f":"SUM(TID73:TID77)","v":0},{"$f":"SUM(TIE73:TIE77)","v":0},{"$f":"SUM(TIF73:TIF77)","v":0},{"$f":"SUM(TIG73:TIG77)","v":0},{"$f":"SUM(TIH73:TIH77)","v":0},{"$f":"SUM(TII73:TII77)","v":0},{"$f":"SUM(TIJ73:TIJ77)","v":0},{"$f":"SUM(TIK73:TIK77)","v":0},{"$f":"SUM(TIL73:TIL77)","v":0},{"$f":"SUM(TIM73:TIM77)","v":0},{"$f":"SUM(TIN73:TIN77)","v":0},{"$f":"SUM(TIO73:TIO77)","v":0},{"$f":"SUM(TIP73:TIP77)","v":0},{"$f":"SUM(TIQ73:TIQ77)","v":0},{"$f":"SUM(TIR73:TIR77)","v":0},{"$f":"SUM(TIS73:TIS77)","v":0},{"$f":"SUM(TIT73:TIT77)","v":0},{"$f":"SUM(TIU73:TIU77)","v":0},{"$f":"SUM(TIV73:TIV77)","v":0},{"$f":"SUM(TIW73:TIW77)","v":0},{"$f":"SUM(TIX73:TIX77)","v":0},{"$f":"SUM(TIY73:TIY77)","v":0},{"$f":"SUM(TIZ73:TIZ77)","v":0},{"$f":"SUM(TJA73:TJA77)","v":0},{"$f":"SUM(TJB73:TJB77)","v":0},{"$f":"SUM(TJC73:TJC77)","v":0},{"$f":"SUM(TJD73:TJD77)","v":0},{"$f":"SUM(TJE73:TJE77)","v":0},{"$f":"SUM(TJF73:TJF77)","v":0},{"$f":"SUM(TJG73:TJG77)","v":0},{"$f":"SUM(TJH73:TJH77)","v":0},{"$f":"SUM(TJI73:TJI77)","v":0},{"$f":"SUM(TJJ73:TJJ77)","v":0},{"$f":"SUM(TJK73:TJK77)","v":0},{"$f":"SUM(TJL73:TJL77)","v":0},{"$f":"SUM(TJM73:TJM77)","v":0},{"$f":"SUM(TJN73:TJN77)","v":0},{"$f":"SUM(TJO73:TJO77)","v":0},{"$f":"SUM(TJP73:TJP77)","v":0},{"$f":"SUM(TJQ73:TJQ77)","v":0},{"$f":"SUM(TJR73:TJR77)","v":0},{"$f":"SUM(TJS73:TJS77)","v":0},{"$f":"SUM(TJT73:TJT77)","v":0},{"$f":"SUM(TJU73:TJU77)","v":0},{"$f":"SUM(TJV73:TJV77)","v":0},{"$f":"SUM(TJW73:TJW77)","v":0},{"$f":"SUM(TJX73:TJX77)","v":0},{"$f":"SUM(TJY73:TJY77)","v":0},{"$f":"SUM(TJZ73:TJZ77)","v":0},{"$f":"SUM(TKA73:TKA77)","v":0},{"$f":"SUM(TKB73:TKB77)","v":0},{"$f":"SUM(TKC73:TKC77)","v":0},{"$f":"SUM(TKD73:TKD77)","v":0},{"$f":"SUM(TKE73:TKE77)","v":0},{"$f":"SUM(TKF73:TKF77)","v":0},{"$f":"SUM(TKG73:TKG77)","v":0},{"$f":"SUM(TKH73:TKH77)","v":0},{"$f":"SUM(TKI73:TKI77)","v":0},{"$f":"SUM(TKJ73:TKJ77)","v":0},{"$f":"SUM(TKK73:TKK77)","v":0},{"$f":"SUM(TKL73:TKL77)","v":0},{"$f":"SUM(TKM73:TKM77)","v":0},{"$f":"SUM(TKN73:TKN77)","v":0},{"$f":"SUM(TKO73:TKO77)","v":0},{"$f":"SUM(TKP73:TKP77)","v":0},{"$f":"SUM(TKQ73:TKQ77)","v":0},{"$f":"SUM(TKR73:TKR77)","v":0},{"$f":"SUM(TKS73:TKS77)","v":0},{"$f":"SUM(TKT73:TKT77)","v":0},{"$f":"SUM(TKU73:TKU77)","v":0},{"$f":"SUM(TKV73:TKV77)","v":0},{"$f":"SUM(TKW73:TKW77)","v":0},{"$f":"SUM(TKX73:TKX77)","v":0},{"$f":"SUM(TKY73:TKY77)","v":0},{"$f":"SUM(TKZ73:TKZ77)","v":0},{"$f":"SUM(TLA73:TLA77)","v":0},{"$f":"SUM(TLB73:TLB77)","v":0},{"$f":"SUM(TLC73:TLC77)","v":0},{"$f":"SUM(TLD73:TLD77)","v":0},{"$f":"SUM(TLE73:TLE77)","v":0},{"$f":"SUM(TLF73:TLF77)","v":0},{"$f":"SUM(TLG73:TLG77)","v":0},{"$f":"SUM(TLH73:TLH77)","v":0},{"$f":"SUM(TLI73:TLI77)","v":0},{"$f":"SUM(TLJ73:TLJ77)","v":0},{"$f":"SUM(TLK73:TLK77)","v":0},{"$f":"SUM(TLL73:TLL77)","v":0},{"$f":"SUM(TLM73:TLM77)","v":0},{"$f":"SUM(TLN73:TLN77)","v":0},{"$f":"SUM(TLO73:TLO77)","v":0},{"$f":"SUM(TLP73:TLP77)","v":0},{"$f":"SUM(TLQ73:TLQ77)","v":0},{"$f":"SUM(TLR73:TLR77)","v":0},{"$f":"SUM(TLS73:TLS77)","v":0},{"$f":"SUM(TLT73:TLT77)","v":0},{"$f":"SUM(TLU73:TLU77)","v":0},{"$f":"SUM(TLV73:TLV77)","v":0},{"$f":"SUM(TLW73:TLW77)","v":0},{"$f":"SUM(TLX73:TLX77)","v":0},{"$f":"SUM(TLY73:TLY77)","v":0},{"$f":"SUM(TLZ73:TLZ77)","v":0},{"$f":"SUM(TMA73:TMA77)","v":0},{"$f":"SUM(TMB73:TMB77)","v":0},{"$f":"SUM(TMC73:TMC77)","v":0},{"$f":"SUM(TMD73:TMD77)","v":0},{"$f":"SUM(TME73:TME77)","v":0},{"$f":"SUM(TMF73:TMF77)","v":0},{"$f":"SUM(TMG73:TMG77)","v":0},{"$f":"SUM(TMH73:TMH77)","v":0},{"$f":"SUM(TMI73:TMI77)","v":0},{"$f":"SUM(TMJ73:TMJ77)","v":0},{"$f":"SUM(TMK73:TMK77)","v":0},{"$f":"SUM(TML73:TML77)","v":0},{"$f":"SUM(TMM73:TMM77)","v":0},{"$f":"SUM(TMN73:TMN77)","v":0},{"$f":"SUM(TMO73:TMO77)","v":0},{"$f":"SUM(TMP73:TMP77)","v":0},{"$f":"SUM(TMQ73:TMQ77)","v":0},{"$f":"SUM(TMR73:TMR77)","v":0},{"$f":"SUM(TMS73:TMS77)","v":0},{"$f":"SUM(TMT73:TMT77)","v":0},{"$f":"SUM(TMU73:TMU77)","v":0},{"$f":"SUM(TMV73:TMV77)","v":0},{"$f":"SUM(TMW73:TMW77)","v":0},{"$f":"SUM(TMX73:TMX77)","v":0},{"$f":"SUM(TMY73:TMY77)","v":0},{"$f":"SUM(TMZ73:TMZ77)","v":0},{"$f":"SUM(TNA73:TNA77)","v":0},{"$f":"SUM(TNB73:TNB77)","v":0},{"$f":"SUM(TNC73:TNC77)","v":0},{"$f":"SUM(TND73:TND77)","v":0},{"$f":"SUM(TNE73:TNE77)","v":0},{"$f":"SUM(TNF73:TNF77)","v":0},{"$f":"SUM(TNG73:TNG77)","v":0},{"$f":"SUM(TNH73:TNH77)","v":0},{"$f":"SUM(TNI73:TNI77)","v":0},{"$f":"SUM(TNJ73:TNJ77)","v":0},{"$f":"SUM(TNK73:TNK77)","v":0},{"$f":"SUM(TNL73:TNL77)","v":0},{"$f":"SUM(TNM73:TNM77)","v":0},{"$f":"SUM(TNN73:TNN77)","v":0},{"$f":"SUM(TNO73:TNO77)","v":0},{"$f":"SUM(TNP73:TNP77)","v":0},{"$f":"SUM(TNQ73:TNQ77)","v":0},{"$f":"SUM(TNR73:TNR77)","v":0},{"$f":"SUM(TNS73:TNS77)","v":0},{"$f":"SUM(TNT73:TNT77)","v":0},{"$f":"SUM(TNU73:TNU77)","v":0},{"$f":"SUM(TNV73:TNV77)","v":0},{"$f":"SUM(TNW73:TNW77)","v":0},{"$f":"SUM(TNX73:TNX77)","v":0},{"$f":"SUM(TNY73:TNY77)","v":0},{"$f":"SUM(TNZ73:TNZ77)","v":0},{"$f":"SUM(TOA73:TOA77)","v":0},{"$f":"SUM(TOB73:TOB77)","v":0},{"$f":"SUM(TOC73:TOC77)","v":0},{"$f":"SUM(TOD73:TOD77)","v":0},{"$f":"SUM(TOE73:TOE77)","v":0},{"$f":"SUM(TOF73:TOF77)","v":0},{"$f":"SUM(TOG73:TOG77)","v":0},{"$f":"SUM(TOH73:TOH77)","v":0},{"$f":"SUM(TOI73:TOI77)","v":0},{"$f":"SUM(TOJ73:TOJ77)","v":0},{"$f":"SUM(TOK73:TOK77)","v":0},{"$f":"SUM(TOL73:TOL77)","v":0},{"$f":"SUM(TOM73:TOM77)","v":0},{"$f":"SUM(TON73:TON77)","v":0},{"$f":"SUM(TOO73:TOO77)","v":0},{"$f":"SUM(TOP73:TOP77)","v":0},{"$f":"SUM(TOQ73:TOQ77)","v":0},{"$f":"SUM(TOR73:TOR77)","v":0},{"$f":"SUM(TOS73:TOS77)","v":0},{"$f":"SUM(TOT73:TOT77)","v":0},{"$f":"SUM(TOU73:TOU77)","v":0},{"$f":"SUM(TOV73:TOV77)","v":0},{"$f":"SUM(TOW73:TOW77)","v":0},{"$f":"SUM(TOX73:TOX77)","v":0},{"$f":"SUM(TOY73:TOY77)","v":0},{"$f":"SUM(TOZ73:TOZ77)","v":0},{"$f":"SUM(TPA73:TPA77)","v":0},{"$f":"SUM(TPB73:TPB77)","v":0},{"$f":"SUM(TPC73:TPC77)","v":0},{"$f":"SUM(TPD73:TPD77)","v":0},{"$f":"SUM(TPE73:TPE77)","v":0},{"$f":"SUM(TPF73:TPF77)","v":0},{"$f":"SUM(TPG73:TPG77)","v":0},{"$f":"SUM(TPH73:TPH77)","v":0},{"$f":"SUM(TPI73:TPI77)","v":0},{"$f":"SUM(TPJ73:TPJ77)","v":0},{"$f":"SUM(TPK73:TPK77)","v":0},{"$f":"SUM(TPL73:TPL77)","v":0},{"$f":"SUM(TPM73:TPM77)","v":0},{"$f":"SUM(TPN73:TPN77)","v":0},{"$f":"SUM(TPO73:TPO77)","v":0},{"$f":"SUM(TPP73:TPP77)","v":0},{"$f":"SUM(TPQ73:TPQ77)","v":0},{"$f":"SUM(TPR73:TPR77)","v":0},{"$f":"SUM(TPS73:TPS77)","v":0},{"$f":"SUM(TPT73:TPT77)","v":0},{"$f":"SUM(TPU73:TPU77)","v":0},{"$f":"SUM(TPV73:TPV77)","v":0},{"$f":"SUM(TPW73:TPW77)","v":0},{"$f":"SUM(TPX73:TPX77)","v":0},{"$f":"SUM(TPY73:TPY77)","v":0},{"$f":"SUM(TPZ73:TPZ77)","v":0},{"$f":"SUM(TQA73:TQA77)","v":0},{"$f":"SUM(TQB73:TQB77)","v":0},{"$f":"SUM(TQC73:TQC77)","v":0},{"$f":"SUM(TQD73:TQD77)","v":0},{"$f":"SUM(TQE73:TQE77)","v":0},{"$f":"SUM(TQF73:TQF77)","v":0},{"$f":"SUM(TQG73:TQG77)","v":0},{"$f":"SUM(TQH73:TQH77)","v":0},{"$f":"SUM(TQI73:TQI77)","v":0},{"$f":"SUM(TQJ73:TQJ77)","v":0},{"$f":"SUM(TQK73:TQK77)","v":0},{"$f":"SUM(TQL73:TQL77)","v":0},{"$f":"SUM(TQM73:TQM77)","v":0},{"$f":"SUM(TQN73:TQN77)","v":0},{"$f":"SUM(TQO73:TQO77)","v":0},{"$f":"SUM(TQP73:TQP77)","v":0},{"$f":"SUM(TQQ73:TQQ77)","v":0},{"$f":"SUM(TQR73:TQR77)","v":0},{"$f":"SUM(TQS73:TQS77)","v":0},{"$f":"SUM(TQT73:TQT77)","v":0},{"$f":"SUM(TQU73:TQU77)","v":0},{"$f":"SUM(TQV73:TQV77)","v":0},{"$f":"SUM(TQW73:TQW77)","v":0},{"$f":"SUM(TQX73:TQX77)","v":0},{"$f":"SUM(TQY73:TQY77)","v":0},{"$f":"SUM(TQZ73:TQZ77)","v":0},{"$f":"SUM(TRA73:TRA77)","v":0},{"$f":"SUM(TRB73:TRB77)","v":0},{"$f":"SUM(TRC73:TRC77)","v":0},{"$f":"SUM(TRD73:TRD77)","v":0},{"$f":"SUM(TRE73:TRE77)","v":0},{"$f":"SUM(TRF73:TRF77)","v":0},{"$f":"SUM(TRG73:TRG77)","v":0},{"$f":"SUM(TRH73:TRH77)","v":0},{"$f":"SUM(TRI73:TRI77)","v":0},{"$f":"SUM(TRJ73:TRJ77)","v":0},{"$f":"SUM(TRK73:TRK77)","v":0},{"$f":"SUM(TRL73:TRL77)","v":0},{"$f":"SUM(TRM73:TRM77)","v":0},{"$f":"SUM(TRN73:TRN77)","v":0},{"$f":"SUM(TRO73:TRO77)","v":0},{"$f":"SUM(TRP73:TRP77)","v":0},{"$f":"SUM(TRQ73:TRQ77)","v":0},{"$f":"SUM(TRR73:TRR77)","v":0},{"$f":"SUM(TRS73:TRS77)","v":0},{"$f":"SUM(TRT73:TRT77)","v":0},{"$f":"SUM(TRU73:TRU77)","v":0},{"$f":"SUM(TRV73:TRV77)","v":0},{"$f":"SUM(TRW73:TRW77)","v":0},{"$f":"SUM(TRX73:TRX77)","v":0},{"$f":"SUM(TRY73:TRY77)","v":0},{"$f":"SUM(TRZ73:TRZ77)","v":0},{"$f":"SUM(TSA73:TSA77)","v":0},{"$f":"SUM(TSB73:TSB77)","v":0},{"$f":"SUM(TSC73:TSC77)","v":0},{"$f":"SUM(TSD73:TSD77)","v":0},{"$f":"SUM(TSE73:TSE77)","v":0},{"$f":"SUM(TSF73:TSF77)","v":0},{"$f":"SUM(TSG73:TSG77)","v":0},{"$f":"SUM(TSH73:TSH77)","v":0},{"$f":"SUM(TSI73:TSI77)","v":0},{"$f":"SUM(TSJ73:TSJ77)","v":0},{"$f":"SUM(TSK73:TSK77)","v":0},{"$f":"SUM(TSL73:TSL77)","v":0},{"$f":"SUM(TSM73:TSM77)","v":0},{"$f":"SUM(TSN73:TSN77)","v":0},{"$f":"SUM(TSO73:TSO77)","v":0},{"$f":"SUM(TSP73:TSP77)","v":0},{"$f":"SUM(TSQ73:TSQ77)","v":0},{"$f":"SUM(TSR73:TSR77)","v":0},{"$f":"SUM(TSS73:TSS77)","v":0},{"$f":"SUM(TST73:TST77)","v":0},{"$f":"SUM(TSU73:TSU77)","v":0},{"$f":"SUM(TSV73:TSV77)","v":0},{"$f":"SUM(TSW73:TSW77)","v":0},{"$f":"SUM(TSX73:TSX77)","v":0},{"$f":"SUM(TSY73:TSY77)","v":0},{"$f":"SUM(TSZ73:TSZ77)","v":0},{"$f":"SUM(TTA73:TTA77)","v":0},{"$f":"SUM(TTB73:TTB77)","v":0},{"$f":"SUM(TTC73:TTC77)","v":0},{"$f":"SUM(TTD73:TTD77)","v":0},{"$f":"SUM(TTE73:TTE77)","v":0},{"$f":"SUM(TTF73:TTF77)","v":0},{"$f":"SUM(TTG73:TTG77)","v":0},{"$f":"SUM(TTH73:TTH77)","v":0},{"$f":"SUM(TTI73:TTI77)","v":0},{"$f":"SUM(TTJ73:TTJ77)","v":0},{"$f":"SUM(TTK73:TTK77)","v":0},{"$f":"SUM(TTL73:TTL77)","v":0},{"$f":"SUM(TTM73:TTM77)","v":0},{"$f":"SUM(TTN73:TTN77)","v":0},{"$f":"SUM(TTO73:TTO77)","v":0},{"$f":"SUM(TTP73:TTP77)","v":0},{"$f":"SUM(TTQ73:TTQ77)","v":0},{"$f":"SUM(TTR73:TTR77)","v":0},{"$f":"SUM(TTS73:TTS77)","v":0},{"$f":"SUM(TTT73:TTT77)","v":0},{"$f":"SUM(TTU73:TTU77)","v":0},{"$f":"SUM(TTV73:TTV77)","v":0},{"$f":"SUM(TTW73:TTW77)","v":0},{"$f":"SUM(TTX73:TTX77)","v":0},{"$f":"SUM(TTY73:TTY77)","v":0},{"$f":"SUM(TTZ73:TTZ77)","v":0},{"$f":"SUM(TUA73:TUA77)","v":0},{"$f":"SUM(TUB73:TUB77)","v":0},{"$f":"SUM(TUC73:TUC77)","v":0},{"$f":"SUM(TUD73:TUD77)","v":0},{"$f":"SUM(TUE73:TUE77)","v":0},{"$f":"SUM(TUF73:TUF77)","v":0},{"$f":"SUM(TUG73:TUG77)","v":0},{"$f":"SUM(TUH73:TUH77)","v":0},{"$f":"SUM(TUI73:TUI77)","v":0},{"$f":"SUM(TUJ73:TUJ77)","v":0},{"$f":"SUM(TUK73:TUK77)","v":0},{"$f":"SUM(TUL73:TUL77)","v":0},{"$f":"SUM(TUM73:TUM77)","v":0},{"$f":"SUM(TUN73:TUN77)","v":0},{"$f":"SUM(TUO73:TUO77)","v":0},{"$f":"SUM(TUP73:TUP77)","v":0},{"$f":"SUM(TUQ73:TUQ77)","v":0},{"$f":"SUM(TUR73:TUR77)","v":0},{"$f":"SUM(TUS73:TUS77)","v":0},{"$f":"SUM(TUT73:TUT77)","v":0},{"$f":"SUM(TUU73:TUU77)","v":0},{"$f":"SUM(TUV73:TUV77)","v":0},{"$f":"SUM(TUW73:TUW77)","v":0},{"$f":"SUM(TUX73:TUX77)","v":0},{"$f":"SUM(TUY73:TUY77)","v":0},{"$f":"SUM(TUZ73:TUZ77)","v":0},{"$f":"SUM(TVA73:TVA77)","v":0},{"$f":"SUM(TVB73:TVB77)","v":0},{"$f":"SUM(TVC73:TVC77)","v":0},{"$f":"SUM(TVD73:TVD77)","v":0},{"$f":"SUM(TVE73:TVE77)","v":0},{"$f":"SUM(TVF73:TVF77)","v":0},{"$f":"SUM(TVG73:TVG77)","v":0},{"$f":"SUM(TVH73:TVH77)","v":0},{"$f":"SUM(TVI73:TVI77)","v":0},{"$f":"SUM(TVJ73:TVJ77)","v":0},{"$f":"SUM(TVK73:TVK77)","v":0},{"$f":"SUM(TVL73:TVL77)","v":0},{"$f":"SUM(TVM73:TVM77)","v":0},{"$f":"SUM(TVN73:TVN77)","v":0},{"$f":"SUM(TVO73:TVO77)","v":0},{"$f":"SUM(TVP73:TVP77)","v":0},{"$f":"SUM(TVQ73:TVQ77)","v":0},{"$f":"SUM(TVR73:TVR77)","v":0},{"$f":"SUM(TVS73:TVS77)","v":0},{"$f":"SUM(TVT73:TVT77)","v":0},{"$f":"SUM(TVU73:TVU77)","v":0},{"$f":"SUM(TVV73:TVV77)","v":0},{"$f":"SUM(TVW73:TVW77)","v":0},{"$f":"SUM(TVX73:TVX77)","v":0},{"$f":"SUM(TVY73:TVY77)","v":0},{"$f":"SUM(TVZ73:TVZ77)","v":0},{"$f":"SUM(TWA73:TWA77)","v":0},{"$f":"SUM(TWB73:TWB77)","v":0},{"$f":"SUM(TWC73:TWC77)","v":0},{"$f":"SUM(TWD73:TWD77)","v":0},{"$f":"SUM(TWE73:TWE77)","v":0},{"$f":"SUM(TWF73:TWF77)","v":0},{"$f":"SUM(TWG73:TWG77)","v":0},{"$f":"SUM(TWH73:TWH77)","v":0},{"$f":"SUM(TWI73:TWI77)","v":0},{"$f":"SUM(TWJ73:TWJ77)","v":0},{"$f":"SUM(TWK73:TWK77)","v":0},{"$f":"SUM(TWL73:TWL77)","v":0},{"$f":"SUM(TWM73:TWM77)","v":0},{"$f":"SUM(TWN73:TWN77)","v":0},{"$f":"SUM(TWO73:TWO77)","v":0},{"$f":"SUM(TWP73:TWP77)","v":0},{"$f":"SUM(TWQ73:TWQ77)","v":0},{"$f":"SUM(TWR73:TWR77)","v":0},{"$f":"SUM(TWS73:TWS77)","v":0},{"$f":"SUM(TWT73:TWT77)","v":0},{"$f":"SUM(TWU73:TWU77)","v":0},{"$f":"SUM(TWV73:TWV77)","v":0},{"$f":"SUM(TWW73:TWW77)","v":0},{"$f":"SUM(TWX73:TWX77)","v":0},{"$f":"SUM(TWY73:TWY77)","v":0},{"$f":"SUM(TWZ73:TWZ77)","v":0},{"$f":"SUM(TXA73:TXA77)","v":0},{"$f":"SUM(TXB73:TXB77)","v":0},{"$f":"SUM(TXC73:TXC77)","v":0},{"$f":"SUM(TXD73:TXD77)","v":0},{"$f":"SUM(TXE73:TXE77)","v":0},{"$f":"SUM(TXF73:TXF77)","v":0},{"$f":"SUM(TXG73:TXG77)","v":0},{"$f":"SUM(TXH73:TXH77)","v":0},{"$f":"SUM(TXI73:TXI77)","v":0},{"$f":"SUM(TXJ73:TXJ77)","v":0},{"$f":"SUM(TXK73:TXK77)","v":0},{"$f":"SUM(TXL73:TXL77)","v":0},{"$f":"SUM(TXM73:TXM77)","v":0},{"$f":"SUM(TXN73:TXN77)","v":0},{"$f":"SUM(TXO73:TXO77)","v":0},{"$f":"SUM(TXP73:TXP77)","v":0},{"$f":"SUM(TXQ73:TXQ77)","v":0},{"$f":"SUM(TXR73:TXR77)","v":0},{"$f":"SUM(TXS73:TXS77)","v":0},{"$f":"SUM(TXT73:TXT77)","v":0},{"$f":"SUM(TXU73:TXU77)","v":0},{"$f":"SUM(TXV73:TXV77)","v":0},{"$f":"SUM(TXW73:TXW77)","v":0},{"$f":"SUM(TXX73:TXX77)","v":0},{"$f":"SUM(TXY73:TXY77)","v":0},{"$f":"SUM(TXZ73:TXZ77)","v":0},{"$f":"SUM(TYA73:TYA77)","v":0},{"$f":"SUM(TYB73:TYB77)","v":0},{"$f":"SUM(TYC73:TYC77)","v":0},{"$f":"SUM(TYD73:TYD77)","v":0},{"$f":"SUM(TYE73:TYE77)","v":0},{"$f":"SUM(TYF73:TYF77)","v":0},{"$f":"SUM(TYG73:TYG77)","v":0},{"$f":"SUM(TYH73:TYH77)","v":0},{"$f":"SUM(TYI73:TYI77)","v":0},{"$f":"SUM(TYJ73:TYJ77)","v":0},{"$f":"SUM(TYK73:TYK77)","v":0},{"$f":"SUM(TYL73:TYL77)","v":0},{"$f":"SUM(TYM73:TYM77)","v":0},{"$f":"SUM(TYN73:TYN77)","v":0},{"$f":"SUM(TYO73:TYO77)","v":0},{"$f":"SUM(TYP73:TYP77)","v":0},{"$f":"SUM(TYQ73:TYQ77)","v":0},{"$f":"SUM(TYR73:TYR77)","v":0},{"$f":"SUM(TYS73:TYS77)","v":0},{"$f":"SUM(TYT73:TYT77)","v":0},{"$f":"SUM(TYU73:TYU77)","v":0},{"$f":"SUM(TYV73:TYV77)","v":0},{"$f":"SUM(TYW73:TYW77)","v":0},{"$f":"SUM(TYX73:TYX77)","v":0},{"$f":"SUM(TYY73:TYY77)","v":0},{"$f":"SUM(TYZ73:TYZ77)","v":0},{"$f":"SUM(TZA73:TZA77)","v":0},{"$f":"SUM(TZB73:TZB77)","v":0},{"$f":"SUM(TZC73:TZC77)","v":0},{"$f":"SUM(TZD73:TZD77)","v":0},{"$f":"SUM(TZE73:TZE77)","v":0},{"$f":"SUM(TZF73:TZF77)","v":0},{"$f":"SUM(TZG73:TZG77)","v":0},{"$f":"SUM(TZH73:TZH77)","v":0},{"$f":"SUM(TZI73:TZI77)","v":0},{"$f":"SUM(TZJ73:TZJ77)","v":0},{"$f":"SUM(TZK73:TZK77)","v":0},{"$f":"SUM(TZL73:TZL77)","v":0},{"$f":"SUM(TZM73:TZM77)","v":0},{"$f":"SUM(TZN73:TZN77)","v":0},{"$f":"SUM(TZO73:TZO77)","v":0},{"$f":"SUM(TZP73:TZP77)","v":0},{"$f":"SUM(TZQ73:TZQ77)","v":0},{"$f":"SUM(TZR73:TZR77)","v":0},{"$f":"SUM(TZS73:TZS77)","v":0},{"$f":"SUM(TZT73:TZT77)","v":0},{"$f":"SUM(TZU73:TZU77)","v":0},{"$f":"SUM(TZV73:TZV77)","v":0},{"$f":"SUM(TZW73:TZW77)","v":0},{"$f":"SUM(TZX73:TZX77)","v":0},{"$f":"SUM(TZY73:TZY77)","v":0},{"$f":"SUM(TZZ73:TZZ77)","v":0},{"$f":"SUM(UAA73:UAA77)","v":0},{"$f":"SUM(UAB73:UAB77)","v":0},{"$f":"SUM(UAC73:UAC77)","v":0},{"$f":"SUM(UAD73:UAD77)","v":0},{"$f":"SUM(UAE73:UAE77)","v":0},{"$f":"SUM(UAF73:UAF77)","v":0},{"$f":"SUM(UAG73:UAG77)","v":0},{"$f":"SUM(UAH73:UAH77)","v":0},{"$f":"SUM(UAI73:UAI77)","v":0},{"$f":"SUM(UAJ73:UAJ77)","v":0},{"$f":"SUM(UAK73:UAK77)","v":0},{"$f":"SUM(UAL73:UAL77)","v":0},{"$f":"SUM(UAM73:UAM77)","v":0},{"$f":"SUM(UAN73:UAN77)","v":0},{"$f":"SUM(UAO73:UAO77)","v":0},{"$f":"SUM(UAP73:UAP77)","v":0},{"$f":"SUM(UAQ73:UAQ77)","v":0},{"$f":"SUM(UAR73:UAR77)","v":0},{"$f":"SUM(UAS73:UAS77)","v":0},{"$f":"SUM(UAT73:UAT77)","v":0},{"$f":"SUM(UAU73:UAU77)","v":0},{"$f":"SUM(UAV73:UAV77)","v":0},{"$f":"SUM(UAW73:UAW77)","v":0},{"$f":"SUM(UAX73:UAX77)","v":0},{"$f":"SUM(UAY73:UAY77)","v":0},{"$f":"SUM(UAZ73:UAZ77)","v":0},{"$f":"SUM(UBA73:UBA77)","v":0},{"$f":"SUM(UBB73:UBB77)","v":0},{"$f":"SUM(UBC73:UBC77)","v":0},{"$f":"SUM(UBD73:UBD77)","v":0},{"$f":"SUM(UBE73:UBE77)","v":0},{"$f":"SUM(UBF73:UBF77)","v":0},{"$f":"SUM(UBG73:UBG77)","v":0},{"$f":"SUM(UBH73:UBH77)","v":0},{"$f":"SUM(UBI73:UBI77)","v":0},{"$f":"SUM(UBJ73:UBJ77)","v":0},{"$f":"SUM(UBK73:UBK77)","v":0},{"$f":"SUM(UBL73:UBL77)","v":0},{"$f":"SUM(UBM73:UBM77)","v":0},{"$f":"SUM(UBN73:UBN77)","v":0},{"$f":"SUM(UBO73:UBO77)","v":0},{"$f":"SUM(UBP73:UBP77)","v":0},{"$f":"SUM(UBQ73:UBQ77)","v":0},{"$f":"SUM(UBR73:UBR77)","v":0},{"$f":"SUM(UBS73:UBS77)","v":0},{"$f":"SUM(UBT73:UBT77)","v":0},{"$f":"SUM(UBU73:UBU77)","v":0},{"$f":"SUM(UBV73:UBV77)","v":0},{"$f":"SUM(UBW73:UBW77)","v":0},{"$f":"SUM(UBX73:UBX77)","v":0},{"$f":"SUM(UBY73:UBY77)","v":0},{"$f":"SUM(UBZ73:UBZ77)","v":0},{"$f":"SUM(UCA73:UCA77)","v":0},{"$f":"SUM(UCB73:UCB77)","v":0},{"$f":"SUM(UCC73:UCC77)","v":0},{"$f":"SUM(UCD73:UCD77)","v":0},{"$f":"SUM(UCE73:UCE77)","v":0},{"$f":"SUM(UCF73:UCF77)","v":0},{"$f":"SUM(UCG73:UCG77)","v":0},{"$f":"SUM(UCH73:UCH77)","v":0},{"$f":"SUM(UCI73:UCI77)","v":0},{"$f":"SUM(UCJ73:UCJ77)","v":0},{"$f":"SUM(UCK73:UCK77)","v":0},{"$f":"SUM(UCL73:UCL77)","v":0},{"$f":"SUM(UCM73:UCM77)","v":0},{"$f":"SUM(UCN73:UCN77)","v":0},{"$f":"SUM(UCO73:UCO77)","v":0},{"$f":"SUM(UCP73:UCP77)","v":0},{"$f":"SUM(UCQ73:UCQ77)","v":0},{"$f":"SUM(UCR73:UCR77)","v":0},{"$f":"SUM(UCS73:UCS77)","v":0},{"$f":"SUM(UCT73:UCT77)","v":0},{"$f":"SUM(UCU73:UCU77)","v":0},{"$f":"SUM(UCV73:UCV77)","v":0},{"$f":"SUM(UCW73:UCW77)","v":0},{"$f":"SUM(UCX73:UCX77)","v":0},{"$f":"SUM(UCY73:UCY77)","v":0},{"$f":"SUM(UCZ73:UCZ77)","v":0},{"$f":"SUM(UDA73:UDA77)","v":0},{"$f":"SUM(UDB73:UDB77)","v":0},{"$f":"SUM(UDC73:UDC77)","v":0},{"$f":"SUM(UDD73:UDD77)","v":0},{"$f":"SUM(UDE73:UDE77)","v":0},{"$f":"SUM(UDF73:UDF77)","v":0},{"$f":"SUM(UDG73:UDG77)","v":0},{"$f":"SUM(UDH73:UDH77)","v":0},{"$f":"SUM(UDI73:UDI77)","v":0},{"$f":"SUM(UDJ73:UDJ77)","v":0},{"$f":"SUM(UDK73:UDK77)","v":0},{"$f":"SUM(UDL73:UDL77)","v":0},{"$f":"SUM(UDM73:UDM77)","v":0},{"$f":"SUM(UDN73:UDN77)","v":0},{"$f":"SUM(UDO73:UDO77)","v":0},{"$f":"SUM(UDP73:UDP77)","v":0},{"$f":"SUM(UDQ73:UDQ77)","v":0},{"$f":"SUM(UDR73:UDR77)","v":0},{"$f":"SUM(UDS73:UDS77)","v":0},{"$f":"SUM(UDT73:UDT77)","v":0},{"$f":"SUM(UDU73:UDU77)","v":0},{"$f":"SUM(UDV73:UDV77)","v":0},{"$f":"SUM(UDW73:UDW77)","v":0},{"$f":"SUM(UDX73:UDX77)","v":0},{"$f":"SUM(UDY73:UDY77)","v":0},{"$f":"SUM(UDZ73:UDZ77)","v":0},{"$f":"SUM(UEA73:UEA77)","v":0},{"$f":"SUM(UEB73:UEB77)","v":0},{"$f":"SUM(UEC73:UEC77)","v":0},{"$f":"SUM(UED73:UED77)","v":0},{"$f":"SUM(UEE73:UEE77)","v":0},{"$f":"SUM(UEF73:UEF77)","v":0},{"$f":"SUM(UEG73:UEG77)","v":0},{"$f":"SUM(UEH73:UEH77)","v":0},{"$f":"SUM(UEI73:UEI77)","v":0},{"$f":"SUM(UEJ73:UEJ77)","v":0},{"$f":"SUM(UEK73:UEK77)","v":0},{"$f":"SUM(UEL73:UEL77)","v":0},{"$f":"SUM(UEM73:UEM77)","v":0},{"$f":"SUM(UEN73:UEN77)","v":0},{"$f":"SUM(UEO73:UEO77)","v":0},{"$f":"SUM(UEP73:UEP77)","v":0},{"$f":"SUM(UEQ73:UEQ77)","v":0},{"$f":"SUM(UER73:UER77)","v":0},{"$f":"SUM(UES73:UES77)","v":0},{"$f":"SUM(UET73:UET77)","v":0},{"$f":"SUM(UEU73:UEU77)","v":0},{"$f":"SUM(UEV73:UEV77)","v":0},{"$f":"SUM(UEW73:UEW77)","v":0},{"$f":"SUM(UEX73:UEX77)","v":0},{"$f":"SUM(UEY73:UEY77)","v":0},{"$f":"SUM(UEZ73:UEZ77)","v":0},{"$f":"SUM(UFA73:UFA77)","v":0},{"$f":"SUM(UFB73:UFB77)","v":0},{"$f":"SUM(UFC73:UFC77)","v":0},{"$f":"SUM(UFD73:UFD77)","v":0},{"$f":"SUM(UFE73:UFE77)","v":0},{"$f":"SUM(UFF73:UFF77)","v":0},{"$f":"SUM(UFG73:UFG77)","v":0},{"$f":"SUM(UFH73:UFH77)","v":0},{"$f":"SUM(UFI73:UFI77)","v":0},{"$f":"SUM(UFJ73:UFJ77)","v":0},{"$f":"SUM(UFK73:UFK77)","v":0},{"$f":"SUM(UFL73:UFL77)","v":0},{"$f":"SUM(UFM73:UFM77)","v":0},{"$f":"SUM(UFN73:UFN77)","v":0},{"$f":"SUM(UFO73:UFO77)","v":0},{"$f":"SUM(UFP73:UFP77)","v":0},{"$f":"SUM(UFQ73:UFQ77)","v":0},{"$f":"SUM(UFR73:UFR77)","v":0},{"$f":"SUM(UFS73:UFS77)","v":0},{"$f":"SUM(UFT73:UFT77)","v":0},{"$f":"SUM(UFU73:UFU77)","v":0},{"$f":"SUM(UFV73:UFV77)","v":0},{"$f":"SUM(UFW73:UFW77)","v":0},{"$f":"SUM(UFX73:UFX77)","v":0},{"$f":"SUM(UFY73:UFY77)","v":0},{"$f":"SUM(UFZ73:UFZ77)","v":0},{"$f":"SUM(UGA73:UGA77)","v":0},{"$f":"SUM(UGB73:UGB77)","v":0},{"$f":"SUM(UGC73:UGC77)","v":0},{"$f":"SUM(UGD73:UGD77)","v":0},{"$f":"SUM(UGE73:UGE77)","v":0},{"$f":"SUM(UGF73:UGF77)","v":0},{"$f":"SUM(UGG73:UGG77)","v":0},{"$f":"SUM(UGH73:UGH77)","v":0},{"$f":"SUM(UGI73:UGI77)","v":0},{"$f":"SUM(UGJ73:UGJ77)","v":0},{"$f":"SUM(UGK73:UGK77)","v":0},{"$f":"SUM(UGL73:UGL77)","v":0},{"$f":"SUM(UGM73:UGM77)","v":0},{"$f":"SUM(UGN73:UGN77)","v":0},{"$f":"SUM(UGO73:UGO77)","v":0},{"$f":"SUM(UGP73:UGP77)","v":0},{"$f":"SUM(UGQ73:UGQ77)","v":0},{"$f":"SUM(UGR73:UGR77)","v":0},{"$f":"SUM(UGS73:UGS77)","v":0},{"$f":"SUM(UGT73:UGT77)","v":0},{"$f":"SUM(UGU73:UGU77)","v":0},{"$f":"SUM(UGV73:UGV77)","v":0},{"$f":"SUM(UGW73:UGW77)","v":0},{"$f":"SUM(UGX73:UGX77)","v":0},{"$f":"SUM(UGY73:UGY77)","v":0},{"$f":"SUM(UGZ73:UGZ77)","v":0},{"$f":"SUM(UHA73:UHA77)","v":0},{"$f":"SUM(UHB73:UHB77)","v":0},{"$f":"SUM(UHC73:UHC77)","v":0},{"$f":"SUM(UHD73:UHD77)","v":0},{"$f":"SUM(UHE73:UHE77)","v":0},{"$f":"SUM(UHF73:UHF77)","v":0},{"$f":"SUM(UHG73:UHG77)","v":0},{"$f":"SUM(UHH73:UHH77)","v":0},{"$f":"SUM(UHI73:UHI77)","v":0},{"$f":"SUM(UHJ73:UHJ77)","v":0},{"$f":"SUM(UHK73:UHK77)","v":0},{"$f":"SUM(UHL73:UHL77)","v":0},{"$f":"SUM(UHM73:UHM77)","v":0},{"$f":"SUM(UHN73:UHN77)","v":0},{"$f":"SUM(UHO73:UHO77)","v":0},{"$f":"SUM(UHP73:UHP77)","v":0},{"$f":"SUM(UHQ73:UHQ77)","v":0},{"$f":"SUM(UHR73:UHR77)","v":0},{"$f":"SUM(UHS73:UHS77)","v":0},{"$f":"SUM(UHT73:UHT77)","v":0},{"$f":"SUM(UHU73:UHU77)","v":0},{"$f":"SUM(UHV73:UHV77)","v":0},{"$f":"SUM(UHW73:UHW77)","v":0},{"$f":"SUM(UHX73:UHX77)","v":0},{"$f":"SUM(UHY73:UHY77)","v":0},{"$f":"SUM(UHZ73:UHZ77)","v":0},{"$f":"SUM(UIA73:UIA77)","v":0},{"$f":"SUM(UIB73:UIB77)","v":0},{"$f":"SUM(UIC73:UIC77)","v":0},{"$f":"SUM(UID73:UID77)","v":0},{"$f":"SUM(UIE73:UIE77)","v":0},{"$f":"SUM(UIF73:UIF77)","v":0},{"$f":"SUM(UIG73:UIG77)","v":0},{"$f":"SUM(UIH73:UIH77)","v":0},{"$f":"SUM(UII73:UII77)","v":0},{"$f":"SUM(UIJ73:UIJ77)","v":0},{"$f":"SUM(UIK73:UIK77)","v":0},{"$f":"SUM(UIL73:UIL77)","v":0},{"$f":"SUM(UIM73:UIM77)","v":0},{"$f":"SUM(UIN73:UIN77)","v":0},{"$f":"SUM(UIO73:UIO77)","v":0},{"$f":"SUM(UIP73:UIP77)","v":0},{"$f":"SUM(UIQ73:UIQ77)","v":0},{"$f":"SUM(UIR73:UIR77)","v":0},{"$f":"SUM(UIS73:UIS77)","v":0},{"$f":"SUM(UIT73:UIT77)","v":0},{"$f":"SUM(UIU73:UIU77)","v":0},{"$f":"SUM(UIV73:UIV77)","v":0},{"$f":"SUM(UIW73:UIW77)","v":0},{"$f":"SUM(UIX73:UIX77)","v":0},{"$f":"SUM(UIY73:UIY77)","v":0},{"$f":"SUM(UIZ73:UIZ77)","v":0},{"$f":"SUM(UJA73:UJA77)","v":0},{"$f":"SUM(UJB73:UJB77)","v":0},{"$f":"SUM(UJC73:UJC77)","v":0},{"$f":"SUM(UJD73:UJD77)","v":0},{"$f":"SUM(UJE73:UJE77)","v":0},{"$f":"SUM(UJF73:UJF77)","v":0},{"$f":"SUM(UJG73:UJG77)","v":0},{"$f":"SUM(UJH73:UJH77)","v":0},{"$f":"SUM(UJI73:UJI77)","v":0},{"$f":"SUM(UJJ73:UJJ77)","v":0},{"$f":"SUM(UJK73:UJK77)","v":0},{"$f":"SUM(UJL73:UJL77)","v":0},{"$f":"SUM(UJM73:UJM77)","v":0},{"$f":"SUM(UJN73:UJN77)","v":0},{"$f":"SUM(UJO73:UJO77)","v":0},{"$f":"SUM(UJP73:UJP77)","v":0},{"$f":"SUM(UJQ73:UJQ77)","v":0},{"$f":"SUM(UJR73:UJR77)","v":0},{"$f":"SUM(UJS73:UJS77)","v":0},{"$f":"SUM(UJT73:UJT77)","v":0},{"$f":"SUM(UJU73:UJU77)","v":0},{"$f":"SUM(UJV73:UJV77)","v":0},{"$f":"SUM(UJW73:UJW77)","v":0},{"$f":"SUM(UJX73:UJX77)","v":0},{"$f":"SUM(UJY73:UJY77)","v":0},{"$f":"SUM(UJZ73:UJZ77)","v":0},{"$f":"SUM(UKA73:UKA77)","v":0},{"$f":"SUM(UKB73:UKB77)","v":0},{"$f":"SUM(UKC73:UKC77)","v":0},{"$f":"SUM(UKD73:UKD77)","v":0},{"$f":"SUM(UKE73:UKE77)","v":0},{"$f":"SUM(UKF73:UKF77)","v":0},{"$f":"SUM(UKG73:UKG77)","v":0},{"$f":"SUM(UKH73:UKH77)","v":0},{"$f":"SUM(UKI73:UKI77)","v":0},{"$f":"SUM(UKJ73:UKJ77)","v":0},{"$f":"SUM(UKK73:UKK77)","v":0},{"$f":"SUM(UKL73:UKL77)","v":0},{"$f":"SUM(UKM73:UKM77)","v":0},{"$f":"SUM(UKN73:UKN77)","v":0},{"$f":"SUM(UKO73:UKO77)","v":0},{"$f":"SUM(UKP73:UKP77)","v":0},{"$f":"SUM(UKQ73:UKQ77)","v":0},{"$f":"SUM(UKR73:UKR77)","v":0},{"$f":"SUM(UKS73:UKS77)","v":0},{"$f":"SUM(UKT73:UKT77)","v":0},{"$f":"SUM(UKU73:UKU77)","v":0},{"$f":"SUM(UKV73:UKV77)","v":0},{"$f":"SUM(UKW73:UKW77)","v":0},{"$f":"SUM(UKX73:UKX77)","v":0},{"$f":"SUM(UKY73:UKY77)","v":0},{"$f":"SUM(UKZ73:UKZ77)","v":0},{"$f":"SUM(ULA73:ULA77)","v":0},{"$f":"SUM(ULB73:ULB77)","v":0},{"$f":"SUM(ULC73:ULC77)","v":0},{"$f":"SUM(ULD73:ULD77)","v":0},{"$f":"SUM(ULE73:ULE77)","v":0},{"$f":"SUM(ULF73:ULF77)","v":0},{"$f":"SUM(ULG73:ULG77)","v":0},{"$f":"SUM(ULH73:ULH77)","v":0},{"$f":"SUM(ULI73:ULI77)","v":0},{"$f":"SUM(ULJ73:ULJ77)","v":0},{"$f":"SUM(ULK73:ULK77)","v":0},{"$f":"SUM(ULL73:ULL77)","v":0},{"$f":"SUM(ULM73:ULM77)","v":0},{"$f":"SUM(ULN73:ULN77)","v":0},{"$f":"SUM(ULO73:ULO77)","v":0},{"$f":"SUM(ULP73:ULP77)","v":0},{"$f":"SUM(ULQ73:ULQ77)","v":0},{"$f":"SUM(ULR73:ULR77)","v":0},{"$f":"SUM(ULS73:ULS77)","v":0},{"$f":"SUM(ULT73:ULT77)","v":0},{"$f":"SUM(ULU73:ULU77)","v":0},{"$f":"SUM(ULV73:ULV77)","v":0},{"$f":"SUM(ULW73:ULW77)","v":0},{"$f":"SUM(ULX73:ULX77)","v":0},{"$f":"SUM(ULY73:ULY77)","v":0},{"$f":"SUM(ULZ73:ULZ77)","v":0},{"$f":"SUM(UMA73:UMA77)","v":0},{"$f":"SUM(UMB73:UMB77)","v":0},{"$f":"SUM(UMC73:UMC77)","v":0},{"$f":"SUM(UMD73:UMD77)","v":0},{"$f":"SUM(UME73:UME77)","v":0},{"$f":"SUM(UMF73:UMF77)","v":0},{"$f":"SUM(UMG73:UMG77)","v":0},{"$f":"SUM(UMH73:UMH77)","v":0},{"$f":"SUM(UMI73:UMI77)","v":0},{"$f":"SUM(UMJ73:UMJ77)","v":0},{"$f":"SUM(UMK73:UMK77)","v":0},{"$f":"SUM(UML73:UML77)","v":0},{"$f":"SUM(UMM73:UMM77)","v":0},{"$f":"SUM(UMN73:UMN77)","v":0},{"$f":"SUM(UMO73:UMO77)","v":0},{"$f":"SUM(UMP73:UMP77)","v":0},{"$f":"SUM(UMQ73:UMQ77)","v":0},{"$f":"SUM(UMR73:UMR77)","v":0},{"$f":"SUM(UMS73:UMS77)","v":0},{"$f":"SUM(UMT73:UMT77)","v":0},{"$f":"SUM(UMU73:UMU77)","v":0},{"$f":"SUM(UMV73:UMV77)","v":0},{"$f":"SUM(UMW73:UMW77)","v":0},{"$f":"SUM(UMX73:UMX77)","v":0},{"$f":"SUM(UMY73:UMY77)","v":0},{"$f":"SUM(UMZ73:UMZ77)","v":0},{"$f":"SUM(UNA73:UNA77)","v":0},{"$f":"SUM(UNB73:UNB77)","v":0},{"$f":"SUM(UNC73:UNC77)","v":0},{"$f":"SUM(UND73:UND77)","v":0},{"$f":"SUM(UNE73:UNE77)","v":0},{"$f":"SUM(UNF73:UNF77)","v":0},{"$f":"SUM(UNG73:UNG77)","v":0},{"$f":"SUM(UNH73:UNH77)","v":0},{"$f":"SUM(UNI73:UNI77)","v":0},{"$f":"SUM(UNJ73:UNJ77)","v":0},{"$f":"SUM(UNK73:UNK77)","v":0},{"$f":"SUM(UNL73:UNL77)","v":0},{"$f":"SUM(UNM73:UNM77)","v":0},{"$f":"SUM(UNN73:UNN77)","v":0},{"$f":"SUM(UNO73:UNO77)","v":0},{"$f":"SUM(UNP73:UNP77)","v":0},{"$f":"SUM(UNQ73:UNQ77)","v":0},{"$f":"SUM(UNR73:UNR77)","v":0},{"$f":"SUM(UNS73:UNS77)","v":0},{"$f":"SUM(UNT73:UNT77)","v":0},{"$f":"SUM(UNU73:UNU77)","v":0},{"$f":"SUM(UNV73:UNV77)","v":0},{"$f":"SUM(UNW73:UNW77)","v":0},{"$f":"SUM(UNX73:UNX77)","v":0},{"$f":"SUM(UNY73:UNY77)","v":0},{"$f":"SUM(UNZ73:UNZ77)","v":0},{"$f":"SUM(UOA73:UOA77)","v":0},{"$f":"SUM(UOB73:UOB77)","v":0},{"$f":"SUM(UOC73:UOC77)","v":0},{"$f":"SUM(UOD73:UOD77)","v":0},{"$f":"SUM(UOE73:UOE77)","v":0},{"$f":"SUM(UOF73:UOF77)","v":0},{"$f":"SUM(UOG73:UOG77)","v":0},{"$f":"SUM(UOH73:UOH77)","v":0},{"$f":"SUM(UOI73:UOI77)","v":0},{"$f":"SUM(UOJ73:UOJ77)","v":0},{"$f":"SUM(UOK73:UOK77)","v":0},{"$f":"SUM(UOL73:UOL77)","v":0},{"$f":"SUM(UOM73:UOM77)","v":0},{"$f":"SUM(UON73:UON77)","v":0},{"$f":"SUM(UOO73:UOO77)","v":0},{"$f":"SUM(UOP73:UOP77)","v":0},{"$f":"SUM(UOQ73:UOQ77)","v":0},{"$f":"SUM(UOR73:UOR77)","v":0},{"$f":"SUM(UOS73:UOS77)","v":0},{"$f":"SUM(UOT73:UOT77)","v":0},{"$f":"SUM(UOU73:UOU77)","v":0},{"$f":"SUM(UOV73:UOV77)","v":0},{"$f":"SUM(UOW73:UOW77)","v":0},{"$f":"SUM(UOX73:UOX77)","v":0},{"$f":"SUM(UOY73:UOY77)","v":0},{"$f":"SUM(UOZ73:UOZ77)","v":0},{"$f":"SUM(UPA73:UPA77)","v":0},{"$f":"SUM(UPB73:UPB77)","v":0},{"$f":"SUM(UPC73:UPC77)","v":0},{"$f":"SUM(UPD73:UPD77)","v":0},{"$f":"SUM(UPE73:UPE77)","v":0},{"$f":"SUM(UPF73:UPF77)","v":0},{"$f":"SUM(UPG73:UPG77)","v":0},{"$f":"SUM(UPH73:UPH77)","v":0},{"$f":"SUM(UPI73:UPI77)","v":0},{"$f":"SUM(UPJ73:UPJ77)","v":0},{"$f":"SUM(UPK73:UPK77)","v":0},{"$f":"SUM(UPL73:UPL77)","v":0},{"$f":"SUM(UPM73:UPM77)","v":0},{"$f":"SUM(UPN73:UPN77)","v":0},{"$f":"SUM(UPO73:UPO77)","v":0},{"$f":"SUM(UPP73:UPP77)","v":0},{"$f":"SUM(UPQ73:UPQ77)","v":0},{"$f":"SUM(UPR73:UPR77)","v":0},{"$f":"SUM(UPS73:UPS77)","v":0},{"$f":"SUM(UPT73:UPT77)","v":0},{"$f":"SUM(UPU73:UPU77)","v":0},{"$f":"SUM(UPV73:UPV77)","v":0},{"$f":"SUM(UPW73:UPW77)","v":0},{"$f":"SUM(UPX73:UPX77)","v":0},{"$f":"SUM(UPY73:UPY77)","v":0},{"$f":"SUM(UPZ73:UPZ77)","v":0},{"$f":"SUM(UQA73:UQA77)","v":0},{"$f":"SUM(UQB73:UQB77)","v":0},{"$f":"SUM(UQC73:UQC77)","v":0},{"$f":"SUM(UQD73:UQD77)","v":0},{"$f":"SUM(UQE73:UQE77)","v":0},{"$f":"SUM(UQF73:UQF77)","v":0},{"$f":"SUM(UQG73:UQG77)","v":0},{"$f":"SUM(UQH73:UQH77)","v":0},{"$f":"SUM(UQI73:UQI77)","v":0},{"$f":"SUM(UQJ73:UQJ77)","v":0},{"$f":"SUM(UQK73:UQK77)","v":0},{"$f":"SUM(UQL73:UQL77)","v":0},{"$f":"SUM(UQM73:UQM77)","v":0},{"$f":"SUM(UQN73:UQN77)","v":0},{"$f":"SUM(UQO73:UQO77)","v":0},{"$f":"SUM(UQP73:UQP77)","v":0},{"$f":"SUM(UQQ73:UQQ77)","v":0},{"$f":"SUM(UQR73:UQR77)","v":0},{"$f":"SUM(UQS73:UQS77)","v":0},{"$f":"SUM(UQT73:UQT77)","v":0},{"$f":"SUM(UQU73:UQU77)","v":0},{"$f":"SUM(UQV73:UQV77)","v":0},{"$f":"SUM(UQW73:UQW77)","v":0},{"$f":"SUM(UQX73:UQX77)","v":0},{"$f":"SUM(UQY73:UQY77)","v":0},{"$f":"SUM(UQZ73:UQZ77)","v":0},{"$f":"SUM(URA73:URA77)","v":0},{"$f":"SUM(URB73:URB77)","v":0},{"$f":"SUM(URC73:URC77)","v":0},{"$f":"SUM(URD73:URD77)","v":0},{"$f":"SUM(URE73:URE77)","v":0},{"$f":"SUM(URF73:URF77)","v":0},{"$f":"SUM(URG73:URG77)","v":0},{"$f":"SUM(URH73:URH77)","v":0},{"$f":"SUM(URI73:URI77)","v":0},{"$f":"SUM(URJ73:URJ77)","v":0},{"$f":"SUM(URK73:URK77)","v":0},{"$f":"SUM(URL73:URL77)","v":0},{"$f":"SUM(URM73:URM77)","v":0},{"$f":"SUM(URN73:URN77)","v":0},{"$f":"SUM(URO73:URO77)","v":0},{"$f":"SUM(URP73:URP77)","v":0},{"$f":"SUM(URQ73:URQ77)","v":0},{"$f":"SUM(URR73:URR77)","v":0},{"$f":"SUM(URS73:URS77)","v":0},{"$f":"SUM(URT73:URT77)","v":0},{"$f":"SUM(URU73:URU77)","v":0},{"$f":"SUM(URV73:URV77)","v":0},{"$f":"SUM(URW73:URW77)","v":0},{"$f":"SUM(URX73:URX77)","v":0},{"$f":"SUM(URY73:URY77)","v":0},{"$f":"SUM(URZ73:URZ77)","v":0},{"$f":"SUM(USA73:USA77)","v":0},{"$f":"SUM(USB73:USB77)","v":0},{"$f":"SUM(USC73:USC77)","v":0},{"$f":"SUM(USD73:USD77)","v":0},{"$f":"SUM(USE73:USE77)","v":0},{"$f":"SUM(USF73:USF77)","v":0},{"$f":"SUM(USG73:USG77)","v":0},{"$f":"SUM(USH73:USH77)","v":0},{"$f":"SUM(USI73:USI77)","v":0},{"$f":"SUM(USJ73:USJ77)","v":0},{"$f":"SUM(USK73:USK77)","v":0},{"$f":"SUM(USL73:USL77)","v":0},{"$f":"SUM(USM73:USM77)","v":0},{"$f":"SUM(USN73:USN77)","v":0},{"$f":"SUM(USO73:USO77)","v":0},{"$f":"SUM(USP73:USP77)","v":0},{"$f":"SUM(USQ73:USQ77)","v":0},{"$f":"SUM(USR73:USR77)","v":0},{"$f":"SUM(USS73:USS77)","v":0},{"$f":"SUM(UST73:UST77)","v":0},{"$f":"SUM(USU73:USU77)","v":0},{"$f":"SUM(USV73:USV77)","v":0},{"$f":"SUM(USW73:USW77)","v":0},{"$f":"SUM(USX73:USX77)","v":0},{"$f":"SUM(USY73:USY77)","v":0},{"$f":"SUM(USZ73:USZ77)","v":0},{"$f":"SUM(UTA73:UTA77)","v":0},{"$f":"SUM(UTB73:UTB77)","v":0},{"$f":"SUM(UTC73:UTC77)","v":0},{"$f":"SUM(UTD73:UTD77)","v":0},{"$f":"SUM(UTE73:UTE77)","v":0},{"$f":"SUM(UTF73:UTF77)","v":0},{"$f":"SUM(UTG73:UTG77)","v":0},{"$f":"SUM(UTH73:UTH77)","v":0},{"$f":"SUM(UTI73:UTI77)","v":0},{"$f":"SUM(UTJ73:UTJ77)","v":0},{"$f":"SUM(UTK73:UTK77)","v":0},{"$f":"SUM(UTL73:UTL77)","v":0},{"$f":"SUM(UTM73:UTM77)","v":0},{"$f":"SUM(UTN73:UTN77)","v":0},{"$f":"SUM(UTO73:UTO77)","v":0},{"$f":"SUM(UTP73:UTP77)","v":0},{"$f":"SUM(UTQ73:UTQ77)","v":0},{"$f":"SUM(UTR73:UTR77)","v":0},{"$f":"SUM(UTS73:UTS77)","v":0},{"$f":"SUM(UTT73:UTT77)","v":0},{"$f":"SUM(UTU73:UTU77)","v":0},{"$f":"SUM(UTV73:UTV77)","v":0},{"$f":"SUM(UTW73:UTW77)","v":0},{"$f":"SUM(UTX73:UTX77)","v":0},{"$f":"SUM(UTY73:UTY77)","v":0},{"$f":"SUM(UTZ73:UTZ77)","v":0},{"$f":"SUM(UUA73:UUA77)","v":0},{"$f":"SUM(UUB73:UUB77)","v":0},{"$f":"SUM(UUC73:UUC77)","v":0},{"$f":"SUM(UUD73:UUD77)","v":0},{"$f":"SUM(UUE73:UUE77)","v":0},{"$f":"SUM(UUF73:UUF77)","v":0},{"$f":"SUM(UUG73:UUG77)","v":0},{"$f":"SUM(UUH73:UUH77)","v":0},{"$f":"SUM(UUI73:UUI77)","v":0},{"$f":"SUM(UUJ73:UUJ77)","v":0},{"$f":"SUM(UUK73:UUK77)","v":0},{"$f":"SUM(UUL73:UUL77)","v":0},{"$f":"SUM(UUM73:UUM77)","v":0},{"$f":"SUM(UUN73:UUN77)","v":0},{"$f":"SUM(UUO73:UUO77)","v":0},{"$f":"SUM(UUP73:UUP77)","v":0},{"$f":"SUM(UUQ73:UUQ77)","v":0},{"$f":"SUM(UUR73:UUR77)","v":0},{"$f":"SUM(UUS73:UUS77)","v":0},{"$f":"SUM(UUT73:UUT77)","v":0},{"$f":"SUM(UUU73:UUU77)","v":0},{"$f":"SUM(UUV73:UUV77)","v":0},{"$f":"SUM(UUW73:UUW77)","v":0},{"$f":"SUM(UUX73:UUX77)","v":0},{"$f":"SUM(UUY73:UUY77)","v":0},{"$f":"SUM(UUZ73:UUZ77)","v":0},{"$f":"SUM(UVA73:UVA77)","v":0},{"$f":"SUM(UVB73:UVB77)","v":0},{"$f":"SUM(UVC73:UVC77)","v":0},{"$f":"SUM(UVD73:UVD77)","v":0},{"$f":"SUM(UVE73:UVE77)","v":0},{"$f":"SUM(UVF73:UVF77)","v":0},{"$f":"SUM(UVG73:UVG77)","v":0},{"$f":"SUM(UVH73:UVH77)","v":0},{"$f":"SUM(UVI73:UVI77)","v":0},{"$f":"SUM(UVJ73:UVJ77)","v":0},{"$f":"SUM(UVK73:UVK77)","v":0},{"$f":"SUM(UVL73:UVL77)","v":0},{"$f":"SUM(UVM73:UVM77)","v":0},{"$f":"SUM(UVN73:UVN77)","v":0},{"$f":"SUM(UVO73:UVO77)","v":0},{"$f":"SUM(UVP73:UVP77)","v":0},{"$f":"SUM(UVQ73:UVQ77)","v":0},{"$f":"SUM(UVR73:UVR77)","v":0},{"$f":"SUM(UVS73:UVS77)","v":0},{"$f":"SUM(UVT73:UVT77)","v":0},{"$f":"SUM(UVU73:UVU77)","v":0},{"$f":"SUM(UVV73:UVV77)","v":0},{"$f":"SUM(UVW73:UVW77)","v":0},{"$f":"SUM(UVX73:UVX77)","v":0},{"$f":"SUM(UVY73:UVY77)","v":0},{"$f":"SUM(UVZ73:UVZ77)","v":0},{"$f":"SUM(UWA73:UWA77)","v":0},{"$f":"SUM(UWB73:UWB77)","v":0},{"$f":"SUM(UWC73:UWC77)","v":0},{"$f":"SUM(UWD73:UWD77)","v":0},{"$f":"SUM(UWE73:UWE77)","v":0},{"$f":"SUM(UWF73:UWF77)","v":0},{"$f":"SUM(UWG73:UWG77)","v":0},{"$f":"SUM(UWH73:UWH77)","v":0},{"$f":"SUM(UWI73:UWI77)","v":0},{"$f":"SUM(UWJ73:UWJ77)","v":0},{"$f":"SUM(UWK73:UWK77)","v":0},{"$f":"SUM(UWL73:UWL77)","v":0},{"$f":"SUM(UWM73:UWM77)","v":0},{"$f":"SUM(UWN73:UWN77)","v":0},{"$f":"SUM(UWO73:UWO77)","v":0},{"$f":"SUM(UWP73:UWP77)","v":0},{"$f":"SUM(UWQ73:UWQ77)","v":0},{"$f":"SUM(UWR73:UWR77)","v":0},{"$f":"SUM(UWS73:UWS77)","v":0},{"$f":"SUM(UWT73:UWT77)","v":0},{"$f":"SUM(UWU73:UWU77)","v":0},{"$f":"SUM(UWV73:UWV77)","v":0},{"$f":"SUM(UWW73:UWW77)","v":0},{"$f":"SUM(UWX73:UWX77)","v":0},{"$f":"SUM(UWY73:UWY77)","v":0},{"$f":"SUM(UWZ73:UWZ77)","v":0},{"$f":"SUM(UXA73:UXA77)","v":0},{"$f":"SUM(UXB73:UXB77)","v":0},{"$f":"SUM(UXC73:UXC77)","v":0},{"$f":"SUM(UXD73:UXD77)","v":0},{"$f":"SUM(UXE73:UXE77)","v":0},{"$f":"SUM(UXF73:UXF77)","v":0},{"$f":"SUM(UXG73:UXG77)","v":0},{"$f":"SUM(UXH73:UXH77)","v":0},{"$f":"SUM(UXI73:UXI77)","v":0},{"$f":"SUM(UXJ73:UXJ77)","v":0},{"$f":"SUM(UXK73:UXK77)","v":0},{"$f":"SUM(UXL73:UXL77)","v":0},{"$f":"SUM(UXM73:UXM77)","v":0},{"$f":"SUM(UXN73:UXN77)","v":0},{"$f":"SUM(UXO73:UXO77)","v":0},{"$f":"SUM(UXP73:UXP77)","v":0},{"$f":"SUM(UXQ73:UXQ77)","v":0},{"$f":"SUM(UXR73:UXR77)","v":0},{"$f":"SUM(UXS73:UXS77)","v":0},{"$f":"SUM(UXT73:UXT77)","v":0},{"$f":"SUM(UXU73:UXU77)","v":0},{"$f":"SUM(UXV73:UXV77)","v":0},{"$f":"SUM(UXW73:UXW77)","v":0},{"$f":"SUM(UXX73:UXX77)","v":0},{"$f":"SUM(UXY73:UXY77)","v":0},{"$f":"SUM(UXZ73:UXZ77)","v":0},{"$f":"SUM(UYA73:UYA77)","v":0},{"$f":"SUM(UYB73:UYB77)","v":0},{"$f":"SUM(UYC73:UYC77)","v":0},{"$f":"SUM(UYD73:UYD77)","v":0},{"$f":"SUM(UYE73:UYE77)","v":0},{"$f":"SUM(UYF73:UYF77)","v":0},{"$f":"SUM(UYG73:UYG77)","v":0},{"$f":"SUM(UYH73:UYH77)","v":0},{"$f":"SUM(UYI73:UYI77)","v":0},{"$f":"SUM(UYJ73:UYJ77)","v":0},{"$f":"SUM(UYK73:UYK77)","v":0},{"$f":"SUM(UYL73:UYL77)","v":0},{"$f":"SUM(UYM73:UYM77)","v":0},{"$f":"SUM(UYN73:UYN77)","v":0},{"$f":"SUM(UYO73:UYO77)","v":0},{"$f":"SUM(UYP73:UYP77)","v":0},{"$f":"SUM(UYQ73:UYQ77)","v":0},{"$f":"SUM(UYR73:UYR77)","v":0},{"$f":"SUM(UYS73:UYS77)","v":0},{"$f":"SUM(UYT73:UYT77)","v":0},{"$f":"SUM(UYU73:UYU77)","v":0},{"$f":"SUM(UYV73:UYV77)","v":0},{"$f":"SUM(UYW73:UYW77)","v":0},{"$f":"SUM(UYX73:UYX77)","v":0},{"$f":"SUM(UYY73:UYY77)","v":0},{"$f":"SUM(UYZ73:UYZ77)","v":0},{"$f":"SUM(UZA73:UZA77)","v":0},{"$f":"SUM(UZB73:UZB77)","v":0},{"$f":"SUM(UZC73:UZC77)","v":0},{"$f":"SUM(UZD73:UZD77)","v":0},{"$f":"SUM(UZE73:UZE77)","v":0},{"$f":"SUM(UZF73:UZF77)","v":0},{"$f":"SUM(UZG73:UZG77)","v":0},{"$f":"SUM(UZH73:UZH77)","v":0},{"$f":"SUM(UZI73:UZI77)","v":0},{"$f":"SUM(UZJ73:UZJ77)","v":0},{"$f":"SUM(UZK73:UZK77)","v":0},{"$f":"SUM(UZL73:UZL77)","v":0},{"$f":"SUM(UZM73:UZM77)","v":0},{"$f":"SUM(UZN73:UZN77)","v":0},{"$f":"SUM(UZO73:UZO77)","v":0},{"$f":"SUM(UZP73:UZP77)","v":0},{"$f":"SUM(UZQ73:UZQ77)","v":0},{"$f":"SUM(UZR73:UZR77)","v":0},{"$f":"SUM(UZS73:UZS77)","v":0},{"$f":"SUM(UZT73:UZT77)","v":0},{"$f":"SUM(UZU73:UZU77)","v":0},{"$f":"SUM(UZV73:UZV77)","v":0},{"$f":"SUM(UZW73:UZW77)","v":0},{"$f":"SUM(UZX73:UZX77)","v":0},{"$f":"SUM(UZY73:UZY77)","v":0},{"$f":"SUM(UZZ73:UZZ77)","v":0},{"$f":"SUM(VAA73:VAA77)","v":0},{"$f":"SUM(VAB73:VAB77)","v":0},{"$f":"SUM(VAC73:VAC77)","v":0},{"$f":"SUM(VAD73:VAD77)","v":0},{"$f":"SUM(VAE73:VAE77)","v":0},{"$f":"SUM(VAF73:VAF77)","v":0},{"$f":"SUM(VAG73:VAG77)","v":0},{"$f":"SUM(VAH73:VAH77)","v":0},{"$f":"SUM(VAI73:VAI77)","v":0},{"$f":"SUM(VAJ73:VAJ77)","v":0},{"$f":"SUM(VAK73:VAK77)","v":0},{"$f":"SUM(VAL73:VAL77)","v":0},{"$f":"SUM(VAM73:VAM77)","v":0},{"$f":"SUM(VAN73:VAN77)","v":0},{"$f":"SUM(VAO73:VAO77)","v":0},{"$f":"SUM(VAP73:VAP77)","v":0},{"$f":"SUM(VAQ73:VAQ77)","v":0},{"$f":"SUM(VAR73:VAR77)","v":0},{"$f":"SUM(VAS73:VAS77)","v":0},{"$f":"SUM(VAT73:VAT77)","v":0},{"$f":"SUM(VAU73:VAU77)","v":0},{"$f":"SUM(VAV73:VAV77)","v":0},{"$f":"SUM(VAW73:VAW77)","v":0},{"$f":"SUM(VAX73:VAX77)","v":0},{"$f":"SUM(VAY73:VAY77)","v":0},{"$f":"SUM(VAZ73:VAZ77)","v":0},{"$f":"SUM(VBA73:VBA77)","v":0},{"$f":"SUM(VBB73:VBB77)","v":0},{"$f":"SUM(VBC73:VBC77)","v":0},{"$f":"SUM(VBD73:VBD77)","v":0},{"$f":"SUM(VBE73:VBE77)","v":0},{"$f":"SUM(VBF73:VBF77)","v":0},{"$f":"SUM(VBG73:VBG77)","v":0},{"$f":"SUM(VBH73:VBH77)","v":0},{"$f":"SUM(VBI73:VBI77)","v":0},{"$f":"SUM(VBJ73:VBJ77)","v":0},{"$f":"SUM(VBK73:VBK77)","v":0},{"$f":"SUM(VBL73:VBL77)","v":0},{"$f":"SUM(VBM73:VBM77)","v":0},{"$f":"SUM(VBN73:VBN77)","v":0},{"$f":"SUM(VBO73:VBO77)","v":0},{"$f":"SUM(VBP73:VBP77)","v":0},{"$f":"SUM(VBQ73:VBQ77)","v":0},{"$f":"SUM(VBR73:VBR77)","v":0},{"$f":"SUM(VBS73:VBS77)","v":0},{"$f":"SUM(VBT73:VBT77)","v":0},{"$f":"SUM(VBU73:VBU77)","v":0},{"$f":"SUM(VBV73:VBV77)","v":0},{"$f":"SUM(VBW73:VBW77)","v":0},{"$f":"SUM(VBX73:VBX77)","v":0},{"$f":"SUM(VBY73:VBY77)","v":0},{"$f":"SUM(VBZ73:VBZ77)","v":0},{"$f":"SUM(VCA73:VCA77)","v":0},{"$f":"SUM(VCB73:VCB77)","v":0},{"$f":"SUM(VCC73:VCC77)","v":0},{"$f":"SUM(VCD73:VCD77)","v":0},{"$f":"SUM(VCE73:VCE77)","v":0},{"$f":"SUM(VCF73:VCF77)","v":0},{"$f":"SUM(VCG73:VCG77)","v":0},{"$f":"SUM(VCH73:VCH77)","v":0},{"$f":"SUM(VCI73:VCI77)","v":0},{"$f":"SUM(VCJ73:VCJ77)","v":0},{"$f":"SUM(VCK73:VCK77)","v":0},{"$f":"SUM(VCL73:VCL77)","v":0},{"$f":"SUM(VCM73:VCM77)","v":0},{"$f":"SUM(VCN73:VCN77)","v":0},{"$f":"SUM(VCO73:VCO77)","v":0},{"$f":"SUM(VCP73:VCP77)","v":0},{"$f":"SUM(VCQ73:VCQ77)","v":0},{"$f":"SUM(VCR73:VCR77)","v":0},{"$f":"SUM(VCS73:VCS77)","v":0},{"$f":"SUM(VCT73:VCT77)","v":0},{"$f":"SUM(VCU73:VCU77)","v":0},{"$f":"SUM(VCV73:VCV77)","v":0},{"$f":"SUM(VCW73:VCW77)","v":0},{"$f":"SUM(VCX73:VCX77)","v":0},{"$f":"SUM(VCY73:VCY77)","v":0},{"$f":"SUM(VCZ73:VCZ77)","v":0},{"$f":"SUM(VDA73:VDA77)","v":0},{"$f":"SUM(VDB73:VDB77)","v":0},{"$f":"SUM(VDC73:VDC77)","v":0},{"$f":"SUM(VDD73:VDD77)","v":0},{"$f":"SUM(VDE73:VDE77)","v":0},{"$f":"SUM(VDF73:VDF77)","v":0},{"$f":"SUM(VDG73:VDG77)","v":0},{"$f":"SUM(VDH73:VDH77)","v":0},{"$f":"SUM(VDI73:VDI77)","v":0},{"$f":"SUM(VDJ73:VDJ77)","v":0},{"$f":"SUM(VDK73:VDK77)","v":0},{"$f":"SUM(VDL73:VDL77)","v":0},{"$f":"SUM(VDM73:VDM77)","v":0},{"$f":"SUM(VDN73:VDN77)","v":0},{"$f":"SUM(VDO73:VDO77)","v":0},{"$f":"SUM(VDP73:VDP77)","v":0},{"$f":"SUM(VDQ73:VDQ77)","v":0},{"$f":"SUM(VDR73:VDR77)","v":0},{"$f":"SUM(VDS73:VDS77)","v":0},{"$f":"SUM(VDT73:VDT77)","v":0},{"$f":"SUM(VDU73:VDU77)","v":0},{"$f":"SUM(VDV73:VDV77)","v":0},{"$f":"SUM(VDW73:VDW77)","v":0},{"$f":"SUM(VDX73:VDX77)","v":0},{"$f":"SUM(VDY73:VDY77)","v":0},{"$f":"SUM(VDZ73:VDZ77)","v":0},{"$f":"SUM(VEA73:VEA77)","v":0},{"$f":"SUM(VEB73:VEB77)","v":0},{"$f":"SUM(VEC73:VEC77)","v":0},{"$f":"SUM(VED73:VED77)","v":0},{"$f":"SUM(VEE73:VEE77)","v":0},{"$f":"SUM(VEF73:VEF77)","v":0},{"$f":"SUM(VEG73:VEG77)","v":0},{"$f":"SUM(VEH73:VEH77)","v":0},{"$f":"SUM(VEI73:VEI77)","v":0},{"$f":"SUM(VEJ73:VEJ77)","v":0},{"$f":"SUM(VEK73:VEK77)","v":0},{"$f":"SUM(VEL73:VEL77)","v":0},{"$f":"SUM(VEM73:VEM77)","v":0},{"$f":"SUM(VEN73:VEN77)","v":0},{"$f":"SUM(VEO73:VEO77)","v":0},{"$f":"SUM(VEP73:VEP77)","v":0},{"$f":"SUM(VEQ73:VEQ77)","v":0},{"$f":"SUM(VER73:VER77)","v":0},{"$f":"SUM(VES73:VES77)","v":0},{"$f":"SUM(VET73:VET77)","v":0},{"$f":"SUM(VEU73:VEU77)","v":0},{"$f":"SUM(VEV73:VEV77)","v":0},{"$f":"SUM(VEW73:VEW77)","v":0},{"$f":"SUM(VEX73:VEX77)","v":0},{"$f":"SUM(VEY73:VEY77)","v":0},{"$f":"SUM(VEZ73:VEZ77)","v":0},{"$f":"SUM(VFA73:VFA77)","v":0},{"$f":"SUM(VFB73:VFB77)","v":0},{"$f":"SUM(VFC73:VFC77)","v":0},{"$f":"SUM(VFD73:VFD77)","v":0},{"$f":"SUM(VFE73:VFE77)","v":0},{"$f":"SUM(VFF73:VFF77)","v":0},{"$f":"SUM(VFG73:VFG77)","v":0},{"$f":"SUM(VFH73:VFH77)","v":0},{"$f":"SUM(VFI73:VFI77)","v":0},{"$f":"SUM(VFJ73:VFJ77)","v":0},{"$f":"SUM(VFK73:VFK77)","v":0},{"$f":"SUM(VFL73:VFL77)","v":0},{"$f":"SUM(VFM73:VFM77)","v":0},{"$f":"SUM(VFN73:VFN77)","v":0},{"$f":"SUM(VFO73:VFO77)","v":0},{"$f":"SUM(VFP73:VFP77)","v":0},{"$f":"SUM(VFQ73:VFQ77)","v":0},{"$f":"SUM(VFR73:VFR77)","v":0},{"$f":"SUM(VFS73:VFS77)","v":0},{"$f":"SUM(VFT73:VFT77)","v":0},{"$f":"SUM(VFU73:VFU77)","v":0},{"$f":"SUM(VFV73:VFV77)","v":0},{"$f":"SUM(VFW73:VFW77)","v":0},{"$f":"SUM(VFX73:VFX77)","v":0},{"$f":"SUM(VFY73:VFY77)","v":0},{"$f":"SUM(VFZ73:VFZ77)","v":0},{"$f":"SUM(VGA73:VGA77)","v":0},{"$f":"SUM(VGB73:VGB77)","v":0},{"$f":"SUM(VGC73:VGC77)","v":0},{"$f":"SUM(VGD73:VGD77)","v":0},{"$f":"SUM(VGE73:VGE77)","v":0},{"$f":"SUM(VGF73:VGF77)","v":0},{"$f":"SUM(VGG73:VGG77)","v":0},{"$f":"SUM(VGH73:VGH77)","v":0},{"$f":"SUM(VGI73:VGI77)","v":0},{"$f":"SUM(VGJ73:VGJ77)","v":0},{"$f":"SUM(VGK73:VGK77)","v":0},{"$f":"SUM(VGL73:VGL77)","v":0},{"$f":"SUM(VGM73:VGM77)","v":0},{"$f":"SUM(VGN73:VGN77)","v":0},{"$f":"SUM(VGO73:VGO77)","v":0},{"$f":"SUM(VGP73:VGP77)","v":0},{"$f":"SUM(VGQ73:VGQ77)","v":0},{"$f":"SUM(VGR73:VGR77)","v":0},{"$f":"SUM(VGS73:VGS77)","v":0},{"$f":"SUM(VGT73:VGT77)","v":0},{"$f":"SUM(VGU73:VGU77)","v":0},{"$f":"SUM(VGV73:VGV77)","v":0},{"$f":"SUM(VGW73:VGW77)","v":0},{"$f":"SUM(VGX73:VGX77)","v":0},{"$f":"SUM(VGY73:VGY77)","v":0},{"$f":"SUM(VGZ73:VGZ77)","v":0},{"$f":"SUM(VHA73:VHA77)","v":0},{"$f":"SUM(VHB73:VHB77)","v":0},{"$f":"SUM(VHC73:VHC77)","v":0},{"$f":"SUM(VHD73:VHD77)","v":0},{"$f":"SUM(VHE73:VHE77)","v":0},{"$f":"SUM(VHF73:VHF77)","v":0},{"$f":"SUM(VHG73:VHG77)","v":0},{"$f":"SUM(VHH73:VHH77)","v":0},{"$f":"SUM(VHI73:VHI77)","v":0},{"$f":"SUM(VHJ73:VHJ77)","v":0},{"$f":"SUM(VHK73:VHK77)","v":0},{"$f":"SUM(VHL73:VHL77)","v":0},{"$f":"SUM(VHM73:VHM77)","v":0},{"$f":"SUM(VHN73:VHN77)","v":0},{"$f":"SUM(VHO73:VHO77)","v":0},{"$f":"SUM(VHP73:VHP77)","v":0},{"$f":"SUM(VHQ73:VHQ77)","v":0},{"$f":"SUM(VHR73:VHR77)","v":0},{"$f":"SUM(VHS73:VHS77)","v":0},{"$f":"SUM(VHT73:VHT77)","v":0},{"$f":"SUM(VHU73:VHU77)","v":0},{"$f":"SUM(VHV73:VHV77)","v":0},{"$f":"SUM(VHW73:VHW77)","v":0},{"$f":"SUM(VHX73:VHX77)","v":0},{"$f":"SUM(VHY73:VHY77)","v":0},{"$f":"SUM(VHZ73:VHZ77)","v":0},{"$f":"SUM(VIA73:VIA77)","v":0},{"$f":"SUM(VIB73:VIB77)","v":0},{"$f":"SUM(VIC73:VIC77)","v":0},{"$f":"SUM(VID73:VID77)","v":0},{"$f":"SUM(VIE73:VIE77)","v":0},{"$f":"SUM(VIF73:VIF77)","v":0},{"$f":"SUM(VIG73:VIG77)","v":0},{"$f":"SUM(VIH73:VIH77)","v":0},{"$f":"SUM(VII73:VII77)","v":0},{"$f":"SUM(VIJ73:VIJ77)","v":0},{"$f":"SUM(VIK73:VIK77)","v":0},{"$f":"SUM(VIL73:VIL77)","v":0},{"$f":"SUM(VIM73:VIM77)","v":0},{"$f":"SUM(VIN73:VIN77)","v":0},{"$f":"SUM(VIO73:VIO77)","v":0},{"$f":"SUM(VIP73:VIP77)","v":0},{"$f":"SUM(VIQ73:VIQ77)","v":0},{"$f":"SUM(VIR73:VIR77)","v":0},{"$f":"SUM(VIS73:VIS77)","v":0},{"$f":"SUM(VIT73:VIT77)","v":0},{"$f":"SUM(VIU73:VIU77)","v":0},{"$f":"SUM(VIV73:VIV77)","v":0},{"$f":"SUM(VIW73:VIW77)","v":0},{"$f":"SUM(VIX73:VIX77)","v":0},{"$f":"SUM(VIY73:VIY77)","v":0},{"$f":"SUM(VIZ73:VIZ77)","v":0},{"$f":"SUM(VJA73:VJA77)","v":0},{"$f":"SUM(VJB73:VJB77)","v":0},{"$f":"SUM(VJC73:VJC77)","v":0},{"$f":"SUM(VJD73:VJD77)","v":0},{"$f":"SUM(VJE73:VJE77)","v":0},{"$f":"SUM(VJF73:VJF77)","v":0},{"$f":"SUM(VJG73:VJG77)","v":0},{"$f":"SUM(VJH73:VJH77)","v":0},{"$f":"SUM(VJI73:VJI77)","v":0},{"$f":"SUM(VJJ73:VJJ77)","v":0},{"$f":"SUM(VJK73:VJK77)","v":0},{"$f":"SUM(VJL73:VJL77)","v":0},{"$f":"SUM(VJM73:VJM77)","v":0},{"$f":"SUM(VJN73:VJN77)","v":0},{"$f":"SUM(VJO73:VJO77)","v":0},{"$f":"SUM(VJP73:VJP77)","v":0},{"$f":"SUM(VJQ73:VJQ77)","v":0},{"$f":"SUM(VJR73:VJR77)","v":0},{"$f":"SUM(VJS73:VJS77)","v":0},{"$f":"SUM(VJT73:VJT77)","v":0},{"$f":"SUM(VJU73:VJU77)","v":0},{"$f":"SUM(VJV73:VJV77)","v":0},{"$f":"SUM(VJW73:VJW77)","v":0},{"$f":"SUM(VJX73:VJX77)","v":0},{"$f":"SUM(VJY73:VJY77)","v":0},{"$f":"SUM(VJZ73:VJZ77)","v":0},{"$f":"SUM(VKA73:VKA77)","v":0},{"$f":"SUM(VKB73:VKB77)","v":0},{"$f":"SUM(VKC73:VKC77)","v":0},{"$f":"SUM(VKD73:VKD77)","v":0},{"$f":"SUM(VKE73:VKE77)","v":0},{"$f":"SUM(VKF73:VKF77)","v":0},{"$f":"SUM(VKG73:VKG77)","v":0},{"$f":"SUM(VKH73:VKH77)","v":0},{"$f":"SUM(VKI73:VKI77)","v":0},{"$f":"SUM(VKJ73:VKJ77)","v":0},{"$f":"SUM(VKK73:VKK77)","v":0},{"$f":"SUM(VKL73:VKL77)","v":0},{"$f":"SUM(VKM73:VKM77)","v":0},{"$f":"SUM(VKN73:VKN77)","v":0},{"$f":"SUM(VKO73:VKO77)","v":0},{"$f":"SUM(VKP73:VKP77)","v":0},{"$f":"SUM(VKQ73:VKQ77)","v":0},{"$f":"SUM(VKR73:VKR77)","v":0},{"$f":"SUM(VKS73:VKS77)","v":0},{"$f":"SUM(VKT73:VKT77)","v":0},{"$f":"SUM(VKU73:VKU77)","v":0},{"$f":"SUM(VKV73:VKV77)","v":0},{"$f":"SUM(VKW73:VKW77)","v":0},{"$f":"SUM(VKX73:VKX77)","v":0},{"$f":"SUM(VKY73:VKY77)","v":0},{"$f":"SUM(VKZ73:VKZ77)","v":0},{"$f":"SUM(VLA73:VLA77)","v":0},{"$f":"SUM(VLB73:VLB77)","v":0},{"$f":"SUM(VLC73:VLC77)","v":0},{"$f":"SUM(VLD73:VLD77)","v":0},{"$f":"SUM(VLE73:VLE77)","v":0},{"$f":"SUM(VLF73:VLF77)","v":0},{"$f":"SUM(VLG73:VLG77)","v":0},{"$f":"SUM(VLH73:VLH77)","v":0},{"$f":"SUM(VLI73:VLI77)","v":0},{"$f":"SUM(VLJ73:VLJ77)","v":0},{"$f":"SUM(VLK73:VLK77)","v":0},{"$f":"SUM(VLL73:VLL77)","v":0},{"$f":"SUM(VLM73:VLM77)","v":0},{"$f":"SUM(VLN73:VLN77)","v":0},{"$f":"SUM(VLO73:VLO77)","v":0},{"$f":"SUM(VLP73:VLP77)","v":0},{"$f":"SUM(VLQ73:VLQ77)","v":0},{"$f":"SUM(VLR73:VLR77)","v":0},{"$f":"SUM(VLS73:VLS77)","v":0},{"$f":"SUM(VLT73:VLT77)","v":0},{"$f":"SUM(VLU73:VLU77)","v":0},{"$f":"SUM(VLV73:VLV77)","v":0},{"$f":"SUM(VLW73:VLW77)","v":0},{"$f":"SUM(VLX73:VLX77)","v":0},{"$f":"SUM(VLY73:VLY77)","v":0},{"$f":"SUM(VLZ73:VLZ77)","v":0},{"$f":"SUM(VMA73:VMA77)","v":0},{"$f":"SUM(VMB73:VMB77)","v":0},{"$f":"SUM(VMC73:VMC77)","v":0},{"$f":"SUM(VMD73:VMD77)","v":0},{"$f":"SUM(VME73:VME77)","v":0},{"$f":"SUM(VMF73:VMF77)","v":0},{"$f":"SUM(VMG73:VMG77)","v":0},{"$f":"SUM(VMH73:VMH77)","v":0},{"$f":"SUM(VMI73:VMI77)","v":0},{"$f":"SUM(VMJ73:VMJ77)","v":0},{"$f":"SUM(VMK73:VMK77)","v":0},{"$f":"SUM(VML73:VML77)","v":0},{"$f":"SUM(VMM73:VMM77)","v":0},{"$f":"SUM(VMN73:VMN77)","v":0},{"$f":"SUM(VMO73:VMO77)","v":0},{"$f":"SUM(VMP73:VMP77)","v":0},{"$f":"SUM(VMQ73:VMQ77)","v":0},{"$f":"SUM(VMR73:VMR77)","v":0},{"$f":"SUM(VMS73:VMS77)","v":0},{"$f":"SUM(VMT73:VMT77)","v":0},{"$f":"SUM(VMU73:VMU77)","v":0},{"$f":"SUM(VMV73:VMV77)","v":0},{"$f":"SUM(VMW73:VMW77)","v":0},{"$f":"SUM(VMX73:VMX77)","v":0},{"$f":"SUM(VMY73:VMY77)","v":0},{"$f":"SUM(VMZ73:VMZ77)","v":0},{"$f":"SUM(VNA73:VNA77)","v":0},{"$f":"SUM(VNB73:VNB77)","v":0},{"$f":"SUM(VNC73:VNC77)","v":0},{"$f":"SUM(VND73:VND77)","v":0},{"$f":"SUM(VNE73:VNE77)","v":0},{"$f":"SUM(VNF73:VNF77)","v":0},{"$f":"SUM(VNG73:VNG77)","v":0},{"$f":"SUM(VNH73:VNH77)","v":0},{"$f":"SUM(VNI73:VNI77)","v":0},{"$f":"SUM(VNJ73:VNJ77)","v":0},{"$f":"SUM(VNK73:VNK77)","v":0},{"$f":"SUM(VNL73:VNL77)","v":0},{"$f":"SUM(VNM73:VNM77)","v":0},{"$f":"SUM(VNN73:VNN77)","v":0},{"$f":"SUM(VNO73:VNO77)","v":0},{"$f":"SUM(VNP73:VNP77)","v":0},{"$f":"SUM(VNQ73:VNQ77)","v":0},{"$f":"SUM(VNR73:VNR77)","v":0},{"$f":"SUM(VNS73:VNS77)","v":0},{"$f":"SUM(VNT73:VNT77)","v":0},{"$f":"SUM(VNU73:VNU77)","v":0},{"$f":"SUM(VNV73:VNV77)","v":0},{"$f":"SUM(VNW73:VNW77)","v":0},{"$f":"SUM(VNX73:VNX77)","v":0},{"$f":"SUM(VNY73:VNY77)","v":0},{"$f":"SUM(VNZ73:VNZ77)","v":0},{"$f":"SUM(VOA73:VOA77)","v":0},{"$f":"SUM(VOB73:VOB77)","v":0},{"$f":"SUM(VOC73:VOC77)","v":0},{"$f":"SUM(VOD73:VOD77)","v":0},{"$f":"SUM(VOE73:VOE77)","v":0},{"$f":"SUM(VOF73:VOF77)","v":0},{"$f":"SUM(VOG73:VOG77)","v":0},{"$f":"SUM(VOH73:VOH77)","v":0},{"$f":"SUM(VOI73:VOI77)","v":0},{"$f":"SUM(VOJ73:VOJ77)","v":0},{"$f":"SUM(VOK73:VOK77)","v":0},{"$f":"SUM(VOL73:VOL77)","v":0},{"$f":"SUM(VOM73:VOM77)","v":0},{"$f":"SUM(VON73:VON77)","v":0},{"$f":"SUM(VOO73:VOO77)","v":0},{"$f":"SUM(VOP73:VOP77)","v":0},{"$f":"SUM(VOQ73:VOQ77)","v":0},{"$f":"SUM(VOR73:VOR77)","v":0},{"$f":"SUM(VOS73:VOS77)","v":0},{"$f":"SUM(VOT73:VOT77)","v":0},{"$f":"SUM(VOU73:VOU77)","v":0},{"$f":"SUM(VOV73:VOV77)","v":0},{"$f":"SUM(VOW73:VOW77)","v":0},{"$f":"SUM(VOX73:VOX77)","v":0},{"$f":"SUM(VOY73:VOY77)","v":0},{"$f":"SUM(VOZ73:VOZ77)","v":0},{"$f":"SUM(VPA73:VPA77)","v":0},{"$f":"SUM(VPB73:VPB77)","v":0},{"$f":"SUM(VPC73:VPC77)","v":0},{"$f":"SUM(VPD73:VPD77)","v":0},{"$f":"SUM(VPE73:VPE77)","v":0},{"$f":"SUM(VPF73:VPF77)","v":0},{"$f":"SUM(VPG73:VPG77)","v":0},{"$f":"SUM(VPH73:VPH77)","v":0},{"$f":"SUM(VPI73:VPI77)","v":0},{"$f":"SUM(VPJ73:VPJ77)","v":0},{"$f":"SUM(VPK73:VPK77)","v":0},{"$f":"SUM(VPL73:VPL77)","v":0},{"$f":"SUM(VPM73:VPM77)","v":0},{"$f":"SUM(VPN73:VPN77)","v":0},{"$f":"SUM(VPO73:VPO77)","v":0},{"$f":"SUM(VPP73:VPP77)","v":0},{"$f":"SUM(VPQ73:VPQ77)","v":0},{"$f":"SUM(VPR73:VPR77)","v":0},{"$f":"SUM(VPS73:VPS77)","v":0},{"$f":"SUM(VPT73:VPT77)","v":0},{"$f":"SUM(VPU73:VPU77)","v":0},{"$f":"SUM(VPV73:VPV77)","v":0},{"$f":"SUM(VPW73:VPW77)","v":0},{"$f":"SUM(VPX73:VPX77)","v":0},{"$f":"SUM(VPY73:VPY77)","v":0},{"$f":"SUM(VPZ73:VPZ77)","v":0},{"$f":"SUM(VQA73:VQA77)","v":0},{"$f":"SUM(VQB73:VQB77)","v":0},{"$f":"SUM(VQC73:VQC77)","v":0},{"$f":"SUM(VQD73:VQD77)","v":0},{"$f":"SUM(VQE73:VQE77)","v":0},{"$f":"SUM(VQF73:VQF77)","v":0},{"$f":"SUM(VQG73:VQG77)","v":0},{"$f":"SUM(VQH73:VQH77)","v":0},{"$f":"SUM(VQI73:VQI77)","v":0},{"$f":"SUM(VQJ73:VQJ77)","v":0},{"$f":"SUM(VQK73:VQK77)","v":0},{"$f":"SUM(VQL73:VQL77)","v":0},{"$f":"SUM(VQM73:VQM77)","v":0},{"$f":"SUM(VQN73:VQN77)","v":0},{"$f":"SUM(VQO73:VQO77)","v":0},{"$f":"SUM(VQP73:VQP77)","v":0},{"$f":"SUM(VQQ73:VQQ77)","v":0},{"$f":"SUM(VQR73:VQR77)","v":0},{"$f":"SUM(VQS73:VQS77)","v":0},{"$f":"SUM(VQT73:VQT77)","v":0},{"$f":"SUM(VQU73:VQU77)","v":0},{"$f":"SUM(VQV73:VQV77)","v":0},{"$f":"SUM(VQW73:VQW77)","v":0},{"$f":"SUM(VQX73:VQX77)","v":0},{"$f":"SUM(VQY73:VQY77)","v":0},{"$f":"SUM(VQZ73:VQZ77)","v":0},{"$f":"SUM(VRA73:VRA77)","v":0},{"$f":"SUM(VRB73:VRB77)","v":0},{"$f":"SUM(VRC73:VRC77)","v":0},{"$f":"SUM(VRD73:VRD77)","v":0},{"$f":"SUM(VRE73:VRE77)","v":0},{"$f":"SUM(VRF73:VRF77)","v":0},{"$f":"SUM(VRG73:VRG77)","v":0},{"$f":"SUM(VRH73:VRH77)","v":0},{"$f":"SUM(VRI73:VRI77)","v":0},{"$f":"SUM(VRJ73:VRJ77)","v":0},{"$f":"SUM(VRK73:VRK77)","v":0},{"$f":"SUM(VRL73:VRL77)","v":0},{"$f":"SUM(VRM73:VRM77)","v":0},{"$f":"SUM(VRN73:VRN77)","v":0},{"$f":"SUM(VRO73:VRO77)","v":0},{"$f":"SUM(VRP73:VRP77)","v":0},{"$f":"SUM(VRQ73:VRQ77)","v":0},{"$f":"SUM(VRR73:VRR77)","v":0},{"$f":"SUM(VRS73:VRS77)","v":0},{"$f":"SUM(VRT73:VRT77)","v":0},{"$f":"SUM(VRU73:VRU77)","v":0},{"$f":"SUM(VRV73:VRV77)","v":0},{"$f":"SUM(VRW73:VRW77)","v":0},{"$f":"SUM(VRX73:VRX77)","v":0},{"$f":"SUM(VRY73:VRY77)","v":0},{"$f":"SUM(VRZ73:VRZ77)","v":0},{"$f":"SUM(VSA73:VSA77)","v":0},{"$f":"SUM(VSB73:VSB77)","v":0},{"$f":"SUM(VSC73:VSC77)","v":0},{"$f":"SUM(VSD73:VSD77)","v":0},{"$f":"SUM(VSE73:VSE77)","v":0},{"$f":"SUM(VSF73:VSF77)","v":0},{"$f":"SUM(VSG73:VSG77)","v":0},{"$f":"SUM(VSH73:VSH77)","v":0},{"$f":"SUM(VSI73:VSI77)","v":0},{"$f":"SUM(VSJ73:VSJ77)","v":0},{"$f":"SUM(VSK73:VSK77)","v":0},{"$f":"SUM(VSL73:VSL77)","v":0},{"$f":"SUM(VSM73:VSM77)","v":0},{"$f":"SUM(VSN73:VSN77)","v":0},{"$f":"SUM(VSO73:VSO77)","v":0},{"$f":"SUM(VSP73:VSP77)","v":0},{"$f":"SUM(VSQ73:VSQ77)","v":0},{"$f":"SUM(VSR73:VSR77)","v":0},{"$f":"SUM(VSS73:VSS77)","v":0},{"$f":"SUM(VST73:VST77)","v":0},{"$f":"SUM(VSU73:VSU77)","v":0},{"$f":"SUM(VSV73:VSV77)","v":0},{"$f":"SUM(VSW73:VSW77)","v":0},{"$f":"SUM(VSX73:VSX77)","v":0},{"$f":"SUM(VSY73:VSY77)","v":0},{"$f":"SUM(VSZ73:VSZ77)","v":0},{"$f":"SUM(VTA73:VTA77)","v":0},{"$f":"SUM(VTB73:VTB77)","v":0},{"$f":"SUM(VTC73:VTC77)","v":0},{"$f":"SUM(VTD73:VTD77)","v":0},{"$f":"SUM(VTE73:VTE77)","v":0},{"$f":"SUM(VTF73:VTF77)","v":0},{"$f":"SUM(VTG73:VTG77)","v":0},{"$f":"SUM(VTH73:VTH77)","v":0},{"$f":"SUM(VTI73:VTI77)","v":0},{"$f":"SUM(VTJ73:VTJ77)","v":0},{"$f":"SUM(VTK73:VTK77)","v":0},{"$f":"SUM(VTL73:VTL77)","v":0},{"$f":"SUM(VTM73:VTM77)","v":0},{"$f":"SUM(VTN73:VTN77)","v":0},{"$f":"SUM(VTO73:VTO77)","v":0},{"$f":"SUM(VTP73:VTP77)","v":0},{"$f":"SUM(VTQ73:VTQ77)","v":0},{"$f":"SUM(VTR73:VTR77)","v":0},{"$f":"SUM(VTS73:VTS77)","v":0},{"$f":"SUM(VTT73:VTT77)","v":0},{"$f":"SUM(VTU73:VTU77)","v":0},{"$f":"SUM(VTV73:VTV77)","v":0},{"$f":"SUM(VTW73:VTW77)","v":0},{"$f":"SUM(VTX73:VTX77)","v":0},{"$f":"SUM(VTY73:VTY77)","v":0},{"$f":"SUM(VTZ73:VTZ77)","v":0},{"$f":"SUM(VUA73:VUA77)","v":0},{"$f":"SUM(VUB73:VUB77)","v":0},{"$f":"SUM(VUC73:VUC77)","v":0},{"$f":"SUM(VUD73:VUD77)","v":0},{"$f":"SUM(VUE73:VUE77)","v":0},{"$f":"SUM(VUF73:VUF77)","v":0},{"$f":"SUM(VUG73:VUG77)","v":0},{"$f":"SUM(VUH73:VUH77)","v":0},{"$f":"SUM(VUI73:VUI77)","v":0},{"$f":"SUM(VUJ73:VUJ77)","v":0},{"$f":"SUM(VUK73:VUK77)","v":0},{"$f":"SUM(VUL73:VUL77)","v":0},{"$f":"SUM(VUM73:VUM77)","v":0},{"$f":"SUM(VUN73:VUN77)","v":0},{"$f":"SUM(VUO73:VUO77)","v":0},{"$f":"SUM(VUP73:VUP77)","v":0},{"$f":"SUM(VUQ73:VUQ77)","v":0},{"$f":"SUM(VUR73:VUR77)","v":0},{"$f":"SUM(VUS73:VUS77)","v":0},{"$f":"SUM(VUT73:VUT77)","v":0},{"$f":"SUM(VUU73:VUU77)","v":0},{"$f":"SUM(VUV73:VUV77)","v":0},{"$f":"SUM(VUW73:VUW77)","v":0},{"$f":"SUM(VUX73:VUX77)","v":0},{"$f":"SUM(VUY73:VUY77)","v":0},{"$f":"SUM(VUZ73:VUZ77)","v":0},{"$f":"SUM(VVA73:VVA77)","v":0},{"$f":"SUM(VVB73:VVB77)","v":0},{"$f":"SUM(VVC73:VVC77)","v":0},{"$f":"SUM(VVD73:VVD77)","v":0},{"$f":"SUM(VVE73:VVE77)","v":0},{"$f":"SUM(VVF73:VVF77)","v":0},{"$f":"SUM(VVG73:VVG77)","v":0},{"$f":"SUM(VVH73:VVH77)","v":0},{"$f":"SUM(VVI73:VVI77)","v":0},{"$f":"SUM(VVJ73:VVJ77)","v":0},{"$f":"SUM(VVK73:VVK77)","v":0},{"$f":"SUM(VVL73:VVL77)","v":0},{"$f":"SUM(VVM73:VVM77)","v":0},{"$f":"SUM(VVN73:VVN77)","v":0},{"$f":"SUM(VVO73:VVO77)","v":0},{"$f":"SUM(VVP73:VVP77)","v":0},{"$f":"SUM(VVQ73:VVQ77)","v":0},{"$f":"SUM(VVR73:VVR77)","v":0},{"$f":"SUM(VVS73:VVS77)","v":0},{"$f":"SUM(VVT73:VVT77)","v":0},{"$f":"SUM(VVU73:VVU77)","v":0},{"$f":"SUM(VVV73:VVV77)","v":0},{"$f":"SUM(VVW73:VVW77)","v":0},{"$f":"SUM(VVX73:VVX77)","v":0},{"$f":"SUM(VVY73:VVY77)","v":0},{"$f":"SUM(VVZ73:VVZ77)","v":0},{"$f":"SUM(VWA73:VWA77)","v":0},{"$f":"SUM(VWB73:VWB77)","v":0},{"$f":"SUM(VWC73:VWC77)","v":0},{"$f":"SUM(VWD73:VWD77)","v":0},{"$f":"SUM(VWE73:VWE77)","v":0},{"$f":"SUM(VWF73:VWF77)","v":0},{"$f":"SUM(VWG73:VWG77)","v":0},{"$f":"SUM(VWH73:VWH77)","v":0},{"$f":"SUM(VWI73:VWI77)","v":0},{"$f":"SUM(VWJ73:VWJ77)","v":0},{"$f":"SUM(VWK73:VWK77)","v":0},{"$f":"SUM(VWL73:VWL77)","v":0},{"$f":"SUM(VWM73:VWM77)","v":0},{"$f":"SUM(VWN73:VWN77)","v":0},{"$f":"SUM(VWO73:VWO77)","v":0},{"$f":"SUM(VWP73:VWP77)","v":0},{"$f":"SUM(VWQ73:VWQ77)","v":0},{"$f":"SUM(VWR73:VWR77)","v":0},{"$f":"SUM(VWS73:VWS77)","v":0},{"$f":"SUM(VWT73:VWT77)","v":0},{"$f":"SUM(VWU73:VWU77)","v":0},{"$f":"SUM(VWV73:VWV77)","v":0},{"$f":"SUM(VWW73:VWW77)","v":0},{"$f":"SUM(VWX73:VWX77)","v":0},{"$f":"SUM(VWY73:VWY77)","v":0},{"$f":"SUM(VWZ73:VWZ77)","v":0},{"$f":"SUM(VXA73:VXA77)","v":0},{"$f":"SUM(VXB73:VXB77)","v":0},{"$f":"SUM(VXC73:VXC77)","v":0},{"$f":"SUM(VXD73:VXD77)","v":0},{"$f":"SUM(VXE73:VXE77)","v":0},{"$f":"SUM(VXF73:VXF77)","v":0},{"$f":"SUM(VXG73:VXG77)","v":0},{"$f":"SUM(VXH73:VXH77)","v":0},{"$f":"SUM(VXI73:VXI77)","v":0},{"$f":"SUM(VXJ73:VXJ77)","v":0},{"$f":"SUM(VXK73:VXK77)","v":0},{"$f":"SUM(VXL73:VXL77)","v":0},{"$f":"SUM(VXM73:VXM77)","v":0},{"$f":"SUM(VXN73:VXN77)","v":0},{"$f":"SUM(VXO73:VXO77)","v":0},{"$f":"SUM(VXP73:VXP77)","v":0},{"$f":"SUM(VXQ73:VXQ77)","v":0},{"$f":"SUM(VXR73:VXR77)","v":0},{"$f":"SUM(VXS73:VXS77)","v":0},{"$f":"SUM(VXT73:VXT77)","v":0},{"$f":"SUM(VXU73:VXU77)","v":0},{"$f":"SUM(VXV73:VXV77)","v":0},{"$f":"SUM(VXW73:VXW77)","v":0},{"$f":"SUM(VXX73:VXX77)","v":0},{"$f":"SUM(VXY73:VXY77)","v":0},{"$f":"SUM(VXZ73:VXZ77)","v":0},{"$f":"SUM(VYA73:VYA77)","v":0},{"$f":"SUM(VYB73:VYB77)","v":0},{"$f":"SUM(VYC73:VYC77)","v":0},{"$f":"SUM(VYD73:VYD77)","v":0},{"$f":"SUM(VYE73:VYE77)","v":0},{"$f":"SUM(VYF73:VYF77)","v":0},{"$f":"SUM(VYG73:VYG77)","v":0},{"$f":"SUM(VYH73:VYH77)","v":0},{"$f":"SUM(VYI73:VYI77)","v":0},{"$f":"SUM(VYJ73:VYJ77)","v":0},{"$f":"SUM(VYK73:VYK77)","v":0},{"$f":"SUM(VYL73:VYL77)","v":0},{"$f":"SUM(VYM73:VYM77)","v":0},{"$f":"SUM(VYN73:VYN77)","v":0},{"$f":"SUM(VYO73:VYO77)","v":0},{"$f":"SUM(VYP73:VYP77)","v":0},{"$f":"SUM(VYQ73:VYQ77)","v":0},{"$f":"SUM(VYR73:VYR77)","v":0},{"$f":"SUM(VYS73:VYS77)","v":0},{"$f":"SUM(VYT73:VYT77)","v":0},{"$f":"SUM(VYU73:VYU77)","v":0},{"$f":"SUM(VYV73:VYV77)","v":0},{"$f":"SUM(VYW73:VYW77)","v":0},{"$f":"SUM(VYX73:VYX77)","v":0},{"$f":"SUM(VYY73:VYY77)","v":0},{"$f":"SUM(VYZ73:VYZ77)","v":0},{"$f":"SUM(VZA73:VZA77)","v":0},{"$f":"SUM(VZB73:VZB77)","v":0},{"$f":"SUM(VZC73:VZC77)","v":0},{"$f":"SUM(VZD73:VZD77)","v":0},{"$f":"SUM(VZE73:VZE77)","v":0},{"$f":"SUM(VZF73:VZF77)","v":0},{"$f":"SUM(VZG73:VZG77)","v":0},{"$f":"SUM(VZH73:VZH77)","v":0},{"$f":"SUM(VZI73:VZI77)","v":0},{"$f":"SUM(VZJ73:VZJ77)","v":0},{"$f":"SUM(VZK73:VZK77)","v":0},{"$f":"SUM(VZL73:VZL77)","v":0},{"$f":"SUM(VZM73:VZM77)","v":0},{"$f":"SUM(VZN73:VZN77)","v":0},{"$f":"SUM(VZO73:VZO77)","v":0},{"$f":"SUM(VZP73:VZP77)","v":0},{"$f":"SUM(VZQ73:VZQ77)","v":0},{"$f":"SUM(VZR73:VZR77)","v":0},{"$f":"SUM(VZS73:VZS77)","v":0},{"$f":"SUM(VZT73:VZT77)","v":0},{"$f":"SUM(VZU73:VZU77)","v":0},{"$f":"SUM(VZV73:VZV77)","v":0},{"$f":"SUM(VZW73:VZW77)","v":0},{"$f":"SUM(VZX73:VZX77)","v":0},{"$f":"SUM(VZY73:VZY77)","v":0},{"$f":"SUM(VZZ73:VZZ77)","v":0},{"$f":"SUM(WAA73:WAA77)","v":0},{"$f":"SUM(WAB73:WAB77)","v":0},{"$f":"SUM(WAC73:WAC77)","v":0},{"$f":"SUM(WAD73:WAD77)","v":0},{"$f":"SUM(WAE73:WAE77)","v":0},{"$f":"SUM(WAF73:WAF77)","v":0},{"$f":"SUM(WAG73:WAG77)","v":0},{"$f":"SUM(WAH73:WAH77)","v":0},{"$f":"SUM(WAI73:WAI77)","v":0},{"$f":"SUM(WAJ73:WAJ77)","v":0},{"$f":"SUM(WAK73:WAK77)","v":0},{"$f":"SUM(WAL73:WAL77)","v":0},{"$f":"SUM(WAM73:WAM77)","v":0},{"$f":"SUM(WAN73:WAN77)","v":0},{"$f":"SUM(WAO73:WAO77)","v":0},{"$f":"SUM(WAP73:WAP77)","v":0},{"$f":"SUM(WAQ73:WAQ77)","v":0},{"$f":"SUM(WAR73:WAR77)","v":0},{"$f":"SUM(WAS73:WAS77)","v":0},{"$f":"SUM(WAT73:WAT77)","v":0},{"$f":"SUM(WAU73:WAU77)","v":0},{"$f":"SUM(WAV73:WAV77)","v":0},{"$f":"SUM(WAW73:WAW77)","v":0},{"$f":"SUM(WAX73:WAX77)","v":0},{"$f":"SUM(WAY73:WAY77)","v":0},{"$f":"SUM(WAZ73:WAZ77)","v":0},{"$f":"SUM(WBA73:WBA77)","v":0},{"$f":"SUM(WBB73:WBB77)","v":0},{"$f":"SUM(WBC73:WBC77)","v":0},{"$f":"SUM(WBD73:WBD77)","v":0},{"$f":"SUM(WBE73:WBE77)","v":0},{"$f":"SUM(WBF73:WBF77)","v":0},{"$f":"SUM(WBG73:WBG77)","v":0},{"$f":"SUM(WBH73:WBH77)","v":0},{"$f":"SUM(WBI73:WBI77)","v":0},{"$f":"SUM(WBJ73:WBJ77)","v":0},{"$f":"SUM(WBK73:WBK77)","v":0},{"$f":"SUM(WBL73:WBL77)","v":0},{"$f":"SUM(WBM73:WBM77)","v":0},{"$f":"SUM(WBN73:WBN77)","v":0},{"$f":"SUM(WBO73:WBO77)","v":0},{"$f":"SUM(WBP73:WBP77)","v":0},{"$f":"SUM(WBQ73:WBQ77)","v":0},{"$f":"SUM(WBR73:WBR77)","v":0},{"$f":"SUM(WBS73:WBS77)","v":0},{"$f":"SUM(WBT73:WBT77)","v":0},{"$f":"SUM(WBU73:WBU77)","v":0},{"$f":"SUM(WBV73:WBV77)","v":0},{"$f":"SUM(WBW73:WBW77)","v":0},{"$f":"SUM(WBX73:WBX77)","v":0},{"$f":"SUM(WBY73:WBY77)","v":0},{"$f":"SUM(WBZ73:WBZ77)","v":0},{"$f":"SUM(WCA73:WCA77)","v":0},{"$f":"SUM(WCB73:WCB77)","v":0},{"$f":"SUM(WCC73:WCC77)","v":0},{"$f":"SUM(WCD73:WCD77)","v":0},{"$f":"SUM(WCE73:WCE77)","v":0},{"$f":"SUM(WCF73:WCF77)","v":0},{"$f":"SUM(WCG73:WCG77)","v":0},{"$f":"SUM(WCH73:WCH77)","v":0},{"$f":"SUM(WCI73:WCI77)","v":0},{"$f":"SUM(WCJ73:WCJ77)","v":0},{"$f":"SUM(WCK73:WCK77)","v":0},{"$f":"SUM(WCL73:WCL77)","v":0},{"$f":"SUM(WCM73:WCM77)","v":0},{"$f":"SUM(WCN73:WCN77)","v":0},{"$f":"SUM(WCO73:WCO77)","v":0},{"$f":"SUM(WCP73:WCP77)","v":0},{"$f":"SUM(WCQ73:WCQ77)","v":0},{"$f":"SUM(WCR73:WCR77)","v":0},{"$f":"SUM(WCS73:WCS77)","v":0},{"$f":"SUM(WCT73:WCT77)","v":0},{"$f":"SUM(WCU73:WCU77)","v":0},{"$f":"SUM(WCV73:WCV77)","v":0},{"$f":"SUM(WCW73:WCW77)","v":0},{"$f":"SUM(WCX73:WCX77)","v":0},{"$f":"SUM(WCY73:WCY77)","v":0},{"$f":"SUM(WCZ73:WCZ77)","v":0},{"$f":"SUM(WDA73:WDA77)","v":0},{"$f":"SUM(WDB73:WDB77)","v":0},{"$f":"SUM(WDC73:WDC77)","v":0},{"$f":"SUM(WDD73:WDD77)","v":0},{"$f":"SUM(WDE73:WDE77)","v":0},{"$f":"SUM(WDF73:WDF77)","v":0},{"$f":"SUM(WDG73:WDG77)","v":0},{"$f":"SUM(WDH73:WDH77)","v":0},{"$f":"SUM(WDI73:WDI77)","v":0},{"$f":"SUM(WDJ73:WDJ77)","v":0},{"$f":"SUM(WDK73:WDK77)","v":0},{"$f":"SUM(WDL73:WDL77)","v":0},{"$f":"SUM(WDM73:WDM77)","v":0},{"$f":"SUM(WDN73:WDN77)","v":0},{"$f":"SUM(WDO73:WDO77)","v":0},{"$f":"SUM(WDP73:WDP77)","v":0},{"$f":"SUM(WDQ73:WDQ77)","v":0},{"$f":"SUM(WDR73:WDR77)","v":0},{"$f":"SUM(WDS73:WDS77)","v":0},{"$f":"SUM(WDT73:WDT77)","v":0},{"$f":"SUM(WDU73:WDU77)","v":0},{"$f":"SUM(WDV73:WDV77)","v":0},{"$f":"SUM(WDW73:WDW77)","v":0},{"$f":"SUM(WDX73:WDX77)","v":0},{"$f":"SUM(WDY73:WDY77)","v":0},{"$f":"SUM(WDZ73:WDZ77)","v":0},{"$f":"SUM(WEA73:WEA77)","v":0},{"$f":"SUM(WEB73:WEB77)","v":0},{"$f":"SUM(WEC73:WEC77)","v":0},{"$f":"SUM(WED73:WED77)","v":0},{"$f":"SUM(WEE73:WEE77)","v":0},{"$f":"SUM(WEF73:WEF77)","v":0},{"$f":"SUM(WEG73:WEG77)","v":0},{"$f":"SUM(WEH73:WEH77)","v":0},{"$f":"SUM(WEI73:WEI77)","v":0},{"$f":"SUM(WEJ73:WEJ77)","v":0},{"$f":"SUM(WEK73:WEK77)","v":0},{"$f":"SUM(WEL73:WEL77)","v":0},{"$f":"SUM(WEM73:WEM77)","v":0},{"$f":"SUM(WEN73:WEN77)","v":0},{"$f":"SUM(WEO73:WEO77)","v":0},{"$f":"SUM(WEP73:WEP77)","v":0},{"$f":"SUM(WEQ73:WEQ77)","v":0},{"$f":"SUM(WER73:WER77)","v":0},{"$f":"SUM(WES73:WES77)","v":0},{"$f":"SUM(WET73:WET77)","v":0},{"$f":"SUM(WEU73:WEU77)","v":0},{"$f":"SUM(WEV73:WEV77)","v":0},{"$f":"SUM(WEW73:WEW77)","v":0},{"$f":"SUM(WEX73:WEX77)","v":0},{"$f":"SUM(WEY73:WEY77)","v":0},{"$f":"SUM(WEZ73:WEZ77)","v":0},{"$f":"SUM(WFA73:WFA77)","v":0},{"$f":"SUM(WFB73:WFB77)","v":0},{"$f":"SUM(WFC73:WFC77)","v":0},{"$f":"SUM(WFD73:WFD77)","v":0},{"$f":"SUM(WFE73:WFE77)","v":0},{"$f":"SUM(WFF73:WFF77)","v":0},{"$f":"SUM(WFG73:WFG77)","v":0},{"$f":"SUM(WFH73:WFH77)","v":0},{"$f":"SUM(WFI73:WFI77)","v":0},{"$f":"SUM(WFJ73:WFJ77)","v":0},{"$f":"SUM(WFK73:WFK77)","v":0},{"$f":"SUM(WFL73:WFL77)","v":0},{"$f":"SUM(WFM73:WFM77)","v":0},{"$f":"SUM(WFN73:WFN77)","v":0},{"$f":"SUM(WFO73:WFO77)","v":0},{"$f":"SUM(WFP73:WFP77)","v":0},{"$f":"SUM(WFQ73:WFQ77)","v":0},{"$f":"SUM(WFR73:WFR77)","v":0},{"$f":"SUM(WFS73:WFS77)","v":0},{"$f":"SUM(WFT73:WFT77)","v":0},{"$f":"SUM(WFU73:WFU77)","v":0},{"$f":"SUM(WFV73:WFV77)","v":0},{"$f":"SUM(WFW73:WFW77)","v":0},{"$f":"SUM(WFX73:WFX77)","v":0},{"$f":"SUM(WFY73:WFY77)","v":0},{"$f":"SUM(WFZ73:WFZ77)","v":0},{"$f":"SUM(WGA73:WGA77)","v":0},{"$f":"SUM(WGB73:WGB77)","v":0},{"$f":"SUM(WGC73:WGC77)","v":0},{"$f":"SUM(WGD73:WGD77)","v":0},{"$f":"SUM(WGE73:WGE77)","v":0},{"$f":"SUM(WGF73:WGF77)","v":0},{"$f":"SUM(WGG73:WGG77)","v":0},{"$f":"SUM(WGH73:WGH77)","v":0},{"$f":"SUM(WGI73:WGI77)","v":0},{"$f":"SUM(WGJ73:WGJ77)","v":0},{"$f":"SUM(WGK73:WGK77)","v":0},{"$f":"SUM(WGL73:WGL77)","v":0},{"$f":"SUM(WGM73:WGM77)","v":0},{"$f":"SUM(WGN73:WGN77)","v":0},{"$f":"SUM(WGO73:WGO77)","v":0},{"$f":"SUM(WGP73:WGP77)","v":0},{"$f":"SUM(WGQ73:WGQ77)","v":0},{"$f":"SUM(WGR73:WGR77)","v":0},{"$f":"SUM(WGS73:WGS77)","v":0},{"$f":"SUM(WGT73:WGT77)","v":0},{"$f":"SUM(WGU73:WGU77)","v":0},{"$f":"SUM(WGV73:WGV77)","v":0},{"$f":"SUM(WGW73:WGW77)","v":0},{"$f":"SUM(WGX73:WGX77)","v":0},{"$f":"SUM(WGY73:WGY77)","v":0},{"$f":"SUM(WGZ73:WGZ77)","v":0},{"$f":"SUM(WHA73:WHA77)","v":0},{"$f":"SUM(WHB73:WHB77)","v":0},{"$f":"SUM(WHC73:WHC77)","v":0},{"$f":"SUM(WHD73:WHD77)","v":0},{"$f":"SUM(WHE73:WHE77)","v":0},{"$f":"SUM(WHF73:WHF77)","v":0},{"$f":"SUM(WHG73:WHG77)","v":0},{"$f":"SUM(WHH73:WHH77)","v":0},{"$f":"SUM(WHI73:WHI77)","v":0},{"$f":"SUM(WHJ73:WHJ77)","v":0},{"$f":"SUM(WHK73:WHK77)","v":0},{"$f":"SUM(WHL73:WHL77)","v":0},{"$f":"SUM(WHM73:WHM77)","v":0},{"$f":"SUM(WHN73:WHN77)","v":0},{"$f":"SUM(WHO73:WHO77)","v":0},{"$f":"SUM(WHP73:WHP77)","v":0},{"$f":"SUM(WHQ73:WHQ77)","v":0},{"$f":"SUM(WHR73:WHR77)","v":0},{"$f":"SUM(WHS73:WHS77)","v":0},{"$f":"SUM(WHT73:WHT77)","v":0},{"$f":"SUM(WHU73:WHU77)","v":0},{"$f":"SUM(WHV73:WHV77)","v":0},{"$f":"SUM(WHW73:WHW77)","v":0},{"$f":"SUM(WHX73:WHX77)","v":0},{"$f":"SUM(WHY73:WHY77)","v":0},{"$f":"SUM(WHZ73:WHZ77)","v":0},{"$f":"SUM(WIA73:WIA77)","v":0},{"$f":"SUM(WIB73:WIB77)","v":0},{"$f":"SUM(WIC73:WIC77)","v":0},{"$f":"SUM(WID73:WID77)","v":0},{"$f":"SUM(WIE73:WIE77)","v":0},{"$f":"SUM(WIF73:WIF77)","v":0},{"$f":"SUM(WIG73:WIG77)","v":0},{"$f":"SUM(WIH73:WIH77)","v":0},{"$f":"SUM(WII73:WII77)","v":0},{"$f":"SUM(WIJ73:WIJ77)","v":0},{"$f":"SUM(WIK73:WIK77)","v":0},{"$f":"SUM(WIL73:WIL77)","v":0},{"$f":"SUM(WIM73:WIM77)","v":0},{"$f":"SUM(WIN73:WIN77)","v":0},{"$f":"SUM(WIO73:WIO77)","v":0},{"$f":"SUM(WIP73:WIP77)","v":0},{"$f":"SUM(WIQ73:WIQ77)","v":0},{"$f":"SUM(WIR73:WIR77)","v":0},{"$f":"SUM(WIS73:WIS77)","v":0},{"$f":"SUM(WIT73:WIT77)","v":0},{"$f":"SUM(WIU73:WIU77)","v":0},{"$f":"SUM(WIV73:WIV77)","v":0},{"$f":"SUM(WIW73:WIW77)","v":0},{"$f":"SUM(WIX73:WIX77)","v":0},{"$f":"SUM(WIY73:WIY77)","v":0},{"$f":"SUM(WIZ73:WIZ77)","v":0},{"$f":"SUM(WJA73:WJA77)","v":0},{"$f":"SUM(WJB73:WJB77)","v":0},{"$f":"SUM(WJC73:WJC77)","v":0},{"$f":"SUM(WJD73:WJD77)","v":0},{"$f":"SUM(WJE73:WJE77)","v":0},{"$f":"SUM(WJF73:WJF77)","v":0},{"$f":"SUM(WJG73:WJG77)","v":0},{"$f":"SUM(WJH73:WJH77)","v":0},{"$f":"SUM(WJI73:WJI77)","v":0},{"$f":"SUM(WJJ73:WJJ77)","v":0},{"$f":"SUM(WJK73:WJK77)","v":0},{"$f":"SUM(WJL73:WJL77)","v":0},{"$f":"SUM(WJM73:WJM77)","v":0},{"$f":"SUM(WJN73:WJN77)","v":0},{"$f":"SUM(WJO73:WJO77)","v":0},{"$f":"SUM(WJP73:WJP77)","v":0},{"$f":"SUM(WJQ73:WJQ77)","v":0},{"$f":"SUM(WJR73:WJR77)","v":0},{"$f":"SUM(WJS73:WJS77)","v":0},{"$f":"SUM(WJT73:WJT77)","v":0},{"$f":"SUM(WJU73:WJU77)","v":0},{"$f":"SUM(WJV73:WJV77)","v":0},{"$f":"SUM(WJW73:WJW77)","v":0},{"$f":"SUM(WJX73:WJX77)","v":0},{"$f":"SUM(WJY73:WJY77)","v":0},{"$f":"SUM(WJZ73:WJZ77)","v":0},{"$f":"SUM(WKA73:WKA77)","v":0},{"$f":"SUM(WKB73:WKB77)","v":0},{"$f":"SUM(WKC73:WKC77)","v":0},{"$f":"SUM(WKD73:WKD77)","v":0},{"$f":"SUM(WKE73:WKE77)","v":0},{"$f":"SUM(WKF73:WKF77)","v":0},{"$f":"SUM(WKG73:WKG77)","v":0},{"$f":"SUM(WKH73:WKH77)","v":0},{"$f":"SUM(WKI73:WKI77)","v":0},{"$f":"SUM(WKJ73:WKJ77)","v":0},{"$f":"SUM(WKK73:WKK77)","v":0},{"$f":"SUM(WKL73:WKL77)","v":0},{"$f":"SUM(WKM73:WKM77)","v":0},{"$f":"SUM(WKN73:WKN77)","v":0},{"$f":"SUM(WKO73:WKO77)","v":0},{"$f":"SUM(WKP73:WKP77)","v":0},{"$f":"SUM(WKQ73:WKQ77)","v":0},{"$f":"SUM(WKR73:WKR77)","v":0},{"$f":"SUM(WKS73:WKS77)","v":0},{"$f":"SUM(WKT73:WKT77)","v":0},{"$f":"SUM(WKU73:WKU77)","v":0},{"$f":"SUM(WKV73:WKV77)","v":0},{"$f":"SUM(WKW73:WKW77)","v":0},{"$f":"SUM(WKX73:WKX77)","v":0},{"$f":"SUM(WKY73:WKY77)","v":0},{"$f":"SUM(WKZ73:WKZ77)","v":0},{"$f":"SUM(WLA73:WLA77)","v":0},{"$f":"SUM(WLB73:WLB77)","v":0},{"$f":"SUM(WLC73:WLC77)","v":0},{"$f":"SUM(WLD73:WLD77)","v":0},{"$f":"SUM(WLE73:WLE77)","v":0},{"$f":"SUM(WLF73:WLF77)","v":0},{"$f":"SUM(WLG73:WLG77)","v":0},{"$f":"SUM(WLH73:WLH77)","v":0},{"$f":"SUM(WLI73:WLI77)","v":0},{"$f":"SUM(WLJ73:WLJ77)","v":0},{"$f":"SUM(WLK73:WLK77)","v":0},{"$f":"SUM(WLL73:WLL77)","v":0},{"$f":"SUM(WLM73:WLM77)","v":0},{"$f":"SUM(WLN73:WLN77)","v":0},{"$f":"SUM(WLO73:WLO77)","v":0},{"$f":"SUM(WLP73:WLP77)","v":0},{"$f":"SUM(WLQ73:WLQ77)","v":0},{"$f":"SUM(WLR73:WLR77)","v":0},{"$f":"SUM(WLS73:WLS77)","v":0},{"$f":"SUM(WLT73:WLT77)","v":0},{"$f":"SUM(WLU73:WLU77)","v":0},{"$f":"SUM(WLV73:WLV77)","v":0},{"$f":"SUM(WLW73:WLW77)","v":0},{"$f":"SUM(WLX73:WLX77)","v":0},{"$f":"SUM(WLY73:WLY77)","v":0},{"$f":"SUM(WLZ73:WLZ77)","v":0},{"$f":"SUM(WMA73:WMA77)","v":0},{"$f":"SUM(WMB73:WMB77)","v":0},{"$f":"SUM(WMC73:WMC77)","v":0},{"$f":"SUM(WMD73:WMD77)","v":0},{"$f":"SUM(WME73:WME77)","v":0},{"$f":"SUM(WMF73:WMF77)","v":0},{"$f":"SUM(WMG73:WMG77)","v":0},{"$f":"SUM(WMH73:WMH77)","v":0},{"$f":"SUM(WMI73:WMI77)","v":0},{"$f":"SUM(WMJ73:WMJ77)","v":0},{"$f":"SUM(WMK73:WMK77)","v":0},{"$f":"SUM(WML73:WML77)","v":0},{"$f":"SUM(WMM73:WMM77)","v":0},{"$f":"SUM(WMN73:WMN77)","v":0},{"$f":"SUM(WMO73:WMO77)","v":0},{"$f":"SUM(WMP73:WMP77)","v":0},{"$f":"SUM(WMQ73:WMQ77)","v":0},{"$f":"SUM(WMR73:WMR77)","v":0},{"$f":"SUM(WMS73:WMS77)","v":0},{"$f":"SUM(WMT73:WMT77)","v":0},{"$f":"SUM(WMU73:WMU77)","v":0},{"$f":"SUM(WMV73:WMV77)","v":0},{"$f":"SUM(WMW73:WMW77)","v":0},{"$f":"SUM(WMX73:WMX77)","v":0},{"$f":"SUM(WMY73:WMY77)","v":0},{"$f":"SUM(WMZ73:WMZ77)","v":0},{"$f":"SUM(WNA73:WNA77)","v":0},{"$f":"SUM(WNB73:WNB77)","v":0},{"$f":"SUM(WNC73:WNC77)","v":0},{"$f":"SUM(WND73:WND77)","v":0},{"$f":"SUM(WNE73:WNE77)","v":0},{"$f":"SUM(WNF73:WNF77)","v":0},{"$f":"SUM(WNG73:WNG77)","v":0},{"$f":"SUM(WNH73:WNH77)","v":0},{"$f":"SUM(WNI73:WNI77)","v":0},{"$f":"SUM(WNJ73:WNJ77)","v":0},{"$f":"SUM(WNK73:WNK77)","v":0},{"$f":"SUM(WNL73:WNL77)","v":0},{"$f":"SUM(WNM73:WNM77)","v":0},{"$f":"SUM(WNN73:WNN77)","v":0},{"$f":"SUM(WNO73:WNO77)","v":0},{"$f":"SUM(WNP73:WNP77)","v":0},{"$f":"SUM(WNQ73:WNQ77)","v":0},{"$f":"SUM(WNR73:WNR77)","v":0},{"$f":"SUM(WNS73:WNS77)","v":0},{"$f":"SUM(WNT73:WNT77)","v":0},{"$f":"SUM(WNU73:WNU77)","v":0},{"$f":"SUM(WNV73:WNV77)","v":0},{"$f":"SUM(WNW73:WNW77)","v":0},{"$f":"SUM(WNX73:WNX77)","v":0},{"$f":"SUM(WNY73:WNY77)","v":0},{"$f":"SUM(WNZ73:WNZ77)","v":0},{"$f":"SUM(WOA73:WOA77)","v":0},{"$f":"SUM(WOB73:WOB77)","v":0},{"$f":"SUM(WOC73:WOC77)","v":0},{"$f":"SUM(WOD73:WOD77)","v":0},{"$f":"SUM(WOE73:WOE77)","v":0},{"$f":"SUM(WOF73:WOF77)","v":0},{"$f":"SUM(WOG73:WOG77)","v":0},{"$f":"SUM(WOH73:WOH77)","v":0},{"$f":"SUM(WOI73:WOI77)","v":0},{"$f":"SUM(WOJ73:WOJ77)","v":0},{"$f":"SUM(WOK73:WOK77)","v":0},{"$f":"SUM(WOL73:WOL77)","v":0},{"$f":"SUM(WOM73:WOM77)","v":0},{"$f":"SUM(WON73:WON77)","v":0},{"$f":"SUM(WOO73:WOO77)","v":0},{"$f":"SUM(WOP73:WOP77)","v":0},{"$f":"SUM(WOQ73:WOQ77)","v":0},{"$f":"SUM(WOR73:WOR77)","v":0},{"$f":"SUM(WOS73:WOS77)","v":0},{"$f":"SUM(WOT73:WOT77)","v":0},{"$f":"SUM(WOU73:WOU77)","v":0},{"$f":"SUM(WOV73:WOV77)","v":0},{"$f":"SUM(WOW73:WOW77)","v":0},{"$f":"SUM(WOX73:WOX77)","v":0},{"$f":"SUM(WOY73:WOY77)","v":0},{"$f":"SUM(WOZ73:WOZ77)","v":0},{"$f":"SUM(WPA73:WPA77)","v":0},{"$f":"SUM(WPB73:WPB77)","v":0},{"$f":"SUM(WPC73:WPC77)","v":0},{"$f":"SUM(WPD73:WPD77)","v":0},{"$f":"SUM(WPE73:WPE77)","v":0},{"$f":"SUM(WPF73:WPF77)","v":0},{"$f":"SUM(WPG73:WPG77)","v":0},{"$f":"SUM(WPH73:WPH77)","v":0},{"$f":"SUM(WPI73:WPI77)","v":0},{"$f":"SUM(WPJ73:WPJ77)","v":0},{"$f":"SUM(WPK73:WPK77)","v":0},{"$f":"SUM(WPL73:WPL77)","v":0},{"$f":"SUM(WPM73:WPM77)","v":0},{"$f":"SUM(WPN73:WPN77)","v":0},{"$f":"SUM(WPO73:WPO77)","v":0},{"$f":"SUM(WPP73:WPP77)","v":0},{"$f":"SUM(WPQ73:WPQ77)","v":0},{"$f":"SUM(WPR73:WPR77)","v":0},{"$f":"SUM(WPS73:WPS77)","v":0},{"$f":"SUM(WPT73:WPT77)","v":0},{"$f":"SUM(WPU73:WPU77)","v":0},{"$f":"SUM(WPV73:WPV77)","v":0},{"$f":"SUM(WPW73:WPW77)","v":0},{"$f":"SUM(WPX73:WPX77)","v":0},{"$f":"SUM(WPY73:WPY77)","v":0},{"$f":"SUM(WPZ73:WPZ77)","v":0},{"$f":"SUM(WQA73:WQA77)","v":0},{"$f":"SUM(WQB73:WQB77)","v":0},{"$f":"SUM(WQC73:WQC77)","v":0},{"$f":"SUM(WQD73:WQD77)","v":0},{"$f":"SUM(WQE73:WQE77)","v":0},{"$f":"SUM(WQF73:WQF77)","v":0},{"$f":"SUM(WQG73:WQG77)","v":0},{"$f":"SUM(WQH73:WQH77)","v":0},{"$f":"SUM(WQI73:WQI77)","v":0},{"$f":"SUM(WQJ73:WQJ77)","v":0},{"$f":"SUM(WQK73:WQK77)","v":0},{"$f":"SUM(WQL73:WQL77)","v":0},{"$f":"SUM(WQM73:WQM77)","v":0},{"$f":"SUM(WQN73:WQN77)","v":0},{"$f":"SUM(WQO73:WQO77)","v":0},{"$f":"SUM(WQP73:WQP77)","v":0},{"$f":"SUM(WQQ73:WQQ77)","v":0},{"$f":"SUM(WQR73:WQR77)","v":0},{"$f":"SUM(WQS73:WQS77)","v":0},{"$f":"SUM(WQT73:WQT77)","v":0},{"$f":"SUM(WQU73:WQU77)","v":0},{"$f":"SUM(WQV73:WQV77)","v":0},{"$f":"SUM(WQW73:WQW77)","v":0},{"$f":"SUM(WQX73:WQX77)","v":0},{"$f":"SUM(WQY73:WQY77)","v":0},{"$f":"SUM(WQZ73:WQZ77)","v":0},{"$f":"SUM(WRA73:WRA77)","v":0},{"$f":"SUM(WRB73:WRB77)","v":0},{"$f":"SUM(WRC73:WRC77)","v":0},{"$f":"SUM(WRD73:WRD77)","v":0},{"$f":"SUM(WRE73:WRE77)","v":0},{"$f":"SUM(WRF73:WRF77)","v":0},{"$f":"SUM(WRG73:WRG77)","v":0},{"$f":"SUM(WRH73:WRH77)","v":0},{"$f":"SUM(WRI73:WRI77)","v":0},{"$f":"SUM(WRJ73:WRJ77)","v":0},{"$f":"SUM(WRK73:WRK77)","v":0},{"$f":"SUM(WRL73:WRL77)","v":0},{"$f":"SUM(WRM73:WRM77)","v":0},{"$f":"SUM(WRN73:WRN77)","v":0},{"$f":"SUM(WRO73:WRO77)","v":0},{"$f":"SUM(WRP73:WRP77)","v":0},{"$f":"SUM(WRQ73:WRQ77)","v":0},{"$f":"SUM(WRR73:WRR77)","v":0},{"$f":"SUM(WRS73:WRS77)","v":0},{"$f":"SUM(WRT73:WRT77)","v":0},{"$f":"SUM(WRU73:WRU77)","v":0},{"$f":"SUM(WRV73:WRV77)","v":0},{"$f":"SUM(WRW73:WRW77)","v":0},{"$f":"SUM(WRX73:WRX77)","v":0},{"$f":"SUM(WRY73:WRY77)","v":0},{"$f":"SUM(WRZ73:WRZ77)","v":0},{"$f":"SUM(WSA73:WSA77)","v":0},{"$f":"SUM(WSB73:WSB77)","v":0},{"$f":"SUM(WSC73:WSC77)","v":0},{"$f":"SUM(WSD73:WSD77)","v":0},{"$f":"SUM(WSE73:WSE77)","v":0},{"$f":"SUM(WSF73:WSF77)","v":0},{"$f":"SUM(WSG73:WSG77)","v":0},{"$f":"SUM(WSH73:WSH77)","v":0},{"$f":"SUM(WSI73:WSI77)","v":0},{"$f":"SUM(WSJ73:WSJ77)","v":0},{"$f":"SUM(WSK73:WSK77)","v":0},{"$f":"SUM(WSL73:WSL77)","v":0},{"$f":"SUM(WSM73:WSM77)","v":0},{"$f":"SUM(WSN73:WSN77)","v":0},{"$f":"SUM(WSO73:WSO77)","v":0},{"$f":"SUM(WSP73:WSP77)","v":0},{"$f":"SUM(WSQ73:WSQ77)","v":0},{"$f":"SUM(WSR73:WSR77)","v":0},{"$f":"SUM(WSS73:WSS77)","v":0},{"$f":"SUM(WST73:WST77)","v":0},{"$f":"SUM(WSU73:WSU77)","v":0},{"$f":"SUM(WSV73:WSV77)","v":0},{"$f":"SUM(WSW73:WSW77)","v":0},{"$f":"SUM(WSX73:WSX77)","v":0},{"$f":"SUM(WSY73:WSY77)","v":0},{"$f":"SUM(WSZ73:WSZ77)","v":0},{"$f":"SUM(WTA73:WTA77)","v":0},{"$f":"SUM(WTB73:WTB77)","v":0},{"$f":"SUM(WTC73:WTC77)","v":0},{"$f":"SUM(WTD73:WTD77)","v":0},{"$f":"SUM(WTE73:WTE77)","v":0},{"$f":"SUM(WTF73:WTF77)","v":0},{"$f":"SUM(WTG73:WTG77)","v":0},{"$f":"SUM(WTH73:WTH77)","v":0},{"$f":"SUM(WTI73:WTI77)","v":0},{"$f":"SUM(WTJ73:WTJ77)","v":0},{"$f":"SUM(WTK73:WTK77)","v":0},{"$f":"SUM(WTL73:WTL77)","v":0},{"$f":"SUM(WTM73:WTM77)","v":0},{"$f":"SUM(WTN73:WTN77)","v":0},{"$f":"SUM(WTO73:WTO77)","v":0},{"$f":"SUM(WTP73:WTP77)","v":0},{"$f":"SUM(WTQ73:WTQ77)","v":0},{"$f":"SUM(WTR73:WTR77)","v":0},{"$f":"SUM(WTS73:WTS77)","v":0},{"$f":"SUM(WTT73:WTT77)","v":0},{"$f":"SUM(WTU73:WTU77)","v":0},{"$f":"SUM(WTV73:WTV77)","v":0},{"$f":"SUM(WTW73:WTW77)","v":0},{"$f":"SUM(WTX73:WTX77)","v":0},{"$f":"SUM(WTY73:WTY77)","v":0},{"$f":"SUM(WTZ73:WTZ77)","v":0},{"$f":"SUM(WUA73:WUA77)","v":0},{"$f":"SUM(WUB73:WUB77)","v":0},{"$f":"SUM(WUC73:WUC77)","v":0},{"$f":"SUM(WUD73:WUD77)","v":0},{"$f":"SUM(WUE73:WUE77)","v":0},{"$f":"SUM(WUF73:WUF77)","v":0},{"$f":"SUM(WUG73:WUG77)","v":0},{"$f":"SUM(WUH73:WUH77)","v":0},{"$f":"SUM(WUI73:WUI77)","v":0},{"$f":"SUM(WUJ73:WUJ77)","v":0},{"$f":"SUM(WUK73:WUK77)","v":0},{"$f":"SUM(WUL73:WUL77)","v":0},{"$f":"SUM(WUM73:WUM77)","v":0},{"$f":"SUM(WUN73:WUN77)","v":0},{"$f":"SUM(WUO73:WUO77)","v":0},{"$f":"SUM(WUP73:WUP77)","v":0},{"$f":"SUM(WUQ73:WUQ77)","v":0},{"$f":"SUM(WUR73:WUR77)","v":0},{"$f":"SUM(WUS73:WUS77)","v":0},{"$f":"SUM(WUT73:WUT77)","v":0},{"$f":"SUM(WUU73:WUU77)","v":0},{"$f":"SUM(WUV73:WUV77)","v":0},{"$f":"SUM(WUW73:WUW77)","v":0},{"$f":"SUM(WUX73:WUX77)","v":0},{"$f":"SUM(WUY73:WUY77)","v":0},{"$f":"SUM(WUZ73:WUZ77)","v":0},{"$f":"SUM(WVA73:WVA77)","v":0},{"$f":"SUM(WVB73:WVB77)","v":0},{"$f":"SUM(WVC73:WVC77)","v":0},{"$f":"SUM(WVD73:WVD77)","v":0},{"$f":"SUM(WVE73:WVE77)","v":0},{"$f":"SUM(WVF73:WVF77)","v":0},{"$f":"SUM(WVG73:WVG77)","v":0},{"$f":"SUM(WVH73:WVH77)","v":0},{"$f":"SUM(WVI73:WVI77)","v":0},{"$f":"SUM(WVJ73:WVJ77)","v":0},{"$f":"SUM(WVK73:WVK77)","v":0},{"$f":"SUM(WVL73:WVL77)","v":0},{"$f":"SUM(WVM73:WVM77)","v":0},{"$f":"SUM(WVN73:WVN77)","v":0},{"$f":"SUM(WVO73:WVO77)","v":0},{"$f":"SUM(WVP73:WVP77)","v":0},{"$f":"SUM(WVQ73:WVQ77)","v":0},{"$f":"SUM(WVR73:WVR77)","v":0},{"$f":"SUM(WVS73:WVS77)","v":0},{"$f":"SUM(WVT73:WVT77)","v":0},{"$f":"SUM(WVU73:WVU77)","v":0},{"$f":"SUM(WVV73:WVV77)","v":0},{"$f":"SUM(WVW73:WVW77)","v":0},{"$f":"SUM(WVX73:WVX77)","v":0},{"$f":"SUM(WVY73:WVY77)","v":0},{"$f":"SUM(WVZ73:WVZ77)","v":0},{"$f":"SUM(WWA73:WWA77)","v":0},{"$f":"SUM(WWB73:WWB77)","v":0},{"$f":"SUM(WWC73:WWC77)","v":0},{"$f":"SUM(WWD73:WWD77)","v":0},{"$f":"SUM(WWE73:WWE77)","v":0},{"$f":"SUM(WWF73:WWF77)","v":0},{"$f":"SUM(WWG73:WWG77)","v":0},{"$f":"SUM(WWH73:WWH77)","v":0},{"$f":"SUM(WWI73:WWI77)","v":0},{"$f":"SUM(WWJ73:WWJ77)","v":0},{"$f":"SUM(WWK73:WWK77)","v":0},{"$f":"SUM(WWL73:WWL77)","v":0},{"$f":"SUM(WWM73:WWM77)","v":0},{"$f":"SUM(WWN73:WWN77)","v":0},{"$f":"SUM(WWO73:WWO77)","v":0},{"$f":"SUM(WWP73:WWP77)","v":0},{"$f":"SUM(WWQ73:WWQ77)","v":0},{"$f":"SUM(WWR73:WWR77)","v":0},{"$f":"SUM(WWS73:WWS77)","v":0},{"$f":"SUM(WWT73:WWT77)","v":0},{"$f":"SUM(WWU73:WWU77)","v":0},{"$f":"SUM(WWV73:WWV77)","v":0},{"$f":"SUM(WWW73:WWW77)","v":0},{"$f":"SUM(WWX73:WWX77)","v":0},{"$f":"SUM(WWY73:WWY77)","v":0},{"$f":"SUM(WWZ73:WWZ77)","v":0},{"$f":"SUM(WXA73:WXA77)","v":0},{"$f":"SUM(WXB73:WXB77)","v":0},{"$f":"SUM(WXC73:WXC77)","v":0},{"$f":"SUM(WXD73:WXD77)","v":0},{"$f":"SUM(WXE73:WXE77)","v":0},{"$f":"SUM(WXF73:WXF77)","v":0},{"$f":"SUM(WXG73:WXG77)","v":0},{"$f":"SUM(WXH73:WXH77)","v":0},{"$f":"SUM(WXI73:WXI77)","v":0},{"$f":"SUM(WXJ73:WXJ77)","v":0},{"$f":"SUM(WXK73:WXK77)","v":0},{"$f":"SUM(WXL73:WXL77)","v":0},{"$f":"SUM(WXM73:WXM77)","v":0},{"$f":"SUM(WXN73:WXN77)","v":0},{"$f":"SUM(WXO73:WXO77)","v":0},{"$f":"SUM(WXP73:WXP77)","v":0},{"$f":"SUM(WXQ73:WXQ77)","v":0},{"$f":"SUM(WXR73:WXR77)","v":0},{"$f":"SUM(WXS73:WXS77)","v":0},{"$f":"SUM(WXT73:WXT77)","v":0},{"$f":"SUM(WXU73:WXU77)","v":0},{"$f":"SUM(WXV73:WXV77)","v":0},{"$f":"SUM(WXW73:WXW77)","v":0},{"$f":"SUM(WXX73:WXX77)","v":0},{"$f":"SUM(WXY73:WXY77)","v":0},{"$f":"SUM(WXZ73:WXZ77)","v":0},{"$f":"SUM(WYA73:WYA77)","v":0},{"$f":"SUM(WYB73:WYB77)","v":0},{"$f":"SUM(WYC73:WYC77)","v":0},{"$f":"SUM(WYD73:WYD77)","v":0},{"$f":"SUM(WYE73:WYE77)","v":0},{"$f":"SUM(WYF73:WYF77)","v":0},{"$f":"SUM(WYG73:WYG77)","v":0},{"$f":"SUM(WYH73:WYH77)","v":0},{"$f":"SUM(WYI73:WYI77)","v":0},{"$f":"SUM(WYJ73:WYJ77)","v":0},{"$f":"SUM(WYK73:WYK77)","v":0},{"$f":"SUM(WYL73:WYL77)","v":0},{"$f":"SUM(WYM73:WYM77)","v":0},{"$f":"SUM(WYN73:WYN77)","v":0},{"$f":"SUM(WYO73:WYO77)","v":0},{"$f":"SUM(WYP73:WYP77)","v":0},{"$f":"SUM(WYQ73:WYQ77)","v":0},{"$f":"SUM(WYR73:WYR77)","v":0},{"$f":"SUM(WYS73:WYS77)","v":0},{"$f":"SUM(WYT73:WYT77)","v":0},{"$f":"SUM(WYU73:WYU77)","v":0},{"$f":"SUM(WYV73:WYV77)","v":0},{"$f":"SUM(WYW73:WYW77)","v":0},{"$f":"SUM(WYX73:WYX77)","v":0},{"$f":"SUM(WYY73:WYY77)","v":0},{"$f":"SUM(WYZ73:WYZ77)","v":0},{"$f":"SUM(WZA73:WZA77)","v":0},{"$f":"SUM(WZB73:WZB77)","v":0},{"$f":"SUM(WZC73:WZC77)","v":0},{"$f":"SUM(WZD73:WZD77)","v":0},{"$f":"SUM(WZE73:WZE77)","v":0},{"$f":"SUM(WZF73:WZF77)","v":0},{"$f":"SUM(WZG73:WZG77)","v":0},{"$f":"SUM(WZH73:WZH77)","v":0},{"$f":"SUM(WZI73:WZI77)","v":0},{"$f":"SUM(WZJ73:WZJ77)","v":0},{"$f":"SUM(WZK73:WZK77)","v":0},{"$f":"SUM(WZL73:WZL77)","v":0},{"$f":"SUM(WZM73:WZM77)","v":0},{"$f":"SUM(WZN73:WZN77)","v":0},{"$f":"SUM(WZO73:WZO77)","v":0},{"$f":"SUM(WZP73:WZP77)","v":0},{"$f":"SUM(WZQ73:WZQ77)","v":0},{"$f":"SUM(WZR73:WZR77)","v":0},{"$f":"SUM(WZS73:WZS77)","v":0},{"$f":"SUM(WZT73:WZT77)","v":0},{"$f":"SUM(WZU73:WZU77)","v":0},{"$f":"SUM(WZV73:WZV77)","v":0},{"$f":"SUM(WZW73:WZW77)","v":0},{"$f":"SUM(WZX73:WZX77)","v":0},{"$f":"SUM(WZY73:WZY77)","v":0},{"$f":"SUM(WZZ73:WZZ77)","v":0},{"$f":"SUM(XAA73:XAA77)","v":0},{"$f":"SUM(XAB73:XAB77)","v":0},{"$f":"SUM(XAC73:XAC77)","v":0},{"$f":"SUM(XAD73:XAD77)","v":0},{"$f":"SUM(XAE73:XAE77)","v":0},{"$f":"SUM(XAF73:XAF77)","v":0},{"$f":"SUM(XAG73:XAG77)","v":0},{"$f":"SUM(XAH73:XAH77)","v":0},{"$f":"SUM(XAI73:XAI77)","v":0},{"$f":"SUM(XAJ73:XAJ77)","v":0},{"$f":"SUM(XAK73:XAK77)","v":0},{"$f":"SUM(XAL73:XAL77)","v":0},{"$f":"SUM(XAM73:XAM77)","v":0},{"$f":"SUM(XAN73:XAN77)","v":0},{"$f":"SUM(XAO73:XAO77)","v":0},{"$f":"SUM(XAP73:XAP77)","v":0},{"$f":"SUM(XAQ73:XAQ77)","v":0},{"$f":"SUM(XAR73:XAR77)","v":0},{"$f":"SUM(XAS73:XAS77)","v":0},{"$f":"SUM(XAT73:XAT77)","v":0},{"$f":"SUM(XAU73:XAU77)","v":0},{"$f":"SUM(XAV73:XAV77)","v":0},{"$f":"SUM(XAW73:XAW77)","v":0},{"$f":"SUM(XAX73:XAX77)","v":0},{"$f":"SUM(XAY73:XAY77)","v":0},{"$f":"SUM(XAZ73:XAZ77)","v":0},{"$f":"SUM(XBA73:XBA77)","v":0},{"$f":"SUM(XBB73:XBB77)","v":0},{"$f":"SUM(XBC73:XBC77)","v":0},{"$f":"SUM(XBD73:XBD77)","v":0},{"$f":"SUM(XBE73:XBE77)","v":0},{"$f":"SUM(XBF73:XBF77)","v":0},{"$f":"SUM(XBG73:XBG77)","v":0},{"$f":"SUM(XBH73:XBH77)","v":0},{"$f":"SUM(XBI73:XBI77)","v":0},{"$f":"SUM(XBJ73:XBJ77)","v":0},{"$f":"SUM(XBK73:XBK77)","v":0},{"$f":"SUM(XBL73:XBL77)","v":0},{"$f":"SUM(XBM73:XBM77)","v":0},{"$f":"SUM(XBN73:XBN77)","v":0},{"$f":"SUM(XBO73:XBO77)","v":0},{"$f":"SUM(XBP73:XBP77)","v":0},{"$f":"SUM(XBQ73:XBQ77)","v":0},{"$f":"SUM(XBR73:XBR77)","v":0},{"$f":"SUM(XBS73:XBS77)","v":0},{"$f":"SUM(XBT73:XBT77)","v":0},{"$f":"SUM(XBU73:XBU77)","v":0},{"$f":"SUM(XBV73:XBV77)","v":0},{"$f":"SUM(XBW73:XBW77)","v":0},{"$f":"SUM(XBX73:XBX77)","v":0},{"$f":"SUM(XBY73:XBY77)","v":0},{"$f":"SUM(XBZ73:XBZ77)","v":0},{"$f":"SUM(XCA73:XCA77)","v":0},{"$f":"SUM(XCB73:XCB77)","v":0},{"$f":"SUM(XCC73:XCC77)","v":0},{"$f":"SUM(XCD73:XCD77)","v":0},{"$f":"SUM(XCE73:XCE77)","v":0},{"$f":"SUM(XCF73:XCF77)","v":0},{"$f":"SUM(XCG73:XCG77)","v":0},{"$f":"SUM(XCH73:XCH77)","v":0},{"$f":"SUM(XCI73:XCI77)","v":0},{"$f":"SUM(XCJ73:XCJ77)","v":0},{"$f":"SUM(XCK73:XCK77)","v":0},{"$f":"SUM(XCL73:XCL77)","v":0},{"$f":"SUM(XCM73:XCM77)","v":0},{"$f":"SUM(XCN73:XCN77)","v":0},{"$f":"SUM(XCO73:XCO77)","v":0},{"$f":"SUM(XCP73:XCP77)","v":0},{"$f":"SUM(XCQ73:XCQ77)","v":0},{"$f":"SUM(XCR73:XCR77)","v":0},{"$f":"SUM(XCS73:XCS77)","v":0},{"$f":"SUM(XCT73:XCT77)","v":0},{"$f":"SUM(XCU73:XCU77)","v":0},{"$f":"SUM(XCV73:XCV77)","v":0},{"$f":"SUM(XCW73:XCW77)","v":0},{"$f":"SUM(XCX73:XCX77)","v":0},{"$f":"SUM(XCY73:XCY77)","v":0},{"$f":"SUM(XCZ73:XCZ77)","v":0},{"$f":"SUM(XDA73:XDA77)","v":0},{"$f":"SUM(XDB73:XDB77)","v":0},{"$f":"SUM(XDC73:XDC77)","v":0},{"$f":"SUM(XDD73:XDD77)","v":0},{"$f":"SUM(XDE73:XDE77)","v":0},{"$f":"SUM(XDF73:XDF77)","v":0},{"$f":"SUM(XDG73:XDG77)","v":0},{"$f":"SUM(XDH73:XDH77)","v":0},{"$f":"SUM(XDI73:XDI77)","v":0},{"$f":"SUM(XDJ73:XDJ77)","v":0},{"$f":"SUM(XDK73:XDK77)","v":0},{"$f":"SUM(XDL73:XDL77)","v":0},{"$f":"SUM(XDM73:XDM77)","v":0},{"$f":"SUM(XDN73:XDN77)","v":0},{"$f":"SUM(XDO73:XDO77)","v":0},{"$f":"SUM(XDP73:XDP77)","v":0},{"$f":"SUM(XDQ73:XDQ77)","v":0},{"$f":"SUM(XDR73:XDR77)","v":0},{"$f":"SUM(XDS73:XDS77)","v":0},{"$f":"SUM(XDT73:XDT77)","v":0},{"$f":"SUM(XDU73:XDU77)","v":0},{"$f":"SUM(XDV73:XDV77)","v":0},{"$f":"SUM(XDW73:XDW77)","v":0},{"$f":"SUM(XDX73:XDX77)","v":0},{"$f":"SUM(XDY73:XDY77)","v":0},{"$f":"SUM(XDZ73:XDZ77)","v":0},{"$f":"SUM(XEA73:XEA77)","v":0},{"$f":"SUM(XEB73:XEB77)","v":0},{"$f":"SUM(XEC73:XEC77)","v":0},{"$f":"SUM(XED73:XED77)","v":0},{"$f":"SUM(XEE73:XEE77)","v":0},{"$f":"SUM(XEF73:XEF77)","v":0},{"$f":"SUM(XEG73:XEG77)","v":0},{"$f":"SUM(XEH73:XEH77)","v":0},{"$f":"SUM(XEI73:XEI77)","v":0},{"$f":"SUM(XEJ73:XEJ77)","v":0},{"$f":"SUM(XEK73:XEK77)","v":0},{"$f":"SUM(XEL73:XEL77)","v":0},{"$f":"SUM(XEM73:XEM77)","v":0},{"$f":"SUM(XEN73:XEN77)","v":0},{"$f":"SUM(XEO73:XEO77)","v":0},{"$f":"SUM(XEP73:XEP77)","v":0},{"$f":"SUM(XEQ73:XEQ77)","v":0},{"$f":"SUM(XER73:XER77)","v":0},{"$f":"SUM(XES73:XES77)","v":0},{"$f":"SUM(XET73:XET77)","v":0},{"$f":"SUM(XEU73:XEU77)","v":0},{"$f":"SUM(XEV73:XEV77)","v":0},{"$f":"SUM(XEW73:XEW77)","v":0},{"$f":"SUM(XEX73:XEX77)","v":0},{"$f":"SUM(XEY73:XEY77)","v":0},{"$f":"SUM(XEZ73:XEZ77)","v":0},{"$f":"SUM(XFA73:XFA77)","v":0},{"$f":"SUM(XFB73:XFB77)","v":0},{"$f":"SUM(XFC73:XFC77)","v":0},{"$f":"SUM(XFD73:XFD77)","v":0}]
[51000,"51000 Programi Unije – raspoloživ predujam",{"v":1753517,"d":"1,753,517"},{"v":1057921,"d":"1,057,921"},{"$f":"SUMIF('Unos rashoda i izdataka'!$D$3:$D$501,$A73,'Unos rashoda i izdataka'!K$3:K$501)+SUMIF('Unos rashoda P4'!$B$3:$B$501,$A73,'Unos rashoda P4'!I$3:I$501)","v":{"v":846895,"d":"846,895"}},{"$f":"SUMIF('Unos rashoda i izdataka'!$D$3:$D$501,$A73,'Unos rashoda i izdataka'!L$3:L$501)+SUMIF('Unos rashoda P4'!$B$3:$B$501,$A73,'Unos rashoda P4'!J$3:J$501)","v":{"v":987540,"d":"987,540"}},{"$f":"SUMIF('Unos rashoda i izdataka'!$D$3:$D$501,$A73,'Unos rashoda i izdataka'!M$3:M$501)+SUMIF('Unos rashoda P4'!$B$3:$B$501,$A73,'Unos rashoda P4'!K$3:K$501)","v":{"v":715000,"d":"715,000"}}]
[51011,"51011 Programi Unije – predfinanciranje iz izvora 11 Opći prihodi i primici",null,null,{"$f":"SUMIF('Unos rashoda i izdataka'!$D$3:$D$501,$A74,'Unos rashoda i izdataka'!K$3:K$501)+SUMIF('Unos rashoda P4'!$B$3:$B$501,$A74,'Unos rashoda P4'!I$3:I$501)","v":0},{"$f":"SUMIF('Unos rashoda i izdataka'!$D$3:$D$501,$A74,'Unos rashoda i izdataka'!L$3:L$501)+SUMIF('Unos rashoda P4'!$B$3:$B$501,$A74,'Unos rashoda P4'!J$3:J$501)","v":0},{"$f":"SUMIF('Unos rashoda i izdataka'!$D$3:$D$501,$A74,'Unos rashoda i izdataka'!M$3:M$501)+SUMIF('Unos rashoda P4'!$B$3:$B$501,$A74,'Unos rashoda P4'!K$3:K$501)","v":0}]
[51031,"51031 Programi Unije – predfinanciranje iz izvora 31 Vlastiti prihodi",null,null,{"$f":"SUMIF('Unos rashoda i izdataka'!$D$3:$D$501,$A75,'Unos rashoda i izdataka'!K$3:K$501)+SUMIF('Unos rashoda P4'!$B$3:$B$501,$A75,'Unos rashoda P4'!I$3:I$501)","v":0},{"$f":"SUMIF('Unos rashoda i izdataka'!$D$3:$D$501,$A75,'Unos rashoda i izdataka'!L$3:L$501)+SUMIF('Unos rashoda P4'!$B$3:$B$501,$A75,'Unos rashoda P4'!J$3:J$501)","v":0},{"$f":"SUMIF('Unos rashoda i izdataka'!$D$3:$D$501,$A75,'Unos rashoda i izdataka'!M$3:M$501)+SUMIF('Unos rashoda P4'!$B$3:$B$501,$A75,'Unos rashoda P4'!K$3:K$501)","v":0}]
[51043,"51043 Programi Unije – predfinanciranje iz izvora 43 Ostali prihodi za posebne namjene",null,null,{"$f":"SUMIF('Unos rashoda i izdataka'!$D$3:$D$501,$A76,'Unos rashoda i izdataka'!K$3:K$501)+SUMIF('Unos rashoda P4'!$B$3:$B$501,$A76,'Unos rashoda P4'!I$3:I$501)","v":0},{"$f":"SUMIF('Unos rashoda i izdataka'!$D$3:$D$501,$A76,'Unos rashoda i izdataka'!L$3:L$501)+SUMIF('Unos rashoda P4'!$B$3:$B$501,$A76,'Unos rashoda P4'!J$3:J$501)","v":0},{"$f":"SUMIF('Unos rashoda i izdataka'!$D$3:$D$501,$A76,'Unos rashoda i izdataka'!M$3:M$501)+SUMIF('Unos rashoda P4'!$B$3:$B$501,$A76,'Unos rashoda P4'!K$3:K$501)","v":0}]
[51081,"51081 Programi Unije – predfinanciranje iz izvora 81 Namjenski primici od zaduživanja",null,null,{"$f":"SUMIF('Unos rashoda i izdataka'!$D$3:$D$501,$A77,'Unos rashoda i izdataka'!K$3:K$501)+SUMIF('Unos rashoda P4'!$B$3:$B$501,$A77,'Unos rashoda P4'!I$3:I$501)","v":0},{"$f":"SUMIF('Unos rashoda i izdataka'!$D$3:$D$501,$A77,'Unos rashoda i izdataka'!L$3:L$501)+SUMIF('Unos rashoda P4'!$B$3:$B$501,$A77,'Unos rashoda P4'!J$3:J$501)","v":0},{"$f":"SUMIF('Unos rashoda i izdataka'!$D$3:$D$501,$A77,'Unos rashoda i izdataka'!M$3:M$501)+SUMIF('Unos rashoda P4'!$B$3:$B$501,$A77,'Unos rashoda P4'!K$3:K$501)","v":0}]
[52,"52 Ostale pomoći ",{"v":802443.16,"d":"802,443"},{"v":800154,"d":"800,154"},{"$f":"SUMIF('Unos rashoda i izdataka'!$R$3:$R$501,$A78,'Unos rashoda i izdataka'!K$3:K$501)+SUMIF('Unos rashoda P4'!$A$3:$A$501,$A78,'Unos rashoda P4'!I$3:I$501)","v":0},{"$f":"SUMIF('Unos rashoda i izdataka'!$D$3:$D$501,$A78,'Unos rashoda i izdataka'!L$3:L$501)+SUMIF('Unos rashoda P4'!$B$3:$B$501,$A78,'Unos rashoda P4'!J$3:J$501)","v":0},{"$f":"SUMIF('Unos rashoda i izdataka'!$D$3:$D$501,$A78,'Unos rashoda i izdataka'!M$3:M$501)+SUMIF('Unos rashoda P4'!$B$3:$B$501,$A78,'Unos rashoda P4'!K$3:K$501)","v":0},{"$f":"'OPĆI DIO'!$C$1","v":"1812 Sveučilište u Zagrebu FAKULTET PROMETNIH ZNANOSTI"}]
[53,"Ostale darovnice",{"$f":"SUM(C80:C82)","v":0},{"$f":"SUM(D80:D82)","v":0},{"$f":"SUM(E80:E82)","v":{"v":59360,"d":"59,360"}},{"$f":"SUM(F80:F82)","v":0},{"$f":"SUM(G80:G82)","v":0}]
[531,"531 Švicarsko - hrvatski program suradnje",null,null,{"$f":"SUMIF('Unos rashoda i izdataka'!$R$3:$R$501,$A80,'Unos rashoda i izdataka'!K$3:K$501)+SUMIF('Unos rashoda P4'!$A$3:$A$501,$A80,'Unos rashoda P4'!I$3:I$501)","v":0},{"$f":"SUMIF('Unos rashoda i izdataka'!$D$3:$D$501,$A80,'Unos rashoda i izdataka'!L$3:L$501)+SUMIF('Unos rashoda P4'!$B$3:$B$501,$A80,'Unos rashoda P4'!J$3:J$501)","v":0},{"$f":"SUMIF('Unos rashoda i izdataka'!$D$3:$D$501,$A80,'Unos rashoda i izdataka'!M$3:M$501)+SUMIF('Unos rashoda P4'!$B$3:$B$501,$A80,'Unos rashoda P4'!K$3:K$501)","v":0},{"$f":"'OPĆI DIO'!$C$1","v":"1812 Sveučilište u Zagrebu FAKULTET PROMETNIH ZNANOSTI"}]
[532,"532 Financijski mehanizam Europskog gospodarskog prostora i Norveški financijski mehanizam",null,null,{"$f":"SUMIF('Unos rashoda i izdataka'!$D$3:$D$501,$A81,'Unos rashoda i izdataka'!K$3:K$501)+SUMIF('Unos rashoda P4'!$A$3:$A$501,$A81,'Unos rashoda P4'!I$3:I$501)","v":0},{"$f":"SUMIF('Unos rashoda i izdataka'!$D$3:$D$501,$A81,'Unos rashoda i izdataka'!L$3:L$501)+SUMIF('Unos rashoda P4'!$B$3:$B$501,$A81,'Unos rashoda P4'!J$3:J$501)","v":0},{"$f":"SUMIF('Unos rashoda i izdataka'!$D$3:$D$501,$A81,'Unos rashoda i izdataka'!M$3:M$501)+SUMIF('Unos rashoda P4'!$B$3:$B$501,$A81,'Unos rashoda P4'!K$3:K$501)","v":0}]
[533,"533 Ostale darovnice",null,null,{"$f":"SUMIF('Unos rashoda i izdataka'!$D$3:$D$501,$A82,'Unos rashoda i izdataka'!K$3:K$501)+SUMIF('Unos rashoda P4'!$A$3:$A$501,$A82,'Unos rashoda P4'!I$3:I$501)","v":{"v":59360,"d":"59,360"}},{"$f":"SUMIF('Unos rashoda i izdataka'!$D$3:$D$501,$A82,'Unos rashoda i izdataka'!L$3:L$501)+SUMIF('Unos rashoda P4'!$B$3:$B$501,$A82,'Unos rashoda P4'!J$3:J$501)","v":0},{"$f":"SUMIF('Unos rashoda i izdataka'!$D$3:$D$501,$A82,'Unos rashoda i izdataka'!M$3:M$501)+SUMIF('Unos rashoda P4'!$B$3:$B$501,$A82,'Unos rashoda P4'!K$3:K$501)","v":0}]
[54,"54 Europski poljoprivredni jamstveni fond (EAGF)"]
[552," 552 Ostale pomoći ",null,null,{"$f":"SUMIF('Unos rashoda i izdataka'!$D$3:$D$501,$A84,'Unos rashoda i izdataka'!K$3:K$501)+SUMIF('Unos rashoda P4'!$A$3:$A$501,$A84,'Unos rashoda P4'!I$3:I$501)","v":0},{"$f":"SUMIF('Unos rashoda i izdataka'!$D$3:$D$501,$A84,'Unos rashoda i izdataka'!L$3:L$501)+SUMIF('Unos rashoda P4'!$B$3:$B$501,$A84,'Unos rashoda P4'!J$3:J$501)","v":0},{"$f":"SUMIF('Unos rashoda i izdataka'!$D$3:$D$501,$A84,'Unos rashoda i izdataka'!M$3:M$501)+SUMIF('Unos rashoda P4'!$B$3:$B$501,$A84,'Unos rashoda P4'!K$3:K$501)","v":0},{"$f":"'OPĆI DIO'!$C$1","v":"1812 Sveučilište u Zagrebu FAKULTET PROMETNIH ZNANOSTI"}]
[559,"559 Ostale refundacije iz sredstava EU",null,null,{"$f":"SUMIF('Unos rashoda i izdataka'!$D$3:$D$501,$A85,'Unos rashoda i izdataka'!K$3:K$501)+SUMIF('Unos rashoda P4'!$A$3:$A$501,$A85,'Unos rashoda P4'!I$3:I$501)","v":0},{"$f":"SUMIF('Unos rashoda i izdataka'!$D$3:$D$501,$A85,'Unos rashoda i izdataka'!L$3:L$501)+SUMIF('Unos rashoda P4'!$B$3:$B$501,$A85,'Unos rashoda P4'!J$3:J$501)","v":0},{"$f":"SUMIF('Unos rashoda i izdataka'!$D$3:$D$501,$A85,'Unos rashoda i izdataka'!M$3:M$501)+SUMIF('Unos rashoda P4'!$B$3:$B$501,$A85,'Unos rashoda P4'!K$3:K$501)","v":0},{"$f":"'OPĆI DIO'!$C$1","v":"1812 Sveučilište u Zagrebu FAKULTET PROMETNIH ZNANOSTI"}]
[561,"561 Europski socijalni fond (ESF)",null,null,{"$f":"SUMIF('Unos rashoda i izdataka'!$D$3:$D$501,$A86,'Unos rashoda i izdataka'!K$3:K$501)+SUMIF('Unos rashoda P4'!$A$3:$A$501,$A86,'Unos rashoda P4'!I$3:I$501)","v":0},{"$f":"SUMIF('Unos rashoda i izdataka'!$D$3:$D$501,$A86,'Unos rashoda i izdataka'!L$3:L$501)+SUMIF('Unos rashoda P4'!$B$3:$B$501,$A86,'Unos rashoda P4'!J$3:J$501)","v":0},{"$f":"SUMIF('Unos rashoda i izdataka'!$D$3:$D$501,$A86,'Unos rashoda i izdataka'!M$3:M$501)+SUMIF('Unos rashoda P4'!$B$3:$B$501,$A86,'Unos rashoda P4'!K$3:K$501)","v":0},{"$f":"'OPĆI DIO'!$C$1","v":"1812 Sveučilište u Zagrebu FAKULTET PROMETNIH ZNANOSTI"}]
[562,"562 Kohezijski fond",null,null,{"$f":"SUMIF('Unos rashoda i izdataka'!$D$3:$D$501,$A87,'Unos rashoda i izdataka'!K$3:K$501)+SUMIF('Unos rashoda P4'!$A$3:$A$501,$A87,'Unos rashoda P4'!I$3:I$501)","v":0},{"$f":"SUMIF('Unos rashoda i izdataka'!$D$3:$D$501,$A87,'Unos rashoda i izdataka'!L$3:L$501)+SUMIF('Unos rashoda P4'!$B$3:$B$501,$A87,'Unos rashoda P4'!J$3:J$501)","v":0},{"$f":"SUMIF('Unos rashoda i izdataka'!$D$3:$D$501,$A87,'Unos rashoda i izdataka'!M$3:M$501)+SUMIF('Unos rashoda P4'!$B$3:$B$501,$A87,'Unos rashoda P4'!K$3:K$501)","v":0}]
[563,"563 Europski fond za regionalni razvoj (EFRR)",{"v":118048.29,"d":"118,048"},null,{"$f":"SUMIF('Unos rashoda i izdataka'!$D$3:$D$501,$A88,'Unos rashoda i izdataka'!K$3:K$501)+SUMIF('Unos rashoda P4'!$A$3:$A$501,$A88,'Unos rashoda P4'!I$3:I$501)","v":{"v":217613,"d":"217,613"}},{"$f":"SUMIF('Unos rashoda i izdataka'!$D$3:$D$501,$A88,'Unos rashoda i izdataka'!L$3:L$501)+SUMIF('Unos rashoda P4'!$B$3:$B$501,$A88,'Unos rashoda P4'!J$3:J$501)","v":0},{"$f":"SUMIF('Unos rashoda i izdataka'!$D$3:$D$501,$A88,'Unos rashoda i izdataka'!M$3:M$501)+SUMIF('Unos rashoda P4'!$B$3:$B$501,$A88,'Unos rashoda P4'!K$3:K$501)","v":0},{"$f":"'OPĆI DIO'!$C$1","v":"1812 Sveučilište u Zagrebu FAKULTET PROMETNIH ZNANOSTI"}]
[564,"564 Fond za pomorstvo, ribarstvo i akvakulturu",null,null,{"$f":"SUMIF('Unos rashoda i izdataka'!$D$3:$D$501,$A89,'Unos rashoda i izdataka'!K$3:K$501)+SUMIF('Unos rashoda P4'!$A$3:$A$501,$A89,'Unos rashoda P4'!I$3:I$501)","v":0},{"$f":"SUMIF('Unos rashoda i izdataka'!$D$3:$D$501,$A89,'Unos rashoda i izdataka'!L$3:L$501)+SUMIF('Unos rashoda P4'!$B$3:$B$501,$A89,'Unos rashoda P4'!J$3:J$501)","v":0},{"$f":"SUMIF('Unos rashoda i izdataka'!$D$3:$D$501,$A89,'Unos rashoda i izdataka'!M$3:M$501)+SUMIF('Unos rashoda P4'!$B$3:$B$501,$A89,'Unos rashoda P4'!K$3:K$501)","v":0}]
[565,"565 Europski poljoprivredni fond za ruralni razvoj",null,null,{"$f":"SUMIF('Unos rashoda i izdataka'!$D$3:$D$501,$A90,'Unos rashoda i izdataka'!K$3:K$501)+SUMIF('Unos rashoda P4'!$A$3:$A$501,$A90,'Unos rashoda P4'!I$3:I$501)","v":0},{"$f":"SUMIF('Unos rashoda i izdataka'!$D$3:$D$501,$A90,'Unos rashoda i izdataka'!L$3:L$501)+SUMIF('Unos rashoda P4'!$B$3:$B$501,$A90,'Unos rashoda P4'!J$3:J$501)","v":0},{"$f":"SUMIF('Unos rashoda i izdataka'!$D$3:$D$501,$A90,'Unos rashoda i izdataka'!M$3:M$501)+SUMIF('Unos rashoda P4'!$B$3:$B$501,$A90,'Unos rashoda P4'!K$3:K$501)","v":0}]
[566,"566 Modernizacijski fond",null,null,{"$f":"SUMIF('Unos rashoda i izdataka'!$D$3:$D$501,$A91,'Unos rashoda i izdataka'!K$3:K$501)+SUMIF('Unos rashoda P4'!$A$3:$A$501,$A91,'Unos rashoda P4'!I$3:I$501)","v":0},{"$f":"SUMIF('Unos rashoda i izdataka'!$D$3:$D$501,$A91,'Unos rashoda i izdataka'!L$3:L$501)+SUMIF('Unos rashoda P4'!$B$3:$B$501,$A91,'Unos rashoda P4'!J$3:J$501)","v":0},{"$f":"SUMIF('Unos rashoda i izdataka'!$D$3:$D$501,$A91,'Unos rashoda i izdataka'!M$3:M$501)+SUMIF('Unos rashoda P4'!$B$3:$B$501,$A91,'Unos rashoda P4'!K$3:K$501)","v":0}]
[567,"567 Socijalni fond za klimatsku politiku",null,null,{"$f":"SUMIF('Unos rashoda i izdataka'!$D$3:$D$501,$A92,'Unos rashoda i izdataka'!K$3:K$501)+SUMIF('Unos rashoda P4'!$A$3:$A$501,$A92,'Unos rashoda P4'!I$3:I$501)","v":0},{"$f":"SUMIF('Unos rashoda i izdataka'!$D$3:$D$501,$A92,'Unos rashoda i izdataka'!L$3:L$501)+SUMIF('Unos rashoda P4'!$B$3:$B$501,$A92,'Unos rashoda P4'!J$3:J$501)","v":0},{"$f":"SUMIF('Unos rashoda i izdataka'!$D$3:$D$501,$A92,'Unos rashoda i izdataka'!M$3:M$501)+SUMIF('Unos rashoda P4'!$B$3:$B$501,$A92,'Unos rashoda P4'!K$3:K$501)","v":0}]
[575,"575 Fond za azil, migracije i integraciju",null,null,{"$f":"SUMIF('Unos rashoda i izdataka'!$D$3:$D$501,$A93,'Unos rashoda i izdataka'!K$3:K$501)+SUMIF('Unos rashoda P4'!$A$3:$A$501,$A93,'Unos rashoda P4'!I$3:I$501)","v":0},{"$f":"SUMIF('Unos rashoda i izdataka'!$D$3:$D$501,$A93,'Unos rashoda i izdataka'!L$3:L$501)+SUMIF('Unos rashoda P4'!$B$3:$B$501,$A93,'Unos rashoda P4'!J$3:J$501)","v":0},{"$f":"SUMIF('Unos rashoda i izdataka'!$D$3:$D$501,$A93,'Unos rashoda i izdataka'!M$3:M$501)+SUMIF('Unos rashoda P4'!$B$3:$B$501,$A93,'Unos rashoda P4'!K$3:K$501)","v":0},{"$f":"'OPĆI DIO'!$C$1","v":"1812 Sveučilište u Zagrebu FAKULTET PROMETNIH ZNANOSTI"}]
[577,"577 Fond za pravednu tranziciju",null,null,{"$f":"SUMIF('Unos rashoda i izdataka'!$D$3:$D$501,$A94,'Unos rashoda i izdataka'!K$3:K$501)+SUMIF('Unos rashoda P4'!$A$3:$A$501,$A94,'Unos rashoda P4'!I$3:I$501)","v":0},{"$f":"SUMIF('Unos rashoda i izdataka'!$D$3:$D$501,$A94,'Unos rashoda i izdataka'!L$3:L$501)+SUMIF('Unos rashoda P4'!$B$3:$B$501,$A94,'Unos rashoda P4'!J$3:J$501)","v":0},{"$f":"SUMIF('Unos rashoda i izdataka'!$D$3:$D$501,$A94,'Unos rashoda i izdataka'!M$3:M$501)+SUMIF('Unos rashoda P4'!$B$3:$B$501,$A94,'Unos rashoda P4'!K$3:K$501)","v":0}]
[578,"578 Fond za unutarnju sigurnost",null,null,{"$f":"SUMIF('Unos rashoda i izdataka'!$D$3:$D$501,$A95,'Unos rashoda i izdataka'!K$3:K$501)+SUMIF('Unos rashoda P4'!$A$3:$A$501,$A95,'Unos rashoda P4'!I$3:I$501)","v":0},{"$f":"SUMIF('Unos rashoda i izdataka'!$D$3:$D$501,$A95,'Unos rashoda i izdataka'!L$3:L$501)+SUMIF('Unos rashoda P4'!$B$3:$B$501,$A95,'Unos rashoda P4'!J$3:J$501)","v":0},{"$f":"SUMIF('Unos rashoda i izdataka'!$D$3:$D$501,$A95,'Unos rashoda i izdataka'!M$3:M$501)+SUMIF('Unos rashoda P4'!$B$3:$B$501,$A95,'Unos rashoda P4'!K$3:K$501)","v":0}]
[579,"579 Fond za integrirano upravljanje granicama",null,null,{"$f":"SUMIF('Unos rashoda i izdataka'!$D$3:$D$501,$A96,'Unos rashoda i izdataka'!K$3:K$501)+SUMIF('Unos rashoda P4'!$A$3:$A$501,$A96,'Unos rashoda P4'!I$3:I$501)","v":0},{"$f":"SUMIF('Unos rashoda i izdataka'!$D$3:$D$501,$A96,'Unos rashoda i izdataka'!L$3:L$501)+SUMIF('Unos rashoda P4'!$B$3:$B$501,$A96,'Unos rashoda P4'!J$3:J$501)","v":0},{"$f":"SUMIF('Unos rashoda i izdataka'!$D$3:$D$501,$A96,'Unos rashoda i izdataka'!M$3:M$501)+SUMIF('Unos rashoda P4'!$B$3:$B$501,$A96,'Unos rashoda P4'!K$3:K$501)","v":0}]
[581,"581 Mehanizam za oporavak i otpornost",null,null,{"$f":"SUMIF('Unos rashoda i izdataka'!$D$3:$D$501,$A97,'Unos rashoda i izdataka'!K$3:K$501)+SUMIF('Unos rashoda P4'!$A$3:$A$501,$A97,'Unos rashoda P4'!I$3:I$501)","v":{"v":334906,"d":"334,906"}},{"$f":"SUMIF('Unos rashoda i izdataka'!$D$3:$D$501,$A97,'Unos rashoda i izdataka'!L$3:L$501)+SUMIF('Unos rashoda P4'!$B$3:$B$501,$A97,'Unos rashoda P4'!J$3:J$501)","v":{"v":296371,"d":"296,371"}},{"$f":"SUMIF('Unos rashoda i izdataka'!$D$3:$D$501,$A97,'Unos rashoda i izdataka'!M$3:M$501)+SUMIF('Unos rashoda P4'!$B$3:$B$501,$A97,'Unos rashoda P4'!K$3:K$501)","v":{"v":296371,"d":"296,371"}},{"$f":"'OPĆI DIO'!$C$1","v":"1812 Sveučilište u Zagrebu FAKULTET PROMETNIH ZNANOSTI"}]
[6,"6 Donacije",{"$f":"+C99+C100","v":0},{"$f":"+D99+D100","v":0},{"$f":"+E99","v":{"v":20000,"d":"20,000"}},{"$f":"+F99","v":{"v":20000,"d":"20,000"}},{"v":20000,"d":"20,000"},"1812 Sveučilište u Zagrebu FAKULTET PROMETNIH ZNANOSTI",0,0,0,0,0,0,0,0,0,0,0,0,0,0,0,0,0,0,0,0,0,0,0,0,0,0,0,0,0,0,0,0,0,0,0,0,0,0,0,0,0,0,0,0,0,0,0,0,0,0,0,0,0,0,0,0,0,0,0,0,0,{"$f":"+BR99","v":0},0,0,0,0,0,0,0,0,0,0,0,0,0,0,0,0,0,0,0,0,0,0,0,0,0,0,0,0,0,0,0,0,0,0,0,0,0,0,0,0,0,0,0,0,0,0,0,0,0,0,0,0,0,0,0,0,0,0,0,0,0,0,0,{"$f":"+ED99","v":0},0,0,0,0,0,0,0,0,0,0,0,0,0,0,0,0,0,0,0,0,0,0,0,0,0,0,0,0,0,0,0,0,0,0,0,0,0,0,0,0,0,0,0,0,0,0,0,0,0,0,0,0,0,0,0,0,0,0,0,0,0,0,0,{"$f":"+GP99","v":0},0,0,0,0,0,0,0,0,0,0,0,0,0,0,0,0,0,0,0,0,0,0,0,0,0,0,0,0,0,0,0,0,0,0,0,0,0,0,0,0,0,0,0,0,0,0,0,0,0,0,0,0,0,0,0,0,0,0,0,0,0,0,0,{"$f":"+JB99","v":0},0,0,0,0,0,0,0,0,0,0,0,0,0,0,0,0,0,0,0,0,0,0,0,0,0,0,0,0,0,0,0,0,0,0,0,0,0,0,0,0,0,0,0,0,0,0,0,0,0,0,0,0,0,0,0,0,0,0,0,0,0,0,0,{"$f":"+LN99","v":0},0,0,0,0,0,0,0,0,0,0,0,0,0,0,0,0,0,0,0,0,0,0,0,0,0,0,0,0,0,0,0,0,0,0,0,0,0,0,0,0,0,0,0,0,0,0,0,0,0,0,0,0,0,0,0,0,0,0,0,0,0,0,0,{"$f":"+NZ99","v":0},0,0,0,0,0,0,0,0,0,0,0,0,0,0,0,0,0,0,0,0,0,0,0,0,0,0,0,0,0,0,0,0,0,0,0,0,0,0,0,0,0,0,0,0,0,0,0,0,0,0,0,0,0,0,0,0,0,0,0,0,0,0,0,{"$f":"+QL99","v":0},0,0,0,0,0,0,0,0,0,0,0,0,0,0,0,0,0,0,0,0,0,0,0,0,0,0,0,0,0,0,0,0,0,0,0,0,0,0,0,0,0,0,0,0,0,0,0,0,0,0,0,0,0,0,0,0,0,0,0,0,0,0,0,{"$f":"+SX99","v":0},0,0,0,0,0,0,0,0,0,0,0,0,0,0,0,0,0,0,0,0,0,0,0,0,0,0,0,0,0,0,0,0,0,0,0,0,0,0,0,0,0,0,0,0,0,0,0,0,0,0,0,0,0,0,0,0,0,0,0,0,0,0,0,{"$f":"+VJ99","v":0},0,0,0,0,0,0,0,0,0,0,0,0,0,0,0,0,0,0,0,0,0,0,0,0,0,0,0,0,0,0,0,0,0,0,0,0,0,0,0,0,0,0,0,0,0,0,0,0,0,0,0,0,0,0,0,0,0,0,0,0,0,0,0,{"$f":"+XV99","v":0},0,0,0,0,0,0,0,0,0,0,0,0,0,0,0,0,0,0,0,0,0,0,0,0,0,0,0,0,0,0,0,0,0,0,0,0,0,0,0,0,0,0,0,0,0,0,0,0,0,0,0,0,0,0,0,0,0,0,0,0,0,0,0,{"$f":"+AAH99","v":0},0,0,0,0,0,0,0,0,0,0,0,0,0,0,0,0,0,0,0,0,0,0,0,0,0,0,0,0,0,0,0,0,0,0,0,0,0,0,0,0,0,0,0,0,0,0,0,0,0,0,0,0,0,0,0,0,0,0,0,0,0,0,0,{"$f":"+ACT99","v":0},0,0,0,0,0,0,0,0,0,0,0,0,0,0,0,0,0,0,0,0,0,0,0,0,0,0,0,0,0,0,0,0,0,0,0,0,0,0,0,0,0,0,0,0,0,0,0,0,0,0,0,0,0,0,0,0,0,0,0,0,0,0,0,{"$f":"+AFF99","v":0},0,0,0,0,0,0,0,0,0,0,0,0,0,0,0,0,0,0,0,0,0,0,0,0,0,0,0,0,0,0,0,0,0,0,0,0,0,0,0,0,0,0,0,0,0,0,0,0,0,0,0,0,0,0,0,0,0,0,0,0,0,0,0,{"$f":"+AHR99","v":0},0,0,0,0,0,0,0,0,0,0,0,0,0,0,0,0,0,0,0,0,0,0,0,0,0,0,0,0,0,0,0,0,0,0,0,0,0,0,0,0,0,0,0,0,0,0,0,0,0,0,0,0,0,0,0,0,0,0,0,0,0,0,0,{"$f":"+AKD99","v":0},0,0,0,0,0,0,0,0,0,0,0,0,0,0,0,0,0,0,0,0,0,0,0,0,0,0,0,0,0,0,0,0,0,0,0,0,0,0,0,0,0,0,0,0,0,0,0,0,0,0,0,0,0,0,0,0,0,0,0,0,0,0,0,{"$f":"+AMP99","v":0},0,0,0,0,0,0,0,0,0,0,0,0,0,0,0,0,0,0,0,0,0,0,0,0,0,0,0,0,0,0,0,0,0,0,0,0,0,0,0,0,0,0,0,0,0,0,0,0,0,0,0,0,0,0,0,0,0,0,0,0,0,0,0,{"$f":"+APB99","v":0},0,0,0,0,0,0,0,0,0,0,0,0,0,0,0,0,0,0,0,0,0,0,0,0,0,0,0,0,0,0,0,0,0,0,0,0,0,0,0,0,0,0,0,0,0,0,0,0,0,0,0,0,0,0,0,0,0,0,0,0,0,0,0,{"$f":"+ARN99","v":0},0,0,0,0,0,0,0,0,0,0,0,0,0,0,0,0,0,0,0,0,0,0,0,0,0,0,0,0,0,0,0,0,0,0,0,0,0,0,0,0,0,0,0,0,0,0,0,0,0,0,0,0,0,0,0,0,0,0,0,0,0,0,0,{"$f":"+ATZ99","v":0},0,0,0,0,0,0,0,0,0,0,0,0,0,0,0,0,0,0,0,0,0,0,0,0,0,0,0,0,0,0,0,0,0,0,0,0,0,0,0,0,0,0,0,0,0,0,0,0,0,0,0,0,0,0,0,0,0,0,0,0,0,0,0,{"$f":"+AWL99","v":0},0,0,0,0,0,0,0,0,0,0,0,0,0,0,0,0,0,0,0,0,0,0,0,0,0,0,0,0,0,0,0,0,0,0,0,0,0,0,0,0,0,0,0,0,0,0,0,0,0,0,0,0,0,0,0,0,0,0,0,0,0,0,0,{"$f":"+AYX99","v":0},0,0,0,0,0,0,0,0,0,0,0,0,0,0,0,0,0,0,0,0,0,0,0,0,0,0,0,0,0,0,0,0,0,0,0,0,0,0,0,0,0,0,0,0,0,0,0,0,0,0,0,0,0,0,0,0,0,0,0,0,0,0,0,{"$f":"+BBJ99","v":0},0,0,0,0,0,0,0,0,0,0,0,0,0,0,0,0,0,0,0,0,0,0,0,0,0,0,0,0,0,0,0,0,0,0,0,0,0,0,0,0,0,0,0,0,0,0,0,0,0,0,0,0,0,0,0,0,0,0,0,0,0,0,0,{"$f":"+BDV99","v":0},0,0,0,0,0,0,0,0,0,0,0,0,0,0,0,0,0,0,0,0,0,0,0,0,0,0,0,0,0,0,0,0,0,0,0,0,0,0,0,0,0,0,0,0,0,0,0,0,0,0,0,0,0,0,0,0,0,0,0,0,0,0,0,{"$f":"+BGH99","v":0},0,0,0,0,0,0,0,0,0,0,0,0,0,0,0,0,0,0,0,0,0,0,0,0,0,0,0,0,0,0,0,0,0,0,0,0,0,0,0,0,0,0,0,0,0,0,0,0,0,0,0,0,0,0,0,0,0,0,0,0,0,0,0,{"$f":"+BIT99","v":0},0,0,0,0,0,0,0,0,0,0,0,0,0,0,0,0,0,0,0,0,0,0,0,0,0,0,0,0,0,0,0,0,0,0,0,0,0,0,0,0,0,0,0,0,0,0,0,0,0,0,0,0,0,0,0,0,0,0,0,0,0,0,0,{"$f":"+BLF99","v":0},0,0,0,0,0,0,0,0,0,0,0,0,0,0,0,0,0,0,0,0,0,0,0,0,0,0,0,0,0,0,0,0,0,0,0,0,0,0,0,0,0,0,0,0,0,0,0,0,0,0,0,0,0,0,0,0,0,0,0,0,0,0,0,{"$f":"+BNR99","v":0},0,0,0,0,0,0,0,0,0,0,0,0,0,0,0,0,0,0,0,0,0,0,0,0,0,0,0,0,0,0,0,0,0,0,0,0,0,0,0,0,0,0,0,0,0,0,0,0,0,0,0,0,0,0,0,0,0,0,0,0,0,0,0,{"$f":"+BQD99","v":0},0,0,0,0,0,0,0,0,0,0,0,0,0,0,0,0,0,0,0,0,0,0,0,0,0,0,0,0,0,0,0,0,0,0,0,0,0,0,0,0,0,0,0,0,0,0,0,0,0,0,0,0,0,0,0,0,0,0,0,0,0,0,0,{"$f":"+BSP99","v":0},0,0,0,0,0,0,0,0,0,0,0,0,0,0,0,0,0,0,0,0,0,0,0,0,0,0,0,0,0,0,0,0,0,0,0,0,0,0,0,0,0,0,0,0,0,0,0,0,0,0,0,0,0,0,0,0,0,0,0,0,0,0,0,{"$f":"+BVB99","v":0},0,0,0,0,0,0,0,0,0,0,0,0,0,0,0,0,0,0,0,0,0,0,0,0,0,0,0,0,0,0,0,0,0,0,0,0,0,0,0,0,0,0,0,0,0,0,0,0,0,0,0,0,0,0,0,0,0,0,0,0,0,0,0,{"$f":"+BXN99","v":0},0,0,0,0,0,0,0,0,0,0,0,0,0,0,0,0,0,0,0,0,0,0,0,0,0,0,0,0,0,0,0,0,0,0,0,0,0,0,0,0,0,0,0,0,0,0,0,0,0,0,0,0,0,0,0,0,0,0,0,0,0,0,0,{"$f":"+BZZ99","v":0},0,0,0,0,0,0,0,0,0,0,0,0,0,0,0,0,0,0,0,0,0,0,0,0,0,0,0,0,0,0,0,0,0,0,0,0,0,0,0,0,0,0,0,0,0,0,0,0,0,0,0,0,0,0,0,0,0,0,0,0,0,0,0,{"$f":"+CCL99","v":0},0,0,0,0,0,0,0,0,0,0,0,0,0,0,0,0,0,0,0,0,0,0,0,0,0,0,0,0,0,0,0,0,0,0,0,0,0,0,0,0,0,0,0,0,0,0,0,0,0,0,0,0,0,0,0,0,0,0,0,0,0,0,0,{"$f":"+CEX99","v":0},0,0,0,0,0,0,0,0,0,0,0,0,0,0,0,0,0,0,0,0,0,0,0,0,0,0,0,0,0,0,0,0,0,0,0,0,0,0,0,0,0,0,0,0,0,0,0,0,0,0,0,0,0,0,0,0,0,0,0,0,0,0,0,{"$f":"+CHJ99","v":0},0,0,0,0,0,0,0,0,0,0,0,0,0,0,0,0,0,0,0,0,0,0,0,0,0,0,0,0,0,0,0,0,0,0,0,0,0,0,0,0,0,0,0,0,0,0,0,0,0,0,0,0,0,0,0,0,0,0,0,0,0,0,0,{"$f":"+CJV99","v":0},0,0,0,0,0,0,0,0,0,0,0,0,0,0,0,0,0,0,0,0,0,0,0,0,0,0,0,0,0,0,0,0,0,0,0,0,0,0,0,0,0,0,0,0,0,0,0,0,0,0,0,0,0,0,0,0,0,0,0,0,0,0,0,{"$f":"+CMH99","v":0},0,0,0,0,0,0,0,0,0,0,0,0,0,0,0,0,0,0,0,0,0,0,0,0,0,0,0,0,0,0,0,0,0,0,0,0,0,0,0,0,0,0,0,0,0,0,0,0,0,0,0,0,0,0,0,0,0,0,0,0,0,0,0,{"$f":"+COT99","v":0},0,0,0,0,0,0,0,0,0,0,0,0,0,0,0,0,0,0,0,0,0,0,0,0,0,0,0,0,0,0,0,0,0,0,0,0,0,0,0,0,0,0,0,0,0,0,0,0,0,0,0,0,0,0,0,0,0,0,0,0,0,0,0,{"$f":"+CRF99","v":0},0,0,0,0,0,0,0,0,0,0,0,0,0,0,0,0,0,0,0,0,0,0,0,0,0,0,0,0,0,0,0,0,0,0,0,0,0,0,0,0,0,0,0,0,0,0,0,0,0,0,0,0,0,0,0,0,0,0,0,0,0,0,0,{"$f":"+CTR99","v":0},0,0,0,0,0,0,0,0,0,0,0,0,0,0,0,0,0,0,0,0,0,0,0,0,0,0,0,0,0,0,0,0,0,0,0,0,0,0,0,0,0,0,0,0,0,0,0,0,0,0,0,0,0,0,0,0,0,0,0,0,0,0,0,{"$f":"+CWD99","v":0},0,0,0,0,0,0,0,0,0,0,0,0,0,0,0,0,0,0,0,0,0,0,0,0,0,0,0,0,0,0,0,0,0,0,0,0,0,0,0,0,0,0,0,0,0,0,0,0,0,0,0,0,0,0,0,0,0,0,0,0,0,0,0,{"$f":"+CYP99","v":0},0,0,0,0,0,0,0,0,0,0,0,0,0,0,0,0,0,0,0,0,0,0,0,0,0,0,0,0,0,0,0,0,0,0,0,0,0,0,0,0,0,0,0,0,0,0,0,0,0,0,0,0,0,0,0,0,0,0,0,0,0,0,0,{"$f":"+DBB99","v":0},0,0,0,0,0,0,0,0,0,0,0,0,0,0,0,0,0,0,0,0,0,0,0,0,0,0,0,0,0,0,0,0,0,0,0,0,0,0,0,0,0,0,0,0,0,0,0,0,0,0,0,0,0,0,0,0,0,0,0,0,0,0,0,{"$f":"+DDN99","v":0},0,0,0,0,0,0,0,0,0,0,0,0,0,0,0,0,0,0,0,0,0,0,0,0,0,0,0,0,0,0,0,0,0,0,0,0,0,0,0,0,0,0,0,0,0,0,0,0,0,0,0,0,0,0,0,0,0,0,0,0,0,0,0,{"$f":"+DFZ99","v":0},0,0,0,0,0,0,0,0,0,0,0,0,0,0,0,0,0,0,0,0,0,0,0,0,0,0,0,0,0,0,0,0,0,0,0,0,0,0,0,0,0,0,0,0,0,0,0,0,0,0,0,0,0,0,0,0,0,0,0,0,0,0,0,{"$f":"+DIL99","v":0},0,0,0,0,0,0,0,0,0,0,0,0,0,0,0,0,0,0,0,0,0,0,0,0,0,0,0,0,0,0,0,0,0,0,0,0,0,0,0,0,0,0,0,0,0,0,0,0,0,0,0,0,0,0,0,0,0,0,0,0,0,0,0,{"$f":"+DKX99","v":0},0,0,0,0,0,0,0,0,0,0,0,0,0,0,0,0,0,0,0,0,0,0,0,0,0,0,0,0,0,0,0,0,0,0,0,0,0,0,0,0,0,0,0,0,0,0,0,0,0,0,0,0,0,0,0,0,0,0,0,0,0,0,0,{"$f":"+DNJ99","v":0},0,0,0,0,0,0,0,0,0,0,0,0,0,0,0,0,0,0,0,0,0,0,0,0,0,0,0,0,0,0,0,0,0,0,0,0,0,0,0,0,0,0,0,0,0,0,0,0,0,0,0,0,0,0,0,0,0,0,0,0,0,0,0,{"$f":"+DPV99","v":0},0,0,0,0,0,0,0,0,0,0,0,0,0,0,0,0,0,0,0,0,0,0,0,0,0,0,0,0,0,0,0,0,0,0,0,0,0,0,0,0,0,0,0,0,0,0,0,0,0,0,0,0,0,0,0,0,0,0,0,0,0,0,0,{"$f":"+DSH99","v":0},0,0,0,0,0,0,0,0,0,0,0,0,0,0,0,0,0,0,0,0,0,0,0,0,0,0,0,0,0,0,0,0,0,0,0,0,0,0,0,0,0,0,0,0,0,0,0,0,0,0,0,0,0,0,0,0,0,0,0,0,0,0,0,{"$f":"+DUT99","v":0},0,0,0,0,0,0,0,0,0,0,0,0,0,0,0,0,0,0,0,0,0,0,0,0,0,0,0,0,0,0,0,0,0,0,0,0,0,0,0,0,0,0,0,0,0,0,0,0,0,0,0,0,0,0,0,0,0,0,0,0,0,0,0,{"$f":"+DXF99","v":0},0,0,0,0,0,0,0,0,0,0,0,0,0,0,0,0,0,0,0,0,0,0,0,0,0,0,0,0,0,0,0,0,0,0,0,0,0,0,0,0,0,0,0,0,0,0,0,0,0,0,0,0,0,0,0,0,0,0,0,0,0,0,0,{"$f":"+DZR99","v":0},0,0,0,0,0,0,0,0,0,0,0,0,0,0,0,0,0,0,0,0,0,0,0,0,0,0,0,0,0,0,0,0,0,0,0,0,0,0,0,0,0,0,0,0,0,0,0,0,0,0,0,0,0,0,0,0,0,0,0,0,0,0,0,{"$f":"+ECD99","v":0},0,0,0,0,0,0,0,0,0,0,0,0,0,0,0,0,0,0,0,0,0,0,0,0,0,0,0,0,0,0,0,0,0,0,0,0,0,0,0,0,0,0,0,0,0,0,0,0,0,0,0,0,0,0,0,0,0,0,0,0,0,0,0,{"$f":"+EEP99","v":0},0,0,0,0,0,0,0,0,0,0,0,0,0,0,0,0,0,0,0,0,0,0,0,0,0,0,0,0,0,0,0,0,0,0,0,0,0,0,0,0,0,0,0,0,0,0,0,0,0,0,0,0,0,0,0,0,0,0,0,0,0,0,0,{"$f":"+EHB99","v":0},0,0,0,0,0,0,0,0,0,0,0,0,0,0,0,0,0,0,0,0,0,0,0,0,0,0,0,0,0,0,0,0,0,0,0,0,0,0,0,0,0,0,0,0,0,0,0,0,0,0,0,0,0,0,0,0,0,0,0,0,0,0,0,{"$f":"+EJN99","v":0},0,0,0,0,0,0,0,0,0,0,0,0,0,0,0,0,0,0,0,0,0,0,0,0,0,0,0,0,0,0,0,0,0,0,0,0,0,0,0,0,0,0,0,0,0,0,0,0,0,0,0,0,0,0,0,0,0,0,0,0,0,0,0,{"$f":"+ELZ99","v":0},0,0,0,0,0,0,0,0,0,0,0,0,0,0,0,0,0,0,0,0,0,0,0,0,0,0,0,0,0,0,0,0,0,0,0,0,0,0,0,0,0,0,0,0,0,0,0,0,0,0,0,0,0,0,0,0,0,0,0,0,0,0,0,{"$f":"+EOL99","v":0},0,0,0,0,0,0,0,0,0,0,0,0,0,0,0,0,0,0,0,0,0,0,0,0,0,0,0,0,0,0,0,0,0,0,0,0,0,0,0,0,0,0,0,0,0,0,0,0,0,0,0,0,0,0,0,0,0,0,0,0,0,0,0,{"$f":"+EQX99","v":0},0,0,0,0,0,0,0,0,0,0,0,0,0,0,0,0,0,0,0,0,0,0,0,0,0,0,0,0,0,0,0,0,0,0,0,0,0,0,0,0,0,0,0,0,0,0,0,0,0,0,0,0,0,0,0,0,0,0,0,0,0,0,0,{"$f":"+ETJ99","v":0},0,0,0,0,0,0,0,0,0,0,0,0,0,0,0,0,0,0,0,0,0,0,0,0,0,0,0,0,0,0,0,0,0,0,0,0,0,0,0,0,0,0,0,0,0,0,0,0,0,0,0,0,0,0,0,0,0,0,0,0,0,0,0,{"$f":"+EVV99","v":0},0,0,0,0,0,0,0,0,0,0,0,0,0,0,0,0,0,0,0,0,0,0,0,0,0,0,0,0,0,0,0,0,0,0,0,0,0,0,0,0,0,0,0,0,0,0,0,0,0,0,0,0,0,0,0,0,0,0,0,0,0,0,0,{"$f":"+EYH99","v":0},0,0,0,0,0,0,0,0,0,0,0,0,0,0,0,0,0,0,0,0,0,0,0,0,0,0,0,0,0,0,0,0,0,0,0,0,0,0,0,0,0,0,0,0,0,0,0,0,0,0,0,0,0,0,0,0,0,0,0,0,0,0,0,{"$f":"+FAT99","v":0},0,0,0,0,0,0,0,0,0,0,0,0,0,0,0,0,0,0,0,0,0,0,0,0,0,0,0,0,0,0,0,0,0,0,0,0,0,0,0,0,0,0,0,0,0,0,0,0,0,0,0,0,0,0,0,0,0,0,0,0,0,0,0,{"$f":"+FDF99","v":0},0,0,0,0,0,0,0,0,0,0,0,0,0,0,0,0,0,0,0,0,0,0,0,0,0,0,0,0,0,0,0,0,0,0,0,0,0,0,0,0,0,0,0,0,0,0,0,0,0,0,0,0,0,0,0,0,0,0,0,0,0,0,0,{"$f":"+FFR99","v":0},0,0,0,0,0,0,0,0,0,0,0,0,0,0,0,0,0,0,0,0,0,0,0,0,0,0,0,0,0,0,0,0,0,0,0,0,0,0,0,0,0,0,0,0,0,0,0,0,0,0,0,0,0,0,0,0,0,0,0,0,0,0,0,{"$f":"+FID99","v":0},0,0,0,0,0,0,0,0,0,0,0,0,0,0,0,0,0,0,0,0,0,0,0,0,0,0,0,0,0,0,0,0,0,0,0,0,0,0,0,0,0,0,0,0,0,0,0,0,0,0,0,0,0,0,0,0,0,0,0,0,0,0,0,{"$f":"+FKP99","v":0},0,0,0,0,0,0,0,0,0,0,0,0,0,0,0,0,0,0,0,0,0,0,0,0,0,0,0,0,0,0,0,0,0,0,0,0,0,0,0,0,0,0,0,0,0,0,0,0,0,0,0,0,0,0,0,0,0,0,0,0,0,0,0,{"$f":"+FNB99","v":0},0,0,0,0,0,0,0,0,0,0,0,0,0,0,0,0,0,0,0,0,0,0,0,0,0,0,0,0,0,0,0,0,0,0,0,0,0,0,0,0,0,0,0,0,0,0,0,0,0,0,0,0,0,0,0,0,0,0,0,0,0,0,0,{"$f":"+FPN99","v":0},0,0,0,0,0,0,0,0,0,0,0,0,0,0,0,0,0,0,0,0,0,0,0,0,0,0,0,0,0,0,0,0,0,0,0,0,0,0,0,0,0,0,0,0,0,0,0,0,0,0,0,0,0,0,0,0,0,0,0,0,0,0,0,{"$f":"+FRZ99","v":0},0,0,0,0,0,0,0,0,0,0,0,0,0,0,0,0,0,0,0,0,0,0,0,0,0,0,0,0,0,0,0,0,0,0,0,0,0,0,0,0,0,0,0,0,0,0,0,0,0,0,0,0,0,0,0,0,0,0,0,0,0,0,0,{"$f":"+FUL99","v":0},0,0,0,0,0,0,0,0,0,0,0,0,0,0,0,0,0,0,0,0,0,0,0,0,0,0,0,0,0,0,0,0,0,0,0,0,0,0,0,0,0,0,0,0,0,0,0,0,0,0,0,0,0,0,0,0,0,0,0,0,0,0,0,{"$f":"+FWX99","v":0},0,0,0,0,0,0,0,0,0,0,0,0,0,0,0,0,0,0,0,0,0,0,0,0,0,0,0,0,0,0,0,0,0,0,0,0,0,0,0,0,0,0,0,0,0,0,0,0,0,0,0,0,0,0,0,0,0,0,0,0,0,0,0,{"$f":"+FZJ99","v":0},0,0,0,0,0,0,0,0,0,0,0,0,0,0,0,0,0,0,0,0,0,0,0,0,0,0,0,0,0,0,0,0,0,0,0,0,0,0,0,0,0,0,0,0,0,0,0,0,0,0,0,0,0,0,0,0,0,0,0,0,0,0,0,{"$f":"+GBV99","v":0},0,0,0,0,0,0,0,0,0,0,0,0,0,0,0,0,0,0,0,0,0,0,0,0,0,0,0,0,0,0,0,0,0,0,0,0,0,0,0,0,0,0,0,0,0,0,0,0,0,0,0,0,0,0,0,0,0,0,0,0,0,0,0,{"$f":"+GEH99","v":0},0,0,0,0,0,0,0,0,0,0,0,0,0,0,0,0,0,0,0,0,0,0,0,0,0,0,0,0,0,0,0,0,0,0,0,0,0,0,0,0,0,0,0,0,0,0,0,0,0,0,0,0,0,0,0,0,0,0,0,0,0,0,0,{"$f":"+GGT99","v":0},0,0,0,0,0,0,0,0,0,0,0,0,0,0,0,0,0,0,0,0,0,0,0,0,0,0,0,0,0,0,0,0,0,0,0,0,0,0,0,0,0,0,0,0,0,0,0,0,0,0,0,0,0,0,0,0,0,0,0,0,0,0,0,{"$f":"+GJF99","v":0},0,0,0,0,0,0,0,0,0,0,0,0,0,0,0,0,0,0,0,0,0,0,0,0,0,0,0,0,0,0,0,0,0,0,0,0,0,0,0,0,0,0,0,0,0,0,0,0,0,0,0,0,0,0,0,0,0,0,0,0,0,0,0,{"$f":"+GLR99","v":0},0,0,0,0,0,0,0,0,0,0,0,0,0,0,0,0,0,0,0,0,0,0,0,0,0,0,0,0,0,0,0,0,0,0,0,0,0,0,0,0,0,0,0,0,0,0,0,0,0,0,0,0,0,0,0,0,0,0,0,0,0,0,0,{"$f":"+GOD99","v":0},0,0,0,0,0,0,0,0,0,0,0,0,0,0,0,0,0,0,0,0,0,0,0,0,0,0,0,0,0,0,0,0,0,0,0,0,0,0,0,0,0,0,0,0,0,0,0,0,0,0,0,0,0,0,0,0,0,0,0,0,0,0,0,{"$f":"+GQP99","v":0},0,0,0,0,0,0,0,0,0,0,0,0,0,0,0,0,0,0,0,0,0,0,0,0,0,0,0,0,0,0,0,0,0,0,0,0,0,0,0,0,0,0,0,0,0,0,0,0,0,0,0,0,0,0,0,0,0,0,0,0,0,0,0,{"$f":"+GTB99","v":0},0,0,0,0,0,0,0,0,0,0,0,0,0,0,0,0,0,0,0,0,0,0,0,0,0,0,0,0,0,0,0,0,0,0,0,0,0,0,0,0,0,0,0,0,0,0,0,0,0,0,0,0,0,0,0,0,0,0,0,0,0,0,0,{"$f":"+GVN99","v":0},0,0,0,0,0,0,0,0,0,0,0,0,0,0,0,0,0,0,0,0,0,0,0,0,0,0,0,0,0,0,0,0,0,0,0,0,0,0,0,0,0,0,0,0,0,0,0,0,0,0,0,0,0,0,0,0,0,0,0,0,0,0,0,{"$f":"+GXZ99","v":0},0,0,0,0,0,0,0,0,0,0,0,0,0,0,0,0,0,0,0,0,0,0,0,0,0,0,0,0,0,0,0,0,0,0,0,0,0,0,0,0,0,0,0,0,0,0,0,0,0,0,0,0,0,0,0,0,0,0,0,0,0,0,0,{"$f":"+HAL99","v":0},0,0,0,0,0,0,0,0,0,0,0,0,0,0,0,0,0,0,0,0,0,0,0,0,0,0,0,0,0,0,0,0,0,0,0,0,0,0,0,0,0,0,0,0,0,0,0,0,0,0,0,0,0,0,0,0,0,0,0,0,0,0,0,{"$f":"+HCX99","v":0},0,0,0,0,0,0,0,0,0,0,0,0,0,0,0,0,0,0,0,0,0,0,0,0,0,0,0,0,0,0,0,0,0,0,0,0,0,0,0,0,0,0,0,0,0,0,0,0,0,0,0,0,0,0,0,0,0,0,0,0,0,0,0,{"$f":"+HFJ99","v":0},0,0,0,0,0,0,0,0,0,0,0,0,0,0,0,0,0,0,0,0,0,0,0,0,0,0,0,0,0,0,0,0,0,0,0,0,0,0,0,0,0,0,0,0,0,0,0,0,0,0,0,0,0,0,0,0,0,0,0,0,0,0,0,{"$f":"+HHV99","v":0},0,0,0,0,0,0,0,0,0,0,0,0,0,0,0,0,0,0,0,0,0,0,0,0,0,0,0,0,0,0,0,0,0,0,0,0,0,0,0,0,0,0,0,0,0,0,0,0,0,0,0,0,0,0,0,0,0,0,0,0,0,0,0,{"$f":"+HKH99","v":0},0,0,0,0,0,0,0,0,0,0,0,0,0,0,0,0,0,0,0,0,0,0,0,0,0,0,0,0,0,0,0,0,0,0,0,0,0,0,0,0,0,0,0,0,0,0,0,0,0,0,0,0,0,0,0,0,0,0,0,0,0,0,0,{"$f":"+HMT99","v":0},0,0,0,0,0,0,0,0,0,0,0,0,0,0,0,0,0,0,0,0,0,0,0,0,0,0,0,0,0,0,0,0,0,0,0,0,0,0,0,0,0,0,0,0,0,0,0,0,0,0,0,0,0,0,0,0,0,0,0,0,0,0,0,{"$f":"+HPF99","v":0},0,0,0,0,0,0,0,0,0,0,0,0,0,0,0,0,0,0,0,0,0,0,0,0,0,0,0,0,0,0,0,0,0,0,0,0,0,0,0,0,0,0,0,0,0,0,0,0,0,0,0,0,0,0,0,0,0,0,0,0,0,0,0,{"$f":"+HRR99","v":0},0,0,0,0,0,0,0,0,0,0,0,0,0,0,0,0,0,0,0,0,0,0,0,0,0,0,0,0,0,0,0,0,0,0,0,0,0,0,0,0,0,0,0,0,0,0,0,0,0,0,0,0,0,0,0,0,0,0,0,0,0,0,0,{"$f":"+HUD99","v":0},0,0,0,0,0,0,0,0,0,0,0,0,0,0,0,0,0,0,0,0,0,0,0,0,0,0,0,0,0,0,0,0,0,0,0,0,0,0,0,0,0,0,0,0,0,0,0,0,0,0,0,0,0,0,0,0,0,0,0,0,0,0,0,{"$f":"+HWP99","v":0},0,0,0,0,0,0,0,0,0,0,0,0,0,0,0,0,0,0,0,0,0,0,0,0,0,0,0,0,0,0,0,0,0,0,0,0,0,0,0,0,0,0,0,0,0,0,0,0,0,0,0,0,0,0,0,0,0,0,0,0,0,0,0,{"$f":"+HZB99","v":0},0,0,0,0,0,0,0,0,0,0,0,0,0,0,0,0,0,0,0,0,0,0,0,0,0,0,0,0,0,0,0,0,0,0,0,0,0,0,0,0,0,0,0,0,0,0,0,0,0,0,0,0,0,0,0,0,0,0,0,0,0,0,0,{"$f":"+IBN99","v":0},0,0,0,0,0,0,0,0,0,0,0,0,0,0,0,0,0,0,0,0,0,0,0,0,0,0,0,0,0,0,0,0,0,0,0,0,0,0,0,0,0,0,0,0,0,0,0,0,0,0,0,0,0,0,0,0,0,0,0,0,0,0,0,{"$f":"+IDZ99","v":0},0,0,0,0,0,0,0,0,0,0,0,0,0,0,0,0,0,0,0,0,0,0,0,0,0,0,0,0,0,0,0,0,0,0,0,0,0,0,0,0,0,0,0,0,0,0,0,0,0,0,0,0,0,0,0,0,0,0,0,0,0,0,0,{"$f":"+IGL99","v":0},0,0,0,0,0,0,0,0,0,0,0,0,0,0,0,0,0,0,0,0,0,0,0,0,0,0,0,0,0,0,0,0,0,0,0,0,0,0,0,0,0,0,0,0,0,0,0,0,0,0,0,0,0,0,0,0,0,0,0,0,0,0,0,{"$f":"+IIX99","v":0},0,0,0,0,0,0,0,0,0,0,0,0,0,0,0,0,0,0,0,0,0,0,0,0,0,0,0,0,0,0,0,0,0,0,0,0,0,0,0,0,0,0,0,0,0,0,0,0,0,0,0,0,0,0,0,0,0,0,0,0,0,0,0,{"$f":"+ILJ99","v":0},0,0,0,0,0,0,0,0,0,0,0,0,0,0,0,0,0,0,0,0,0,0,0,0,0,0,0,0,0,0,0,0,0,0,0,0,0,0,0,0,0,0,0,0,0,0,0,0,0,0,0,0,0,0,0,0,0,0,0,0,0,0,0,{"$f":"+INV99","v":0},0,0,0,0,0,0,0,0,0,0,0,0,0,0,0,0,0,0,0,0,0,0,0,0,0,0,0,0,0,0,0,0,0,0,0,0,0,0,0,0,0,0,0,0,0,0,0,0,0,0,0,0,0,0,0,0,0,0,0,0,0,0,0,{"$f":"+IQH99","v":0},0,0,0,0,0,0,0,0,0,0,0,0,0,0,0,0,0,0,0,0,0,0,0,0,0,0,0,0,0,0,0,0,0,0,0,0,0,0,0,0,0,0,0,0,0,0,0,0,0,0,0,0,0,0,0,0,0,0,0,0,0,0,0,{"$f":"+IST99","v":0},0,0,0,0,0,0,0,0,0,0,0,0,0,0,0,0,0,0,0,0,0,0,0,0,0,0,0,0,0,0,0,0,0,0,0,0,0,0,0,0,0,0,0,0,0,0,0,0,0,0,0,0,0,0,0,0,0,0,0,0,0,0,0,{"$f":"+IVF99","v":0},0,0,0,0,0,0,0,0,0,0,0,0,0,0,0,0,0,0,0,0,0,0,0,0,0,0,0,0,0,0,0,0,0,0,0,0,0,0,0,0,0,0,0,0,0,0,0,0,0,0,0,0,0,0,0,0,0,0,0,0,0,0,0,{"$f":"+IXR99","v":0},0,0,0,0,0,0,0,0,0,0,0,0,0,0,0,0,0,0,0,0,0,0,0,0,0,0,0,0,0,0,0,0,0,0,0,0,0,0,0,0,0,0,0,0,0,0,0,0,0,0,0,0,0,0,0,0,0,0,0,0,0,0,0,{"$f":"+JAD99","v":0},0,0,0,0,0,0,0,0,0,0,0,0,0,0,0,0,0,0,0,0,0,0,0,0,0,0,0,0,0,0,0,0,0,0,0,0,0,0,0,0,0,0,0,0,0,0,0,0,0,0,0,0,0,0,0,0,0,0,0,0,0,0,0,{"$f":"+JCP99","v":0},0,0,0,0,0,0,0,0,0,0,0,0,0,0,0,0,0,0,0,0,0,0,0,0,0,0,0,0,0,0,0,0,0,0,0,0,0,0,0,0,0,0,0,0,0,0,0,0,0,0,0,0,0,0,0,0,0,0,0,0,0,0,0,{"$f":"+JFB99","v":0},0,0,0,0,0,0,0,0,0,0,0,0,0,0,0,0,0,0,0,0,0,0,0,0,0,0,0,0,0,0,0,0,0,0,0,0,0,0,0,0,0,0,0,0,0,0,0,0,0,0,0,0,0,0,0,0,0,0,0,0,0,0,0,{"$f":"+JHN99","v":0},0,0,0,0,0,0,0,0,0,0,0,0,0,0,0,0,0,0,0,0,0,0,0,0,0,0,0,0,0,0,0,0,0,0,0,0,0,0,0,0,0,0,0,0,0,0,0,0,0,0,0,0,0,0,0,0,0,0,0,0,0,0,0,{"$f":"+JJZ99","v":0},0,0,0,0,0,0,0,0,0,0,0,0,0,0,0,0,0,0,0,0,0,0,0,0,0,0,0,0,0,0,0,0,0,0,0,0,0,0,0,0,0,0,0,0,0,0,0,0,0,0,0,0,0,0,0,0,0,0,0,0,0,0,0,{"$f":"+JML99","v":0},0,0,0,0,0,0,0,0,0,0,0,0,0,0,0,0,0,0,0,0,0,0,0,0,0,0,0,0,0,0,0,0,0,0,0,0,0,0,0,0,0,0,0,0,0,0,0,0,0,0,0,0,0,0,0,0,0,0,0,0,0,0,0,{"$f":"+JOX99","v":0},0,0,0,0,0,0,0,0,0,0,0,0,0,0,0,0,0,0,0,0,0,0,0,0,0,0,0,0,0,0,0,0,0,0,0,0,0,0,0,0,0,0,0,0,0,0,0,0,0,0,0,0,0,0,0,0,0,0,0,0,0,0,0,{"$f":"+JRJ99","v":0},0,0,0,0,0,0,0,0,0,0,0,0,0,0,0,0,0,0,0,0,0,0,0,0,0,0,0,0,0,0,0,0,0,0,0,0,0,0,0,0,0,0,0,0,0,0,0,0,0,0,0,0,0,0,0,0,0,0,0,0,0,0,0,{"$f":"+JTV99","v":0},0,0,0,0,0,0,0,0,0,0,0,0,0,0,0,0,0,0,0,0,0,0,0,0,0,0,0,0,0,0,0,0,0,0,0,0,0,0,0,0,0,0,0,0,0,0,0,0,0,0,0,0,0,0,0,0,0,0,0,0,0,0,0,{"$f":"+JWH99","v":0},0,0,0,0,0,0,0,0,0,0,0,0,0,0,0,0,0,0,0,0,0,0,0,0,0,0,0,0,0,0,0,0,0,0,0,0,0,0,0,0,0,0,0,0,0,0,0,0,0,0,0,0,0,0,0,0,0,0,0,0,0,0,0,{"$f":"+JYT99","v":0},0,0,0,0,0,0,0,0,0,0,0,0,0,0,0,0,0,0,0,0,0,0,0,0,0,0,0,0,0,0,0,0,0,0,0,0,0,0,0,0,0,0,0,0,0,0,0,0,0,0,0,0,0,0,0,0,0,0,0,0,0,0,0,{"$f":"+KBF99","v":0},0,0,0,0,0,0,0,0,0,0,0,0,0,0,0,0,0,0,0,0,0,0,0,0,0,0,0,0,0,0,0,0,0,0,0,0,0,0,0,0,0,0,0,0,0,0,0,0,0,0,0,0,0,0,0,0,0,0,0,0,0,0,0,{"$f":"+KDR99","v":0},0,0,0,0,0,0,0,0,0,0,0,0,0,0,0,0,0,0,0,0,0,0,0,0,0,0,0,0,0,0,0,0,0,0,0,0,0,0,0,0,0,0,0,0,0,0,0,0,0,0,0,0,0,0,0,0,0,0,0,0,0,0,0,{"$f":"+KGD99","v":0},0,0,0,0,0,0,0,0,0,0,0,0,0,0,0,0,0,0,0,0,0,0,0,0,0,0,0,0,0,0,0,0,0,0,0,0,0,0,0,0,0,0,0,0,0,0,0,0,0,0,0,0,0,0,0,0,0,0,0,0,0,0,0,{"$f":"+KIP99","v":0},0,0,0,0,0,0,0,0,0,0,0,0,0,0,0,0,0,0,0,0,0,0,0,0,0,0,0,0,0,0,0,0,0,0,0,0,0,0,0,0,0,0,0,0,0,0,0,0,0,0,0,0,0,0,0,0,0,0,0,0,0,0,0,{"$f":"+KLB99","v":0},0,0,0,0,0,0,0,0,0,0,0,0,0,0,0,0,0,0,0,0,0,0,0,0,0,0,0,0,0,0,0,0,0,0,0,0,0,0,0,0,0,0,0,0,0,0,0,0,0,0,0,0,0,0,0,0,0,0,0,0,0,0,0,{"$f":"+KNN99","v":0},0,0,0,0,0,0,0,0,0,0,0,0,0,0,0,0,0,0,0,0,0,0,0,0,0,0,0,0,0,0,0,0,0,0,0,0,0,0,0,0,0,0,0,0,0,0,0,0,0,0,0,0,0,0,0,0,0,0,0,0,0,0,0,{"$f":"+KPZ99","v":0},0,0,0,0,0,0,0,0,0,0,0,0,0,0,0,0,0,0,0,0,0,0,0,0,0,0,0,0,0,0,0,0,0,0,0,0,0,0,0,0,0,0,0,0,0,0,0,0,0,0,0,0,0,0,0,0,0,0,0,0,0,0,0,{"$f":"+KSL99","v":0},0,0,0,0,0,0,0,0,0,0,0,0,0,0,0,0,0,0,0,0,0,0,0,0,0,0,0,0,0,0,0,0,0,0,0,0,0,0,0,0,0,0,0,0,0,0,0,0,0,0,0,0,0,0,0,0,0,0,0,0,0,0,0,{"$f":"+KUX99","v":0},0,0,0,0,0,0,0,0,0,0,0,0,0,0,0,0,0,0,0,0,0,0,0,0,0,0,0,0,0,0,0,0,0,0,0,0,0,0,0,0,0,0,0,0,0,0,0,0,0,0,0,0,0,0,0,0,0,0,0,0,0,0,0,{"$f":"+KXJ99","v":0},0,0,0,0,0,0,0,0,0,0,0,0,0,0,0,0,0,0,0,0,0,0,0,0,0,0,0,0,0,0,0,0,0,0,0,0,0,0,0,0,0,0,0,0,0,0,0,0,0,0,0,0,0,0,0,0,0,0,0,0,0,0,0,{"$f":"+KZV99","v":0},0,0,0,0,0,0,0,0,0,0,0,0,0,0,0,0,0,0,0,0,0,0,0,0,0,0,0,0,0,0,0,0,0,0,0,0,0,0,0,0,0,0,0,0,0,0,0,0,0,0,0,0,0,0,0,0,0,0,0,0,0,0,0,{"$f":"+LCH99","v":0},0,0,0,0,0,0,0,0,0,0,0,0,0,0,0,0,0,0,0,0,0,0,0,0,0,0,0,0,0,0,0,0,0,0,0,0,0,0,0,0,0,0,0,0,0,0,0,0,0,0,0,0,0,0,0,0,0,0,0,0,0,0,0,{"$f":"+LET99","v":0},0,0,0,0,0,0,0,0,0,0,0,0,0,0,0,0,0,0,0,0,0,0,0,0,0,0,0,0,0,0,0,0,0,0,0,0,0,0,0,0,0,0,0,0,0,0,0,0,0,0,0,0,0,0,0,0,0,0,0,0,0,0,0,{"$f":"+LHF99","v":0},0,0,0,0,0,0,0,0,0,0,0,0,0,0,0,0,0,0,0,0,0,0,0,0,0,0,0,0,0,0,0,0,0,0,0,0,0,0,0,0,0,0,0,0,0,0,0,0,0,0,0,0,0,0,0,0,0,0,0,0,0,0,0,{"$f":"+LJR99","v":0},0,0,0,0,0,0,0,0,0,0,0,0,0,0,0,0,0,0,0,0,0,0,0,0,0,0,0,0,0,0,0,0,0,0,0,0,0,0,0,0,0,0,0,0,0,0,0,0,0,0,0,0,0,0,0,0,0,0,0,0,0,0,0,{"$f":"+LMD99","v":0},0,0,0,0,0,0,0,0,0,0,0,0,0,0,0,0,0,0,0,0,0,0,0,0,0,0,0,0,0,0,0,0,0,0,0,0,0,0,0,0,0,0,0,0,0,0,0,0,0,0,0,0,0,0,0,0,0,0,0,0,0,0,0,{"$f":"+LOP99","v":0},0,0,0,0,0,0,0,0,0,0,0,0,0,0,0,0,0,0,0,0,0,0,0,0,0,0,0,0,0,0,0,0,0,0,0,0,0,0,0,0,0,0,0,0,0,0,0,0,0,0,0,0,0,0,0,0,0,0,0,0,0,0,0,{"$f":"+LRB99","v":0},0,0,0,0,0,0,0,0,0,0,0,0,0,0,0,0,0,0,0,0,0,0,0,0,0,0,0,0,0,0,0,0,0,0,0,0,0,0,0,0,0,0,0,0,0,0,0,0,0,0,0,0,0,0,0,0,0,0,0,0,0,0,0,{"$f":"+LTN99","v":0},0,0,0,0,0,0,0,0,0,0,0,0,0,0,0,0,0,0,0,0,0,0,0,0,0,0,0,0,0,0,0,0,0,0,0,0,0,0,0,0,0,0,0,0,0,0,0,0,0,0,0,0,0,0,0,0,0,0,0,0,0,0,0,{"$f":"+LVZ99","v":0},0,0,0,0,0,0,0,0,0,0,0,0,0,0,0,0,0,0,0,0,0,0,0,0,0,0,0,0,0,0,0,0,0,0,0,0,0,0,0,0,0,0,0,0,0,0,0,0,0,0,0,0,0,0,0,0,0,0,0,0,0,0,0,{"$f":"+LYL99","v":0},0,0,0,0,0,0,0,0,0,0,0,0,0,0,0,0,0,0,0,0,0,0,0,0,0,0,0,0,0,0,0,0,0,0,0,0,0,0,0,0,0,0,0,0,0,0,0,0,0,0,0,0,0,0,0,0,0,0,0,0,0,0,0,{"$f":"+MAX99","v":0},0,0,0,0,0,0,0,0,0,0,0,0,0,0,0,0,0,0,0,0,0,0,0,0,0,0,0,0,0,0,0,0,0,0,0,0,0,0,0,0,0,0,0,0,0,0,0,0,0,0,0,0,0,0,0,0,0,0,0,0,0,0,0,{"$f":"+MDJ99","v":0},0,0,0,0,0,0,0,0,0,0,0,0,0,0,0,0,0,0,0,0,0,0,0,0,0,0,0,0,0,0,0,0,0,0,0,0,0,0,0,0,0,0,0,0,0,0,0,0,0,0,0,0,0,0,0,0,0,0,0,0,0,0,0,{"$f":"+MFV99","v":0},0,0,0,0,0,0,0,0,0,0,0,0,0,0,0,0,0,0,0,0,0,0,0,0,0,0,0,0,0,0,0,0,0,0,0,0,0,0,0,0,0,0,0,0,0,0,0,0,0,0,0,0,0,0,0,0,0,0,0,0,0,0,0,{"$f":"+MIH99","v":0},0,0,0,0,0,0,0,0,0,0,0,0,0,0,0,0,0,0,0,0,0,0,0,0,0,0,0,0,0,0,0,0,0,0,0,0,0,0,0,0,0,0,0,0,0,0,0,0,0,0,0,0,0,0,0,0,0,0,0,0,0,0,0,{"$f":"+MKT99","v":0},0,0,0,0,0,0,0,0,0,0,0,0,0,0,0,0,0,0,0,0,0,0,0,0,0,0,0,0,0,0,0,0,0,0,0,0,0,0,0,0,0,0,0,0,0,0,0,0,0,0,0,0,0,0,0,0,0,0,0,0,0,0,0,{"$f":"+MNF99","v":0},0,0,0,0,0,0,0,0,0,0,0,0,0,0,0,0,0,0,0,0,0,0,0,0,0,0,0,0,0,0,0,0,0,0,0,0,0,0,0,0,0,0,0,0,0,0,0,0,0,0,0,0,0,0,0,0,0,0,0,0,0,0,0,{"$f":"+MPR99","v":0},0,0,0,0,0,0,0,0,0,0,0,0,0,0,0,0,0,0,0,0,0,0,0,0,0,0,0,0,0,0,0,0,0,0,0,0,0,0,0,0,0,0,0,0,0,0,0,0,0,0,0,0,0,0,0,0,0,0,0,0,0,0,0,{"$f":"+MSD99","v":0},0,0,0,0,0,0,0,0,0,0,0,0,0,0,0,0,0,0,0,0,0,0,0,0,0,0,0,0,0,0,0,0,0,0,0,0,0,0,0,0,0,0,0,0,0,0,0,0,0,0,0,0,0,0,0,0,0,0,0,0,0,0,0,{"$f":"+MUP99","v":0},0,0,0,0,0,0,0,0,0,0,0,0,0,0,0,0,0,0,0,0,0,0,0,0,0,0,0,0,0,0,0,0,0,0,0,0,0,0,0,0,0,0,0,0,0,0,0,0,0,0,0,0,0,0,0,0,0,0,0,0,0,0,0,{"$f":"+MXB99","v":0},0,0,0,0,0,0,0,0,0,0,0,0,0,0,0,0,0,0,0,0,0,0,0,0,0,0,0,0,0,0,0,0,0,0,0,0,0,0,0,0,0,0,0,0,0,0,0,0,0,0,0,0,0,0,0,0,0,0,0,0,0,0,0,{"$f":"+MZN99","v":0},0,0,0,0,0,0,0,0,0,0,0,0,0,0,0,0,0,0,0,0,0,0,0,0,0,0,0,0,0,0,0,0,0,0,0,0,0,0,0,0,0,0,0,0,0,0,0,0,0,0,0,0,0,0,0,0,0,0,0,0,0,0,0,{"$f":"+NBZ99","v":0},0,0,0,0,0,0,0,0,0,0,0,0,0,0,0,0,0,0,0,0,0,0,0,0,0,0,0,0,0,0,0,0,0,0,0,0,0,0,0,0,0,0,0,0,0,0,0,0,0,0,0,0,0,0,0,0,0,0,0,0,0,0,0,{"$f":"+NEL99","v":0},0,0,0,0,0,0,0,0,0,0,0,0,0,0,0,0,0,0,0,0,0,0,0,0,0,0,0,0,0,0,0,0,0,0,0,0,0,0,0,0,0,0,0,0,0,0,0,0,0,0,0,0,0,0,0,0,0,0,0,0,0,0,0,{"$f":"+NGX99","v":0},0,0,0,0,0,0,0,0,0,0,0,0,0,0,0,0,0,0,0,0,0,0,0,0,0,0,0,0,0,0,0,0,0,0,0,0,0,0,0,0,0,0,0,0,0,0,0,0,0,0,0,0,0,0,0,0,0,0,0,0,0,0,0,{"$f":"+NJJ99","v":0},0,0,0,0,0,0,0,0,0,0,0,0,0,0,0,0,0,0,0,0,0,0,0,0,0,0,0,0,0,0,0,0,0,0,0,0,0,0,0,0,0,0,0,0,0,0,0,0,0,0,0,0,0,0,0,0,0,0,0,0,0,0,0,{"$f":"+NLV99","v":0},0,0,0,0,0,0,0,0,0,0,0,0,0,0,0,0,0,0,0,0,0,0,0,0,0,0,0,0,0,0,0,0,0,0,0,0,0,0,0,0,0,0,0,0,0,0,0,0,0,0,0,0,0,0,0,0,0,0,0,0,0,0,0,{"$f":"+NOH99","v":0},0,0,0,0,0,0,0,0,0,0,0,0,0,0,0,0,0,0,0,0,0,0,0,0,0,0,0,0,0,0,0,0,0,0,0,0,0,0,0,0,0,0,0,0,0,0,0,0,0,0,0,0,0,0,0,0,0,0,0,0,0,0,0,{"$f":"+NQT99","v":0},0,0,0,0,0,0,0,0,0,0,0,0,0,0,0,0,0,0,0,0,0,0,0,0,0,0,0,0,0,0,0,0,0,0,0,0,0,0,0,0,0,0,0,0,0,0,0,0,0,0,0,0,0,0,0,0,0,0,0,0,0,0,0,{"$f":"+NTF99","v":0},0,0,0,0,0,0,0,0,0,0,0,0,0,0,0,0,0,0,0,0,0,0,0,0,0,0,0,0,0,0,0,0,0,0,0,0,0,0,0,0,0,0,0,0,0,0,0,0,0,0,0,0,0,0,0,0,0,0,0,0,0,0,0,{"$f":"+NVR99","v":0},0,0,0,0,0,0,0,0,0,0,0,0,0,0,0,0,0,0,0,0,0,0,0,0,0,0,0,0,0,0,0,0,0,0,0,0,0,0,0,0,0,0,0,0,0,0,0,0,0,0,0,0,0,0,0,0,0,0,0,0,0,0,0,{"$f":"+NYD99","v":0},0,0,0,0,0,0,0,0,0,0,0,0,0,0,0,0,0,0,0,0,0,0,0,0,0,0,0,0,0,0,0,0,0,0,0,0,0,0,0,0,0,0,0,0,0,0,0,0,0,0,0,0,0,0,0,0,0,0,0,0,0,0,0,{"$f":"+OAP99","v":0},0,0,0,0,0,0,0,0,0,0,0,0,0,0,0,0,0,0,0,0,0,0,0,0,0,0,0,0,0,0,0,0,0,0,0,0,0,0,0,0,0,0,0,0,0,0,0,0,0,0,0,0,0,0,0,0,0,0,0,0,0,0,0,{"$f":"+ODB99","v":0},0,0,0,0,0,0,0,0,0,0,0,0,0,0,0,0,0,0,0,0,0,0,0,0,0,0,0,0,0,0,0,0,0,0,0,0,0,0,0,0,0,0,0,0,0,0,0,0,0,0,0,0,0,0,0,0,0,0,0,0,0,0,0,{"$f":"+OFN99","v":0},0,0,0,0,0,0,0,0,0,0,0,0,0,0,0,0,0,0,0,0,0,0,0,0,0,0,0,0,0,0,0,0,0,0,0,0,0,0,0,0,0,0,0,0,0,0,0,0,0,0,0,0,0,0,0,0,0,0,0,0,0,0,0,{"$f":"+OHZ99","v":0},0,0,0,0,0,0,0,0,0,0,0,0,0,0,0,0,0,0,0,0,0,0,0,0,0,0,0,0,0,0,0,0,0,0,0,0,0,0,0,0,0,0,0,0,0,0,0,0,0,0,0,0,0,0,0,0,0,0,0,0,0,0,0,{"$f":"+OKL99","v":0},0,0,0,0,0,0,0,0,0,0,0,0,0,0,0,0,0,0,0,0,0,0,0,0,0,0,0,0,0,0,0,0,0,0,0,0,0,0,0,0,0,0,0,0,0,0,0,0,0,0,0,0,0,0,0,0,0,0,0,0,0,0,0,{"$f":"+OMX99","v":0},0,0,0,0,0,0,0,0,0,0,0,0,0,0,0,0,0,0,0,0,0,0,0,0,0,0,0,0,0,0,0,0,0,0,0,0,0,0,0,0,0,0,0,0,0,0,0,0,0,0,0,0,0,0,0,0,0,0,0,0,0,0,0,{"$f":"+OPJ99","v":0},0,0,0,0,0,0,0,0,0,0,0,0,0,0,0,0,0,0,0,0,0,0,0,0,0,0,0,0,0,0,0,0,0,0,0,0,0,0,0,0,0,0,0,0,0,0,0,0,0,0,0,0,0,0,0,0,0,0,0,0,0,0,0,{"$f":"+ORV99","v":0},0,0,0,0,0,0,0,0,0,0,0,0,0,0,0,0,0,0,0,0,0,0,0,0,0,0,0,0,0,0,0,0,0,0,0,0,0,0,0,0,0,0,0,0,0,0,0,0,0,0,0,0,0,0,0,0,0,0,0,0,0,0,0,{"$f":"+OUH99","v":0},0,0,0,0,0,0,0,0,0,0,0,0,0,0,0,0,0,0,0,0,0,0,0,0,0,0,0,0,0,0,0,0,0,0,0,0,0,0,0,0,0,0,0,0,0,0,0,0,0,0,0,0,0,0,0,0,0,0,0,0,0,0,0,{"$f":"+OWT99","v":0},0,0,0,0,0,0,0,0,0,0,0,0,0,0,0,0,0,0,0,0,0,0,0,0,0,0,0,0,0,0,0,0,0,0,0,0,0,0,0,0,0,0,0,0,0,0,0,0,0,0,0,0,0,0,0,0,0,0,0,0,0,0,0,{"$f":"+OZF99","v":0},0,0,0,0,0,0,0,0,0,0,0,0,0,0,0,0,0,0,0,0,0,0,0,0,0,0,0,0,0,0,0,0,0,0,0,0,0,0,0,0,0,0,0,0,0,0,0,0,0,0,0,0,0,0,0,0,0,0,0,0,0,0,0,{"$f":"+PBR99","v":0},0,0,0,0,0,0,0,0,0,0,0,0,0,0,0,0,0,0,0,0,0,0,0,0,0,0,0,0,0,0,0,0,0,0,0,0,0,0,0,0,0,0,0,0,0,0,0,0,0,0,0,0,0,0,0,0,0,0,0,0,0,0,0,{"$f":"+PED99","v":0},0,0,0,0,0,0,0,0,0,0,0,0,0,0,0,0,0,0,0,0,0,0,0,0,0,0,0,0,0,0,0,0,0,0,0,0,0,0,0,0,0,0,0,0,0,0,0,0,0,0,0,0,0,0,0,0,0,0,0,0,0,0,0,{"$f":"+PGP99","v":0},0,0,0,0,0,0,0,0,0,0,0,0,0,0,0,0,0,0,0,0,0,0,0,0,0,0,0,0,0,0,0,0,0,0,0,0,0,0,0,0,0,0,0,0,0,0,0,0,0,0,0,0,0,0,0,0,0,0,0,0,0,0,0,{"$f":"+PJB99","v":0},0,0,0,0,0,0,0,0,0,0,0,0,0,0,0,0,0,0,0,0,0,0,0,0,0,0,0,0,0,0,0,0,0,0,0,0,0,0,0,0,0,0,0,0,0,0,0,0,0,0,0,0,0,0,0,0,0,0,0,0,0,0,0,{"$f":"+PLN99","v":0},0,0,0,0,0,0,0,0,0,0,0,0,0,0,0,0,0,0,0,0,0,0,0,0,0,0,0,0,0,0,0,0,0,0,0,0,0,0,0,0,0,0,0,0,0,0,0,0,0,0,0,0,0,0,0,0,0,0,0,0,0,0,0,{"$f":"+PNZ99","v":0},0,0,0,0,0,0,0,0,0,0,0,0,0,0,0,0,0,0,0,0,0,0,0,0,0,0,0,0,0,0,0,0,0,0,0,0,0,0,0,0,0,0,0,0,0,0,0,0,0,0,0,0,0,0,0,0,0,0,0,0,0,0,0,{"$f":"+PQL99","v":0},0,0,0,0,0,0,0,0,0,0,0,0,0,0,0,0,0,0,0,0,0,0,0,0,0,0,0,0,0,0,0,0,0,0,0,0,0,0,0,0,0,0,0,0,0,0,0,0,0,0,0,0,0,0,0,0,0,0,0,0,0,0,0,{"$f":"+PSX99","v":0},0,0,0,0,0,0,0,0,0,0,0,0,0,0,0,0,0,0,0,0,0,0,0,0,0,0,0,0,0,0,0,0,0,0,0,0,0,0,0,0,0,0,0,0,0,0,0,0,0,0,0,0,0,0,0,0,0,0,0,0,0,0,0,{"$f":"+PVJ99","v":0},0,0,0,0,0,0,0,0,0,0,0,0,0,0,0,0,0,0,0,0,0,0,0,0,0,0,0,0,0,0,0,0,0,0,0,0,0,0,0,0,0,0,0,0,0,0,0,0,0,0,0,0,0,0,0,0,0,0,0,0,0,0,0,{"$f":"+PXV99","v":0},0,0,0,0,0,0,0,0,0,0,0,0,0,0,0,0,0,0,0,0,0,0,0,0,0,0,0,0,0,0,0,0,0,0,0,0,0,0,0,0,0,0,0,0,0,0,0,0,0,0,0,0,0,0,0,0,0,0,0,0,0,0,0,{"$f":"+QAH99","v":0},0,0,0,0,0,0,0,0,0,0,0,0,0,0,0,0,0,0,0,0,0,0,0,0,0,0,0,0,0,0,0,0,0,0,0,0,0,0,0,0,0,0,0,0,0,0,0,0,0,0,0,0,0,0,0,0,0,0,0,0,0,0,0,{"$f":"+QCT99","v":0},0,0,0,0,0,0,0,0,0,0,0,0,0,0,0,0,0,0,0,0,0,0,0,0,0,0,0,0,0,0,0,0,0,0,0,0,0,0,0,0,0,0,0,0,0,0,0,0,0,0,0,0,0,0,0,0,0,0,0,0,0,0,0,{"$f":"+QFF99","v":0},0,0,0,0,0,0,0,0,0,0,0,0,0,0,0,0,0,0,0,0,0,0,0,0,0,0,0,0,0,0,0,0,0,0,0,0,0,0,0,0,0,0,0,0,0,0,0,0,0,0,0,0,0,0,0,0,0,0,0,0,0,0,0,{"$f":"+QHR99","v":0},0,0,0,0,0,0,0,0,0,0,0,0,0,0,0,0,0,0,0,0,0,0,0,0,0,0,0,0,0,0,0,0,0,0,0,0,0,0,0,0,0,0,0,0,0,0,0,0,0,0,0,0,0,0,0,0,0,0,0,0,0,0,0,{"$f":"+QKD99","v":0},0,0,0,0,0,0,0,0,0,0,0,0,0,0,0,0,0,0,0,0,0,0,0,0,0,0,0,0,0,0,0,0,0,0,0,0,0,0,0,0,0,0,0,0,0,0,0,0,0,0,0,0,0,0,0,0,0,0,0,0,0,0,0,{"$f":"+QMP99","v":0},0,0,0,0,0,0,0,0,0,0,0,0,0,0,0,0,0,0,0,0,0,0,0,0,0,0,0,0,0,0,0,0,0,0,0,0,0,0,0,0,0,0,0,0,0,0,0,0,0,0,0,0,0,0,0,0,0,0,0,0,0,0,0,{"$f":"+QPB99","v":0},0,0,0,0,0,0,0,0,0,0,0,0,0,0,0,0,0,0,0,0,0,0,0,0,0,0,0,0,0,0,0,0,0,0,0,0,0,0,0,0,0,0,0,0,0,0,0,0,0,0,0,0,0,0,0,0,0,0,0,0,0,0,0,{"$f":"+QRN99","v":0},0,0,0,0,0,0,0,0,0,0,0,0,0,0,0,0,0,0,0,0,0,0,0,0,0,0,0,0,0,0,0,0,0,0,0,0,0,0,0,0,0,0,0,0,0,0,0,0,0,0,0,0,0,0,0,0,0,0,0,0,0,0,0,{"$f":"+QTZ99","v":0},0,0,0,0,0,0,0,0,0,0,0,0,0,0,0,0,0,0,0,0,0,0,0,0,0,0,0,0,0,0,0,0,0,0,0,0,0,0,0,0,0,0,0,0,0,0,0,0,0,0,0,0,0,0,0,0,0,0,0,0,0,0,0,{"$f":"+QWL99","v":0},0,0,0,0,0,0,0,0,0,0,0,0,0,0,0,0,0,0,0,0,0,0,0,0,0,0,0,0,0,0,0,0,0,0,0,0,0,0,0,0,0,0,0,0,0,0,0,0,0,0,0,0,0,0,0,0,0,0,0,0,0,0,0,{"$f":"+QYX99","v":0},0,0,0,0,0,0,0,0,0,0,0,0,0,0,0,0,0,0,0,0,0,0,0,0,0,0,0,0,0,0,0,0,0,0,0,0,0,0,0,0,0,0,0,0,0,0,0,0,0,0,0,0,0,0,0,0,0,0,0,0,0,0,0,{"$f":"+RBJ99","v":0},0,0,0,0,0,0,0,0,0,0,0,0,0,0,0,0,0,0,0,0,0,0,0,0,0,0,0,0,0,0,0,0,0,0,0,0,0,0,0,0,0,0,0,0,0,0,0,0,0,0,0,0,0,0,0,0,0,0,0,0,0,0,0,{"$f":"+RDV99","v":0},0,0,0,0,0,0,0,0,0,0,0,0,0,0,0,0,0,0,0,0,0,0,0,0,0,0,0,0,0,0,0,0,0,0,0,0,0,0,0,0,0,0,0,0,0,0,0,0,0,0,0,0,0,0,0,0,0,0,0,0,0,0,0,{"$f":"+RGH99","v":0},0,0,0,0,0,0,0,0,0,0,0,0,0,0,0,0,0,0,0,0,0,0,0,0,0,0,0,0,0,0,0,0,0,0,0,0,0,0,0,0,0,0,0,0,0,0,0,0,0,0,0,0,0,0,0,0,0,0,0,0,0,0,0,{"$f":"+RIT99","v":0},0,0,0,0,0,0,0,0,0,0,0,0,0,0,0,0,0,0,0,0,0,0,0,0,0,0,0,0,0,0,0,0,0,0,0,0,0,0,0,0,0,0,0,0,0,0,0,0,0,0,0,0,0,0,0,0,0,0,0,0,0,0,0,{"$f":"+RLF99","v":0},0,0,0,0,0,0,0,0,0,0,0,0,0,0,0,0,0,0,0,0,0,0,0,0,0,0,0,0,0,0,0,0,0,0,0,0,0,0,0,0,0,0,0,0,0,0,0,0,0,0,0,0,0,0,0,0,0,0,0,0,0,0,0,{"$f":"+RNR99","v":0},0,0,0,0,0,0,0,0,0,0,0,0,0,0,0,0,0,0,0,0,0,0,0,0,0,0,0,0,0,0,0,0,0,0,0,0,0,0,0,0,0,0,0,0,0,0,0,0,0,0,0,0,0,0,0,0,0,0,0,0,0,0,0,{"$f":"+RQD99","v":0},0,0,0,0,0,0,0,0,0,0,0,0,0,0,0,0,0,0,0,0,0,0,0,0,0,0,0,0,0,0,0,0,0,0,0,0,0,0,0,0,0,0,0,0,0,0,0,0,0,0,0,0,0,0,0,0,0,0,0,0,0,0,0,{"$f":"+RSP99","v":0},0,0,0,0,0,0,0,0,0,0,0,0,0,0,0,0,0,0,0,0,0,0,0,0,0,0,0,0,0,0,0,0,0,0,0,0,0,0,0,0,0,0,0,0,0,0,0,0,0,0,0,0,0,0,0,0,0,0,0,0,0,0,0,{"$f":"+RVB99","v":0},0,0,0,0,0,0,0,0,0,0,0,0,0,0,0,0,0,0,0,0,0,0,0,0,0,0,0,0,0,0,0,0,0,0,0,0,0,0,0,0,0,0,0,0,0,0,0,0,0,0,0,0,0,0,0,0,0,0,0,0,0,0,0,{"$f":"+RXN99","v":0},0,0,0,0,0,0,0,0,0,0,0,0,0,0,0,0,0,0,0,0,0,0,0,0,0,0,0,0,0,0,0,0,0,0,0,0,0,0,0,0,0,0,0,0,0,0,0,0,0,0,0,0,0,0,0,0,0,0,0,0,0,0,0,{"$f":"+RZZ99","v":0},0,0,0,0,0,0,0,0,0,0,0,0,0,0,0,0,0,0,0,0,0,0,0,0,0,0,0,0,0,0,0,0,0,0,0,0,0,0,0,0,0,0,0,0,0,0,0,0,0,0,0,0,0,0,0,0,0,0,0,0,0,0,0,{"$f":"+SCL99","v":0},0,0,0,0,0,0,0,0,0,0,0,0,0,0,0,0,0,0,0,0,0,0,0,0,0,0,0,0,0,0,0,0,0,0,0,0,0,0,0,0,0,0,0,0,0,0,0,0,0,0,0,0,0,0,0,0,0,0,0,0,0,0,0,{"$f":"+SEX99","v":0},0,0,0,0,0,0,0,0,0,0,0,0,0,0,0,0,0,0,0,0,0,0,0,0,0,0,0,0,0,0,0,0,0,0,0,0,0,0,0,0,0,0,0,0,0,0,0,0,0,0,0,0,0,0,0,0,0,0,0,0,0,0,0,{"$f":"+SHJ99","v":0},0,0,0,0,0,0,0,0,0,0,0,0,0,0,0,0,0,0,0,0,0,0,0,0,0,0,0,0,0,0,0,0,0,0,0,0,0,0,0,0,0,0,0,0,0,0,0,0,0,0,0,0,0,0,0,0,0,0,0,0,0,0,0,{"$f":"+SJV99","v":0},0,0,0,0,0,0,0,0,0,0,0,0,0,0,0,0,0,0,0,0,0,0,0,0,0,0,0,0,0,0,0,0,0,0,0,0,0,0,0,0,0,0,0,0,0,0,0,0,0,0,0,0,0,0,0,0,0,0,0,0,0,0,0,{"$f":"+SMH99","v":0},0,0,0,0,0,0,0,0,0,0,0,0,0,0,0,0,0,0,0,0,0,0,0,0,0,0,0,0,0,0,0,0,0,0,0,0,0,0,0,0,0,0,0,0,0,0,0,0,0,0,0,0,0,0,0,0,0,0,0,0,0,0,0,{"$f":"+SOT99","v":0},0,0,0,0,0,0,0,0,0,0,0,0,0,0,0,0,0,0,0,0,0,0,0,0,0,0,0,0,0,0,0,0,0,0,0,0,0,0,0,0,0,0,0,0,0,0,0,0,0,0,0,0,0,0,0,0,0,0,0,0,0,0,0,{"$f":"+SRF99","v":0},0,0,0,0,0,0,0,0,0,0,0,0,0,0,0,0,0,0,0,0,0,0,0,0,0,0,0,0,0,0,0,0,0,0,0,0,0,0,0,0,0,0,0,0,0,0,0,0,0,0,0,0,0,0,0,0,0,0,0,0,0,0,0,{"$f":"+STR99","v":0},0,0,0,0,0,0,0,0,0,0,0,0,0,0,0,0,0,0,0,0,0,0,0,0,0,0,0,0,0,0,0,0,0,0,0,0,0,0,0,0,0,0,0,0,0,0,0,0,0,0,0,0,0,0,0,0,0,0,0,0,0,0,0,{"$f":"+SWD99","v":0},0,0,0,0,0,0,0,0,0,0,0,0,0,0,0,0,0,0,0,0,0,0,0,0,0,0,0,0,0,0,0,0,0,0,0,0,0,0,0,0,0,0,0,0,0,0,0,0,0,0,0,0,0,0,0,0,0,0,0,0,0,0,0,{"$f":"+SYP99","v":0},0,0,0,0,0,0,0,0,0,0,0,0,0,0,0,0,0,0,0,0,0,0,0,0,0,0,0,0,0,0,0,0,0,0,0,0,0,0,0,0,0,0,0,0,0,0,0,0,0,0,0,0,0,0,0,0,0,0,0,0,0,0,0,{"$f":"+TBB99","v":0},0,0,0,0,0,0,0,0,0,0,0,0,0,0,0,0,0,0,0,0,0,0,0,0,0,0,0,0,0,0,0,0,0,0,0,0,0,0,0,0,0,0,0,0,0,0,0,0,0,0,0,0,0,0,0,0,0,0,0,0,0,0,0,{"$f":"+TDN99","v":0},0,0,0,0,0,0,0,0,0,0,0,0,0,0,0,0,0,0,0,0,0,0,0,0,0,0,0,0,0,0,0,0,0,0,0,0,0,0,0,0,0,0,0,0,0,0,0,0,0,0,0,0,0,0,0,0,0,0,0,0,0,0,0,{"$f":"+TFZ99","v":0},0,0,0,0,0,0,0,0,0,0,0,0,0,0,0,0,0,0,0,0,0,0,0,0,0,0,0,0,0,0,0,0,0,0,0,0,0,0,0,0,0,0,0,0,0,0,0,0,0,0,0,0,0,0,0,0,0,0,0,0,0,0,0,{"$f":"+TIL99","v":0},0,0,0,0,0,0,0,0,0,0,0,0,0,0,0,0,0,0,0,0,0,0,0,0,0,0,0,0,0,0,0,0,0,0,0,0,0,0,0,0,0,0,0,0,0,0,0,0,0,0,0,0,0,0,0,0,0,0,0,0,0,0,0,{"$f":"+TKX99","v":0},0,0,0,0,0,0,0,0,0,0,0,0,0,0,0,0,0,0,0,0,0,0,0,0,0,0,0,0,0,0,0,0,0,0,0,0,0,0,0,0,0,0,0,0,0,0,0,0,0,0,0,0,0,0,0,0,0,0,0,0,0,0,0,{"$f":"+TNJ99","v":0},0,0,0,0,0,0,0,0,0,0,0,0,0,0,0,0,0,0,0,0,0,0,0,0,0,0,0,0,0,0,0,0,0,0,0,0,0,0,0,0,0,0,0,0,0,0,0,0,0,0,0,0,0,0,0,0,0,0,0,0,0,0,0,{"$f":"+TPV99","v":0},0,0,0,0,0,0,0,0,0,0,0,0,0,0,0,0,0,0,0,0,0,0,0,0,0,0,0,0,0,0,0,0,0,0,0,0,0,0,0,0,0,0,0,0,0,0,0,0,0,0,0,0,0,0,0,0,0,0,0,0,0,0,0,{"$f":"+TSH99","v":0},0,0,0,0,0,0,0,0,0,0,0,0,0,0,0,0,0,0,0,0,0,0,0,0,0,0,0,0,0,0,0,0,0,0,0,0,0,0,0,0,0,0,0,0,0,0,0,0,0,0,0,0,0,0,0,0,0,0,0,0,0,0,0,{"$f":"+TUT99","v":0},0,0,0,0,0,0,0,0,0,0,0,0,0,0,0,0,0,0,0,0,0,0,0,0,0,0,0,0,0,0,0,0,0,0,0,0,0,0,0,0,0,0,0,0,0,0,0,0,0,0,0,0,0,0,0,0,0,0,0,0,0,0,0,{"$f":"+TXF99","v":0},0,0,0,0,0,0,0,0,0,0,0,0,0,0,0,0,0,0,0,0,0,0,0,0,0,0,0,0,0,0,0,0,0,0,0,0,0,0,0,0,0,0,0,0,0,0,0,0,0,0,0,0,0,0,0,0,0,0,0,0,0,0,0,{"$f":"+TZR99","v":0},0,0,0,0,0,0,0,0,0,0,0,0,0,0,0,0,0,0,0,0,0,0,0,0,0,0,0,0,0,0,0,0,0,0,0,0,0,0,0,0,0,0,0,0,0,0,0,0,0,0,0,0,0,0,0,0,0,0,0,0,0,0,0,{"$f":"+UCD99","v":0},0,0,0,0,0,0,0,0,0,0,0,0,0,0,0,0,0,0,0,0,0,0,0,0,0,0,0,0,0,0,0,0,0,0,0,0,0,0,0,0,0,0,0,0,0,0,0,0,0,0,0,0,0,0,0,0,0,0,0,0,0,0,0,{"$f":"+UEP99","v":0},0,0,0,0,0,0,0,0,0,0,0,0,0,0,0,0,0,0,0,0,0,0,0,0,0,0,0,0,0,0,0,0,0,0,0,0,0,0,0,0,0,0,0,0,0,0,0,0,0,0,0,0,0,0,0,0,0,0,0,0,0,0,0,{"$f":"+UHB99","v":0},0,0,0,0,0,0,0,0,0,0,0,0,0,0,0,0,0,0,0,0,0,0,0,0,0,0,0,0,0,0,0,0,0,0,0,0,0,0,0,0,0,0,0,0,0,0,0,0,0,0,0,0,0,0,0,0,0,0,0,0,0,0,0,{"$f":"+UJN99","v":0},0,0,0,0,0,0,0,0,0,0,0,0,0,0,0,0,0,0,0,0,0,0,0,0,0,0,0,0,0,0,0,0,0,0,0,0,0,0,0,0,0,0,0,0,0,0,0,0,0,0,0,0,0,0,0,0,0,0,0,0,0,0,0,{"$f":"+ULZ99","v":0},0,0,0,0,0,0,0,0,0,0,0,0,0,0,0,0,0,0,0,0,0,0,0,0,0,0,0,0,0,0,0,0,0,0,0,0,0,0,0,0,0,0,0,0,0,0,0,0,0,0,0,0,0,0,0,0,0,0,0,0,0,0,0,{"$f":"+UOL99","v":0},0,0,0,0,0,0,0,0,0,0,0,0,0,0,0,0,0,0,0,0,0,0,0,0,0,0,0,0,0,0,0,0,0,0,0,0,0,0,0,0,0,0,0,0,0,0,0,0,0,0,0,0,0,0,0,0,0,0,0,0,0,0,0,{"$f":"+UQX99","v":0},0,0,0,0,0,0,0,0,0,0,0,0,0,0,0,0,0,0,0,0,0,0,0,0,0,0,0,0,0,0,0,0,0,0,0,0,0,0,0,0,0,0,0,0,0,0,0,0,0,0,0,0,0,0,0,0,0,0,0,0,0,0,0,{"$f":"+UTJ99","v":0},0,0,0,0,0,0,0,0,0,0,0,0,0,0,0,0,0,0,0,0,0,0,0,0,0,0,0,0,0,0,0,0,0,0,0,0,0,0,0,0,0,0,0,0,0,0,0,0,0,0,0,0,0,0,0,0,0,0,0,0,0,0,0,{"$f":"+UVV99","v":0},0,0,0,0,0,0,0,0,0,0,0,0,0,0,0,0,0,0,0,0,0,0,0,0,0,0,0,0,0,0,0,0,0,0,0,0,0,0,0,0,0,0,0,0,0,0,0,0,0,0,0,0,0,0,0,0,0,0,0,0,0,0,0,{"$f":"+UYH99","v":0},0,0,0,0,0,0,0,0,0,0,0,0,0,0,0,0,0,0,0,0,0,0,0,0,0,0,0,0,0,0,0,0,0,0,0,0,0,0,0,0,0,0,0,0,0,0,0,0,0,0,0,0,0,0,0,0,0,0,0,0,0,0,0,{"$f":"+VAT99","v":0},0,0,0,0,0,0,0,0,0,0,0,0,0,0,0,0,0,0,0,0,0,0,0,0,0,0,0,0,0,0,0,0,0,0,0,0,0,0,0,0,0,0,0,0,0,0,0,0,0,0,0,0,0,0,0,0,0,0,0,0,0,0,0,{"$f":"+VDF99","v":0},0,0,0,0,0,0,0,0,0,0,0,0,0,0,0,0,0,0,0,0,0,0,0,0,0,0,0,0,0,0,0,0,0,0,0,0,0,0,0,0,0,0,0,0,0,0,0,0,0,0,0,0,0,0,0,0,0,0,0,0,0,0,0,{"$f":"+VFR99","v":0},0,0,0,0,0,0,0,0,0,0,0,0,0,0,0,0,0,0,0,0,0,0,0,0,0,0,0,0,0,0,0,0,0,0,0,0,0,0,0,0,0,0,0,0,0,0,0,0,0,0,0,0,0,0,0,0,0,0,0,0,0,0,0,{"$f":"+VID99","v":0},0,0,0,0,0,0,0,0,0,0,0,0,0,0,0,0,0,0,0,0,0,0,0,0,0,0,0,0,0,0,0,0,0,0,0,0,0,0,0,0,0,0,0,0,0,0,0,0,0,0,0,0,0,0,0,0,0,0,0,0,0,0,0,{"$f":"+VKP99","v":0},0,0,0,0,0,0,0,0,0,0,0,0,0,0,0,0,0,0,0,0,0,0,0,0,0,0,0,0,0,0,0,0,0,0,0,0,0,0,0,0,0,0,0,0,0,0,0,0,0,0,0,0,0,0,0,0,0,0,0,0,0,0,0,{"$f":"+VNB99","v":0},0,0,0,0,0,0,0,0,0,0,0,0,0,0,0,0,0,0,0,0,0,0,0,0,0,0,0,0,0,0,0,0,0,0,0,0,0,0,0,0,0,0,0,0,0,0,0,0,0,0,0,0,0,0,0,0,0,0,0,0,0,0,0,{"$f":"+VPN99","v":0},0,0,0,0,0,0,0,0,0,0,0,0,0,0,0,0,0,0,0,0,0,0,0,0,0,0,0,0,0,0,0,0,0,0,0,0,0,0,0,0,0,0,0,0,0,0,0,0,0,0,0,0,0,0,0,0,0,0,0,0,0,0,0,{"$f":"+VRZ99","v":0},0,0,0,0,0,0,0,0,0,0,0,0,0,0,0,0,0,0,0,0,0,0,0,0,0,0,0,0,0,0,0,0,0,0,0,0,0,0,0,0,0,0,0,0,0,0,0,0,0,0,0,0,0,0,0,0,0,0,0,0,0,0,0,{"$f":"+VUL99","v":0},0,0,0,0,0,0,0,0,0,0,0,0,0,0,0,0,0,0,0,0,0,0,0,0,0,0,0,0,0,0,0,0,0,0,0,0,0,0,0,0,0,0,0,0,0,0,0,0,0,0,0,0,0,0,0,0,0,0,0,0,0,0,0,{"$f":"+VWX99","v":0},0,0,0,0,0,0,0,0,0,0,0,0,0,0,0,0,0,0,0,0,0,0,0,0,0,0,0,0,0,0,0,0,0,0,0,0,0,0,0,0,0,0,0,0,0,0,0,0,0,0,0,0,0,0,0,0,0,0,0,0,0,0,0,{"$f":"+VZJ99","v":0},0,0,0,0,0,0,0,0,0,0,0,0,0,0,0,0,0,0,0,0,0,0,0,0,0,0,0,0,0,0,0,0,0,0,0,0,0,0,0,0,0,0,0,0,0,0,0,0,0,0,0,0,0,0,0,0,0,0,0,0,0,0,0,{"$f":"+WBV99","v":0},0,0,0,0,0,0,0,0,0,0,0,0,0,0,0,0,0,0,0,0,0,0,0,0,0,0,0,0,0,0,0,0,0,0,0,0,0,0,0,0,0,0,0,0,0,0,0,0,0,0,0,0,0,0,0,0,0,0,0,0,0,0,0,{"$f":"+WEH99","v":0},0,0,0,0,0,0,0,0,0,0,0,0,0,0,0,0,0,0,0,0,0,0,0,0,0,0,0,0,0,0,0,0,0,0,0,0,0,0,0,0,0,0,0,0,0,0,0,0,0,0,0,0,0,0,0,0,0,0,0,0,0,0,0,{"$f":"+WGT99","v":0},0,0,0,0,0,0,0,0,0,0,0,0,0,0,0,0,0,0,0,0,0,0,0,0,0,0,0,0,0,0,0,0,0,0,0,0,0,0,0,0,0,0,0,0,0,0,0,0,0,0,0,0,0,0,0,0,0,0,0,0,0,0,0,{"$f":"+WJF99","v":0},0,0,0,0,0,0,0,0,0,0,0,0,0,0,0,0,0,0,0,0,0,0,0,0,0,0,0,0,0,0,0,0,0,0,0,0,0,0,0,0,0,0,0,0,0,0,0,0,0,0,0,0,0,0,0,0,0,0,0,0,0,0,0,{"$f":"+WLR99","v":0},0,0,0,0,0,0,0,0,0,0,0,0,0,0,0,0,0,0,0,0,0,0,0,0,0,0,0,0,0,0,0,0,0,0,0,0,0,0,0,0,0,0,0,0,0,0,0,0,0,0,0,0,0,0,0,0,0,0,0,0,0,0,0,{"$f":"+WOD99","v":0},0,0,0,0,0,0,0,0,0,0,0,0,0,0,0,0,0,0,0,0,0,0,0,0,0,0,0,0,0,0,0,0,0,0,0,0,0,0,0,0,0,0,0,0,0,0,0,0,0,0,0,0,0,0,0,0,0,0,0,0,0,0,0,{"$f":"+WQP99","v":0},0,0,0,0,0,0,0,0,0,0,0,0,0,0,0,0,0,0,0,0,0,0,0,0,0,0,0,0,0,0,0,0,0,0,0,0,0,0,0,0,0,0,0,0,0,0,0,0,0,0,0,0,0,0,0,0,0,0,0,0,0,0,0,{"$f":"+WTB99","v":0},0,0,0,0,0,0,0,0,0,0,0,0,0,0,0,0,0,0,0,0,0,0,0,0,0,0,0,0,0,0,0,0,0,0,0,0,0,0,0,0,0,0,0,0,0,0,0,0,0,0,0,0,0,0,0,0,0,0,0,0,0,0,0,{"$f":"+WVN99","v":0},0,0,0,0,0,0,0,0,0,0,0,0,0,0,0,0,0,0,0,0,0,0,0,0,0,0,0,0,0,0,0,0,0,0,0,0,0,0,0,0,0,0,0,0,0,0,0,0,0,0,0,0,0,0,0,0,0,0,0,0,0,0,0,{"$f":"+WXZ99","v":0},0,0,0,0,0,0,0,0,0,0,0,0,0,0,0,0,0,0,0,0,0,0,0,0,0,0,0,0,0,0,0,0,0,0,0,0,0,0,0,0,0,0,0,0,0,0,0,0,0,0,0,0,0,0,0,0,0,0,0,0,0,0,0,{"$f":"+XAL99","v":0},0,0,0,0,0,0,0,0,0,0,0,0,0,0,0,0,0,0,0,0,0,0,0,0,0,0,0,0,0,0,0,0,0,0,0,0,0,0,0,0,0,0,0,0,0,0,0,0,0,0,0,0,0,0,0,0,0,0,0,0,0,0,0,{"$f":"+XCX99","v":0},0,0,0,0,0,0,0,0,0,0,0,0,0,0,0,0,0,0,0,0,0,0,0,0,0,0,0,0,0,0,0,0,0,0,0,0,0,0,0,0,0,0,0,0,0,0,0,0,0,0,0,0,0,0,0,0,0,0]
[61,"61 Donacije ",null,null,{"$f":"SUMIF('Unos rashoda i izdataka'!$D$3:$D$501,$A99,'Unos rashoda i izdataka'!K$3:K$501)+SUMIF('Unos rashoda P4'!$A$3:$A$501,$A99,'Unos rashoda P4'!I$3:I$501)","v":{"v":20000,"d":"20,000"}},{"$f":"SUMIF('Unos rashoda i izdataka'!$D$3:$D$501,$A99,'Unos rashoda i izdataka'!L$3:L$501)+SUMIF('Unos rashoda P4'!$B$3:$B$501,$A99,'Unos rashoda P4'!J$3:J$501)","v":{"v":20000,"d":"20,000"}},{"$f":"SUMIF('Unos rashoda i izdataka'!$D$3:$D$501,$A99,'Unos rashoda i izdataka'!M$3:M$501)+SUMIF('Unos rashoda P4'!$B$3:$B$501,$A99,'Unos rashoda P4'!K$3:K$501)","v":{"v":20000,"d":"20,000"}},{"$f":"'OPĆI DIO'!$C$1","v":"1812 Sveučilište u Zagrebu FAKULTET PROMETNIH ZNANOSTI"}]
[63,"63 Inozemne donacije ",null,null,{"$f":"SUMIF('Unos rashoda i izdataka'!$R$3:$R$501,$A100,'Unos rashoda i izdataka'!K$3:K$501)+SUMIF('Unos rashoda P4'!$A$3:$A$501,$A100,'Unos rashoda P4'!I$3:I$501)","v":0},{"$f":"SUMIF('Unos rashoda i izdataka'!$R$3:$R$501,$A100,'Unos rashoda i izdataka'!L$3:L$501)+SUMIF('Unos rashoda P4'!$A$3:$A$501,$A100,'Unos rashoda P4'!J$3:J$501)","v":0},{"$f":"SUMIF('Unos rashoda i izdataka'!$R$3:$R$501,$A100,'Unos rashoda i izdataka'!M$3:M$501)+SUMIF('Unos rashoda P4'!$A$3:$A$501,$A100,'Unos rashoda P4'!K$3:K$501)","v":0},{"$f":"'OPĆI DIO'!$C$1","v":"1812 Sveučilište u Zagrebu FAKULTET PROMETNIH ZNANOSTI"}]
[7,"7 Prihodi od prodaje ili zamjene nefinancijske imovine i naknade s naslova osiguranja",{"$f":"+C102","v":0},{"$f":"+D102","v":0},{"$f":"+E102","v":0},{"$f":"+F102","v":0},0,{"$f":"'OPĆI DIO'!$C$1","v":"1812 Sveučilište u Zagrebu FAKULTET PROMETNIH ZNANOSTI"}]
[71,"71 Prihodi od nefin. imovine i nadoknade šteta s osnova osig.",null,null,{"$f":"SUMIF('Unos rashoda i izdataka'!$D$3:$D$501,$A102,'Unos rashoda i izdataka'!K$3:K$501)+SUMIF('Unos rashoda P4'!$A$3:$A$501,$A102,'Unos rashoda P4'!I$3:I$501)","v":0},{"$f":"SUMIF('Unos rashoda i izdataka'!$D$3:$D$501,$A102,'Unos rashoda i izdataka'!L$3:L$501)+SUMIF('Unos rashoda P4'!$B$3:$B$501,$A102,'Unos rashoda P4'!J$3:J$501)","v":0},{"$f":"SUMIF('Unos rashoda i izdataka'!$D$3:$D$501,$A102,'Unos rashoda i izdataka'!M$3:M$501)+SUMIF('Unos rashoda P4'!$B$3:$B$501,$A102,'Unos rashoda P4'!K$3:K$501)","v":0},{"$f":"'OPĆI DIO'!$C$1","v":"1812 Sveučilište u Zagrebu FAKULTET PROMETNIH ZNANOSTI"}]
[8,"Primici od financijske imovine i zaduživanja",{"$f":"+C105","v":0},{"$f":"+D105","v":0},{"$f":"+E104+E105","v":0},{"$f":"+F104+F105","v":0},0]
[810,"Namjenski primici -ostali",null,null,{"$f":"SUMIF('Unos rashoda i izdataka'!$D$3:$D$501,$A104,'Unos rashoda i izdataka'!K$3:K$501)+SUMIF('Unos rashoda P4'!$A$3:$A$501,$A104,'Unos rashoda P4'!I$3:I$501)","v":0},{"$f":"SUMIF('Unos rashoda i izdataka'!$D$3:$D$501,$A104,'Unos rashoda i izdataka'!L$3:L$501)+SUMIF('Unos rashoda P4'!$B$3:$B$501,$A104,'Unos rashoda P4'!J$3:J$501)","v":0},{"$f":"SUMIF('Unos rashoda i izdataka'!$D$3:$D$501,$A104,'Unos rashoda i izdataka'!M$3:M$501)+SUMIF('Unos rashoda P4'!$B$3:$B$501,$A104,'Unos rashoda P4'!K$3:K$501)","v":0}]
[815,"Namjenski primitak - NPOO",null,null,{"$f":"SUMIF('Unos rashoda i izdataka'!$D$3:$D$501,$A105,'Unos rashoda i izdataka'!K$3:K$501)+SUMIF('Unos rashoda P4'!$A$3:$A$501,$A105,'Unos rashoda P4'!I$3:I$501)","v":0},{"$f":"SUMIF('Unos rashoda i izdataka'!$D$3:$D$501,$A105,'Unos rashoda i izdataka'!L$3:L$501)+SUMIF('Unos rashoda P4'!$B$3:$B$501,$A105,'Unos rashoda P4'!J$3:J$501)","v":0},{"$f":"SUMIF('Unos rashoda i izdataka'!$D$3:$D$501,$A105,'Unos rashoda i izdataka'!M$3:M$501)+SUMIF('Unos rashoda P4'!$B$3:$B$501,$A105,'Unos rashoda P4'!K$3:K$501)","v":0}]

{"sheet":"A.3 RASHODI FUNK","index":7,"n_rows":84,"n_cols":8,"rows_kept":84,"merged":[[0,0,0,6]]}
["A. 4. RASHODI PREMA FUNKCIJSKOJ KLASIFIKACIJI"]
[]
[{"$nulls":6},"u EUR"]
["BROJČANA OZNAKA","NAZIV FUNKCIJSKE KLASIFIKACIJE","IZVRŠENJE\n2024.","TEKUĆI PLAN\n2025.","PLAN \n2026.","PROJEKCIJA \n2027.","PROJEKCIJA \n2028."]
[null,"UKUPNI RASHODI",{"$f":"+C6+C15+C21+C28+C38+C45+C52+C59+C66+C75","v":{"v":10593602,"d":"10,593,602"}},{"$f":"+D6+D15+D21+D28+D38+D45+D52+D59+D66+D75","v":{"v":12919332,"d":"12,919,332"}},{"$f":"+E6+E15+E21+E28+E38+E45+E52+E59+E66+E75","v":{"v":13400357.502375182,"d":"13,400,358"}},{"$f":"+F6+F15+F21+F28+F38+F45+F52+F59+F66+F75","v":{"v":14090003.144830698,"d":"14,090,003"}},{"$f":"+G6+G15+G21+G28+G38+G45+G52+G59+G66+G75","v":{"v":14849151.9534687,"d":"14,849,152"}}]
[1,"Opće javne usluge",{"$f":"SUM(C7:C14)","v":0},{"$f":"SUM(D7:D14)","v":0},{"$f":"SUM(E7:E14)","v":0},{"$f":"SUM(F7:F14)","v":0},{"$f":"SUM(G7:G14)","v":0},{"$f":"'OPĆI DIO'!$C$1","v":"1812 Sveučilište u Zagrebu FAKULTET PROMETNIH ZNANOSTI"}]
[11,"Izvršna i zakonodavna tijela, financijski i fiskalni poslovi, vanjski poslovi",null,null,{"$f":"SUMIF('Unos rashoda i izdataka'!$S$3:$S$501,'A.3 RASHODI FUNK'!$A7,'Unos rashoda i izdataka'!K$3:K$501)+SUMIF('Unos rashoda P4'!$U$3:$U$501,'A.3 RASHODI FUNK'!$A7,'Unos rashoda P4'!I$3:I$501)","v":0},{"$f":"SUMIF('Unos rashoda i izdataka'!$S$3:$S$501,'A.3 RASHODI FUNK'!$A7,'Unos rashoda i izdataka'!L$3:L$501)+SUMIF('Unos rashoda P4'!$U$3:$U$501,'A.3 RASHODI FUNK'!$A7,'Unos rashoda P4'!J$3:J$501)","v":0},{"$f":"SUMIF('Unos rashoda i izdataka'!$S$3:$S$501,'A.3 RASHODI FUNK'!$A7,'Unos rashoda i izdataka'!M$3:M$501)+SUMIF('Unos rashoda P4'!$U$3:$U$501,'A.3 RASHODI FUNK'!$A7,'Unos rashoda P4'!K$3:K$501)","v":0},{"$f":"'OPĆI DIO'!$C$1","v":"1812 Sveučilište u Zagrebu FAKULTET PROMETNIH ZNANOSTI"}]
[12,"Inozemna ekonomska pomoć",null,null,{"$f":"SUMIF('Unos rashoda i izdataka'!$S$3:$S$501,'A.3 RASHODI FUNK'!$A8,'Unos rashoda i izdataka'!K$3:K$501)+SUMIF('Unos rashoda P4'!$U$3:$U$501,'A.3 RASHODI FUNK'!$A8,'Unos rashoda P4'!I$3:I$501)","v":0},{"$f":"SUMIF('Unos rashoda i izdataka'!$S$3:$S$501,'A.3 RASHODI FUNK'!$A8,'Unos rashoda i izdataka'!L$3:L$501)+SUMIF('Unos rashoda P4'!$U$3:$U$501,'A.3 RASHODI FUNK'!$A8,'Unos rashoda P4'!J$3:J$501)","v":0},{"$f":"SUMIF('Unos rashoda i izdataka'!$S$3:$S$501,'A.3 RASHODI FUNK'!$A8,'Unos rashoda i izdataka'!M$3:M$501)+SUMIF('Unos rashoda P4'!$U$3:$U$501,'A.3 RASHODI FUNK'!$A8,'Unos rashoda P4'!K$3:K$501)","v":0},{"$f":"'OPĆI DIO'!$C$1","v":"1812 Sveučilište u Zagrebu FAKULTET PROMETNIH ZNANOSTI"}]
[13,"Opće usluge",null,null,{"$f":"SUMIF('Unos rashoda i izdataka'!$S$3:$S$501,'A.3 RASHODI FUNK'!$A9,'Unos rashoda i izdataka'!K$3:K$501)+SUMIF('Unos rashoda P4'!$U$3:$U$501,'A.3 RASHODI FUNK'!$A9,'Unos rashoda P4'!I$3:I$501)","v":0},{"$f":"SUMIF('Unos rashoda i izdataka'!$S$3:$S$501,'A.3 RASHODI FUNK'!$A9,'Unos rashoda i izdataka'!L$3:L$501)+SUMIF('Unos rashoda P4'!$U$3:$U$501,'A.3 RASHODI FUNK'!$A9,'Unos rashoda P4'!J$3:J$501)","v":0},{"$f":"SUMIF('Unos rashoda i izdataka'!$S$3:$S$501,'A.3 RASHODI FUNK'!$A9,'Unos rashoda i izdataka'!M$3:M$501)+SUMIF('Unos rashoda P4'!$U$3:$U$501,'A.3 RASHODI FUNK'!$A9,'Unos rashoda P4'!K$3:K$501)","v":0},{"$f":"'OPĆI DIO'!$C$1","v":"1812 Sveučilište u Zagrebu FAKULTET PROMETNIH ZNANOSTI"}]
[14,"Osnovna istraživanja",null,null,{"$f":"SUMIF('Unos rashoda i izdataka'!$S$3:$S$501,'A.3 RASHODI FUNK'!$A10,'Unos rashoda i izdataka'!K$3:K$501)+SUMIF('Unos rashoda P4'!$U$3:$U$501,'A.3 RASHODI FUNK'!$A10,'Unos rashoda P4'!I$3:I$501)","v":0},{"$f":"SUMIF('Unos rashoda i izdataka'!$S$3:$S$501,'A.3 RASHODI FUNK'!$A10,'Unos rashoda i izdataka'!L$3:L$501)+SUMIF('Unos rashoda P4'!$U$3:$U$501,'A.3 RASHODI FUNK'!$A10,'Unos rashoda P4'!J$3:J$501)","v":0},{"$f":"SUMIF('Unos rashoda i izdataka'!$S$3:$S$501,'A.3 RASHODI FUNK'!$A10,'Unos rashoda i izdataka'!M$3:M$501)+SUMIF('Unos rashoda P4'!$U$3:$U$501,'A.3 RASHODI FUNK'!$A10,'Unos rashoda P4'!K$3:K$501)","v":0},{"$f":"'OPĆI DIO'!$C$1","v":"1812 Sveučilište u Zagrebu FAKULTET PROMETNIH ZNANOSTI"}]
[15,"Istraživanje i razvoj: Opće javne usluge",null,null,{"$f":"SUMIF('Unos rashoda i izdataka'!$S$3:$S$501,'A.3 RASHODI FUNK'!$A11,'Unos rashoda i izdataka'!K$3:K$501)+SUMIF('Unos rashoda P4'!$U$3:$U$501,'A.3 RASHODI FUNK'!$A11,'Unos rashoda P4'!I$3:I$501)","v":0},{"$f":"SUMIF('Unos rashoda i izdataka'!$S$3:$S$501,'A.3 RASHODI FUNK'!$A11,'Unos rashoda i izdataka'!L$3:L$501)+SUMIF('Unos rashoda P4'!$U$3:$U$501,'A.3 RASHODI FUNK'!$A11,'Unos rashoda P4'!J$3:J$501)","v":0},{"$f":"SUMIF('Unos rashoda i izdataka'!$S$3:$S$501,'A.3 RASHODI FUNK'!$A11,'Unos rashoda i izdataka'!M$3:M$501)+SUMIF('Unos rashoda P4'!$U$3:$U$501,'A.3 RASHODI FUNK'!$A11,'Unos rashoda P4'!K$3:K$501)","v":0},{"$f":"'OPĆI DIO'!$C$1","v":"1812 Sveučilište u Zagrebu FAKULTET PROMETNIH ZNANOSTI"}]
[16,"Opće javne usluge koje nisu drugdje svrstane",null,null,{"$f":"SUMIF('Unos rashoda i izdataka'!$S$3:$S$501,'A.3 RASHODI FUNK'!$A12,'Unos rashoda i izdataka'!K$3:K$501)+SUMIF('Unos rashoda P4'!$U$3:$U$501,'A.3 RASHODI FUNK'!$A12,'Unos rashoda P4'!I$3:I$501)","v":0},{"$f":"SUMIF('Unos rashoda i izdataka'!$S$3:$S$501,'A.3 RASHODI FUNK'!$A12,'Unos rashoda i izdataka'!L$3:L$501)+SUMIF('Unos rashoda P4'!$U$3:$U$501,'A.3 RASHODI FUNK'!$A12,'Unos rashoda P4'!J$3:J$501)","v":0},{"$f":"SUMIF('Unos rashoda i izdataka'!$S$3:$S$501,'A.3 RASHODI FUNK'!$A12,'Unos rashoda i izdataka'!M$3:M$501)+SUMIF('Unos rashoda P4'!$U$3:$U$501,'A.3 RASHODI FUNK'!$A12,'Unos rashoda P4'!K$3:K$501)","v":0},{"$f":"'OPĆI DIO'!$C$1","v":"1812 Sveučilište u Zagrebu FAKULTET PROMETNIH ZNANOSTI"}]
[17,"Transakcije vezane uz javni dug",null,null,{"$f":"SUMIF('Unos rashoda i izdataka'!$S$3:$S$501,'A.3 RASHODI FUNK'!$A13,'Unos rashoda i izdataka'!K$3:K$501)+SUMIF('Unos rashoda P4'!$U$3:$U$501,'A.3 RASHODI FUNK'!$A13,'Unos rashoda P4'!I$3:I$501)","v":0},{"$f":"SUMIF('Unos rashoda i izdataka'!$S$3:$S$501,'A.3 RASHODI FUNK'!$A13,'Unos rashoda i izdataka'!L$3:L$501)+SUMIF('Unos rashoda P4'!$U$3:$U$501,'A.3 RASHODI FUNK'!$A13,'Unos rashoda P4'!J$3:J$501)","v":0},{"$f":"SUMIF('Unos rashoda i izdataka'!$S$3:$S$501,'A.3 RASHODI FUNK'!$A13,'Unos rashoda i izdataka'!M$3:M$501)+SUMIF('Unos rashoda P4'!$U$3:$U$501,'A.3 RASHODI FUNK'!$A13,'Unos rashoda P4'!K$3:K$501)","v":0},{"$f":"'OPĆI DIO'!$C$1","v":"1812 Sveučilište u Zagrebu FAKULTET PROMETNIH ZNANOSTI"}]
[18,"Prijenosi općeg karaktera između različitih državnih razina",null,null,{"$f":"SUMIF('Unos rashoda i izdataka'!$S$3:$S$501,'A.3 RASHODI FUNK'!$A14,'Unos rashoda i izdataka'!K$3:K$501)+SUMIF('Unos rashoda P4'!$U$3:$U$501,'A.3 RASHODI FUNK'!$A14,'Unos rashoda P4'!I$3:I$501)","v":0},{"$f":"SUMIF('Unos rashoda i izdataka'!$S$3:$S$501,'A.3 RASHODI FUNK'!$A14,'Unos rashoda i izdataka'!L$3:L$501)+SUMIF('Unos rashoda P4'!$U$3:$U$501,'A.3 RASHODI FUNK'!$A14,'Unos rashoda P4'!J$3:J$501)","v":0},{"$f":"SUMIF('Unos rashoda i izdataka'!$S$3:$S$501,'A.3 RASHODI FUNK'!$A14,'Unos rashoda i izdataka'!M$3:M$501)+SUMIF('Unos rashoda P4'!$U$3:$U$501,'A.3 RASHODI FUNK'!$A14,'Unos rashoda P4'!K$3:K$501)","v":0},{"$f":"'OPĆI DIO'!$C$1","v":"1812 Sveučilište u Zagrebu FAKULTET PROMETNIH ZNANOSTI"}]
[2,"Obrana",{"$f":"SUM(C16:C20)","v":0},{"$f":"SUM(D16:D20)","v":0},{"$f":"SUM(E16:E20)","v":0},{"$f":"SUM(F16:F20)","v":0},{"$f":"SUM(G16:G20)","v":0},{"$f":"'OPĆI DIO'!$C$1","v":"1812 Sveučilište u Zagrebu FAKULTET PROMETNIH ZNANOSTI"}]
[21,"Vojna obrana",null,null,{"$f":"SUMIF('Unos rashoda i izdataka'!$S$3:$S$501,'A.3 RASHODI FUNK'!$A16,'Unos rashoda i izdataka'!K$3:K$501)+SUMIF('Unos rashoda P4'!$U$3:$U$501,'A.3 RASHODI FUNK'!$A16,'Unos rashoda P4'!I$3:I$501)","v":0},{"$f":"SUMIF('Unos rashoda i izdataka'!$S$3:$S$501,'A.3 RASHODI FUNK'!$A16,'Unos rashoda i izdataka'!L$3:L$501)+SUMIF('Unos rashoda P4'!$U$3:$U$501,'A.3 RASHODI FUNK'!$A16,'Unos rashoda P4'!J$3:J$501)","v":0},{"$f":"SUMIF('Unos rashoda i izdataka'!$S$3:$S$501,'A.3 RASHODI FUNK'!$A16,'Unos rashoda i izdataka'!M$3:M$501)+SUMIF('Unos rashoda P4'!$U$3:$U$501,'A.3 RASHODI FUNK'!$A16,'Unos rashoda P4'!K$3:K$501)","v":0},{"$f":"'OPĆI DIO'!$C$1","v":"1812 Sveučilište u Zagrebu FAKULTET PROMETNIH ZNANOSTI"}]
[22,"Civilna obrana",null,null,{"$f":"SUMIF('Unos rashoda i izdataka'!$S$3:$S$501,'A.3 RASHODI FUNK'!$A17,'Unos rashoda i izdataka'!K$3:K$501)+SUMIF('Unos rashoda P4'!$U$3:$U$501,'A.3 RASHODI FUNK'!$A17,'Unos rashoda P4'!I$3:I$501)","v":0},{"$f":"SUMIF('Unos rashoda i izdataka'!$S$3:$S$501,'A.3 RASHODI FUNK'!$A17,'Unos rashoda i izdataka'!L$3:L$501)+SUMIF('Unos rashoda P4'!$U$3:$U$501,'A.3 RASHODI FUNK'!$A17,'Unos rashoda P4'!J$3:J$501)","v":0},{"$f":"SUMIF('Unos rashoda i izdataka'!$S$3:$S$501,'A.3 RASHODI FUNK'!$A17,'Unos rashoda i izdataka'!M$3:M$501)+SUMIF('Unos rashoda P4'!$U$3:$U$501,'A.3 RASHODI FUNK'!$A17,'Unos rashoda P4'!K$3:K$501)","v":0},{"$f":"'OPĆI DIO'!$C$1","v":"1812 Sveučilište u Zagrebu FAKULTET PROMETNIH ZNANOSTI"}]
[23,"Inozemna vojna pomoć",null,null,{"$f":"SUMIF('Unos rashoda i izdataka'!$S$3:$S$501,'A.3 RASHODI FUNK'!$A18,'Unos rashoda i izdataka'!K$3:K$501)+SUMIF('Unos rashoda P4'!$U$3:$U$501,'A.3 RASHODI FUNK'!$A18,'Unos rashoda P4'!I$3:I$501)","v":0},{"$f":"SUMIF('Unos rashoda i izdataka'!$S$3:$S$501,'A.3 RASHODI FUNK'!$A18,'Unos rashoda i izdataka'!L$3:L$501)+SUMIF('Unos rashoda P4'!$U$3:$U$501,'A.3 RASHODI FUNK'!$A18,'Unos rashoda P4'!J$3:J$501)","v":0},{"$f":"SUMIF('Unos rashoda i izdataka'!$S$3:$S$501,'A.3 RASHODI FUNK'!$A18,'Unos rashoda i izdataka'!M$3:M$501)+SUMIF('Unos rashoda P4'!$U$3:$U$501,'A.3 RASHODI FUNK'!$A18,'Unos rashoda P4'!K$3:K$501)","v":0},{"$f":"'OPĆI DIO'!$C$1","v":"1812 Sveučilište u Zagrebu FAKULTET PROMETNIH ZNANOSTI"}]
[24,"Istraživanje i razvoj obrane",null,null,{"$f":"SUMIF('Unos rashoda i izdataka'!$S$3:$S$501,'A.3 RASHODI FUNK'!$A19,'Unos rashoda i izdataka'!K$3:K$501)+SUMIF('Unos rashoda P4'!$U$3:$U$501,'A.3 RASHODI FUNK'!$A19,'Unos rashoda P4'!I$3:I$501)","v":0},{"$f":"SUMIF('Unos rashoda i izdataka'!$S$3:$S$501,'A.3 RASHODI FUNK'!$A19,'Unos rashoda i izdataka'!L$3:L$501)+SUMIF('Unos rashoda P4'!$U$3:$U$501,'A.3 RASHODI FUNK'!$A19,'Unos rashoda P4'!J$3:J$501)","v":0},{"$f":"SUMIF('Unos rashoda i izdataka'!$S$3:$S$501,'A.3 RASHODI FUNK'!$A19,'Unos rashoda i izdataka'!M$3:M$501)+SUMIF('Unos rashoda P4'!$U$3:$U$501,'A.3 RASHODI FUNK'!$A19,'Unos rashoda P4'!K$3:K$501)","v":0},{"$f":"'OPĆI DIO'!$C$1","v":"1812 Sveučilište u Zagrebu FAKULTET PROMETNIH ZNANOSTI"}]
[25,"Rashodi za obranu koji nisu drugdje svrstani",null,null,{"$f":"SUMIF('Unos rashoda i izdataka'!$S$3:$S$501,'A.3 RASHODI FUNK'!$A20,'Unos rashoda i izdataka'!K$3:K$501)+SUMIF('Unos rashoda P4'!$U$3:$U$501,'A.3 RASHODI FUNK'!$A20,'Unos rashoda P4'!I$3:I$501)","v":0},{"$f":"SUMIF('Unos rashoda i izdataka'!$S$3:$S$501,'A.3 RASHODI FUNK'!$A20,'Unos rashoda i izdataka'!L$3:L$501)+SUMIF('Unos rashoda P4'!$U$3:$U$501,'A.3 RASHODI FUNK'!$A20,'Unos rashoda P4'!J$3:J$501)","v":0},{"$f":"SUMIF('Unos rashoda i izdataka'!$S$3:$S$501,'A.3 RASHODI FUNK'!$A20,'Unos rashoda i izdataka'!M$3:M$501)+SUMIF('Unos rashoda P4'!$U$3:$U$501,'A.3 RASHODI FUNK'!$A20,'Unos rashoda P4'!K$3:K$501)","v":0},{"$f":"'OPĆI DIO'!$C$1","v":"1812 Sveučilište u Zagrebu FAKULTET PROMETNIH ZNANOSTI"}]
[3,"Javni red i sigurnost",{"$f":"SUM(C22:C27)","v":0},{"$f":"SUM(D22:D27)","v":0},{"$f":"SUM(E22:E27)","v":0},{"$f":"SUM(F22:F27)","v":0},{"$f":"SUM(G22:G27)","v":0},{"$f":"'OPĆI DIO'!$C$1","v":"1812 Sveučilište u Zagrebu FAKULTET PROMETNIH ZNANOSTI"}]
[31,"Usluge policije",null,null,{"$f":"SUMIF('Unos rashoda i izdataka'!$S$3:$S$501,'A.3 RASHODI FUNK'!$A22,'Unos rashoda i izdataka'!K$3:K$501)+SUMIF('Unos rashoda P4'!$U$3:$U$501,'A.3 RASHODI FUNK'!$A22,'Unos rashoda P4'!I$3:I$501)","v":0},{"$f":"SUMIF('Unos rashoda i izdataka'!$S$3:$S$501,'A.3 RASHODI FUNK'!$A22,'Unos rashoda i izdataka'!L$3:L$501)+SUMIF('Unos rashoda P4'!$U$3:$U$501,'A.3 RASHODI FUNK'!$A22,'Unos rashoda P4'!J$3:J$501)","v":0},{"$f":"SUMIF('Unos rashoda i izdataka'!$S$3:$S$501,'A.3 RASHODI FUNK'!$A22,'Unos rashoda i izdataka'!M$3:M$501)+SUMIF('Unos rashoda P4'!$U$3:$U$501,'A.3 RASHODI FUNK'!$A22,'Unos rashoda P4'!K$3:K$501)","v":0},{"$f":"'OPĆI DIO'!$C$1","v":"1812 Sveučilište u Zagrebu FAKULTET PROMETNIH ZNANOSTI"}]
[32,"Usluge protupožarne zaštite",null,null,{"$f":"SUMIF('Unos rashoda i izdataka'!$S$3:$S$501,'A.3 RASHODI FUNK'!$A23,'Unos rashoda i izdataka'!K$3:K$501)+SUMIF('Unos rashoda P4'!$U$3:$U$501,'A.3 RASHODI FUNK'!$A23,'Unos rashoda P4'!I$3:I$501)","v":0},{"$f":"SUMIF('Unos rashoda i izdataka'!$S$3:$S$501,'A.3 RASHODI FUNK'!$A23,'Unos rashoda i izdataka'!L$3:L$501)+SUMIF('Unos rashoda P4'!$U$3:$U$501,'A.3 RASHODI FUNK'!$A23,'Unos rashoda P4'!J$3:J$501)","v":0},{"$f":"SUMIF('Unos rashoda i izdataka'!$S$3:$S$501,'A.3 RASHODI FUNK'!$A23,'Unos rashoda i izdataka'!M$3:M$501)+SUMIF('Unos rashoda P4'!$U$3:$U$501,'A.3 RASHODI FUNK'!$A23,'Unos rashoda P4'!K$3:K$501)","v":0},{"$f":"'OPĆI DIO'!$C$1","v":"1812 Sveučilište u Zagrebu FAKULTET PROMETNIH ZNANOSTI"}]
[33,"Sudovi",null,null,{"$f":"SUMIF('Unos rashoda i izdataka'!$S$3:$S$501,'A.3 RASHODI FUNK'!$A24,'Unos rashoda i izdataka'!K$3:K$501)+SUMIF('Unos rashoda P4'!$U$3:$U$501,'A.3 RASHODI FUNK'!$A24,'Unos rashoda P4'!I$3:I$501)","v":0},{"$f":"SUMIF('Unos rashoda i izdataka'!$S$3:$S$501,'A.3 RASHODI FUNK'!$A24,'Unos rashoda i izdataka'!L$3:L$501)+SUMIF('Unos rashoda P4'!$U$3:$U$501,'A.3 RASHODI FUNK'!$A24,'Unos rashoda P4'!J$3:J$501)","v":0},{"$f":"SUMIF('Unos rashoda i izdataka'!$S$3:$S$501,'A.3 RASHODI FUNK'!$A24,'Unos rashoda i izdataka'!M$3:M$501)+SUMIF('Unos rashoda P4'!$U$3:$U$501,'A.3 RASHODI FUNK'!$A24,'Unos rashoda P4'!K$3:K$501)","v":0},{"$f":"'OPĆI DIO'!$C$1","v":"1812 Sveučilište u Zagrebu FAKULTET PROMETNIH ZNANOSTI"}]
[34,"Zatvori",null,null,{"$f":"SUMIF('Unos rashoda i izdataka'!$S$3:$S$501,'A.3 RASHODI FUNK'!$A25,'Unos rashoda i izdataka'!K$3:K$501)+SUMIF('Unos rashoda P4'!$U$3:$U$501,'A.3 RASHODI FUNK'!$A25,'Unos rashoda P4'!I$3:I$501)","v":0},{"$f":"SUMIF('Unos rashoda i izdataka'!$S$3:$S$501,'A.3 RASHODI FUNK'!$A25,'Unos rashoda i izdataka'!L$3:L$501)+SUMIF('Unos rashoda P4'!$U$3:$U$501,'A.3 RASHODI FUNK'!$A25,'Unos rashoda P4'!J$3:J$501)","v":0},{"$f":"SUMIF('Unos rashoda i izdataka'!$S$3:$S$501,'A.3 RASHODI FUNK'!$A25,'Unos rashoda i izdataka'!M$3:M$501)+SUMIF('Unos rashoda P4'!$U$3:$U$501,'A.3 RASHODI FUNK'!$A25,'Unos rashoda P4'!K$3:K$501)","v":0},{"$f":"'OPĆI DIO'!$C$1","v":"1812 Sveučilište u Zagrebu FAKULTET PROMETNIH ZNANOSTI"}]
[35,"Istraživanje i razvoj: Javni red i sigurnost",null,null,{"$f":"SUMIF('Unos rashoda i izdataka'!$S$3:$S$501,'A.3 RASHODI FUNK'!$A26,'Unos rashoda i izdataka'!K$3:K$501)+SUMIF('Unos rashoda P4'!$U$3:$U$501,'A.3 RASHODI FUNK'!$A26,'Unos rashoda P4'!I$3:I$501)","v":0},{"$f":"SUMIF('Unos rashoda i izdataka'!$S$3:$S$501,'A.3 RASHODI FUNK'!$A26,'Unos rashoda i izdataka'!L$3:L$501)+SUMIF('Unos rashoda P4'!$U$3:$U$501,'A.3 RASHODI FUNK'!$A26,'Unos rashoda P4'!J$3:J$501)","v":0},{"$f":"SUMIF('Unos rashoda i izdataka'!$S$3:$S$501,'A.3 RASHODI FUNK'!$A26,'Unos rashoda i izdataka'!M$3:M$501)+SUMIF('Unos rashoda P4'!$U$3:$U$501,'A.3 RASHODI FUNK'!$A26,'Unos rashoda P4'!K$3:K$501)","v":0},{"$f":"'OPĆI DIO'!$C$1","v":"1812 Sveučilište u Zagrebu FAKULTET PROMETNIH ZNANOSTI"}]
[36,"Rashodi za javni red i sigurnost koji nisu drugdje svrstani",null,null,{"$f":"SUMIF('Unos rashoda i izdataka'!$S$3:$S$501,'A.3 RASHODI FUNK'!$A27,'Unos rashoda i izdataka'!K$3:K$501)+SUMIF('Unos rashoda P4'!$U$3:$U$501,'A.3 RASHODI FUNK'!$A27,'Unos rashoda P4'!I$3:I$501)","v":0},{"$f":"SUMIF('Unos rashoda i izdataka'!$S$3:$S$501,'A.3 RASHODI FUNK'!$A27,'Unos rashoda i izdataka'!L$3:L$501)+SUMIF('Unos rashoda P4'!$U$3:$U$501,'A.3 RASHODI FUNK'!$A27,'Unos rashoda P4'!J$3:J$501)","v":0},{"$f":"SUMIF('Unos rashoda i izdataka'!$S$3:$S$501,'A.3 RASHODI FUNK'!$A27,'Unos rashoda i izdataka'!M$3:M$501)+SUMIF('Unos rashoda P4'!$U$3:$U$501,'A.3 RASHODI FUNK'!$A27,'Unos rashoda P4'!K$3:K$501)","v":0},{"$f":"'OPĆI DIO'!$C$1","v":"1812 Sveučilište u Zagrebu FAKULTET PROMETNIH ZNANOSTI"}]
[4,"Ekonomski poslovi",{"$f":"SUM(C29:C37)","v":0},{"$f":"SUM(D29:D37)","v":0},{"$f":"SUM(E29:E37)","v":0},{"$f":"SUM(F29:F37)","v":0},{"$f":"SUM(G29:G37)","v":0},{"$f":"'OPĆI DIO'!$C$1","v":"1812 Sveučilište u Zagrebu FAKULTET PROMETNIH ZNANOSTI"}]
[41,"Opći ekonomski, trgovački i poslovi vezani uz rad",null,null,{"$f":"SUMIF('Unos rashoda i izdataka'!$S$3:$S$501,'A.3 RASHODI FUNK'!$A29,'Unos rashoda i izdataka'!K$3:K$501)+SUMIF('Unos rashoda P4'!$U$3:$U$501,'A.3 RASHODI FUNK'!$A29,'Unos rashoda P4'!I$3:I$501)","v":0},{"$f":"SUMIF('Unos rashoda i izdataka'!$S$3:$S$501,'A.3 RASHODI FUNK'!$A29,'Unos rashoda i izdataka'!L$3:L$501)+SUMIF('Unos rashoda P4'!$U$3:$U$501,'A.3 RASHODI FUNK'!$A29,'Unos rashoda P4'!J$3:J$501)","v":0},{"$f":"SUMIF('Unos rashoda i izdataka'!$S$3:$S$501,'A.3 RASHODI FUNK'!$A29,'Unos rashoda i izdataka'!M$3:M$501)+SUMIF('Unos rashoda P4'!$U$3:$U$501,'A.3 RASHODI FUNK'!$A29,'Unos rashoda P4'!K$3:K$501)","v":0},{"$f":"'OPĆI DIO'!$C$1","v":"1812 Sveučilište u Zagrebu FAKULTET PROMETNIH ZNANOSTI"}]
[42,"Poljoprivreda, šumarstvo, ribarstvo i lov",null,null,{"$f":"SUMIF('Unos rashoda i izdataka'!$S$3:$S$501,'A.3 RASHODI FUNK'!$A30,'Unos rashoda i izdataka'!K$3:K$501)+SUMIF('Unos rashoda P4'!$U$3:$U$501,'A.3 RASHODI FUNK'!$A30,'Unos rashoda P4'!I$3:I$501)","v":0},{"$f":"SUMIF('Unos rashoda i izdataka'!$S$3:$S$501,'A.3 RASHODI FUNK'!$A30,'Unos rashoda i izdataka'!L$3:L$501)+SUMIF('Unos rashoda P4'!$U$3:$U$501,'A.3 RASHODI FUNK'!$A30,'Unos rashoda P4'!J$3:J$501)","v":0},{"$f":"SUMIF('Unos rashoda i izdataka'!$S$3:$S$501,'A.3 RASHODI FUNK'!$A30,'Unos rashoda i izdataka'!M$3:M$501)+SUMIF('Unos rashoda P4'!$U$3:$U$501,'A.3 RASHODI FUNK'!$A30,'Unos rashoda P4'!K$3:K$501)","v":0},{"$f":"'OPĆI DIO'!$C$1","v":"1812 Sveučilište u Zagrebu FAKULTET PROMETNIH ZNANOSTI"}]
[43,"Gorivo i energija",null,null,{"$f":"SUMIF('Unos rashoda i izdataka'!$S$3:$S$501,'A.3 RASHODI FUNK'!$A31,'Unos rashoda i izdataka'!K$3:K$501)+SUMIF('Unos rashoda P4'!$U$3:$U$501,'A.3 RASHODI FUNK'!$A31,'Unos rashoda P4'!I$3:I$501)","v":0},{"$f":"SUMIF('Unos rashoda i izdataka'!$S$3:$S$501,'A.3 RASHODI FUNK'!$A31,'Unos rashoda i izdataka'!L$3:L$501)+SUMIF('Unos rashoda P4'!$U$3:$U$501,'A.3 RASHODI FUNK'!$A31,'Unos rashoda P4'!J$3:J$501)","v":0},{"$f":"SUMIF('Unos rashoda i izdataka'!$S$3:$S$501,'A.3 RASHODI FUNK'!$A31,'Unos rashoda i izdataka'!M$3:M$501)+SUMIF('Unos rashoda P4'!$U$3:$U$501,'A.3 RASHODI FUNK'!$A31,'Unos rashoda P4'!K$3:K$501)","v":0},{"$f":"'OPĆI DIO'!$C$1","v":"1812 Sveučilište u Zagrebu FAKULTET PROMETNIH ZNANOSTI"}]
[44,"Rudarstvo, proizvodnja i građevinarstvo",null,null,{"$f":"SUMIF('Unos rashoda i izdataka'!$S$3:$S$501,'A.3 RASHODI FUNK'!$A32,'Unos rashoda i izdataka'!K$3:K$501)+SUMIF('Unos rashoda P4'!$U$3:$U$501,'A.3 RASHODI FUNK'!$A32,'Unos rashoda P4'!I$3:I$501)","v":0},{"$f":"SUMIF('Unos rashoda i izdataka'!$S$3:$S$501,'A.3 RASHODI FUNK'!$A32,'Unos rashoda i izdataka'!L$3:L$501)+SUMIF('Unos rashoda P4'!$U$3:$U$501,'A.3 RASHODI FUNK'!$A32,'Unos rashoda P4'!J$3:J$501)","v":0},{"$f":"SUMIF('Unos rashoda i izdataka'!$S$3:$S$501,'A.3 RASHODI FUNK'!$A32,'Unos rashoda i izdataka'!M$3:M$501)+SUMIF('Unos rashoda P4'!$U$3:$U$501,'A.3 RASHODI FUNK'!$A32,'Unos rashoda P4'!K$3:K$501)","v":0},{"$f":"'OPĆI DIO'!$C$1","v":"1812 Sveučilište u Zagrebu FAKULTET PROMETNIH ZNANOSTI"}]
[45,"Promet",null,null,{"$f":"SUMIF('Unos rashoda i izdataka'!$S$3:$S$501,'A.3 RASHODI FUNK'!$A33,'Unos rashoda i izdataka'!K$3:K$501)+SUMIF('Unos rashoda P4'!$U$3:$U$501,'A.3 RASHODI FUNK'!$A33,'Unos rashoda P4'!I$3:I$501)","v":0},{"$f":"SUMIF('Unos rashoda i izdataka'!$S$3:$S$501,'A.3 RASHODI FUNK'!$A33,'Unos rashoda i izdataka'!L$3:L$501)+SUMIF('Unos rashoda P4'!$U$3:$U$501,'A.3 RASHODI FUNK'!$A33,'Unos rashoda P4'!J$3:J$501)","v":0},{"$f":"SUMIF('Unos rashoda i izdataka'!$S$3:$S$501,'A.3 RASHODI FUNK'!$A33,'Unos rashoda i izdataka'!M$3:M$501)+SUMIF('Unos rashoda P4'!$U$3:$U$501,'A.3 RASHODI FUNK'!$A33,'Unos rashoda P4'!K$3:K$501)","v":0},{"$f":"'OPĆI DIO'!$C$1","v":"1812 Sveučilište u Zagrebu FAKULTET PROMETNIH ZNANOSTI"}]
[46,"Komunikacije",null,null,{"$f":"SUMIF('Unos rashoda i izdataka'!$S$3:$S$501,'A.3 RASHODI FUNK'!$A34,'Unos rashoda i izdataka'!K$3:K$501)+SUMIF('Unos rashoda P4'!$U$3:$U$501,'A.3 RASHODI FUNK'!$A34,'Unos rashoda P4'!I$3:I$501)","v":0},{"$f":"SUMIF('Unos rashoda i izdataka'!$S$3:$S$501,'A.3 RASHODI FUNK'!$A34,'Unos rashoda i izdataka'!L$3:L$501)+SUMIF('Unos rashoda P4'!$U$3:$U$501,'A.3 RASHODI FUNK'!$A34,'Unos rashoda P4'!J$3:J$501)","v":0},{"$f":"SUMIF('Unos rashoda i izdataka'!$S$3:$S$501,'A.3 RASHODI FUNK'!$A34,'Unos rashoda i izdataka'!M$3:M$501)+SUMIF('Unos rashoda P4'!$U$3:$U$501,'A.3 RASHODI FUNK'!$A34,'Unos rashoda P4'!K$3:K$501)","v":0},{"$f":"'OPĆI DIO'!$C$1","v":"1812 Sveučilište u Zagrebu FAKULTET PROMETNIH ZNANOSTI"}]
[47,"Ostale industrije",null,null,{"$f":"SUMIF('Unos rashoda i izdataka'!$S$3:$S$501,'A.3 RASHODI FUNK'!$A35,'Unos rashoda i izdataka'!K$3:K$501)+SUMIF('Unos rashoda P4'!$U$3:$U$501,'A.3 RASHODI FUNK'!$A35,'Unos rashoda P4'!I$3:I$501)","v":0},{"$f":"SUMIF('Unos rashoda i izdataka'!$S$3:$S$501,'A.3 RASHODI FUNK'!$A35,'Unos rashoda i izdataka'!L$3:L$501)+SUMIF('Unos rashoda P4'!$U$3:$U$501,'A.3 RASHODI FUNK'!$A35,'Unos rashoda P4'!J$3:J$501)","v":0},{"$f":"SUMIF('Unos rashoda i izdataka'!$S$3:$S$501,'A.3 RASHODI FUNK'!$A35,'Unos rashoda i izdataka'!M$3:M$501)+SUMIF('Unos rashoda P4'!$U$3:$U$501,'A.3 RASHODI FUNK'!$A35,'Unos rashoda P4'!K$3:K$501)","v":0},{"$f":"'OPĆI DIO'!$C$1","v":"1812 Sveučilište u Zagrebu FAKULTET PROMETNIH ZNANOSTI"}]
[48,"Istraživanje i razvoj: Ekonomski poslovi",null,null,{"$f":"SUMIF('Unos rashoda i izdataka'!$S$3:$S$501,'A.3 RASHODI FUNK'!$A36,'Unos rashoda i izdataka'!K$3:K$501)+SUMIF('Unos rashoda P4'!$U$3:$U$501,'A.3 RASHODI FUNK'!$A36,'Unos rashoda P4'!I$3:I$501)","v":0},{"$f":"SUMIF('Unos rashoda i izdataka'!$S$3:$S$501,'A.3 RASHODI FUNK'!$A36,'Unos rashoda i izdataka'!L$3:L$501)+SUMIF('Unos rashoda P4'!$U$3:$U$501,'A.3 RASHODI FUNK'!$A36,'Unos rashoda P4'!J$3:J$501)","v":0},{"$f":"SUMIF('Unos rashoda i izdataka'!$S$3:$S$501,'A.3 RASHODI FUNK'!$A36,'Unos rashoda i izdataka'!M$3:M$501)+SUMIF('Unos rashoda P4'!$U$3:$U$501,'A.3 RASHODI FUNK'!$A36,'Unos rashoda P4'!K$3:K$501)","v":0},{"$f":"'OPĆI DIO'!$C$1","v":"1812 Sveučilište u Zagrebu FAKULTET PROMETNIH ZNANOSTI"}]
[49,"Ekonomski poslovi koji nisu drugdje svrstani",null,null,{"$f":"SUMIF('Unos rashoda i izdataka'!$S$3:$S$501,'A.3 RASHODI FUNK'!$A37,'Unos rashoda i izdataka'!K$3:K$501)+SUMIF('Unos rashoda P4'!$U$3:$U$501,'A.3 RASHODI FUNK'!$A37,'Unos rashoda P4'!I$3:I$501)","v":0},{"$f":"SUMIF('Unos rashoda i izdataka'!$S$3:$S$501,'A.3 RASHODI FUNK'!$A37,'Unos rashoda i izdataka'!L$3:L$501)+SUMIF('Unos rashoda P4'!$U$3:$U$501,'A.3 RASHODI FUNK'!$A37,'Unos rashoda P4'!J$3:J$501)","v":0},{"$f":"SUMIF('Unos rashoda i izdataka'!$S$3:$S$501,'A.3 RASHODI FUNK'!$A37,'Unos rashoda i izdataka'!M$3:M$501)+SUMIF('Unos rashoda P4'!$U$3:$U$501,'A.3 RASHODI FUNK'!$A37,'Unos rashoda P4'!K$3:K$501)","v":0},{"$f":"'OPĆI DIO'!$C$1","v":"1812 Sveučilište u Zagrebu FAKULTET PROMETNIH ZNANOSTI"}]
[5,"Zaštita okoliša",{"$f":"SUM(C39:C44)","v":0},{"$f":"SUM(D39:D44)","v":0},{"$f":"SUM(E39:E44)","v":0},{"$f":"SUM(F39:F44)","v":0},{"$f":"SUM(G39:G44)","v":0},{"$f":"'OPĆI DIO'!$C$1","v":"1812 Sveučilište u Zagrebu FAKULTET PROMETNIH ZNANOSTI"}]
[51,"Gospodarenje otpadom",null,null,{"$f":"SUMIF('Unos rashoda i izdataka'!$S$3:$S$501,'A.3 RASHODI FUNK'!$A39,'Unos rashoda i izdataka'!K$3:K$501)+SUMIF('Unos rashoda P4'!$U$3:$U$501,'A.3 RASHODI FUNK'!$A39,'Unos rashoda P4'!I$3:I$501)","v":0},{"$f":"SUMIF('Unos rashoda i izdataka'!$S$3:$S$501,'A.3 RASHODI FUNK'!$A39,'Unos rashoda i izdataka'!L$3:L$501)+SUMIF('Unos rashoda P4'!$U$3:$U$501,'A.3 RASHODI FUNK'!$A39,'Unos rashoda P4'!J$3:J$501)","v":0},{"$f":"SUMIF('Unos rashoda i izdataka'!$S$3:$S$501,'A.3 RASHODI FUNK'!$A39,'Unos rashoda i izdataka'!M$3:M$501)+SUMIF('Unos rashoda P4'!$U$3:$U$501,'A.3 RASHODI FUNK'!$A39,'Unos rashoda P4'!K$3:K$501)","v":0},{"$f":"'OPĆI DIO'!$C$1","v":"1812 Sveučilište u Zagrebu FAKULTET PROMETNIH ZNANOSTI"}]
[52,"Gospodarenje otpadnim vodama",null,null,{"$f":"SUMIF('Unos rashoda i izdataka'!$S$3:$S$501,'A.3 RASHODI FUNK'!$A40,'Unos rashoda i izdataka'!K$3:K$501)+SUMIF('Unos rashoda P4'!$U$3:$U$501,'A.3 RASHODI FUNK'!$A40,'Unos rashoda P4'!I$3:I$501)","v":0},{"$f":"SUMIF('Unos rashoda i izdataka'!$S$3:$S$501,'A.3 RASHODI FUNK'!$A40,'Unos rashoda i izdataka'!L$3:L$501)+SUMIF('Unos rashoda P4'!$U$3:$U$501,'A.3 RASHODI FUNK'!$A40,'Unos rashoda P4'!J$3:J$501)","v":0},{"$f":"SUMIF('Unos rashoda i izdataka'!$S$3:$S$501,'A.3 RASHODI FUNK'!$A40,'Unos rashoda i izdataka'!M$3:M$501)+SUMIF('Unos rashoda P4'!$U$3:$U$501,'A.3 RASHODI FUNK'!$A40,'Unos rashoda P4'!K$3:K$501)","v":0},{"$f":"'OPĆI DIO'!$C$1","v":"1812 Sveučilište u Zagrebu FAKULTET PROMETNIH ZNANOSTI"}]
[53,"Smanjenje zagađivanja",null,null,{"$f":"SUMIF('Unos rashoda i izdataka'!$S$3:$S$501,'A.3 RASHODI FUNK'!$A41,'Unos rashoda i izdataka'!K$3:K$501)+SUMIF('Unos rashoda P4'!$U$3:$U$501,'A.3 RASHODI FUNK'!$A41,'Unos rashoda P4'!I$3:I$501)","v":0},{"$f":"SUMIF('Unos rashoda i izdataka'!$S$3:$S$501,'A.3 RASHODI FUNK'!$A41,'Unos rashoda i izdataka'!L$3:L$501)+SUMIF('Unos rashoda P4'!$U$3:$U$501,'A.3 RASHODI FUNK'!$A41,'Unos rashoda P4'!J$3:J$501)","v":0},{"$f":"SUMIF('Unos rashoda i izdataka'!$S$3:$S$501,'A.3 RASHODI FUNK'!$A41,'Unos rashoda i izdataka'!M$3:M$501)+SUMIF('Unos rashoda P4'!$U$3:$U$501,'A.3 RASHODI FUNK'!$A41,'Unos rashoda P4'!K$3:K$501)","v":0},{"$f":"'OPĆI DIO'!$C$1","v":"1812 Sveučilište u Zagrebu FAKULTET PROMETNIH ZNANOSTI"}]
[54,"Zaštita bioraznolikosti i krajolika",null,null,{"$f":"SUMIF('Unos rashoda i izdataka'!$S$3:$S$501,'A.3 RASHODI FUNK'!$A42,'Unos rashoda i izdataka'!K$3:K$501)+SUMIF('Unos rashoda P4'!$U$3:$U$501,'A.3 RASHODI FUNK'!$A42,'Unos rashoda P4'!I$3:I$501)","v":0},{"$f":"SUMIF('Unos rashoda i izdataka'!$S$3:$S$501,'A.3 RASHODI FUNK'!$A42,'Unos rashoda i izdataka'!L$3:L$501)+SUMIF('Unos rashoda P4'!$U$3:$U$501,'A.3 RASHODI FUNK'!$A42,'Unos rashoda P4'!J$3:J$501)","v":0},{"$f":"SUMIF('Unos rashoda i izdataka'!$S$3:$S$501,'A.3 RASHODI FUNK'!$A42,'Unos rashoda i izdataka'!M$3:M$501)+SUMIF('Unos rashoda P4'!$U$3:$U$501,'A.3 RASHODI FUNK'!$A42,'Unos rashoda P4'!K$3:K$501)","v":0},{"$f":"'OPĆI DIO'!$C$1","v":"1812 Sveučilište u Zagrebu FAKULTET PROMETNIH ZNANOSTI"}]
[55,"Istraživanje i razvoj: Zaštita okoliša",null,null,{"$f":"SUMIF('Unos rashoda i izdataka'!$S$3:$S$501,'A.3 RASHODI FUNK'!$A43,'Unos rashoda i izdataka'!K$3:K$501)+SUMIF('Unos rashoda P4'!$U$3:$U$501,'A.3 RASHODI FUNK'!$A43,'Unos rashoda P4'!I$3:I$501)","v":0},{"$f":"SUMIF('Unos rashoda i izdataka'!$S$3:$S$501,'A.3 RASHODI FUNK'!$A43,'Unos rashoda i izdataka'!L$3:L$501)+SUMIF('Unos rashoda P4'!$U$3:$U$501,'A.3 RASHODI FUNK'!$A43,'Unos rashoda P4'!J$3:J$501)","v":0},{"$f":"SUMIF('Unos rashoda i izdataka'!$S$3:$S$501,'A.3 RASHODI FUNK'!$A43,'Unos rashoda i izdataka'!M$3:M$501)+SUMIF('Unos rashoda P4'!$U$3:$U$501,'A.3 RASHODI FUNK'!$A43,'Unos rashoda P4'!K$3:K$501)","v":0},{"$f":"'OPĆI DIO'!$C$1","v":"1812 Sveučilište u Zagrebu FAKULTET PROMETNIH ZNANOSTI"}]
[56,"Poslovi i usluge zaštite okoliša koji nisu drugdje svrstani",null,null,{"$f":"SUMIF('Unos rashoda i izdataka'!$S$3:$S$501,'A.3 RASHODI FUNK'!$A44,'Unos rashoda i izdataka'!K$3:K$501)+SUMIF('Unos rashoda P4'!$U$3:$U$501,'A.3 RASHODI FUNK'!$A44,'Unos rashoda P4'!I$3:I$501)","v":0},{"$f":"SUMIF('Unos rashoda i izdataka'!$S$3:$S$501,'A.3 RASHODI FUNK'!$A44,'Unos rashoda i izdataka'!L$3:L$501)+SUMIF('Unos rashoda P4'!$U$3:$U$501,'A.3 RASHODI FUNK'!$A44,'Unos rashoda P4'!J$3:J$501)","v":0},{"$f":"SUMIF('Unos rashoda i izdataka'!$S$3:$S$501,'A.3 RASHODI FUNK'!$A44,'Unos rashoda i izdataka'!M$3:M$501)+SUMIF('Unos rashoda P4'!$U$3:$U$501,'A.3 RASHODI FUNK'!$A44,'Unos rashoda P4'!K$3:K$501)","v":0},{"$f":"'OPĆI DIO'!$C$1","v":"1812 Sveučilište u Zagrebu FAKULTET PROMETNIH ZNANOSTI"}]
[6,"Usluge unaprjeđenja stanovanja i zajednice",{"$f":"SUM(C46:C51)","v":0},{"$f":"SUM(D46:D51)","v":0},{"$f":"SUM(E46:E51)","v":0},{"$f":"SUM(F46:F51)","v":0},{"$f":"SUM(G46:G51)","v":0},{"$f":"'OPĆI DIO'!$C$1","v":"1812 Sveučilište u Zagrebu FAKULTET PROMETNIH ZNANOSTI"}]
[61,"Razvoj stanovanja",null,null,{"$f":"SUMIF('Unos rashoda i izdataka'!$S$3:$S$501,'A.3 RASHODI FUNK'!$A46,'Unos rashoda i izdataka'!K$3:K$501)+SUMIF('Unos rashoda P4'!$U$3:$U$501,'A.3 RASHODI FUNK'!$A46,'Unos rashoda P4'!I$3:I$501)","v":0},{"$f":"SUMIF('Unos rashoda i izdataka'!$S$3:$S$501,'A.3 RASHODI FUNK'!$A46,'Unos rashoda i izdataka'!L$3:L$501)+SUMIF('Unos rashoda P4'!$U$3:$U$501,'A.3 RASHODI FUNK'!$A46,'Unos rashoda P4'!J$3:J$501)","v":0},{"$f":"SUMIF('Unos rashoda i izdataka'!$S$3:$S$501,'A.3 RASHODI FUNK'!$A46,'Unos rashoda i izdataka'!M$3:M$501)+SUMIF('Unos rashoda P4'!$U$3:$U$501,'A.3 RASHODI FUNK'!$A46,'Unos rashoda P4'!K$3:K$501)","v":0},{"$f":"'OPĆI DIO'!$C$1","v":"1812 Sveučilište u Zagrebu FAKULTET PROMETNIH ZNANOSTI"}]
[62,"Razvoj zajednice",null,null,{"$f":"SUMIF('Unos rashoda i izdataka'!$S$3:$S$501,'A.3 RASHODI FUNK'!$A47,'Unos rashoda i izdataka'!K$3:K$501)+SUMIF('Unos rashoda P4'!$U$3:$U$501,'A.3 RASHODI FUNK'!$A47,'Unos rashoda P4'!I$3:I$501)","v":0},{"$f":"SUMIF('Unos rashoda i izdataka'!$S$3:$S$501,'A.3 RASHODI FUNK'!$A47,'Unos rashoda i izdataka'!L$3:L$501)+SUMIF('Unos rashoda P4'!$U$3:$U$501,'A.3 RASHODI FUNK'!$A47,'Unos rashoda P4'!J$3:J$501)","v":0},{"$f":"SUMIF('Unos rashoda i izdataka'!$S$3:$S$501,'A.3 RASHODI FUNK'!$A47,'Unos rashoda i izdataka'!M$3:M$501)+SUMIF('Unos rashoda P4'!$U$3:$U$501,'A.3 RASHODI FUNK'!$A47,'Unos rashoda P4'!K$3:K$501)","v":0},{"$f":"'OPĆI DIO'!$C$1","v":"1812 Sveučilište u Zagrebu FAKULTET PROMETNIH ZNANOSTI"}]
[63,"Opskrba vodom",null,null,{"$f":"SUMIF('Unos rashoda i izdataka'!$S$3:$S$501,'A.3 RASHODI FUNK'!$A48,'Unos rashoda i izdataka'!K$3:K$501)+SUMIF('Unos rashoda P4'!$U$3:$U$501,'A.3 RASHODI FUNK'!$A48,'Unos rashoda P4'!I$3:I$501)","v":0},{"$f":"SUMIF('Unos rashoda i izdataka'!$S$3:$S$501,'A.3 RASHODI FUNK'!$A48,'Unos rashoda i izdataka'!L$3:L$501)+SUMIF('Unos rashoda P4'!$U$3:$U$501,'A.3 RASHODI FUNK'!$A48,'Unos rashoda P4'!J$3:J$501)","v":0},{"$f":"SUMIF('Unos rashoda i izdataka'!$S$3:$S$501,'A.3 RASHODI FUNK'!$A48,'Unos rashoda i izdataka'!M$3:M$501)+SUMIF('Unos rashoda P4'!$U$3:$U$501,'A.3 RASHODI FUNK'!$A48,'Unos rashoda P4'!K$3:K$501)","v":0},{"$f":"'OPĆI DIO'!$C$1","v":"1812 Sveučilište u Zagrebu FAKULTET PROMETNIH ZNANOSTI"}]
[64,"Ulična rasvjeta",null,null,{"$f":"SUMIF('Unos rashoda i izdataka'!$S$3:$S$501,'A.3 RASHODI FUNK'!$A49,'Unos rashoda i izdataka'!K$3:K$501)+SUMIF('Unos rashoda P4'!$U$3:$U$501,'A.3 RASHODI FUNK'!$A49,'Unos rashoda P4'!I$3:I$501)","v":0},{"$f":"SUMIF('Unos rashoda i izdataka'!$S$3:$S$501,'A.3 RASHODI FUNK'!$A49,'Unos rashoda i izdataka'!L$3:L$501)+SUMIF('Unos rashoda P4'!$U$3:$U$501,'A.3 RASHODI FUNK'!$A49,'Unos rashoda P4'!J$3:J$501)","v":0},{"$f":"SUMIF('Unos rashoda i izdataka'!$S$3:$S$501,'A.3 RASHODI FUNK'!$A49,'Unos rashoda i izdataka'!M$3:M$501)+SUMIF('Unos rashoda P4'!$U$3:$U$501,'A.3 RASHODI FUNK'!$A49,'Unos rashoda P4'!K$3:K$501)","v":0},{"$f":"'OPĆI DIO'!$C$1","v":"1812 Sveučilište u Zagrebu FAKULTET PROMETNIH ZNANOSTI"}]
[65,"Istraživanje i razvoj stanovanja i komunalnih pogodnosti",null,null,{"$f":"SUMIF('Unos rashoda i izdataka'!$S$3:$S$501,'A.3 RASHODI FUNK'!$A50,'Unos rashoda i izdataka'!K$3:K$501)+SUMIF('Unos rashoda P4'!$U$3:$U$501,'A.3 RASHODI FUNK'!$A50,'Unos rashoda P4'!I$3:I$501)","v":0},{"$f":"SUMIF('Unos rashoda i izdataka'!$S$3:$S$501,'A.3 RASHODI FUNK'!$A50,'Unos rashoda i izdataka'!L$3:L$501)+SUMIF('Unos rashoda P4'!$U$3:$U$501,'A.3 RASHODI FUNK'!$A50,'Unos rashoda P4'!J$3:J$501)","v":0},{"$f":"SUMIF('Unos rashoda i izdataka'!$S$3:$S$501,'A.3 RASHODI FUNK'!$A50,'Unos rashoda i izdataka'!M$3:M$501)+SUMIF('Unos rashoda P4'!$U$3:$U$501,'A.3 RASHODI FUNK'!$A50,'Unos rashoda P4'!K$3:K$501)","v":0},{"$f":"'OPĆI DIO'!$C$1","v":"1812 Sveučilište u Zagrebu FAKULTET PROMETNIH ZNANOSTI"}]
[66,"Rashodi vezani uz stanovanje i kom. pogodnosti koji nisu drugdje svrstani",null,null,{"$f":"SUMIF('Unos rashoda i izdataka'!$S$3:$S$501,'A.3 RASHODI FUNK'!$A51,'Unos rashoda i izdataka'!K$3:K$501)+SUMIF('Unos rashoda P4'!$U$3:$U$501,'A.3 RASHODI FUNK'!$A51,'Unos rashoda P4'!I$3:I$501)","v":0},{"$f":"SUMIF('Unos rashoda i izdataka'!$S$3:$S$501,'A.3 RASHODI FUNK'!$A51,'Unos rashoda i izdataka'!L$3:L$501)+SUMIF('Unos rashoda P4'!$U$3:$U$501,'A.3 RASHODI FUNK'!$A51,'Unos rashoda P4'!J$3:J$501)","v":0},{"$f":"SUMIF('Unos rashoda i izdataka'!$S$3:$S$501,'A.3 RASHODI FUNK'!$A51,'Unos rashoda i izdataka'!M$3:M$501)+SUMIF('Unos rashoda P4'!$U$3:$U$501,'A.3 RASHODI FUNK'!$A51,'Unos rashoda P4'!K$3:K$501)","v":0},{"$f":"'OPĆI DIO'!$C$1","v":"1812 Sveučilište u Zagrebu FAKULTET PROMETNIH ZNANOSTI"}]
[7,"Zdravstvo",{"$f":"SUM(C53:C58)","v":0},{"$f":"SUM(D53:D58)","v":0},{"$f":"SUM(E53:E58)","v":0},{"$f":"SUM(F53:F58)","v":0},{"$f":"SUM(G53:G58)","v":0},{"$f":"'OPĆI DIO'!$C$1","v":"1812 Sveučilište u Zagrebu FAKULTET PROMETNIH ZNANOSTI"}]
[71,"Medicinski proizvodi, pribor i oprema",null,null,{"$f":"SUMIF('Unos rashoda i izdataka'!$S$3:$S$501,'A.3 RASHODI FUNK'!$A53,'Unos rashoda i izdataka'!K$3:K$501)+SUMIF('Unos rashoda P4'!$U$3:$U$501,'A.3 RASHODI FUNK'!$A53,'Unos rashoda P4'!I$3:I$501)","v":0},{"$f":"SUMIF('Unos rashoda i izdataka'!$S$3:$S$501,'A.3 RASHODI FUNK'!$A53,'Unos rashoda i izdataka'!L$3:L$501)+SUMIF('Unos rashoda P4'!$U$3:$U$501,'A.3 RASHODI FUNK'!$A53,'Unos rashoda P4'!J$3:J$501)","v":0},{"$f":"SUMIF('Unos rashoda i izdataka'!$S$3:$S$501,'A.3 RASHODI FUNK'!$A53,'Unos rashoda i izdataka'!M$3:M$501)+SUMIF('Unos rashoda P4'!$U$3:$U$501,'A.3 RASHODI FUNK'!$A53,'Unos rashoda P4'!K$3:K$501)","v":0},{"$f":"'OPĆI DIO'!$C$1","v":"1812 Sveučilište u Zagrebu FAKULTET PROMETNIH ZNANOSTI"}]
[72,"Službe za vanjske pacijente",null,null,{"$f":"SUMIF('Unos rashoda i izdataka'!$S$3:$S$501,'A.3 RASHODI FUNK'!$A54,'Unos rashoda i izdataka'!K$3:K$501)+SUMIF('Unos rashoda P4'!$U$3:$U$501,'A.3 RASHODI FUNK'!$A54,'Unos rashoda P4'!I$3:I$501)","v":0},{"$f":"SUMIF('Unos rashoda i izdataka'!$S$3:$S$501,'A.3 RASHODI FUNK'!$A54,'Unos rashoda i izdataka'!L$3:L$501)+SUMIF('Unos rashoda P4'!$U$3:$U$501,'A.3 RASHODI FUNK'!$A54,'Unos rashoda P4'!J$3:J$501)","v":0},{"$f":"SUMIF('Unos rashoda i izdataka'!$S$3:$S$501,'A.3 RASHODI FUNK'!$A54,'Unos rashoda i izdataka'!M$3:M$501)+SUMIF('Unos rashoda P4'!$U$3:$U$501,'A.3 RASHODI FUNK'!$A54,'Unos rashoda P4'!K$3:K$501)","v":0},{"$f":"'OPĆI DIO'!$C$1","v":"1812 Sveučilište u Zagrebu FAKULTET PROMETNIH ZNANOSTI"}]
[73,"Bolničke službe",null,null,{"$f":"SUMIF('Unos rashoda i izdataka'!$S$3:$S$501,'A.3 RASHODI FUNK'!$A55,'Unos rashoda i izdataka'!K$3:K$501)+SUMIF('Unos rashoda P4'!$U$3:$U$501,'A.3 RASHODI FUNK'!$A55,'Unos rashoda P4'!I$3:I$501)","v":0},{"$f":"SUMIF('Unos rashoda i izdataka'!$S$3:$S$501,'A.3 RASHODI FUNK'!$A55,'Unos rashoda i izdataka'!L$3:L$501)+SUMIF('Unos rashoda P4'!$U$3:$U$501,'A.3 RASHODI FUNK'!$A55,'Unos rashoda P4'!J$3:J$501)","v":0},{"$f":"SUMIF('Unos rashoda i izdataka'!$S$3:$S$501,'A.3 RASHODI FUNK'!$A55,'Unos rashoda i izdataka'!M$3:M$501)+SUMIF('Unos rashoda P4'!$U$3:$U$501,'A.3 RASHODI FUNK'!$A55,'Unos rashoda P4'!K$3:K$501)","v":0},{"$f":"'OPĆI DIO'!$C$1","v":"1812 Sveučilište u Zagrebu FAKULTET PROMETNIH ZNANOSTI"}]
[74,"Službe javnog zdravstva",null,null,{"$f":"SUMIF('Unos rashoda i izdataka'!$S$3:$S$501,'A.3 RASHODI FUNK'!$A56,'Unos rashoda i izdataka'!K$3:K$501)+SUMIF('Unos rashoda P4'!$U$3:$U$501,'A.3 RASHODI FUNK'!$A56,'Unos rashoda P4'!I$3:I$501)","v":0},{"$f":"SUMIF('Unos rashoda i izdataka'!$S$3:$S$501,'A.3 RASHODI FUNK'!$A56,'Unos rashoda i izdataka'!L$3:L$501)+SUMIF('Unos rashoda P4'!$U$3:$U$501,'A.3 RASHODI FUNK'!$A56,'Unos rashoda P4'!J$3:J$501)","v":0},{"$f":"SUMIF('Unos rashoda i izdataka'!$S$3:$S$501,'A.3 RASHODI FUNK'!$A56,'Unos rashoda i izdataka'!M$3:M$501)+SUMIF('Unos rashoda P4'!$U$3:$U$501,'A.3 RASHODI FUNK'!$A56,'Unos rashoda P4'!K$3:K$501)","v":0},{"$f":"'OPĆI DIO'!$C$1","v":"1812 Sveučilište u Zagrebu FAKULTET PROMETNIH ZNANOSTI"}]
[75,"Istraživanje i razvoj zdravstva",null,null,{"$f":"SUMIF('Unos rashoda i izdataka'!$S$3:$S$501,'A.3 RASHODI FUNK'!$A57,'Unos rashoda i izdataka'!K$3:K$501)+SUMIF('Unos rashoda P4'!$U$3:$U$501,'A.3 RASHODI FUNK'!$A57,'Unos rashoda P4'!I$3:I$501)","v":0},{"$f":"SUMIF('Unos rashoda i izdataka'!$S$3:$S$501,'A.3 RASHODI FUNK'!$A57,'Unos rashoda i izdataka'!L$3:L$501)+SUMIF('Unos rashoda P4'!$U$3:$U$501,'A.3 RASHODI FUNK'!$A57,'Unos rashoda P4'!J$3:J$501)","v":0},{"$f":"SUMIF('Unos rashoda i izdataka'!$S$3:$S$501,'A.3 RASHODI FUNK'!$A57,'Unos rashoda i izdataka'!M$3:M$501)+SUMIF('Unos rashoda P4'!$U$3:$U$501,'A.3 RASHODI FUNK'!$A57,'Unos rashoda P4'!K$3:K$501)","v":0},{"$f":"'OPĆI DIO'!$C$1","v":"1812 Sveučilište u Zagrebu FAKULTET PROMETNIH ZNANOSTI"}]
[76,"Poslovi i usluge zdravstva koji nisu drugdje svrstani",null,null,{"$f":"SUMIF('Unos rashoda i izdataka'!$S$3:$S$501,'A.3 RASHODI FUNK'!$A58,'Unos rashoda i izdataka'!K$3:K$501)+SUMIF('Unos rashoda P4'!$U$3:$U$501,'A.3 RASHODI FUNK'!$A58,'Unos rashoda P4'!I$3:I$501)","v":0},{"$f":"SUMIF('Unos rashoda i izdataka'!$S$3:$S$501,'A.3 RASHODI FUNK'!$A58,'Unos rashoda i izdataka'!L$3:L$501)+SUMIF('Unos rashoda P4'!$U$3:$U$501,'A.3 RASHODI FUNK'!$A58,'Unos rashoda P4'!J$3:J$501)","v":0},{"$f":"SUMIF('Unos rashoda i izdataka'!$S$3:$S$501,'A.3 RASHODI FUNK'!$A58,'Unos rashoda i izdataka'!M$3:M$501)+SUMIF('Unos rashoda P4'!$U$3:$U$501,'A.3 RASHODI FUNK'!$A58,'Unos rashoda P4'!K$3:K$501)","v":0},{"$f":"'OPĆI DIO'!$C$1","v":"1812 Sveučilište u Zagrebu FAKULTET PROMETNIH ZNANOSTI"}]
[8,"Rekreacija, kultura i religija",{"$f":"SUM(C60:C65)","v":0},{"$f":"SUM(D60:D65)","v":0},{"$f":"SUM(E60:E65)","v":0},{"$f":"SUM(F60:F65)","v":0},{"$f":"SUM(G60:G65)","v":0},{"$f":"'OPĆI DIO'!$C$1","v":"1812 Sveučilište u Zagrebu FAKULTET PROMETNIH ZNANOSTI"}]
[81,"Službe rekreacije i sporta",null,null,{"$f":"SUMIF('Unos rashoda i izdataka'!$S$3:$S$501,'A.3 RASHODI FUNK'!$A60,'Unos rashoda i izdataka'!K$3:K$501)+SUMIF('Unos rashoda P4'!$U$3:$U$501,'A.3 RASHODI FUNK'!$A60,'Unos rashoda P4'!I$3:I$501)","v":0},{"$f":"SUMIF('Unos rashoda i izdataka'!$S$3:$S$501,'A.3 RASHODI FUNK'!$A60,'Unos rashoda i izdataka'!L$3:L$501)+SUMIF('Unos rashoda P4'!$U$3:$U$501,'A.3 RASHODI FUNK'!$A60,'Unos rashoda P4'!J$3:J$501)","v":0},{"$f":"SUMIF('Unos rashoda i izdataka'!$S$3:$S$501,'A.3 RASHODI FUNK'!$A60,'Unos rashoda i izdataka'!M$3:M$501)+SUMIF('Unos rashoda P4'!$U$3:$U$501,'A.3 RASHODI FUNK'!$A60,'Unos rashoda P4'!K$3:K$501)","v":0},{"$f":"'OPĆI DIO'!$C$1","v":"1812 Sveučilište u Zagrebu FAKULTET PROMETNIH ZNANOSTI"}]
[82,"Službe kulture",null,null,{"$f":"SUMIF('Unos rashoda i izdataka'!$S$3:$S$501,'A.3 RASHODI FUNK'!$A61,'Unos rashoda i izdataka'!K$3:K$501)+SUMIF('Unos rashoda P4'!$U$3:$U$501,'A.3 RASHODI FUNK'!$A61,'Unos rashoda P4'!I$3:I$501)","v":0},{"$f":"SUMIF('Unos rashoda i izdataka'!$S$3:$S$501,'A.3 RASHODI FUNK'!$A61,'Unos rashoda i izdataka'!L$3:L$501)+SUMIF('Unos rashoda P4'!$U$3:$U$501,'A.3 RASHODI FUNK'!$A61,'Unos rashoda P4'!J$3:J$501)","v":0},{"$f":"SUMIF('Unos rashoda i izdataka'!$S$3:$S$501,'A.3 RASHODI FUNK'!$A61,'Unos rashoda i izdataka'!M$3:M$501)+SUMIF('Unos rashoda P4'!$U$3:$U$501,'A.3 RASHODI FUNK'!$A61,'Unos rashoda P4'!K$3:K$501)","v":0},{"$f":"'OPĆI DIO'!$C$1","v":"1812 Sveučilište u Zagrebu FAKULTET PROMETNIH ZNANOSTI"}]
[83,"Službe emitiranja i izdavanja",null,null,{"$f":"SUMIF('Unos rashoda i izdataka'!$S$3:$S$501,'A.3 RASHODI FUNK'!$A62,'Unos rashoda i izdataka'!K$3:K$501)+SUMIF('Unos rashoda P4'!$U$3:$U$501,'A.3 RASHODI FUNK'!$A62,'Unos rashoda P4'!I$3:I$501)","v":0},{"$f":"SUMIF('Unos rashoda i izdataka'!$S$3:$S$501,'A.3 RASHODI FUNK'!$A62,'Unos rashoda i izdataka'!L$3:L$501)+SUMIF('Unos rashoda P4'!$U$3:$U$501,'A.3 RASHODI FUNK'!$A62,'Unos rashoda P4'!J$3:J$501)","v":0},{"$f":"SUMIF('Unos rashoda i izdataka'!$S$3:$S$501,'A.3 RASHODI FUNK'!$A62,'Unos rashoda i izdataka'!M$3:M$501)+SUMIF('Unos rashoda P4'!$U$3:$U$501,'A.3 RASHODI FUNK'!$A62,'Unos rashoda P4'!K$3:K$501)","v":0},{"$f":"'OPĆI DIO'!$C$1","v":"1812 Sveučilište u Zagrebu FAKULTET PROMETNIH ZNANOSTI"}]
[84,"Religijske i druge službe zajednice",null,null,{"$f":"SUMIF('Unos rashoda i izdataka'!$S$3:$S$501,'A.3 RASHODI FUNK'!$A63,'Unos rashoda i izdataka'!K$3:K$501)+SUMIF('Unos rashoda P4'!$U$3:$U$501,'A.3 RASHODI FUNK'!$A63,'Unos rashoda P4'!I$3:I$501)","v":0},{"$f":"SUMIF('Unos rashoda i izdataka'!$S$3:$S$501,'A.3 RASHODI FUNK'!$A63,'Unos rashoda i izdataka'!L$3:L$501)+SUMIF('Unos rashoda P4'!$U$3:$U$501,'A.3 RASHODI FUNK'!$A63,'Unos rashoda P4'!J$3:J$501)","v":0},{"$f":"SUMIF('Unos rashoda i izdataka'!$S$3:$S$501,'A.3 RASHODI FUNK'!$A63,'Unos rashoda i izdataka'!M$3:M$501)+SUMIF('Unos rashoda P4'!$U$3:$U$501,'A.3 RASHODI FUNK'!$A63,'Unos rashoda P4'!K$3:K$501)","v":0},{"$f":"'OPĆI DIO'!$C$1","v":"1812 Sveučilište u Zagrebu FAKULTET PROMETNIH ZNANOSTI"}]
[85,"Istraživanje i razvoj rekreacije, kulture i religije",null,null,{"$f":"SUMIF('Unos rashoda i izdataka'!$S$3:$S$501,'A.3 RASHODI FUNK'!$A64,'Unos rashoda i izdataka'!K$3:K$501)+SUMIF('Unos rashoda P4'!$U$3:$U$501,'A.3 RASHODI FUNK'!$A64,'Unos rashoda P4'!I$3:I$501)","v":0},{"$f":"SUMIF('Unos rashoda i izdataka'!$S$3:$S$501,'A.3 RASHODI FUNK'!$A64,'Unos rashoda i izdataka'!L$3:L$501)+SUMIF('Unos rashoda P4'!$U$3:$U$501,'A.3 RASHODI FUNK'!$A64,'Unos rashoda P4'!J$3:J$501)","v":0},{"$f":"SUMIF('Unos rashoda i izdataka'!$S$3:$S$501,'A.3 RASHODI FUNK'!$A64,'Unos rashoda i izdataka'!M$3:M$501)+SUMIF('Unos rashoda P4'!$U$3:$U$501,'A.3 RASHODI FUNK'!$A64,'Unos rashoda P4'!K$3:K$501)","v":0},{"$f":"'OPĆI DIO'!$C$1","v":"1812 Sveučilište u Zagrebu FAKULTET PROMETNIH ZNANOSTI"}]
[86,"Rashodi za rekreaciju, kulturu i religiju koji nisu drugdje svrstani",null,null,{"$f":"SUMIF('Unos rashoda i izdataka'!$S$3:$S$501,'A.3 RASHODI FUNK'!$A65,'Unos rashoda i izdataka'!K$3:K$501)+SUMIF('Unos rashoda P4'!$U$3:$U$501,'A.3 RASHODI FUNK'!$A65,'Unos rashoda P4'!I$3:I$501)","v":0},{"$f":"SUMIF('Unos rashoda i izdataka'!$S$3:$S$501,'A.3 RASHODI FUNK'!$A65,'Unos rashoda i izdataka'!L$3:L$501)+SUMIF('Unos rashoda P4'!$U$3:$U$501,'A.3 RASHODI FUNK'!$A65,'Unos rashoda P4'!J$3:J$501)","v":0},{"$f":"SUMIF('Unos rashoda i izdataka'!$S$3:$S$501,'A.3 RASHODI FUNK'!$A65,'Unos rashoda i izdataka'!M$3:M$501)+SUMIF('Unos rashoda P4'!$U$3:$U$501,'A.3 RASHODI FUNK'!$A65,'Unos rashoda P4'!K$3:K$501)","v":0},{"$f":"'OPĆI DIO'!$C$1","v":"1812 Sveučilište u Zagrebu FAKULTET PROMETNIH ZNANOSTI"}]
[9,"Obrazovanje",{"$f":"SUM(C67:C74)","v":{"v":10593602,"d":"10,593,602"}},{"$f":"SUM(D67:D74)","v":{"v":12919332,"d":"12,919,332"}},{"$f":"SUM(E67:E74)","v":{"v":13400357.502375182,"d":"13,400,358"}},{"$f":"SUM(F67:F74)","v":{"v":14090003.144830698,"d":"14,090,003"}},{"$f":"SUM(G67:G74)","v":{"v":14849151.9534687,"d":"14,849,152"}},{"$f":"'OPĆI DIO'!$C$1","v":"1812 Sveučilište u Zagrebu FAKULTET PROMETNIH ZNANOSTI"}]
[91,"Predškolsko i osnovno obrazovanje",null,null,{"$f":"SUMIF('Unos rashoda i izdataka'!$S$3:$S$501,'A.3 RASHODI FUNK'!$A67,'Unos rashoda i izdataka'!K$3:K$501)+SUMIF('Unos rashoda P4'!$U$3:$U$501,'A.3 RASHODI FUNK'!$A67,'Unos rashoda P4'!I$3:I$501)","v":0},{"$f":"SUMIF('Unos rashoda i izdataka'!$S$3:$S$501,'A.3 RASHODI FUNK'!$A67,'Unos rashoda i izdataka'!L$3:L$501)+SUMIF('Unos rashoda P4'!$U$3:$U$501,'A.3 RASHODI FUNK'!$A67,'Unos rashoda P4'!J$3:J$501)","v":0},{"$f":"SUMIF('Unos rashoda i izdataka'!$S$3:$S$501,'A.3 RASHODI FUNK'!$A67,'Unos rashoda i izdataka'!M$3:M$501)+SUMIF('Unos rashoda P4'!$U$3:$U$501,'A.3 RASHODI FUNK'!$A67,'Unos rashoda P4'!K$3:K$501)","v":0},{"$f":"'OPĆI DIO'!$C$1","v":"1812 Sveučilište u Zagrebu FAKULTET PROMETNIH ZNANOSTI"}]
[92,"Srednjoškolsko obrazovanje",null,null,{"$f":"SUMIF('Unos rashoda i izdataka'!$S$3:$S$501,'A.3 RASHODI FUNK'!$A68,'Unos rashoda i izdataka'!K$3:K$501)+SUMIF('Unos rashoda P4'!$U$3:$U$501,'A.3 RASHODI FUNK'!$A68,'Unos rashoda P4'!I$3:I$501)","v":0},{"$f":"SUMIF('Unos rashoda i izdataka'!$S$3:$S$501,'A.3 RASHODI FUNK'!$A68,'Unos rashoda i izdataka'!L$3:L$501)+SUMIF('Unos rashoda P4'!$U$3:$U$501,'A.3 RASHODI FUNK'!$A68,'Unos rashoda P4'!J$3:J$501)","v":0},{"$f":"SUMIF('Unos rashoda i izdataka'!$S$3:$S$501,'A.3 RASHODI FUNK'!$A68,'Unos rashoda i izdataka'!M$3:M$501)+SUMIF('Unos rashoda P4'!$U$3:$U$501,'A.3 RASHODI FUNK'!$A68,'Unos rashoda P4'!K$3:K$501)","v":0},{"$f":"'OPĆI DIO'!$C$1","v":"1812 Sveučilište u Zagrebu FAKULTET PROMETNIH ZNANOSTI"}]
[93,"Poslije srednjoškolsko, ali ne visoko obrazovanje",null,null,{"$f":"SUMIF('Unos rashoda i izdataka'!$S$3:$S$501,'A.3 RASHODI FUNK'!$A69,'Unos rashoda i izdataka'!K$3:K$501)+SUMIF('Unos rashoda P4'!$U$3:$U$501,'A.3 RASHODI FUNK'!$A69,'Unos rashoda P4'!I$3:I$501)","v":0},{"$f":"SUMIF('Unos rashoda i izdataka'!$S$3:$S$501,'A.3 RASHODI FUNK'!$A69,'Unos rashoda i izdataka'!L$3:L$501)+SUMIF('Unos rashoda P4'!$U$3:$U$501,'A.3 RASHODI FUNK'!$A69,'Unos rashoda P4'!J$3:J$501)","v":0},{"$f":"SUMIF('Unos rashoda i izdataka'!$S$3:$S$501,'A.3 RASHODI FUNK'!$A69,'Unos rashoda i izdataka'!M$3:M$501)+SUMIF('Unos rashoda P4'!$U$3:$U$501,'A.3 RASHODI FUNK'!$A69,'Unos rashoda P4'!K$3:K$501)","v":0},{"$f":"'OPĆI DIO'!$C$1","v":"1812 Sveučilište u Zagrebu FAKULTET PROMETNIH ZNANOSTI"}]
[94,"Visoka naobrazba",{"v":10593602,"d":"10,593,602"},{"v":12919332,"d":"12,919,332"},{"$f":"SUMIF('Unos rashoda i izdataka'!$S$3:$S$501,'A.3 RASHODI FUNK'!$A70,'Unos rashoda i izdataka'!K$3:K$501)+SUMIF('Unos rashoda P4'!$U$3:$U$501,'A.3 RASHODI FUNK'!$A70,'Unos rashoda P4'!I$3:I$501)","v":{"v":13400357.502375182,"d":"13,400,358"}},{"$f":"SUMIF('Unos rashoda i izdataka'!$S$3:$S$501,'A.3 RASHODI FUNK'!$A70,'Unos rashoda i izdataka'!L$3:L$501)+SUMIF('Unos rashoda P4'!$U$3:$U$501,'A.3 RASHODI FUNK'!$A70,'Unos rashoda P4'!J$3:J$501)","v":{"v":14090003.144830698,"d":"14,090,003"}},{"$f":"SUMIF('Unos rashoda i izdataka'!$S$3:$S$501,'A.3 RASHODI FUNK'!$A70,'Unos rashoda i izdataka'!M$3:M$501)+SUMIF('Unos rashoda P4'!$U$3:$U$501,'A.3 RASHODI FUNK'!$A70,'Unos rashoda P4'!K$3:K$501)","v":{"v":14849151.9534687,"d":"14,849,152"}},{"$f":"'OPĆI DIO'!$C$1","v":"1812 Sveučilište u Zagrebu FAKULTET PROMETNIH ZNANOSTI"}]
[95,"Obrazovanje koje se ne može definirati po stupnju",null,null,{"$f":"SUMIF('Unos rashoda i izdataka'!$S$3:$S$501,'A.3 RASHODI FUNK'!$A71,'Unos rashoda i izdataka'!K$3:K$501)+SUMIF('Unos rashoda P4'!$U$3:$U$501,'A.3 RASHODI FUNK'!$A71,'Unos rashoda P4'!I$3:I$501)","v":0},{"$f":"SUMIF('Unos rashoda i izdataka'!$S$3:$S$501,'A.3 RASHODI FUNK'!$A71,'Unos rashoda i izdataka'!L$3:L$501)+SUMIF('Unos rashoda P4'!$U$3:$U$501,'A.3 RASHODI FUNK'!$A71,'Unos rashoda P4'!J$3:J$501)","v":0},{"$f":"SUMIF('Unos rashoda i izdataka'!$S$3:$S$501,'A.3 RASHODI FUNK'!$A71,'Unos rashoda i izdataka'!M$3:M$501)+SUMIF('Unos rashoda P4'!$U$3:$U$501,'A.3 RASHODI FUNK'!$A71,'Unos rashoda P4'!K$3:K$501)","v":0},{"$f":"'OPĆI DIO'!$C$1","v":"1812 Sveučilište u Zagrebu FAKULTET PROMETNIH ZNANOSTI"}]
[96,"Dodatne usluge u obrazovanju",null,null,{"$f":"SUMIF('Unos rashoda i izdataka'!$S$3:$S$501,'A.3 RASHODI FUNK'!$A72,'Unos rashoda i izdataka'!K$3:K$501)+SUMIF('Unos rashoda P4'!$U$3:$U$501,'A.3 RASHODI FUNK'!$A72,'Unos rashoda P4'!I$3:I$501)","v":0},{"$f":"SUMIF('Unos rashoda i izdataka'!$S$3:$S$501,'A.3 RASHODI FUNK'!$A72,'Unos rashoda i izdataka'!L$3:L$501)+SUMIF('Unos rashoda P4'!$U$3:$U$501,'A.3 RASHODI FUNK'!$A72,'Unos rashoda P4'!J$3:J$501)","v":0},{"$f":"SUMIF('Unos rashoda i izdataka'!$S$3:$S$501,'A.3 RASHODI FUNK'!$A72,'Unos rashoda i izdataka'!M$3:M$501)+SUMIF('Unos rashoda P4'!$U$3:$U$501,'A.3 RASHODI FUNK'!$A72,'Unos rashoda P4'!K$3:K$501)","v":0},{"$f":"'OPĆI DIO'!$C$1","v":"1812 Sveučilište u Zagrebu FAKULTET PROMETNIH ZNANOSTI"}]
[97,"Istraživanje i razvoj obrazovanja",null,null,{"$f":"SUMIF('Unos rashoda i izdataka'!$S$3:$S$501,'A.3 RASHODI FUNK'!$A73,'Unos rashoda i izdataka'!K$3:K$501)+SUMIF('Unos rashoda P4'!$U$3:$U$501,'A.3 RASHODI FUNK'!$A73,'Unos rashoda P4'!I$3:I$501)","v":0},{"$f":"SUMIF('Unos rashoda i izdataka'!$S$3:$S$501,'A.3 RASHODI FUNK'!$A73,'Unos rashoda i izdataka'!L$3:L$501)+SUMIF('Unos rashoda P4'!$U$3:$U$501,'A.3 RASHODI FUNK'!$A73,'Unos rashoda P4'!J$3:J$501)","v":0},{"$f":"SUMIF('Unos rashoda i izdataka'!$S$3:$S$501,'A.3 RASHODI FUNK'!$A73,'Unos rashoda i izdataka'!M$3:M$501)+SUMIF('Unos rashoda P4'!$U$3:$U$501,'A.3 RASHODI FUNK'!$A73,'Unos rashoda P4'!K$3:K$501)","v":0},{"$f":"'OPĆI DIO'!$C$1","v":"1812 Sveučilište u Zagrebu FAKULTET PROMETNIH ZNANOSTI"}]
[98,"Usluge obrazovanja koje nisu drugdje svrstane",null,null,{"$f":"SUMIF('Unos rashoda i izdataka'!$S$3:$S$501,'A.3 RASHODI FUNK'!$A74,'Unos rashoda i izdataka'!K$3:K$501)+SUMIF('Unos rashoda P4'!$U$3:$U$501,'A.3 RASHODI FUNK'!$A74,'Unos rashoda P4'!I$3:I$501)","v":0},{"$f":"SUMIF('Unos rashoda i izdataka'!$S$3:$S$501,'A.3 RASHODI FUNK'!$A74,'Unos rashoda i izdataka'!L$3:L$501)+SUMIF('Unos rashoda P4'!$U$3:$U$501,'A.3 RASHODI FUNK'!$A74,'Unos rashoda P4'!J$3:J$501)","v":0},{"$f":"SUMIF('Unos rashoda i izdataka'!$S$3:$S$501,'A.3 RASHODI FUNK'!$A74,'Unos rashoda i izdataka'!M$3:M$501)+SUMIF('Unos rashoda P4'!$U$3:$U$501,'A.3 RASHODI FUNK'!$A74,'Unos rashoda P4'!K$3:K$501)","v":0},{"$f":"'OPĆI DIO'!$C$1","v":"1812 Sveučilište u Zagrebu FAKULTET PROMETNIH ZNANOSTI"}]
[10,"Socijalna zaštita",{"$f":"SUM(C76:C84)","v":0},{"$f":"SUM(D76:D84)","v":0},{"$f":"SUM(E76:E84)","v":0},{"$f":"SUM(F76:F84)","v":0},{"$f":"SUM(G76:G84)","v":0},{"$f":"'OPĆI DIO'!$C$1","v":"1812 Sveučilište u Zagrebu FAKULTET PROMETNIH ZNANOSTI"}]
[101,"Bolest i invaliditet",null,null,{"$f":"SUMIF('Unos rashoda i izdataka'!$S$3:$S$501,'A.3 RASHODI FUNK'!$A76,'Unos rashoda i izdataka'!K$3:K$501)+SUMIF('Unos rashoda P4'!$U$3:$U$501,'A.3 RASHODI FUNK'!$A76,'Unos rashoda P4'!I$3:I$501)","v":0},{"$f":"SUMIF('Unos rashoda i izdataka'!$S$3:$S$501,'A.3 RASHODI FUNK'!$A76,'Unos rashoda i izdataka'!L$3:L$501)+SUMIF('Unos rashoda P4'!$U$3:$U$501,'A.3 RASHODI FUNK'!$A76,'Unos rashoda P4'!J$3:J$501)","v":0},{"$f":"SUMIF('Unos rashoda i izdataka'!$S$3:$S$501,'A.3 RASHODI FUNK'!$A76,'Unos rashoda i izdataka'!M$3:M$501)+SUMIF('Unos rashoda P4'!$U$3:$U$501,'A.3 RASHODI FUNK'!$A76,'Unos rashoda P4'!K$3:K$501)","v":0},{"$f":"'OPĆI DIO'!$C$1","v":"1812 Sveučilište u Zagrebu FAKULTET PROMETNIH ZNANOSTI"}]
[102,"Starost",null,null,{"$f":"SUMIF('Unos rashoda i izdataka'!$S$3:$S$501,'A.3 RASHODI FUNK'!$A77,'Unos rashoda i izdataka'!K$3:K$501)+SUMIF('Unos rashoda P4'!$U$3:$U$501,'A.3 RASHODI FUNK'!$A77,'Unos rashoda P4'!I$3:I$501)","v":0},{"$f":"SUMIF('Unos rashoda i izdataka'!$S$3:$S$501,'A.3 RASHODI FUNK'!$A77,'Unos rashoda i izdataka'!L$3:L$501)+SUMIF('Unos rashoda P4'!$U$3:$U$501,'A.3 RASHODI FUNK'!$A77,'Unos rashoda P4'!J$3:J$501)","v":0},{"$f":"SUMIF('Unos rashoda i izdataka'!$S$3:$S$501,'A.3 RASHODI FUNK'!$A77,'Unos rashoda i izdataka'!M$3:M$501)+SUMIF('Unos rashoda P4'!$U$3:$U$501,'A.3 RASHODI FUNK'!$A77,'Unos rashoda P4'!K$3:K$501)","v":0},{"$f":"'OPĆI DIO'!$C$1","v":"1812 Sveučilište u Zagrebu FAKULTET PROMETNIH ZNANOSTI"}]
[103,"Sljednici",null,null,{"$f":"SUMIF('Unos rashoda i izdataka'!$S$3:$S$501,'A.3 RASHODI FUNK'!$A78,'Unos rashoda i izdataka'!K$3:K$501)+SUMIF('Unos rashoda P4'!$U$3:$U$501,'A.3 RASHODI FUNK'!$A78,'Unos rashoda P4'!I$3:I$501)","v":0},{"$f":"SUMIF('Unos rashoda i izdataka'!$S$3:$S$501,'A.3 RASHODI FUNK'!$A78,'Unos rashoda i izdataka'!L$3:L$501)+SUMIF('Unos rashoda P4'!$U$3:$U$501,'A.3 RASHODI FUNK'!$A78,'Unos rashoda P4'!J$3:J$501)","v":0},{"$f":"SUMIF('Unos rashoda i izdataka'!$S$3:$S$501,'A.3 RASHODI FUNK'!$A78,'Unos rashoda i izdataka'!M$3:M$501)+SUMIF('Unos rashoda P4'!$U$3:$U$501,'A.3 RASHODI FUNK'!$A78,'Unos rashoda P4'!K$3:K$501)","v":0},{"$f":"'OPĆI DIO'!$C$1","v":"1812 Sveučilište u Zagrebu FAKULTET PROMETNIH ZNANOSTI"}]
[104,"Obitelj i djeca",null,null,{"$f":"SUMIF('Unos rashoda i izdataka'!$S$3:$S$501,'A.3 RASHODI FUNK'!$A79,'Unos rashoda i izdataka'!K$3:K$501)+SUMIF('Unos rashoda P4'!$U$3:$U$501,'A.3 RASHODI FUNK'!$A79,'Unos rashoda P4'!I$3:I$501)","v":0},{"$f":"SUMIF('Unos rashoda i izdataka'!$S$3:$S$501,'A.3 RASHODI FUNK'!$A79,'Unos rashoda i izdataka'!L$3:L$501)+SUMIF('Unos rashoda P4'!$U$3:$U$501,'A.3 RASHODI FUNK'!$A79,'Unos rashoda P4'!J$3:J$501)","v":0},{"$f":"SUMIF('Unos rashoda i izdataka'!$S$3:$S$501,'A.3 RASHODI FUNK'!$A79,'Unos rashoda i izdataka'!M$3:M$501)+SUMIF('Unos rashoda P4'!$U$3:$U$501,'A.3 RASHODI FUNK'!$A79,'Unos rashoda P4'!K$3:K$501)","v":0},{"$f":"'OPĆI DIO'!$C$1","v":"1812 Sveučilište u Zagrebu FAKULTET PROMETNIH ZNANOSTI"}]
[105,"Nezaposlenost",null,null,{"$f":"SUMIF('Unos rashoda i izdataka'!$S$3:$S$501,'A.3 RASHODI FUNK'!$A80,'Unos rashoda i izdataka'!K$3:K$501)+SUMIF('Unos rashoda P4'!$U$3:$U$501,'A.3 RASHODI FUNK'!$A80,'Unos rashoda P4'!I$3:I$501)","v":0},{"$f":"SUMIF('Unos rashoda i izdataka'!$S$3:$S$501,'A.3 RASHODI FUNK'!$A80,'Unos rashoda i izdataka'!L$3:L$501)+SUMIF('Unos rashoda P4'!$U$3:$U$501,'A.3 RASHODI FUNK'!$A80,'Unos rashoda P4'!J$3:J$501)","v":0},{"$f":"SUMIF('Unos rashoda i izdataka'!$S$3:$S$501,'A.3 RASHODI FUNK'!$A80,'Unos rashoda i izdataka'!M$3:M$501)+SUMIF('Unos rashoda P4'!$U$3:$U$501,'A.3 RASHODI FUNK'!$A80,'Unos rashoda P4'!K$3:K$501)","v":0},{"$f":"'OPĆI DIO'!$C$1","v":"1812 Sveučilište u Zagrebu FAKULTET PROMETNIH ZNANOSTI"}]
[106,"Stanovanje",null,null,{"$f":"SUMIF('Unos rashoda i izdataka'!$S$3:$S$501,'A.3 RASHODI FUNK'!$A81,'Unos rashoda i izdataka'!K$3:K$501)+SUMIF('Unos rashoda P4'!$U$3:$U$501,'A.3 RASHODI FUNK'!$A81,'Unos rashoda P4'!I$3:I$501)","v":0},{"$f":"SUMIF('Unos rashoda i izdataka'!$S$3:$S$501,'A.3 RASHODI FUNK'!$A81,'Unos rashoda i izdataka'!L$3:L$501)+SUMIF('Unos rashoda P4'!$U$3:$U$501,'A.3 RASHODI FUNK'!$A81,'Unos rashoda P4'!J$3:J$501)","v":0},{"$f":"SUMIF('Unos rashoda i izdataka'!$S$3:$S$501,'A.3 RASHODI FUNK'!$A81,'Unos rashoda i izdataka'!M$3:M$501)+SUMIF('Unos rashoda P4'!$U$3:$U$501,'A.3 RASHODI FUNK'!$A81,'Unos rashoda P4'!K$3:K$501)","v":0},{"$f":"'OPĆI DIO'!$C$1","v":"1812 Sveučilište u Zagrebu FAKULTET PROMETNIH ZNANOSTI"}]
[107,"Socijalna pomoć stanovništvu koje nije obuhvaćeno redovnim socijalnim programima",null,null,{"$f":"SUMIF('Unos rashoda i izdataka'!$S$3:$S$501,'A.3 RASHODI FUNK'!$A82,'Unos rashoda i izdataka'!K$3:K$501)+SUMIF('Unos rashoda P4'!$U$3:$U$501,'A.3 RASHODI FUNK'!$A82,'Unos rashoda P4'!I$3:I$501)","v":0},{"$f":"SUMIF('Unos rashoda i izdataka'!$S$3:$S$501,'A.3 RASHODI FUNK'!$A82,'Unos rashoda i izdataka'!L$3:L$501)+SUMIF('Unos rashoda P4'!$U$3:$U$501,'A.3 RASHODI FUNK'!$A82,'Unos rashoda P4'!J$3:J$501)","v":0},{"$f":"SUMIF('Unos rashoda i izdataka'!$S$3:$S$501,'A.3 RASHODI FUNK'!$A82,'Unos rashoda i izdataka'!M$3:M$501)+SUMIF('Unos rashoda P4'!$U$3:$U$501,'A.3 RASHODI FUNK'!$A82,'Unos rashoda P4'!K$3:K$501)","v":0},{"$f":"'OPĆI DIO'!$C$1","v":"1812 Sveučilište u Zagrebu FAKULTET PROMETNIH ZNANOSTI"}]
[108,"Istraživanje i razvoj socijalne zaštite",null,null,{"$f":"SUMIF('Unos rashoda i izdataka'!$S$3:$S$501,'A.3 RASHODI FUNK'!$A83,'Unos rashoda i izdataka'!K$3:K$501)+SUMIF('Unos rashoda P4'!$U$3:$U$501,'A.3 RASHODI FUNK'!$A83,'Unos rashoda P4'!I$3:I$501)","v":0},{"$f":"SUMIF('Unos rashoda i izdataka'!$S$3:$S$501,'A.3 RASHODI FUNK'!$A83,'Unos rashoda i izdataka'!L$3:L$501)+SUMIF('Unos rashoda P4'!$U$3:$U$501,'A.3 RASHODI FUNK'!$A83,'Unos rashoda P4'!J$3:J$501)","v":0},{"$f":"SUMIF('Unos rashoda i izdataka'!$S$3:$S$501,'A.3 RASHODI FUNK'!$A83,'Unos rashoda i izdataka'!M$3:M$501)+SUMIF('Unos rashoda P4'!$U$3:$U$501,'A.3 RASHODI FUNK'!$A83,'Unos rashoda P4'!K$3:K$501)","v":0},{"$f":"'OPĆI DIO'!$C$1","v":"1812 Sveučilište u Zagrebu FAKULTET PROMETNIH ZNANOSTI"}]
[109,"Aktivnosti socijalne zaštite koje nisu drugdje svrstane",null,null,{"$f":"SUMIF('Unos rashoda i izdataka'!$S$3:$S$501,'A.3 RASHODI FUNK'!$A84,'Unos rashoda i izdataka'!K$3:K$501)+SUMIF('Unos rashoda P4'!$U$3:$U$501,'A.3 RASHODI FUNK'!$A84,'Unos rashoda P4'!I$3:I$501)","v":0},{"$f":"SUMIF('Unos rashoda i izdataka'!$S$3:$S$501,'A.3 RASHODI FUNK'!$A84,'Unos rashoda i izdataka'!L$3:L$501)+SUMIF('Unos rashoda P4'!$U$3:$U$501,'A.3 RASHODI FUNK'!$A84,'Unos rashoda P4'!J$3:J$501)","v":0},{"$f":"SUMIF('Unos rashoda i izdataka'!$S$3:$S$501,'A.3 RASHODI FUNK'!$A84,'Unos rashoda i izdataka'!M$3:M$501)+SUMIF('Unos rashoda P4'!$U$3:$U$501,'A.3 RASHODI FUNK'!$A84,'Unos rashoda P4'!K$3:K$501)","v":0},{"$f":"'OPĆI DIO'!$C$1","v":"1812 Sveučilište u Zagrebu FAKULTET PROMETNIH ZNANOSTI"}]

{"sheet":"B.1 RAČUN FINANC EK","index":8,"n_rows":20,"n_cols":9,"rows_kept":20,"merged":[[1,0,1,7],[3,0,3,7],[5,0,5,7],[7,0,7,2],[8,0,8,2]]}
[]
["I. OPĆI DIO"]
[]
["B. RAČUN FINANCIRANJA"]
[]
["B1. RAČUN FINANCIRANJA PREMA EKONOMSKOJ KLASIFIKACIJI"]
[]
["BROJČANA OZNAKA I NAZIV",null,null,"IZVRŠENJE\n2024.","TEKUĆI PLAN\n2025.","PLAN \n2026.","PROJEKCIJA \n2027.","PROJEKCIJA \n2028."]
[1,null,null,2,3,4,5,6]
[8,null,"Primici od financijske imovine i zaduživanja",{"$f":"SUM(D11:D14)","v":0},{"$f":"SUM(E11:E14)","v":0},{"$f":"SUM(F11:F14)","v":0},{"$f":"SUM(G11:G14)","v":0},{"$f":"SUM(H11:H14)","v":0},{"$f":"'OPĆI DIO'!$C$1","v":"1812 Sveučilište u Zagrebu FAKULTET PROMETNIH ZNANOSTI"}]
[null,81,"Primljeni povrati glavnica danih zajmova",null,null,{"$f":"SUMIF('Unos prihoda i primitaka'!$N$3:$N$505,$B11,'Unos prihoda i primitaka'!I$3:I$505)","v":0},{"$f":"SUMIF('Unos prihoda i primitaka'!$N$3:$N$505,$B11,'Unos prihoda i primitaka'!J$3:J$505)","v":0},{"$f":"SUMIF('Unos prihoda i primitaka'!$N$3:$N$505,$B11,'Unos prihoda i primitaka'!K$3:K$505)","v":0},{"$f":"'OPĆI DIO'!$C$1","v":"1812 Sveučilište u Zagrebu FAKULTET PROMETNIH ZNANOSTI"}]
[null,82,"Primici od izdanih financijskih instrumenata - vrijednosnih papira",null,null,{"$f":"SUMIF('Unos prihoda i primitaka'!$N$3:$N$505,$B12,'Unos prihoda i primitaka'!I$3:I$505)","v":0},{"$f":"SUMIF('Unos prihoda i primitaka'!$N$3:$N$505,$B12,'Unos prihoda i primitaka'!J$3:J$505)","v":0},{"$f":"SUMIF('Unos prihoda i primitaka'!$N$3:$N$505,$B12,'Unos prihoda i primitaka'!K$3:K$505)","v":0},{"$f":"'OPĆI DIO'!$C$1","v":"1812 Sveučilište u Zagrebu FAKULTET PROMETNIH ZNANOSTI"}]
[null,83,"Primici od prodaje financijskih instrumenata - dionica i udjela u glavnici",null,null,{"$f":"SUMIF('Unos prihoda i primitaka'!$N$3:$N$505,$B13,'Unos prihoda i primitaka'!I$3:I$505)","v":0},{"$f":"SUMIF('Unos prihoda i primitaka'!$N$3:$N$505,$B13,'Unos prihoda i primitaka'!J$3:J$505)","v":0},{"$f":"SUMIF('Unos prihoda i primitaka'!$N$3:$N$505,$B13,'Unos prihoda i primitaka'!K$3:K$505)","v":0},{"$f":"'OPĆI DIO'!$C$1","v":"1812 Sveučilište u Zagrebu FAKULTET PROMETNIH ZNANOSTI"}]
[null,84,"Primici od zaduživanja",null,null,{"$f":"SUMIF('Unos prihoda i primitaka'!$N$3:$N$505,$B14,'Unos prihoda i primitaka'!I$3:I$505)","v":0},{"$f":"SUMIF('Unos prihoda i primitaka'!$N$3:$N$505,$B14,'Unos prihoda i primitaka'!J$3:J$505)","v":0},{"$f":"SUMIF('Unos prihoda i primitaka'!$N$3:$N$505,$B14,'Unos prihoda i primitaka'!K$3:K$505)","v":0},{"$f":"'OPĆI DIO'!$C$1","v":"1812 Sveučilište u Zagrebu FAKULTET PROMETNIH ZNANOSTI"}]
[5,null,"Izdaci za financijsku imovinu i otplate zajmova",{"$f":"SUM(D16:D21)","v":0},{"$f":"SUM(E16:E21)","v":0},{"$f":"SUM(F16:F21)","v":0},{"$f":"SUM(G16:G21)","v":0},{"$f":"SUM(H16:H21)","v":0},{"$f":"'OPĆI DIO'!$C$1","v":"1812 Sveučilište u Zagrebu FAKULTET PROMETNIH ZNANOSTI"}]
[null,51,"Izdaci za dane zajmove i jamčevne pologe",null,null,{"$f":"SUMIF('Unos rashoda i izdataka'!$Q$3:$Q$501,$B16,'Unos rashoda i izdataka'!K$3:K$501)+SUMIF('Unos rashoda P4'!$T$3:$T$501,$B16,'Unos rashoda P4'!I$3:I$501)","v":0},{"$f":"SUMIF('Unos rashoda i izdataka'!$Q$3:$Q$501,$B16,'Unos rashoda i izdataka'!L$3:L$501)+SUMIF('Unos rashoda P4'!$T$3:$T$501,$B16,'Unos rashoda P4'!J$3:J$501)","v":0},{"$f":"SUMIF('Unos rashoda i izdataka'!$Q$3:$Q$501,$B16,'Unos rashoda i izdataka'!M$3:M$501)+SUMIF('Unos rashoda P4'!$T$3:$T$501,$B16,'Unos rashoda P4'!K$3:K$501)","v":0},{"$f":"'OPĆI DIO'!$C$1","v":"1812 Sveučilište u Zagrebu FAKULTET PROMETNIH ZNANOSTI"}]
[null,52,"Izdaci za ulaganja u financijske instrumente - vrijednosne papire"]
[null,53,"Izdaci za ulaganja financijske instrumente - dionice i udjele u glavnici"]
[null,54,"Izdaci za otplatu glavnice primljenih kredita i zajmova",null,null,{"$f":"SUMIF('Unos rashoda i izdataka'!$Q$3:$Q$501,$B19,'Unos rashoda i izdataka'!K$3:K$501)+SUMIF('Unos rashoda P4'!$T$3:$T$501,$B19,'Unos rashoda P4'!I$3:I$501)","v":0},{"$f":"SUMIF('Unos rashoda i izdataka'!$Q$3:$Q$501,$B19,'Unos rashoda i izdataka'!L$3:L$501)+SUMIF('Unos rashoda P4'!$T$3:$T$501,$B19,'Unos rashoda P4'!J$3:J$501)","v":0},{"$f":"SUMIF('Unos rashoda i izdataka'!$Q$3:$Q$501,$B19,'Unos rashoda i izdataka'!M$3:M$501)+SUMIF('Unos rashoda P4'!$T$3:$T$501,$B19,'Unos rashoda P4'!K$3:K$501)","v":0},{"$f":"'OPĆI DIO'!$C$1","v":"1812 Sveučilište u Zagrebu FAKULTET PROMETNIH ZNANOSTI"}]
[null,55,"Izdaci za otplatu glavnice za izdane financijske instrumente – vrijednosne papire"]

{"sheet":"B.2 RAČUN FINANC IF","index":9,"n_rows":14,"n_cols":8,"rows_kept":14,"merged":[[1,1,1,6]]}
[]
[null,"B2. RAČUN FINANCIRANJA PREMA IZVORIMA FINANCIRANJA"]
[]
["Račun","BROJČANA OZNAKA I NAZIV","IZVRŠENJE\n2024.","TEKUĆI PLAN\n2025.","PLAN \n2026.","PROJEKCIJA \n2027.","PROJEKCIJA \n2028."]
[null,1,2,3,4,5,6]
[null,"UKUPNO PRIMICI",{"$f":"C8+C11+C14","v":0},{"$f":"D8+D11+D14","v":0},{"$f":"+E7+E10","v":0},{"$f":"+F7+F10","v":0},{"$f":"+G7+G10","v":0},{"$f":"'OPĆI DIO'!$C$1","v":"1812 Sveučilište u Zagrebu FAKULTET PROMETNIH ZNANOSTI"}]
[43,"43 Prihodi za posebne namjene",{"$f":"C8","v":0},{"$f":"D8","v":0},{"$f":"E8+E9","v":0},{"$f":"F8+F9","v":0},{"$f":"G8+G9","v":0},{"$f":"'OPĆI DIO'!$C$1","v":"1812 Sveučilište u Zagrebu FAKULTET PROMETNIH ZNANOSTI"}]
[81,"43  Prihodi za posebne namjene ",null,null,{"$f":"SUMIF('Unos prihoda i primitaka'!$N$3:$N$505,$A8,'Unos prihoda i primitaka'!I$3:I$505)","v":0},{"$f":"SUMIF('Unos prihoda i primitaka'!$N$3:$N$505,$A8,'Unos prihoda i primitaka'!J$3:J$505)","v":0},{"$f":"SUMIF('Unos prihoda i primitaka'!$N$3:$N$505,$A8,'Unos prihoda i primitaka'!K$3:K$505)","v":0},{"$f":"'OPĆI DIO'!$C$1","v":"1812 Sveučilište u Zagrebu FAKULTET PROMETNIH ZNANOSTI"}]
[83,"43  Prihodi za posebne namjene ",null,null,{"$f":"SUMIF('Unos prihoda i primitaka'!$N$3:$N$505,$A9,'Unos prihoda i primitaka'!I$3:I$505)","v":0},{"$f":"SUMIF('Unos prihoda i primitaka'!$N$3:$N$505,$A9,'Unos prihoda i primitaka'!J$3:J$505)","v":0},{"$f":"SUMIF('Unos prihoda i primitaka'!$N$3:$N$505,$A9,'Unos prihoda i primitaka'!K$3:K$505)","v":0},{"$f":"'OPĆI DIO'!$C$1","v":"1812 Sveučilište u Zagrebu FAKULTET PROMETNIH ZNANOSTI"}]
[81,"81 Namjenski primici od zaduživanja",{"$f":"C11","v":0},{"$f":"D11","v":0},{"$f":"E11","v":0},{"$f":"F11","v":0},{"$f":"G11","v":0},{"$f":"'OPĆI DIO'!$C$1","v":"1812 Sveučilište u Zagrebu FAKULTET PROMETNIH ZNANOSTI"}]
[84,"810 Namjenski primici od zaduživanja",null,null,{"$f":"SUMIF('Unos prihoda i primitaka'!$N$3:$N$505,$A11,'Unos prihoda i primitaka'!I$3:I$505)","v":0},{"$f":"SUMIF('Unos prihoda i primitaka'!$N$3:$N$505,$A11,'Unos prihoda i primitaka'!J$3:J$505)","v":0},{"$f":"SUMIF('Unos prihoda i primitaka'!$N$3:$N$505,$A11,'Unos prihoda i primitaka'!K$3:K$505)","v":0},{"$f":"'OPĆI DIO'!$C$1","v":"1812 Sveučilište u Zagrebu FAKULTET PROMETNIH ZNANOSTI"}]
[null,"UKUPNO IZDACI ",{"$f":"C13","v":0},0,0,0,0,{"$f":"'OPĆI DIO'!$C$1","v":"1812 Sveučilište u Zagrebu FAKULTET PROMETNIH ZNANOSTI"}]
[null,"31 Vlastiti prihodi",0,0,0,0,0,{"$f":"'OPĆI DIO'!$C$1","v":"1812 Sveučilište u Zagrebu FAKULTET PROMETNIH ZNANOSTI"}]
[5,"31 Vlastiti prihodi",null,null,{"$f":"SUMIF('Unos rashoda i izdataka'!$T$3:$T$501,$A14,'Unos rashoda i izdataka'!K$3:K$501)+SUMIF('Unos rashoda P4'!$V$3:$V$501,$A14,'Unos rashoda P4'!I$3:I$501)","v":0},{"$f":"SUMIF('Unos rashoda i izdataka'!$T$3:$T$501,$A14,'Unos rashoda i izdataka'!L$3:L$501)+SUMIF('Unos rashoda P4'!$V$3:$V$501,$A14,'Unos rashoda P4'!J$3:J$501)","v":0},{"$f":"SUMIF('Unos rashoda i izdataka'!$T$3:$T$501,$A14,'Unos rashoda i izdataka'!M$3:M$501)+SUMIF('Unos rashoda P4'!$V$3:$V$501,$A14,'Unos rashoda P4'!K$3:K$501)","v":0},{"$f":"'OPĆI DIO'!$C$1","v":"1812 Sveučilište u Zagrebu FAKULTET PROMETNIH ZNANOSTI"}]

{"sheet":"AKT","index":10,"n_rows":278,"n_cols":8,"rows_kept":278}
["080","MINISTARSTVO ZNANOSTI I OBRAZOVANJA"]
["NOVI AKT","NAZIV AKTIVNOSTI / PROJEKTA"]
["Glava (O2) (r/p)","Naziv O2","Program (P2) (r/p)","Naziv P2","Podprogram (P3)","Naziv P3","Funkcijsko područje","Naziv FP"]
["08005","Ministarstvo znanosti, obrazovanja i mladih","3701","RAZVOJ ODGOJNO OBRAZOVNOG SUSTAVA","A557043","NACIONALNO VIJEĆE ZA ODGOJ I OBRAZOVANJE","0970","Istraživanje i razvoj obrazovanja"]
[{"$nulls":4},"A558047","POLITIKA ZA MLADE","1040","Obitelj i djeca"]
[{"$nulls":4},"A558053","POTPORA ZA PROGRAME USMJERENE MLADIMA","1040","Obitelj i djeca"]
[{"$nulls":4},"A577000","ADMINISTRACIJA I UPRAVLJANJE","0970","Istraživanje i razvoj obrazovanja"]
[{"$nulls":4},"A577004","POTPORA UNAPREĐENJU SUSTAVA","0970","Istraživanje i razvoj obrazovanja"]
[{"$nulls":4},"A577012","OBRAZOVANJE DJECE HRVATSKIH GRAĐANA U INOZEMSTVU","0970","Istraživanje i razvoj obrazovanja"]
[{"$nulls":4},"A577015","DRŽAVNE NAGRADE ZA IZUZETNE REZULTATE U OBRAZOVANJU I TEHNIČKOJ KULTURI","0942","Drugi stupanj visoke naobrazbe"]
[{"$nulls":4},"A577016","PREVENCIJA NASILJA I OVISNOSTI","0912","Osnovno obrazovanje"]
[{"$nulls":4},"A577028","POTICAJI HRVATSKOJ ZAJEDNICI TEHNIČKE KULTURE","0820","Službe kulture"]
[{"$nulls":4},"A577124","HRVATSKA NASTAVA U INOZEMSTVU","0970","Istraživanje i razvoj obrazovanja"]
[{"$nulls":4},"A577130","POTICAJI UDRUGAMA ZA IZVANINSTITUCIONALNI ODGOJ I OBRAZOVANJE DJECE I MLADIH","0970","Istraživanje i razvoj obrazovanja"]
[{"$nulls":4},"A577131","POTICAJI OBRAZOVANJA NACIONALNIH MANJINA","0970","Istraživanje i razvoj obrazovanja"]
[{"$nulls":4},"A577132","POTICANJE MEĐUNARODNE OBRAZOVNE SURADNJE ŠKOLA","0970","Istraživanje i razvoj obrazovanja"]
[{"$nulls":4},"A577133","POTICANJE PROGRAMA RADA S DAROVITIM UČENICIMA I STUDENTIMA","0912","Osnovno obrazovanje"]
[{"$nulls":4},"A577137","POSEBNI PROGRAMI OBRAZOVANJA ZA PROVOĐENJE PROGRAMA NACIONALNIH MANJINA","0970","Istraživanje i razvoj obrazovanja"]
[{"$nulls":4},"A578041","POMOĆNICI U NASTAVI ZA DJECU S TEŠKOĆAMA U RAZVOJU","0970","Istraživanje i razvoj obrazovanja"]
[{"$nulls":4},"A578042","OSIGURANJE UČENIKA I STUDENATA NA PRAKTIČNOJ NASTAVI I STRUČNOJ PRAKSI","0980","Usluge obrazovanja koje nisu drugdje svrstane"]
[{"$nulls":4},"A578045","SUFINANCIRANJE NASTAVNIH MATERIJALA I OPREME ZA UČENIKE OSNOVNIH I SREDNJIH ŠKOLA","0970","Istraživanje i razvoj obrazovanja"]
[{"$nulls":4},"A578059","EUROPSKA MREŽA ŠKOLA - EUROPEAN SCHOOLNET","0970","Istraživanje i razvoj obrazovanja"]
[{"$nulls":4},"A579004","POTICANJE IZVANNASTAVNIH AKTIVNOSTI U OŠ","0970","Istraživanje i razvoj obrazovanja"]
[{"$nulls":4},"A579072","POTPORA UČENICIMA RASELJENIMA IZ UKRAJINE","0970","Istraživanje i razvoj obrazovanja"]
[{"$nulls":4},"A580003","POTICANJE IZVANNASTAVNIH AKTIVNOSTI U SREDNJIM ŠKOLAMA I VISOKOŠKOLSKOM OBRAZOVANJU","0922","Više srednjoškolsko obrazovanje"]
[{"$nulls":4},"A676072","ERASMUS PLUS - PROJEKTI","0970","Istraživanje i razvoj obrazovanja"]
[{"$nulls":4},"A679008","PROGRAM RAZVOJNE SURADNJE","0970","Istraživanje i razvoj obrazovanja"]
[{"$nulls":4},"A679009","REDOVNA DJELATNOST LEKTORATA","0970","Istraživanje i razvoj obrazovanja"]
[{"$nulls":4},"A679047","MEĐUNARODNA SURADNJA I EUROPSKI POSLOVI","0150","Istraživanje i razvoj: Opće javne usluge"]
[{"$nulls":4},"A733049","EUROPSKA AGENCIJA ZA POSEBNE POTREBE I INKLUZIVNO OBRAZOVANJE","0970","Istraživanje i razvoj obrazovanja"]
[{"$nulls":4},"A733051","PROGRAMI IZRADE UDŽBENIKA ZA SLIJEPE I SLABOVIDNE UČENIKE I STUDENTE","0970","Istraživanje i razvoj obrazovanja"]
[{"$nulls":4},"A767002","IZRADA DEFICITARNIH UDŽBENIKA U ŠKOLSTVU","0970","Istraživanje i razvoj obrazovanja"]
[{"$nulls":4},"A767003","SREDNJOŠKOLSKE STIPENDIJE ZA UČENIKE ROME","0970","Istraživanje i razvoj obrazovanja"]
[{"$nulls":4},"A767004","NAOBRAZBA DJECE U ALTERNATIVNIM ŠKOLAMA","0970","Istraživanje i razvoj obrazovanja"]
[{"$nulls":4},"A767008","SUBVENCIONIRANJE KAMATA ZA STANOVE UČITELJA","0970","Istraživanje i razvoj obrazovanja"]
[{"$nulls":4},"A767015","PROVEDBA PROGRAMA ZA UKLJUČIVANJE ROMA","0970","Istraživanje i razvoj obrazovanja"]
[{"$nulls":4},"A767042","OBRAZOVANJE OSOBA BEZ HRVATSKOG DRŽAVLJANSTVA","0970","Istraživanje i razvoj obrazovanja"]
[{"$nulls":4},"A768053","EUROPSKE ŠKOLE","0970","Istraživanje i razvoj obrazovanja"]
[{"$nulls":4},"A768054","DODATNA SREDSTVA IZRAVNANJA ZA DECENTRALIZIRANE FUNKCIJE","0970","Istraživanje i razvoj obrazovanja"]
[{"$nulls":4},"A768058","PREUZETE OBVEZE PO MEĐUNARODNIM UGOVORIMA","0970","Istraživanje i razvoj obrazovanja"]
[{"$nulls":4},"A768065","OBZOR 2020 - MENTORSTVO ZA UNAPRJEĐENJE ŠKOLE - MENSI","0970","Istraživanje i razvoj obrazovanja"]
[{"$nulls":4},"A768073","ZAŠTITA I PROMICANJE MENTALNOG ZDRAVLJA","0970","Istraživanje i razvoj obrazovanja"]
[{"$nulls":4},"A792009","PREVENCIJA NASILJA NAD I MEĐU MLADIMA","1040","Obitelj i djeca"]
[{"$nulls":4},"A792019","PRAVOMOĆNE SUDSKE PRESUDE","0970","Istraživanje i razvoj obrazovanja"]
[{"$nulls":4},"A818021","PRIMJENA UDŽBENIČKOG STANDARDA","0912","Osnovno obrazovanje"]
[{"$nulls":4},"A818034","PROJEKT POVEZIVANJA S EUROPSKIM KVALIFIKACIJSKIM OKVIROM - EQF NCP GRANT","0970","Istraživanje i razvoj obrazovanja"]
[{"$nulls":4},"A818035","MENTORI I STRUČNI ISPITI U OSNOVNIM I SREDNJIM ŠKOLAMA","0970","Istraživanje i razvoj obrazovanja"]
[{"$nulls":4},"K578063","PROJEKT \"HRVATSKA: USUSRET ODRŽIVOM, PRAVEDNOM I UČINKOVITOM OBRAZOVANJU\"","0970","Istraživanje i razvoj obrazovanja"]
[{"$nulls":4},"K579064","KAPITALNE INVESTICIJE U OSNOVNOM I SREDNJEM ŠKOLSTVU","0970","Istraživanje i razvoj obrazovanja"]
[{"$nulls":4},"K580073","IZGRADNJA ŠKOLSKE SPORTSKE DVORANE SREDNJE ŠKOLE ZABOK","0922","Više srednjoškolsko obrazovanje"]
[{"$nulls":4},"K621173","INFORMACIJSKA INFRASTRUKTURA SUSTAVA VISOKOG OBRAZOVANJA","0942","Drugi stupanj visoke naobrazbe"]
[{"$nulls":4},"K676066","OBNOVA ZGRADA OŠTEĆENIH U POTRESU S ENERGETSKOM OBNOVOM - NPOO (C6.1.R1-I2)","0150","Istraživanje i razvoj: Opće javne usluge"]
[{"$nulls":4},"K733067","PROGRAM UČINKOVITI LJUDSKI POTENCIJALI 2021.-2027., PRIORITET 2","0950","Obrazovanje koje se ne može definirati po stupnju"]
[{"$nulls":4},"K768066","OBNOVA INFRASTRUKTURE I OPREME U PODRUČJU OBRAZOVANJA OŠTEĆENE POTRESOM","0970","Istraživanje i razvoj obrazovanja"]
[{"$nulls":4},"K768070","OBNOVA INFRASTRUKTURE U PODRUČJU OBRAZOVANJA OŠTEĆENE POTRESOM FSEU.2022.MZO","0970","Istraživanje i razvoj obrazovanja"]
[{"$nulls":4},"K768074","UČENIČKI DOM U KOPRIVNICI","0970","Istraživanje i razvoj obrazovanja"]
[{"$nulls":4},"K792022","KOMPLEKS DVORCA ŠAULOVEC EUROPSKI TALENT CENTAR","0970","Istraživanje i razvoj obrazovanja"]
[null,null,"3702","PREDŠKOLSKI ODGOJ","A578003","ODGOJ I NAOBRAZBA DJECE PRIPADNIKA NACIONALNIH MANJINA","0911","Predškolsko obrazovanje"]
[{"$nulls":4},"A578004","PREDŠKOLSKI ODGOJ I OBRAZOVANJE DJECE S TEŠKOĆAMA U RAZVOJU (SUFINANCIRANJE)","0911","Predškolsko obrazovanje"]
[{"$nulls":4},"A578008","ODGOJ I NAOBRAZBA DJECE U PROGRAMIMA PREDŠKOLE","0911","Predškolsko obrazovanje"]
[{"$nulls":4},"A578009","ODGOJ I OBRAZOVANJE DAROVITE DJECE PREDŠKOLSKE DOBI U DJEČJIM VRTIĆIMA","0911","Predškolsko obrazovanje"]
[{"$nulls":4},"K580071","KAPITALNE POMOĆI OSNIVAČIMA PREDŠKOLSKIH USTANOVA","0911","Predškolsko obrazovanje"]
[{"$nulls":4},"K676067","IZGRADNJA, DOGRADNJA, REKONSTRUKCIJA I OPREMANJE PREDŠKOLSKIH USTANOVA - NPOO (C3.1.R1-I1)","0911","Predškolsko obrazovanje"]
[{"$nulls":4},"K676071","FISKALNA ODRŽIVOST DJEČJIH VRTIĆA","0911","Predškolsko obrazovanje"]
[null,null,"3703","OSNOVNOŠKOLSKO OBRAZOVANJE","A557041","PREUZIMANJE OBVEZA ZA PROJEKTE JAVNO PRIVATNOG PARTNERSTVA U VARAŽDINSKOJ I KOPRIVNIČKO-KRIŽEVAČKOJ ŽUPANIJI","0912","Osnovno obrazovanje"]
[{"$nulls":4},"A579000","OSNOVNOŠKOLSKO OBRAZOVANJE","0180","Prijenosi općeg karaktera između različitih državnih razina"]
[{"$nulls":4},"A579003","ODGOJ I NAOBRAZBA UČENIKA S TEŠKOĆAMA U RAZVOJU U OSNOVNIM ŠKOLAMA","0912","Osnovno obrazovanje"]
[{"$nulls":4},"A579007","PRAVOMOĆNE SUDSKE PRESUDE","0180","Prijenosi općeg karaktera između različitih državnih razina"]
[{"$nulls":4},"A579069","RAZVOJ PREDŠKOLSKOG I OSNOVNOŠKOLSKOG SUSTAVA ODGOJA I OBRAZOVANJA","0912","Osnovno obrazovanje"]
[{"$nulls":4},"A768072","PREHRANA ZA UČENIKE U OSNOVNIM ŠKOLAMA","0912","Osnovno obrazovanje"]
[{"$nulls":4},"K110283","OPREMANJE OSNOVNOŠKOLSKIH KNJIŽNICA OBVEZNOM LEKTIROM I STRUČNOM LITERATUROM","0912","Osnovno obrazovanje"]
[{"$nulls":4},"K578064","CENTAR ZA ODGOJ I OBRAZOVANJE ČAKOVEC","0912","Osnovno obrazovanje"]
[{"$nulls":4},"K733061","OSNOVNA ŠKOLA MILAN AMRUŠ SLAVONSKI BROD","0912","Osnovno obrazovanje"]
[{"$nulls":4},"K767031","OŠ MIJATA STOJANOVIĆA U BABINOJ GREDI","0912","Osnovno obrazovanje"]
[{"$nulls":4},"K768067","IZGRADNJA, DOGRADNJA, REKONSTRUKCIJA I OPREMANJE OSNOVNIH ŠKOLA ZA POTREBE JEDNOSMJENSKOG RADA I CJELODNEVNE NASTAVE - NPOO (C3.1.R1-I2)","0912","Osnovno obrazovanje"]
[{"$nulls":4},"K792020","CENTAR ZA ODGOJ I OBRAZOVANJE KRAPINSKE TOPLICE","0912","Osnovno obrazovanje"]
[{"$nulls":4},"K792023","UČENIČKI DOM U VARAŽDINU","0912","Osnovno obrazovanje"]
[null,null,"3704","SREDNJOŠKOLSKO OBRAZOVANJE","A580000","SREDNJOŠKOLSKO OBRAZOVANJE","0180","Prijenosi općeg karaktera između različitih državnih razina"]
[{"$nulls":4},"A580004","STANDARD UČENIKA S POSEBNIM POTREBAMA","0922","Više srednjoškolsko obrazovanje"]
[{"$nulls":4},"A580007","PRAVOMOĆNE SUDSKE PRESUDE","0180","Prijenosi općeg karaktera između različitih državnih razina"]
[{"$nulls":4},"A580014","RAZVOJ SUSTAVA OBRAZOVANJA ODRASLIH","0922","Više srednjoškolsko obrazovanje"]
[{"$nulls":4},"A580037","JAVNI MEĐUMJESNI PRIJEVOZ ZA UČENIKE","0922","Više srednjoškolsko obrazovanje"]
[{"$nulls":4},"A580044","RAZVOJ SUSTAVA SREDNJOŠKOLSKOG ODGOJA I OBRAZOVANJA","0922","Više srednjoškolsko obrazovanje"]
[{"$nulls":4},"A767013","RAZVOJ SUSTAVA OSIGURANJA KVALITETE","0922","Više srednjoškolsko obrazovanje"]
[{"$nulls":4},"K110291","OPREMANJE SREDNJOŠKOLSKIH KNJIŽNICA LEKTIROM I STRUČNOM LITERATUROM","0922","Više srednjoškolsko obrazovanje"]
[{"$nulls":4},"K578068","IZGRADNJA, DOGRADNJA, REKONSTRUKCIJA I OPREMANJE SREDNJIH ŠKOLA - NPOO (C3.1.R1-I3)","0922","Više srednjoškolsko obrazovanje"]
[{"$nulls":4},"K676058","PROSVJETNO-KULTURNI CENTAR MAĐARA-DODATNO ULAGANJE U INFRASTRUKTURU","0922","Više srednjoškolsko obrazovanje"]
[{"$nulls":4},"K676074","IZGRADNJA UČENIČKOG DOMA  U DARUVARU","0922","Više srednjoškolsko obrazovanje"]
[{"$nulls":6},"0970","Istraživanje i razvoj obrazovanja"]
[null,null,"3705","VISOKO OBRAZOVANJE","A621021","SMJEŠTAJ I PREHRANA STUDENATA STUDENTSKOG CENTRA ZAGREB - SUFINANCIRANJE","0960","Dodatne usluge u obrazovanju"]
[{"$nulls":4},"A621022","SMJEŠTAJ I PREHRANA STUDENATA STUDENTSKOG CENTRA OSIJEK - SUFINANCIRANJE","0960","Dodatne usluge u obrazovanju"]
[{"$nulls":4},"A621023","SMJEŠTAJ I PREHRANA STUDENATA STUDENTSKOG CENTRA RIJEKA - SUFINANCIRANJE","0960","Dodatne usluge u obrazovanju"]
[{"$nulls":4},"A621024","SMJEŠTAJ I PREHRANA STUDENATA STUDENTSKOG CENTRA SPLIT - SUFINANCIRANJE","0960","Dodatne usluge u obrazovanju"]
[{"$nulls":4},"A621026","SMJEŠTAJ I PREHRANA STUDENATA STUDENTSKOG CENTRA ŠIBENIK - SUFINANCIRANJE","0960","Dodatne usluge u obrazovanju"]
[{"$nulls":4},"A621028","SMJEŠTAJ I PREHRANA STUDENATA STUDENTSKOG CENTRA VARAŽDIN - SUFINANCIRANJE","0960","Dodatne usluge u obrazovanju"]
[{"$nulls":4},"A621029","SMJEŠTAJ I PREHRANA STUDENATA STUDENTSKOG CENTRA SLAVONSKI BROD - SUFINANCIRANJE","0960","Dodatne usluge u obrazovanju"]
[{"$nulls":4},"A621030","SMJEŠTAJ I PREHRANA STUDENATA STUDENTSKOG CENTRA POŽEGA - SUFINANCIRANJE","0960","Dodatne usluge u obrazovanju"]
[{"$nulls":4},"A621031","SMJEŠTAJ I PREHRANA STUDENATA STUDENTSKOG CENTRA KARLOVAC - SUFINANCIRANJE","0960","Dodatne usluge u obrazovanju"]
[{"$nulls":4},"A621049","KAMATE ZA STANOVE ZNANSTVENIH NOVAKA I ASISTENATA","0942","Drugi stupanj visoke naobrazbe"]
[{"$nulls":4},"A621058","PROGRAMI POBOLJŠANJA STUDENTSKOG STANDARDA","0960","Dodatne usluge u obrazovanju"]
[{"$nulls":4},"A621185","POTPORA HRVATSKOM KATOLIČKOM SVEUČILIŠTU U ZAGREBU","0942","Drugi stupanj visoke naobrazbe"]
[{"$nulls":4},"A679049","POMOĆI BIH U SUSTAVU ZNANOSTI I OBRAZOVANJA","0970","Istraživanje i razvoj obrazovanja"]
[{"$nulls":4},"A679064","ZNANSTVENO-UČILIŠNI KAMPUS BORONGAJ","0942","Drugi stupanj visoke naobrazbe"]
[{"$nulls":4},"A679065","SMJEŠTAJ I PREHRANA STUDENATA STUDENTSKOG CENTRA PULA - SUFINANCIRANJE","0942","Drugi stupanj visoke naobrazbe"]
[{"$nulls":4},"A679066","POTPORE ROMSKIM STUDIJIMA I STUDENTIMA ROMIMA","0942","Drugi stupanj visoke naobrazbe"]
[{"$nulls":4},"A679067","DRŽAVNE STIPENDIJE ZA STUDENTE","0942","Drugi stupanj visoke naobrazbe"]
[{"$nulls":4},"A679069","SMJEŠTAJ I PREHRANA STUDENATA STUDENTSKOG CENTRA SISAK - SUFINANCIRANJE","0942","Drugi stupanj visoke naobrazbe"]
[{"$nulls":4},"A767043","RAZVOJ VISOKOG OBRAZOVANJA","0942","Drugi stupanj visoke naobrazbe"]
[{"$nulls":4},"A768063","VELEUČILIŠTE HRVATSKO ZAGORJE KRAPINA","0942","Drugi stupanj visoke naobrazbe"]
[{"$nulls":4},"K733074","IZGRADNJA STUDENTSKOG DOMA U KOPRIVNICI","0942","Drugi stupanj visoke naobrazbe"]
[{"$nulls":4},"K792021","RAZVOJ VJEŠTINA ZA OBNOVU NAKON POTRESA (C6.1.R2)","0150","Istraživanje i razvoj: Opće javne usluge"]
[null,null,"3801","ULAGANJE U ZNANSTVENO ISTRAŽIVAČKU DJELATNOST","A578050","POTPORA INOVACIJSKIM PROCESIMA","0150","Istraživanje i razvoj: Opće javne usluge"]
[{"$nulls":4},"A578061","OBZOR 2020. - PROGRAM POTICANJA ISTRAŽIVANJA I RAZVOJA U PERSONALIZIRANOJ MEDICINI – ERA PERMED","0150","Istraživanje i razvoj: Opće javne usluge"]
[{"$nulls":4},"A621047","DRŽAVNE, AKADEMSKE NAGRADE I POTPORE U ZNANOSTI I VISOKOM ŠKOLSTVU","0942","Drugi stupanj visoke naobrazbe"]
[{"$nulls":4},"A621179","TROŠKOVI NACIONALNOG VIJEĆA ZA VISOKO OBRAZOVANJE, ZNANOST I TEHNOLOŠKI RAZVOJ","0150","Istraživanje i razvoj: Opće javne usluge"]
[{"$nulls":4},"A622004","IZDAVANJE DOMAĆIH ZNANSTVENIH ČASOPISA","0150","Istraživanje i razvoj: Opće javne usluge"]
[{"$nulls":4},"A622005","ORGANIZIRANJE I ODRŽAVANJE ZNANSTVENIH SKUPOVA","0150","Istraživanje i razvoj: Opće javne usluge"]
[{"$nulls":4},"A622006","IZDAVANJE  ZNANSTVENIH KNJIGA I UDŽBENIKA","0150","Istraživanje i razvoj: Opće javne usluge"]
[{"$nulls":4},"A622007","FINANCIJSKA POTPORA ZNANSTVENIM UDRUGAMA","0150","Istraživanje i razvoj: Opće javne usluge"]
[{"$nulls":4},"A679005","ČLANSTVO U MEĐUNARODNIM UDRUGAMA","0150","Istraživanje i razvoj: Opće javne usluge"]
[{"$nulls":4},"A733050","PRAĆENJE I IMPLEMENTACIJA POLITIKA EUROPSKOG ISTRAŽIVAČKOG PROSTORA (ERA)","0150","Istraživanje i razvoj: Opće javne usluge"]
[{"$nulls":4},"A733056","EUROPSKI ZNANSTVENI PROJEKTI","0150","Istraživanje i razvoj: Opće javne usluge"]
[{"$nulls":4},"A767009","ZNANSTVENI CENTRI IZVRSNOSTI - DRUŠTVENO HUMANISTIČKO PODRUČJE","0150","Istraživanje i razvoj: Opće javne usluge"]
[{"$nulls":4},"A767035","MEĐUNARODNA SURADNJA","0150","Istraživanje i razvoj: Opće javne usluge"]
[{"$nulls":4},"A767038","OBZOR 2020. - PROGRAM MEĐUNARODNE MOBILNOSTI ZA ISTRAŽIVAČE - NEWFELPRO","0150","Istraživanje i razvoj: Opće javne usluge"]
[{"$nulls":4},"A767056","OBZOR 2020. - PARTNERSTVO ZA ISTRAŽIVANJA I INOVACIJE NA MEDITERANSKOM PODRUČJU - PRIMA","0150","Istraživanje i razvoj: Opće javne usluge"]
[{"$nulls":4},"A768068","OTKUP ZNANSTVENIH KNJIGA I VISOKOŠKOLSKIH UDŽBENIKA","0150","Istraživanje i razvoj: Opće javne usluge"]
[{"$nulls":4},"K578070","POBOLJŠANJE UČINKOVITOSTI JAVNIH ULAGANJA NA PODRUČJU ISTRAŽIVANJA, RAZVOJA I INOVACIJA - NPOO (C3.2.R3)","0150","Istraživanje i razvoj: Opće javne usluge"]
[{"$nulls":4},"K580074","POTPORA PROVOĐENJU PROGRAMA I PROJEKATA EU","0150","Istraživanje i razvoj: Opće javne usluge"]
[{"$nulls":4},"K676068","PROGRAM KONKURENTNOST I KOHEZIJA 2021.-2027., PRIORITET 1","0150","Istraživanje i razvoj: Opće javne usluge"]
[{"$nulls":4},"K676069","STVARANJE OKVIRA ZA PRIVLAČENJE STUDENATA I ISTRAŽIVAČA U STEM I ICT PODRUČJIMA - NPOO (C3.2.R2)","0150","Istraživanje i razvoj: Opće javne usluge"]
[{"$nulls":4},"K676073","PROJEKT DIGITALNE, INOVATIVNE I ZELENE TEHNOLOGIJE - DIGIT","0150","Istraživanje i razvoj: Opće javne usluge"]
[{"$nulls":4},"K768069","REFORMA I JAČANJE KAPACITETA JAVNOG ZNANSTVENO-ISTRAIŽIVAČKOG SEKTORA ZA ISTRAŽIVANJE I RAZVOJ - NPOO (C3.2.R1)","0150","Istraživanje i razvoj: Opće javne usluge"]
[null,null,"3803","RAZVOJ INFORMACIJSKOG DRUŠTVA","A577143","RAZVOJ I ODRŽAVANJE INFORMACIJSKE INFRASTRUKTURE MINISTARSTVA","0980","Usluge obrazovanja koje nisu drugdje svrstane"]
[{"$nulls":4},"A628003","PROJEKTI PRIMJENE INFORMACIJSKE TEHNOLOGIJE","0150","Istraživanje i razvoj: Opće javne usluge"]
[{"$nulls":4},"K252755","RAČUNALNO KOMUNIKACIJSKA INFRASTRUKTURA U OSNOVNIM I SREDNJIM ŠKOLAMA","0980","Usluge obrazovanja koje nisu drugdje svrstane"]
["08006","Sveučilišta i veleučilišta u Republici Hrvatskoj","3705","VISOKO OBRAZOVANJE"]
[{"$nulls":4},"A621180","REKTORSKI ZBOR","0942","Drugi stupanj visoke naobrazbe"]
[{"$nulls":4},"A621181","PRAVOMOĆNE SUDSKE PRESUDE","0942","Drugi stupanj visoke naobrazbe"]
[{"$nulls":4},"A621183","STIPENDIJE I ŠKOLARINE ZA DOKTORSKI STUDIJ","0942","Drugi stupanj visoke naobrazbe"]
[{"$nulls":4},"A679134","'PROGRAMSKO FINANCIRANJE JAVNIH VISOKIH UČILIŠTA 2025. - 2029.","0942","Drugi stupanj visoke naobrazbe"]
[{"$nulls":4},"A679136","RAZVOJ SUSTAVA PROGRAMSKIH SPORAZUMA ZA FINANCIRANJE SVEUČILIŠTA I ZNANSTVENIH INSTITUTA USMJERENIH NA INOVACIJE, ISTRAŽIVANJE I RAZVOJ - NPOO (C3.2. R1-I1 )","0942","Drugi stupanj visoke naobrazbe"]
[{"$nulls":4},"A679135","PROGRAMSKO I OSTALO FINANCIRANJE JAVNIH VISOKIH UČILIŠTA - IZ EVIDENCIJSKIH PRIHODA","0942","Drugi stupanj visoke naobrazbe"]
[{"$nulls":4},"A679132","PROGRAM PREKOGRANIČNE SURADNJE - IZ EVIDENCIJSKIH PRIHODA","0942","Drugi stupanj visoke naobrazbe"]
[{"$nulls":4},"A679133","PROGRAM PREKOGRANIČNE SURADNJE UPRAVLJAČKO TIJELO IZ INOZEMSTVA - IZ EVIDENCIJSKIH PRIHODA","0942","Drugi stupanj visoke naobrazbe"]
[{"$nulls":4},"K621061","INFRASTRUKTURA VISOKOOBRAZOVNIH USTANOVA","0942","Drugi stupanj visoke naobrazbe"]
[{"$nulls":4},"K679116","OBNOVA INFRASTRUKTURE I OPREME U PODRUČJU OBRAZOVANJA OŠTEĆENE POTRESOM","0942","Drugi stupanj visoke naobrazbe"]
[{"$nulls":4},"K679119","OBNOVA ZGRADA OŠTEĆENIH U POTRESU S ENERGETSKOM OBNOVOM - NPOO (C6.1.R1-I2)","0942","Drugi stupanj visoke naobrazbe"]
[{"$nulls":4},"K679122","RAZVOJ MREŽE SEIZMOLOŠKIH PODATAKA - NPOO (C6.1.R4-I1)","0942","Drugi stupanj visoke naobrazbe"]
[{"$nulls":4},"K679124","PROGRAM UČINKOVITI LJUDSKI POTENCIJALI 2021.-2027., PRIORITET 2","0942","Drugi stupanj visoke naobrazbe"]
[{"$nulls":4},"K679126","PROGRAM KONKURENTNOST I KOHEZIJA 2021.-2027., PRIORITET 1","0942","Drugi stupanj visoke naobrazbe"]
[{"$nulls":4},"K679128","POBOLJŠANJE UČINKOVITOSTI JAVNIH ULAGANJA NA PODRUČJU ISTRAŽIVANJA, RAZVOJA I INOVACIJA - NPOO (C3.2.R3)","0942","Drugi stupanj visoke naobrazbe"]
[{"$nulls":4},"K679129","STVARANJE OKVIRA ZA PRIVLAČENJE STUDENATA I ISTRAŽIVAČA NA STEM I ICT PODRUČJIMA - NPOO (C3.2.R2)","0942","Drugi stupanj visoke naobrazbe"]
[{"$nulls":4},"K679130","PROJEKT DIGITALNE, INOVATIVNE I ZELENE TEHNOLOGIJE - DIGIT","0942","Drugi stupanj visoke naobrazbe"]
[{"$nulls":4},"K679131","RAZVOJ VJEŠTINA ZA OBNOVU NAKON POTRESA iz NPOO-a (C6.1.R2)","0942","Drugi stupanj visoke naobrazbe"]
[]
["08008","Javni instituti u Republici Hrvatskoj","3801","ULAGANJE U ZNANSTVENO ISTRAŽIVAČKU DJELATNOST"]
[{"$nulls":4},"A622011","REDOVNA DJELATNOST GEOLOŠKE SLUŽBE","0150","Istraživanje i razvoj: Opće javne usluge"]
[{"$nulls":4},"A622120","PRAVOMOĆNE SUDSKE PRESUDE","0150","Istraživanje i razvoj: Opće javne usluge"]
[{"$nulls":4},"A622150","PROGRAMSKO FINANCIRANJE JAVNIH INSTITUTA","0150","Istraživanje i razvoj: Opće javne usluge"]
[{"$nulls":4},"A622151","PROGRAMSKO I OSTALO FINANCIRANJE JAVNIH INSTITUTA – IZ EVIDENCIJSKIH PRIHODA","0150","Istraživanje i razvoj: Opće javne usluge"]
[{"$nulls":4},"A622155","PROGRAM PREKOGRANIČNE SURADNJE - IZ EVIDENCIJSKIH PRIHODA","0150","Istraživanje i razvoj: Opće javne usluge"]
[{"$nulls":4},"A622156","PROGRAM PREKOGRANIČNE SURADNJE UPRAVLJAČKO TIJELO IZ INOZEMSTVA - IZ EVIDENCIJSKIH PRIHODA","0150","Istraživanje i razvoj: Opće javne usluge"]
[{"$nulls":4},"A622152","PROGRAMSKO FINANCIRANJE JAVNIH INSTITUTA  - IZ STRUKTURNIH I INVESTICIJSKIH FONDOVA EU","0150","Istraživanje i razvoj: Opće javne usluge"]
[{"$nulls":4},"K622138","OBNOVA INFRASTRUKTURE I OPREME U PODRUČJU OBRAZOVANJA OŠTEĆENE POTRESOM","0150","Istraživanje i razvoj: Opće javne usluge"]
[{"$nulls":4},"K622139","OBNOVA ZGRADA OŠTEĆENIH U POTRESU S ENERGETSKOM OBNOVOM - NPOO (C6.1.R1-I2)","0150","Istraživanje i razvoj: Opće javne usluge"]
[{"$nulls":4},"K622142","RAZVOJ ODRŽIVOG, INOVATIVNOG I OTPORNOG TURIZMA  (C1.6 R1) - NPOO","0150","Istraživanje i razvoj: Opće javne usluge"]
[{"$nulls":4},"K622144","OBNOVA INFRASTRUKTURE U PODRUČJU OBRAZOVANJA OŠTEĆENE POTRESOM FSEU.2022.MZO","0150","Istraživanje i razvoj: Opće javne usluge"]
[{"$nulls":4},"K622149","REFORMA I JAČANJE KAPACITETA JAVNOG ZNANSTVENO-ISTRAŽIVAČKOG SEKTORA ZA ISTRAŽIVNJE I RAZVOJ - NPOO (C3.2.R1)","0150","Istraživanje i razvoj: Opće javne usluge"]
[{"$nulls":4},"K622154","PROJEKT DIGITALNE, INOVATIVNE I ZELENE TEHNOLOGIJE - DIGIT","0150","Istraživanje i razvoj: Opće javne usluge"]
["08012","Državni zavod za intelektualno vlasništvo","3801","ULAGANJE U ZNANSTVENO ISTRAŽIVAČKU DJELATNOST","A763000","ADMINISTRACIJA I UPRAVLJANJE DRŽAVNOG ZAVODA ZA INTELEKTUALNO VLASNIŠTVO","0150","Istraživanje i razvoj: Opće javne usluge"]
[{"$nulls":4},"T763005","SURADNJA DZIV-a S UREDOM EUROPSKE UNIJE ZA INTELEKTUALNO VLASNIŠTVO (EUIPO)","0150","Istraživanje i razvoj: Opće javne usluge"]
["21836","Nacionalna i sveučilišna knjižnica","3801","ULAGANJE U ZNANSTVENO ISTRAŽIVAČKU DJELATNOST","A622017","ADMINISTRACIJA I UPRAVLJANJE NACIONALNE SVEUČILIŠNE KNJIŽNICE","0820","Službe kulture"]
[{"$nulls":4},"A622131","NABAVA INOZEMNIH ZNANSTVENIH ČASOPISA","0820","Službe kulture"]
[{"$nulls":4},"A622134","ADMINISTRACIJA I UPRAVLJANJE NACIONALNE SVEUČILIŠNE KNJIŽNICE (IZ EVIDENCIJSKIH PRIHODA)","0820","Službe kulture"]
[{"$nulls":4},"A622145","PRAVOMOĆNE SUDSKE PRESUDE","0820","Službe kulture"]
[{"$nulls":4},"K622116","KNJIGE, UMJETNIČKA DJELA I OSTALE IZLOŽBENE VRIJEDNOSTI","0820","Službe kulture"]
[{"$nulls":4},"K622147","PROJEKT E-SVEUČILIŠTA - NPOO (C.3.1. R2-I1)","0820","Službe kulture"]
["21852","Hrvatska akademska i istraživačka mreža Carnet","3803","RAZVOJ INFORMACIJSKOG DRUŠTVA","A628009","ADMINISTRACIJA I UPRAVLJANJE HRVATSKE AKADEMSKE I ISTRAŽIVAČKE MREŽE CARNET","0133","Ostale opće usluge"]
[{"$nulls":4},"A628011","PROGRAM TELEKOMUNIKACIJSKIH KAPACITETA ZA MREŽU CARNET","0133","Ostale opće usluge"]
[{"$nulls":4},"A628015","UKLJUČIVANJE MREŽE CARNET U PAN-EUROPSKE AKADEMSKE I ISTRAŽIVAČKE MREŽE","0460","Komunikacije"]
[{"$nulls":4},"A628068","SUDJELOVANJE NA IZGRADNJI, TESTIRANJU I RAZVOJU OKOSNICE PAN-EUROPSKE RAČUNALNO KOMUNIKACIJSKE MREŽE","0133","Ostale opće usluge"]
[{"$nulls":4},"A628070","PROGRAM OBJEDINJAVANJA I ODRŽAVANJA NACIONALNIH INFORMACIJSKIH SERVISA I E-ŠKOLA","0133","Ostale opće usluge"]
[{"$nulls":4},"A628074","PROGRAMI ZAJEDNICE","0133","Ostale opće usluge"]
[{"$nulls":4},"A628090","UNAPRJEĐENJE JEDNAKIH MOGUĆNOSTI U OBRAZOVANJU ZA UČENIKE S TEŠKOĆAMA U RAZVOJU","0133","Ostale opće usluge"]
[{"$nulls":4},"A628091","OBRAZOVANJE U RURALNIM PODRUČJIMA - LEARNING FROM THE EXTREMES, A RURAL SCHOOLS INNOVATION ROADMAP","0133","Ostale opće usluge"]
[{"$nulls":4},"K406669","CARNET - ZAJEDNIČKA RK INFRASTRUKTURA","0133","Ostale opće usluge"]
[{"$nulls":4},"K628069","ULAGANJE U OPREMU ZA ODRŽAVANJE NACIONALNIH I INFORMACIJSKIH SERVISA","0133","Ostale opće usluge"]
[{"$nulls":4},"K628093","DIGITALNA PREOBRAZBA VISOKOG OBRAZOVANJA E-SVEUČILIŠTA - NPOO (C3.2.R2)","0133","Ostale opće usluge"]
[{"$nulls":4},"K628095","HRVATSKA KVANTNA KOMUNIKACIJSKA INFRASTRUKTURA - CRO QCI - NPOO (C3.2.R2-I2)","0133","Ostale opće usluge"]
[{"$nulls":4},"K628100","PROGRAM UČINKOVITI LJUDSKI POTENCIJALI 2021.-2027., PRIORITET 2","0133","Ostale opće usluge"]
[{"$nulls":6},"0970","Istraživanje i razvoj obrazovanja"]
[{"$nulls":4},"K628101","USPOSTAVA NACIONALNOG KOORDINACIJSKOG SREDIŠTA ZA INDUSTRIJU, TEHNOLOGIJU I ISTRAŽIVANJA U PODRUČJU KIBERNETIČKE SIGURNOSTI","0133","Ostale opće usluge"]
[{"$nulls":6},"0970","Istraživanje i razvoj obrazovanja"]
["21869","Leksikografski zavod Miroslav Krleža","3801","ULAGANJE U ZNANSTVENO ISTRAŽIVAČKU DJELATNOST","A622107","ADMINISTRACIJA I UPRAVLJANJE LEKSIKOGRAFSKOG ZAVODA MIROSLAV KRLEŽA","0150","Istraživanje i razvoj: Opće javne usluge"]
[{"$nulls":4},"A622136","ADMINISTRACIJA I UPRAVLJANJE LEKSIKOGRAFSKOG ZAVODA MIROSLAV KRLEŽA (IZ EVIDENCIJSKIH PRIHODA)","0150","Istraživanje i razvoj: Opće javne usluge"]
[{"$nulls":4},"A622146","PRAVOMOĆNE SUDSKE PRESUDE","0150","Istraživanje i razvoj: Opće javne usluge"]
["23665","Sveučilišni računski centar SRCE","3803","RAZVOJ INFORMACIJSKOG DRUŠTVA","A628018","ADMINISTRACIJA I UPRAVLJANJE SVEUČILIŠNOG RAČUNSKOG CENTRA SRCE","0133","Ostale opće usluge"]
[{"$nulls":4},"A628084","ADMINISTRACIJA I UPRAVLJANJE SVEUČILIŠNOG RAČUNSKOG CENTRA SRCE  (IZ EVIDENCIJSKIH PRIHODA)","0133","Ostale opće usluge"]
[{"$nulls":4},"A628098","PRAVOMOĆNE SUDSKE PRESUDE","0133","Ostale opće usluge"]
[{"$nulls":4},"K628055","SRCE -IZRAVNA KAPITALNA ULAGANJA","0133","Ostale opće usluge"]
[{"$nulls":4},"K628094","INFORMACIJSKI SUSTAVI EVIDENCIJA U VISOKOM OBRAZOVANJU - ISEVO - NPOO (C3.1.R2-I1)","0133","Ostale opće usluge"]
[{"$nulls":4},"K628097","HRVATSKA KVANTNA KOMUNIKACIJSKA INFRASTRUKTURA - CRO QCI - NPOO (C3.2.R2-I2)","0133","Ostale opće usluge"]
["23962","Agencija za odgoj i obrazovanje","3701","RAZVOJ ODGOJNO OBRAZOVNOG SUSTAVA","A579073","UČIMO PODUZETNIŠTVO 5.0","0970","Istraživanje i razvoj obrazovanja"]
[{"$nulls":4},"A580006","STRUČNO USAVRŠAVANJE U OKVIRU ŽUPANIJSKIH STRUČNIH VIJEĆA SREDNJE ŠKOLE","0970","Istraživanje i razvoj obrazovanja"]
[{"$nulls":4},"A580072","ERASMUS PLUS - PROJEKTI","0970","Istraživanje i razvoj obrazovanja"]
[{"$nulls":4},"A733001","ADMINISTRACIJA I UPRAVLJANJE AGENCIJE ZA ODGOJ I OBRAZOVANJE","0970","Istraživanje i razvoj obrazovanja"]
[{"$nulls":4},"A733027","STRUČNO USAVRŠAVANJE U OKVIRU ŽUPANIJSKIH STRUČNIH VIJEĆA OSNOVNE ŠKOLE","0970","Istraživanje i razvoj obrazovanja"]
[{"$nulls":4},"A733032","IZVANNASTAVNE AKTIVNOSTI U OSNOVNIM I SREDNJIM ŠKOLAMA-NATJECANJE","0970","Istraživanje i razvoj obrazovanja"]
[{"$nulls":4},"A767022","STRUČNO USAVRŠAVANJE ODGOJNO-OBRAZOVNIH DJELATNIKA U SUSTAVU OSNOVNOG I SREDNJEG ŠKOLSTVA","0970","Istraživanje i razvoj obrazovanja"]
[{"$nulls":4},"K579074","PROGRAM UČINKOVITI LJUDSKI POTENCIJALI 2021.-2027.","0970","Istraživanje i razvoj obrazovanja"]
["38487","Agencija za znanost i visoko obrazovanje","3705","VISOKO OBRAZOVANJE","A621155","ADMINISTRACIJA I UPRAVLJANJE AGENCIJE ZA ZNANOST I VISOKO OBRAZOVANJE","0942","Drugi stupanj visoke naobrazbe"]
[{"$nulls":4},"A621182","ZBOR VELEUČILIŠTA","0942","Drugi stupanj visoke naobrazbe"]
[{"$nulls":4},"A621186","VREDNOVANJE ZNANSTVENIH ORGANIZACIJA","0942","Drugi stupanj visoke naobrazbe"]
[{"$nulls":4},"A621187","VREDNOVANJE VISOKIH UČILIŠTA","0942","Drugi stupanj visoke naobrazbe"]
[{"$nulls":4},"A621190","VANJSKA PROSUDBA SUSTAVA OSIGURANJA KVALITETE VISOKIH UČILIŠTA I ZNANSTVENIH ORGANIZACIJA (VP)","0942","Drugi stupanj visoke naobrazbe"]
[{"$nulls":4},"A621191","PRAĆENJE ZAPOŠLJAVANJA DIPLOMIRANIH STUDENATA","0942","Drugi stupanj visoke naobrazbe"]
[{"$nulls":4},"A621192","TROŠKOVI SREDIŠNJEG PRIJAVNOG UREDA","0942","Drugi stupanj visoke naobrazbe"]
[{"$nulls":4},"A867018","PRIMJENA HRVATSKOG KVALIFIKACIJSKOG OKVIRA U VISOKOM OBRAZOVANJU","0942","Drugi stupanj visoke naobrazbe"]
[{"$nulls":4},"A867019","DIGITALNA PREOBRAZBA VISOKOG OBRAZOVANJA – e-SVEUČILIŠTA - NPOO (C3.1.R2)","0942","Drugi stupanj visoke naobrazbe"]
[{"$nulls":4},"A867021","ERASMUS PLUS - PROJEKTI","0942","Drugi stupanj visoke naobrazbe"]
[{"$nulls":4},"A867023","USPOSTAVA SREDIŠNJEG SUSTAVA INTEROPERABILNOSTI - NPOO (C2.3.R2-I1)","0942","Drugi stupanj visoke naobrazbe"]
[{"$nulls":4},"K621178","OPREMANJE I UREĐENJE AGENCIJE ZA ZNANOST I VISOKO OBRAZOVANJE","0942","Drugi stupanj visoke naobrazbe"]
[{"$nulls":4},"K621194","NACIONALNI INFORMACIJSKI SUSTAV PRIJAVA NA VISOKA UČILIŠTA - NISpVU","0942","Drugi stupanj visoke naobrazbe"]
[{"$nulls":4},"K867020","PROGRAM UČINKOVITI LJUDSKI POTENCIJALI 2021.-2027.., PRIORITET 2 - OSIGURAVANJE KVALITETE U VISOKOM OBRAZOVANJU","0942","Drugi stupanj visoke naobrazbe"]
[{"$nulls":4},"K867022","PROGRAM UČINKOVITI LJUDSKI POTENCIJALI 2021.-2027., PRIORITET 2 - OBRAZOVANJE I CJELOŽIVOTNO UČENJE","0942","Drugi stupanj visoke naobrazbe"]
["40883","Nacionalni centar za vanjsko vrednovanje obrazovanja","3701","RAZVOJ ODGOJNO OBRAZOVNOG SUSTAVA","A580046","ADMINISTRACIJA I UPRAVLJANJE NACIONALNOG CENTRA ZA VANJSKO VREDNOVANJE OBRAZOVANJA","0970","Istraživanje i razvoj obrazovanja"]
[{"$nulls":4},"A814000","MEĐUNARODNI PROJEKTI VREDNOVANJA ZNANJA I VJEŠTINA (IEA: ICCS, ICILS, PIRLS, TIMSS - OECD: PISA, TALIS)","0970","Istraživanje i razvoj obrazovanja"]
[{"$nulls":4},"A814001","DRŽAVNA MATURA","0970","Istraživanje i razvoj obrazovanja"]
[{"$nulls":4},"A814003","NACIONALNI ISPITI","0970","Istraživanje i razvoj obrazovanja"]
[{"$nulls":4},"A814007","UNAPREĐENJE KVALITETE OBRAZOVNOG SUSTAVA","0970","Istraživanje i razvoj obrazovanja"]
[{"$nulls":4},"K814013","PROGRAM UČINKOVITI LJUDSKI POTENCIJALI 2021.-2027.., PRIORITET 2 - OBRAZOVANJE I CJELOŽIVOTNO UČENJE","0970","Istraživanje i razvoj obrazovanja"]
["43335","Agencija za mobilnost i programe Europske unije","3701","RAZVOJ ODGOJNO OBRAZOVNOG SUSTAVA","A589088","ADMINISTRACIJA I UPRAVLJANJE AGENCIJE ZA MOBILNOST I EU PROGRAME","0970","Istraživanje i razvoj obrazovanja"]
[{"$nulls":4},"A589091","PROVEDBA MREŽNIH PROJEKATA FINANCIRANIH IZ OKVIRNIH PROGRAMA EU-A","0970","Istraživanje i razvoj obrazovanja"]
[{"$nulls":4},"A818023","PROVEDBA EURODESK MREŽE","0970","Istraživanje i razvoj obrazovanja"]
[{"$nulls":4},"A818024","PROVEDBA E-TWINNING MREŽE","0970","Istraživanje i razvoj obrazovanja"]
[{"$nulls":4},"A818033","ZNANSTVENA I VISOKOŠKOLSKA MOBILNOST","0970","Istraživanje i razvoj obrazovanja"]
[{"$nulls":4},"A818042","OBZOR EUROPA I MOBILNOST ISTRAŽIVAČA","0970","Istraživanje i razvoj obrazovanja"]
[{"$nulls":4},"A818043","ERASMUS PLUS PROVEDBA PROGRAMA OD 2014. DO 2020.","0970","Istraživanje i razvoj obrazovanja"]
[{"$nulls":4},"A818044","ERASMUS PLUS – PROJEKTI ZA KORISNIKE OBRAZOVANJE OD 2014. DO 2020.","0970","Istraživanje i razvoj obrazovanja"]
[{"$nulls":4},"A818045","ERASMUS PLUS – PROJEKTI ZA KORISNIKE MLADI OD 2014. DO 2020.","0970","Istraživanje i razvoj obrazovanja"]
[{"$nulls":4},"A818055","PORTAL STUDY IN CROATIA","0970","Istraživanje i razvoj obrazovanja"]
[{"$nulls":4},"A818058","EUROPSKE SNAGE SOLIDARNOSTI PROVEDBA PROGRAMA","0970","Istraživanje i razvoj obrazovanja"]
[{"$nulls":4},"A818059","EUROPSKE SNAGE SOLIDARNOSTI - PROJEKTI ZA KORISNIKE OD 2018. DO 2020.","0970","Istraživanje i razvoj obrazovanja"]
[{"$nulls":4},"A818060","EURYDICE EUROPSKA MREŽA ZA PODATKE I ANALIZE O SUSTAVIMA OBRAZOVANJA","0970","Istraživanje i razvoj obrazovanja"]
[{"$nulls":4},"A818061","ERASMUS PLUS - SUFINANCIRANJE – DIO PROVEDBE MLADI","0970","Istraživanje i razvoj obrazovanja"]
[{"$nulls":4},"A818063","EUROPSKE SNAGE SOLIDARNOSTI - PROJEKTI ZA KORISNIKE OD 2021. DO 2027.","0970","Istraživanje i razvoj obrazovanja"]
[{"$nulls":4},"A818064","ERASMUS - PROJEKTI  ZA KORISNIKE OBRAZOVANJE OD 2021. DO 2027.","0970","Istraživanje i razvoj obrazovanja"]
[{"$nulls":4},"A818065","ERASMUS - PROJEKTI ZA KORISNIKE MLADI OD 2021. DO 2027.","0970","Istraživanje i razvoj obrazovanja"]
[{"$nulls":4},"A818070","PROVEDBA EUROPASS I EUROGUIDANCE","0970","Istraživanje i razvoj obrazovanja"]
[{"$nulls":4},"A818071","VET RADNA SKUPINA","0970","Istraživanje i razvoj obrazovanja"]
[{"$nulls":4},"A818073","SALTO - REFERENTNI CENTAR ZA TEMU UKLJUČIVOSTI U PODRUČJU OBRAZOVANJA NA EUROPSKOJ RAZINI","0970","Istraživanje i razvoj obrazovanja"]
[{"$nulls":4},"A818075","ERASMUS - PROJEKTI ZA KORISNIKE PODRUČJA SPORT OD 2021. DO 2027.","0970","Istraživanje i razvoj obrazovanja"]
["46173","Agencija za strukovno obrazovanje i obrazovanje odraslih","3701","RAZVOJ ODGOJNO OBRAZOVNOG SUSTAVA","A848001","ADMINISTRACIJA I UPRAVLJANJE AGENCIJE ZA STRUKOVNO OBRAZOVANJE I  OBRAZOVANJE ODRASLIH","0950","Obrazovanje koje se ne može definirati po stupnju"]
[{"$nulls":4},"A848009","PROMICANJE KULTURE UČENJA: TJEDAN CJELOŽIVOTNOG UČENJA","0970","Istraživanje i razvoj obrazovanja"]
[{"$nulls":4},"A848010","STRUČNO SAVJETODAVNA DJELATNOST","0970","Istraživanje i razvoj obrazovanja"]
[{"$nulls":4},"A848014","RAZVOJ SUSTAVA STRUKOVNOG OBRAZOVANJA","0970","Istraživanje i razvoj obrazovanja"]
[{"$nulls":4},"A848018","DRŽAVNA NATJECANJA","0970","Istraživanje i razvoj obrazovanja"]
[{"$nulls":4},"A848020","RAZVOJ SUSTAVA OBRAZOVANJA ODRASLIH","0970","Istraživanje i razvoj obrazovanja"]
[{"$nulls":4},"A848023","REFERNET U REPUBLICI HRVATSKOJ","0970","Istraživanje i razvoj obrazovanja"]
[{"$nulls":4},"A848051","ERASMUS PLUS - PROJEKTI","0970","Istraživanje i razvoj obrazovanja"]
[{"$nulls":4},"K848038","OP UČINKOVITI LJUDSKI POTENCIJALI 2014.-2020., PRIORITET 3","0950","Obrazovanje koje se ne može definirati po stupnju"]
[{"$nulls":4},"K848049","PROGRAM UČINKOVITI LJUDSKI POTENCIJALI 2021.-2027., PRIORITET 5 - TEHNIČKA POMOĆ","0950","Obrazovanje koje se ne može definirati po stupnju"]
[{"$nulls":4},"K848050","PROGRAM UČINKOVITI LJUDSKI POTENCIJALI 2021.-2027., PRIORITET 3","0950","Obrazovanje koje se ne može definirati po stupnju"]
[{"$nulls":4},"T848027","OP UČINKOVITI LJUDSKI POTENCIJALI 2014. - 2020., PRIORITET 5","0950","Obrazovanje koje se ne može definirati po stupnju"]
["52209","Hrvatska zaklada za znanost","3801","ULAGANJE U ZNANSTVENO ISTRAŽIVAČKU DJELATNOST","A557042","PROGRAM DOKTORANADA I POSLIJEDOKTORANADA HRVATSKE ZAKLADE ZA ZNANOST","0150","Istraživanje i razvoj: Opće javne usluge"]
[{"$nulls":4},"A578055","HRVATSKO-ŠVICARSKI ISTRAŽIVAČKI PROGRAM","0150","Istraživanje i razvoj: Opće javne usluge"]
[{"$nulls":4},"A578069","ADMINISTRACIJA I UPRAVLJANJE HRVATSKE ZAKLADE ZA ZNANOST","0150","Istraživanje i razvoj: Opće javne usluge"]
[{"$nulls":4},"A578072","OBZOR ERA-NET CHANSE","0150","Istraživanje i razvoj: Opće javne usluge"]
[{"$nulls":4},"A578073","PROGRAM MOBILNOSTI - NPOO (C3.2. R2-I1 )","0150","Istraživanje i razvoj: Opće javne usluge"]
[{"$nulls":4},"A578074","DRUGI ŠVICARSKI DOPRINOS - MULTILATERALNI POZIVI ZA ZAJEDNIČKE ISTRAŽIVAČKE PROJEKTE (MCJRP)","0150","Istraživanje i razvoj: Opće javne usluge"]
[{"$nulls":4},"A621048","PROJEKTNO FINANCIRANJE ZNANSTVENE DJELATNOSTI","0150","Istraživanje i razvoj: Opće javne usluge"]
[{"$nulls":4},"A733055","PROGRAM IZVRSNOSTI U VISOKOM OBRAZOVANJU - TENURE-TRACK","0150","Istraživanje i razvoj: Opće javne usluge"]
[{"$nulls":4},"A733070","OBZOR ERA-NET QUANTERA II","0150","Istraživanje i razvoj: Opće javne usluge"]
[{"$nulls":4},"A733071","OBZOR ERA-NET BLUEBIOECONOMY","0150","Istraživanje i razvoj: Opće javne usluge"]
[{"$nulls":4},"A733073","PROGRAM RAZVOJA KARIJERA MLADIH ISTRAŽIVAČA - IZOBRAZBA NOVIH DOKTORA ZNANOSTI - NPOO (C3.2. R2-I1 )","0150","Istraživanje i razvoj: Opće javne usluge"]
[{"$nulls":4},"A733075","POKRETANJE URBANIH TRANZICIJA CO-FUND PROJEKT","0150","Istraživanje i razvoj: Opće javne usluge"]
[{"$nulls":4},"A733076","ATTRACTADRIA - OSNAŽIVANJE KAPACITETA ZA ZNANSTVENA ISTRAŽIVANJA","0150","Istraživanje i razvoj: Opće javne usluge"]

{"sheet":"prihodi","index":11,"n_rows":322,"n_cols":6,"rows_kept":322}
["Konto","opis konta","izvor","OPIS IZVORA","3 konto","2 konto"]
[67111,"Prihodi iz nadležnog proračuna za financiranje rashoda poslovanja ",11,"Opći prihodi i primici",{"$f":"LEFT(A2,3)","v":"671"},{"$f":"LEFT(A2,2)","v":"67"}]
[67111,"Prihodi iz nadležnog proračuna za financiranje rashoda poslovanja  ",12,"Sredstva učešća za pomoći",{"$f":"LEFT(A3,3)","v":"671"},{"$f":"LEFT(A3,2)","v":"67"}]
[67111,"Prihodi iz nadležnog proračuna za financiranje rashoda poslovanja  ",531,"Švicarsko - hrvatski program suradnje","671","67"]
[67111,"Prihodi iz nadležnog proračuna za financiranje rashoda poslovanja  ",532,"Financijski mehanizam Europskog gospodarskog prostora i Norveški financijski mehanizam","671","67"]
[67111,"Prihodi iz nadležnog proračuna za financiranje rashoda poslovanja  ",54,"Europski poljoprivredni jamstveni fond (EAGF)",{"$f":"LEFT(A6,3)","v":"671"},{"$f":"LEFT(A6,2)","v":"67"}]
[67111,"Prihodi iz nadležnog proračuna za financiranje rashoda poslovanja  ",561,"Europski socijalni fond plus – predfinanciranje iz izvora 11 Opći prihodi i primici","671","67"]
[67111,"Prihodi iz nadležnog proračuna za financiranje rashoda poslovanja  ",562,"Kohezijski fond - predfinanciranje iz izvora 11 Opći prihodi i primici",{"$f":"LEFT(A8,3)","v":"671"},{"$f":"LEFT(A8,2)","v":"67"}]
[67111,"Prihodi iz nadležnog proračuna za financiranje rashoda poslovanja  ",563,"Europski fond za regionalni razvoj - predfinanciranje iz izvora 11 Opći prihodi i      primici","671","67"]
[67111,"Prihodi iz nadležnog proračuna za financiranje rashoda poslovanja  ",564,"Fond za pomorstvo, ribarstvo i akvakulturu - predfinanciranje iz izvora 11 Opći prihodi i primici","671","67"]
[67111,"Prihodi iz nadležnog proračuna za financiranje rashoda poslovanja  ",565,"Europski poljoprivredni fond za ruralni razvoj - predfinanciranje iz izvora 11 Opći prihodi i primici","671","67"]
[67111,"Prihodi iz nadležnog proračuna za financiranje rashoda poslovanja  ",566,"Modernizacijski fond - predfinanciranje iz izvora 11 Opći prihodi i primici","671","67"]
[67111,"Prihodi iz nadležnog proračuna za financiranje rashoda poslovanja  ",567,"Socijalni fond za klimatsku politiku - predfinanciranje iz izvora 11 Opći prihodi i primici","671","67"]
[67111,"Prihodi iz nadležnog proračuna za financiranje rashoda poslovanja  ",575,"Fond za azil, migracije i integraciju - predfinanciranje iz izvora 11 Opći prihodi i primici","671","67"]
[67111,"Prihodi iz nadležnog proračuna za financiranje rashoda poslovanja  ",577,"Fond za pravednu tranziciju - predfinanciranje iz izvora 11 Opći prihodi i primici","671","67"]
[67111,"Prihodi iz nadležnog proračuna za financiranje rashoda poslovanja  ",578,"Fond za unutarnju sigurnost - predfinanciranje iz izvora 11 Opći prihodi i primici","671","67"]
[67111,"Prihodi iz nadležnog proračuna za financiranje rashoda poslovanja  ",579,"Fond za integrirano upravljanje granicama - predfinanciranje iz izvora 11 Opći prihodi i primici","671","67"]
[67111,"Prihodi iz nadležnog proračuna za financiranje rashoda poslovanja  ",581,"Mehanizam za oporavak i otpornost – bespovratna sredstva – raspoloživ predujam ili unaprijed naplaćen prihod","671","67"]
[67111,"Prihodi iz nadležnog proračuna za financiranje rashoda poslovanja  ",815,"Mehanizam za oporavak i otpornost (NPOO – zajam)","671","67"]
[67121,"Prihodi iz nadležnog proračuna za financiranje rashoda za nabavu nefinancijske imovine ",11,"Opći prihodi i primici","671","67"]
[67121,"Prihodi iz nadležnog proračuna za financiranje rashoda za nabavu nefinancijske imovine ",12,"Sredstva učešća za pomoći","671","67"]
[67121,"Prihodi iz nadležnog proračuna za financiranje rashoda za nabavu nefinancijske imovine ",531,"Švicarsko - hrvatski program suradnje",{"$f":"LEFT(A22,3)","v":"671"},{"$f":"LEFT(A22,2)","v":"67"}]
[67121,"Prihodi iz nadležnog proračuna za financiranje rashoda za nabavu nefinancijske imovine ",532,"Financijski mehanizam Europskog gospodarskog prostora i Norveški financijski mehanizam","671","67"]
[67121,"Prihodi iz nadležnog proračuna za financiranje rashoda za nabavu nefinancijske imovine ",54,"Europski poljoprivredni jamstveni fond (EAGF)","671","67"]
[67121,"Prihodi iz nadležnog proračuna za financiranje rashoda za nabavu nefinancijske imovine ",531,"Švicarsko - hrvatski program suradnje","671","67"]
[67121,"Prihodi iz nadležnog proračuna za financiranje rashoda za nabavu nefinancijske imovine ",532,"Financijski mehanizam Europskog gospodarskog prostora i Norveški financijski mehanizam","671","67"]
[67121,"Prihodi iz nadležnog proračuna za financiranje rashoda za nabavu nefinancijske imovine ",561,"Europski socijalni fond plus – predfinanciranje iz izvora 11 Opći prihodi i primici","671","67"]
[67121,"Prihodi iz nadležnog proračuna za financiranje rashoda za nabavu nefinancijske imovine ",562,"Kohezijski fond - predfinanciranje iz izvora 11 Opći prihodi i primici","671","67"]
[67121,"Prihodi iz nadležnog proračuna za financiranje rashoda za nabavu nefinancijske imovine ",563,"Europski fond za regionalni razvoj - predfinanciranje iz izvora 11 Opći prihodi i      primici","671","67"]
[67121,"Prihodi iz nadležnog proračuna za financiranje rashoda za nabavu nefinancijske imovine ",564,"Fond za pomorstvo, ribarstvo i akvakulturu - predfinanciranje iz izvora 11 Opći prihodi i primici","671","67"]
[67121,"Prihodi iz nadležnog proračuna za financiranje rashoda za nabavu nefinancijske imovine ",565,"Europski poljoprivredni fond za ruralni razvoj - predfinanciranje iz izvora 11 Opći prihodi i primici","671","67"]
[67121,"Prihodi iz nadležnog proračuna za financiranje rashoda za nabavu nefinancijske imovine ",566,"Modernizacijski fond - predfinanciranje iz izvora 11 Opći prihodi i primici","671","67"]
[67121,"Prihodi iz nadležnog proračuna za financiranje rashoda za nabavu nefinancijske imovine ",567,"Socijalni fond za klimatsku politiku - predfinanciranje iz izvora 11 Opći prihodi i primici","671","67"]
[67121,"Prihodi iz nadležnog proračuna za financiranje rashoda za nabavu nefinancijske imovine ",575,"Fond za azil, migracije i integraciju - predfinanciranje iz izvora 11 Opći prihodi i primici","671","67"]
[67121,"Prihodi iz nadležnog proračuna za financiranje rashoda za nabavu nefinancijske imovine ",577,"Fond za pravednu tranziciju - predfinanciranje iz izvora 11 Opći prihodi i primici","671","67"]
[67121,"Prihodi iz nadležnog proračuna za financiranje rashoda za nabavu nefinancijske imovine ",578,"Fond za unutarnju sigurnost - predfinanciranje iz izvora 11 Opći prihodi i primici","671","67"]
[67121,"Prihodi iz nadležnog proračuna za financiranje rashoda za nabavu nefinancijske imovine ",579,"Fond za integrirano upravljanje granicama - predfinanciranje iz izvora 11 Opći prihodi i primici","671","67"]
[67121,"Prihodi iz nadležnog proračuna za financiranje rashoda za nabavu nefinancijske imovine ",581,"Mehanizam za oporavak i otpornost – bespovratna sredstva – raspoloživ predujam ili unaprijed naplaćen prihod","671","67"]
[67121,"Prihodi iz nadležnog proračuna za financiranje rashoda za nabavu nefinancijske imovine ",815,"Mehanizam za oporavak i otpornost (NPOO – zajam)","671","67"]
[66141,"Prihodi od prodanih proizvoda",31,"Vlastiti prihodi","661","66"]
[66142,"Prihodi od prodaje robe",31,"Vlastiti prihodi","661","66"]
[66151,"Prihodi od pruženih usluga",31,"Vlastiti prihodi","661","66"]
[66311,"Tekuće donacije od fizičkih osoba",61,"Donacije","663","66"]
[66312,"Tekuće donacije od neprofitnih organizacija",561,"Europski socijalni fond plus – predfinanciranje iz izvora 11 Opći prihodi i primici","663","66"]
[66312,"Tekuće donacije od neprofitnih organizacija",562,"Kohezijski fond - predfinanciranje iz izvora 11 Opći prihodi i primici",{"$f":"LEFT(A45,3)","v":"663"},{"$f":"LEFT(A45,2)","v":"66"}]
[66312,"Tekuće donacije od neprofitnih organizacija",563,"Europski fond za regionalni razvoj - predfinanciranje iz izvora 11 Opći prihodi i      primici","663","66"]
[66312,"Tekuće donacije od neprofitnih organizacija",564,"Fond za pomorstvo, ribarstvo i akvakulturu - predfinanciranje iz izvora 11 Opći prihodi i primici","663","66"]
[66312,"Tekuće donacije od neprofitnih organizacija",565,"Europski poljoprivredni fond za ruralni razvoj - predfinanciranje iz izvora 11 Opći prihodi i primici","663","66"]
[66312,"Tekuće donacije od neprofitnih organizacija",566,"Modernizacijski fond - predfinanciranje iz izvora 11 Opći prihodi i primici","663","66"]
[66312,"Tekuće donacije od neprofitnih organizacija",567,"Socijalni fond za klimatsku politiku - predfinanciranje iz izvora 11 Opći prihodi i primici","663","66"]
[66312,"Tekuće donacije od neprofitnih organizacija",575,"Fond za azil, migracije i integraciju - predfinanciranje iz izvora 11 Opći prihodi i primici","663","66"]
[66312,"Tekuće donacije od neprofitnih organizacija",577,"Fond za pravednu tranziciju - predfinanciranje iz izvora 11 Opći prihodi i primici","663","66"]
[66312,"Tekuće donacije od neprofitnih organizacija",578,"Fond za unutarnju sigurnost - predfinanciranje iz izvora 11 Opći prihodi i primici","663","66"]
[66312,"Tekuće donacije od neprofitnih organizacija",579,"Fond za integrirano upravljanje granicama - predfinanciranje iz izvora 11 Opći prihodi i primici","663","66"]
[66312,"Tekuće donacije od neprofitnih organizacija",581,"Mehanizam za oporavak i otpornost – bespovratna sredstva – raspoloživ predujam ili unaprijed naplaćen prihod","663","66"]
[66312,"Tekuće donacije od neprofitnih organizacija",61,"Donacije","663","66"]
[66313,"Tekuće donacije od trgovačkih društava",561,"Europski socijalni fond plus – predfinanciranje iz izvora 11 Opći prihodi i primici","663","66"]
[66313,"Tekuće donacije od trgovačkih društava",562,"Kohezijski fond - predfinanciranje iz izvora 11 Opći prihodi i primici","663","66"]
[66313,"Tekuće donacije od trgovačkih društava",563,"Europski fond za regionalni razvoj - predfinanciranje iz izvora 11 Opći prihodi i      primici","663","66"]
[66313,"Tekuće donacije od trgovačkih društava",564,"Fond za pomorstvo, ribarstvo i akvakulturu - predfinanciranje iz izvora 11 Opći prihodi i primici","663","66"]
[66313,"Tekuće donacije od trgovačkih društava",565,"Europski poljoprivredni fond za ruralni razvoj - predfinanciranje iz izvora 11 Opći prihodi i primici","663","66"]
[66313,"Tekuće donacije od trgovačkih društava",566,"Modernizacijski fond - predfinanciranje iz izvora 11 Opći prihodi i primici","663","66"]
[66313,"Tekuće donacije od trgovačkih društava",567,"Socijalni fond za klimatsku politiku - predfinanciranje iz izvora 11 Opći prihodi i primici","663","66"]
[66313,"Tekuće donacije od trgovačkih društava",575,"Fond za azil, migracije i integraciju - predfinanciranje iz izvora 11 Opći prihodi i primici","663","66"]
[66313,"Tekuće donacije od trgovačkih društava",577,"Fond za pravednu tranziciju - predfinanciranje iz izvora 11 Opći prihodi i primici","663","66"]
[66313,"Tekuće donacije od trgovačkih društava",578,"Fond za unutarnju sigurnost - predfinanciranje iz izvora 11 Opći prihodi i primici","663","66"]
[66313,"Tekuće donacije od trgovačkih društava",579,"Fond za integrirano upravljanje granicama - predfinanciranje iz izvora 11 Opći prihodi i primici","663","66"]
[66313,"Tekuće donacije od trgovačkih društava",581,"Mehanizam za oporavak i otpornost – bespovratna sredstva – raspoloživ predujam ili unaprijed naplaćen prihod","663","66"]
[66313,"Tekuće donacije od trgovačkih društava",61,"Donacije","663","66"]
[66314,"Tekuće donacije od ostalih subjekata izvan općeg proračuna",561,"Europski socijalni fond plus – predfinanciranje iz izvora 11 Opći prihodi i primici",{"$f":"LEFT(A70,3)","v":"663"},{"$f":"LEFT(A70,2)","v":"66"}]
[66314,"Tekuće donacije od ostalih subjekata izvan općeg proračuna",562,"Kohezijski fond - predfinanciranje iz izvora 11 Opći prihodi i primici","663","66"]
[66314,"Tekuće donacije od ostalih subjekata izvan općeg proračuna",563,"Europski fond za regionalni razvoj - predfinanciranje iz izvora 11 Opći prihodi i      primici",{"$f":"LEFT(A72,3)","v":"663"},{"$f":"LEFT(A72,2)","v":"66"}]
[66314,"Tekuće donacije od ostalih subjekata izvan općeg proračuna",564,"Fond za pomorstvo, ribarstvo i akvakulturu - predfinanciranje iz izvora 11 Opći prihodi i primici","663","66"]
[66314,"Tekuće donacije od ostalih subjekata izvan općeg proračuna",565,"Europski poljoprivredni fond za ruralni razvoj - predfinanciranje iz izvora 11 Opći prihodi i primici","663","66"]
[66314,"Tekuće donacije od ostalih subjekata izvan općeg proračuna",566,"Modernizacijski fond - predfinanciranje iz izvora 11 Opći prihodi i primici","663","66"]
[66314,"Tekuće donacije od ostalih subjekata izvan općeg proračuna",567,"Socijalni fond za klimatsku politiku - predfinanciranje iz izvora 11 Opći prihodi i primici","663","66"]
[66314,"Tekuće donacije od ostalih subjekata izvan općeg proračuna",575,"Fond za azil, migracije i integraciju - predfinanciranje iz izvora 11 Opći prihodi i primici","663","66"]
[66314,"Tekuće donacije od ostalih subjekata izvan općeg proračuna",577,"Fond za pravednu tranziciju - predfinanciranje iz izvora 11 Opći prihodi i primici","663","66"]
[66314,"Tekuće donacije od ostalih subjekata izvan općeg proračuna",578,"Fond za unutarnju sigurnost - predfinanciranje iz izvora 11 Opći prihodi i primici","663","66"]
[66314,"Tekuće donacije od ostalih subjekata izvan općeg proračuna",579,"Fond za integrirano upravljanje granicama - predfinanciranje iz izvora 11 Opći prihodi i primici","663","66"]
[66314,"Tekuće donacije od ostalih subjekata izvan općeg proračuna",581,"Mehanizam za oporavak i otpornost – bespovratna sredstva – raspoloživ predujam ili unaprijed naplaćen prihod","663","66"]
[66314,"Tekuće donacije od ostalih subjekata izvan općeg proračuna",61,"Donacije","663","66"]
[66321,"Kapitalne donacije od fizičkih osoba",61,"Donacije","663","66"]
[66322,"Kapitalne donacije od neprofitnih organizacija",561,"Europski socijalni fond plus – predfinanciranje iz izvora 11 Opći prihodi i primici","663","66"]
[66322,"Kapitalne donacije od neprofitnih organizacija",562,"Kohezijski fond - predfinanciranje iz izvora 11 Opći prihodi i primici",{"$f":"LEFT(A85,3)","v":"663"},{"$f":"LEFT(A85,2)","v":"66"}]
[66322,"Kapitalne donacije od neprofitnih organizacija",563,"Europski fond za regionalni razvoj - predfinanciranje iz izvora 11 Opći prihodi i      primici","663","66"]
[66322,"Kapitalne donacije od neprofitnih organizacija",564,"Fond za pomorstvo, ribarstvo i akvakulturu - predfinanciranje iz izvora 11 Opći prihodi i primici","663","66"]
[66322,"Kapitalne donacije od neprofitnih organizacija",565,"Europski poljoprivredni fond za ruralni razvoj - predfinanciranje iz izvora 11 Opći prihodi i primici","663","66"]
[66322,"Kapitalne donacije od neprofitnih organizacija",566,"Modernizacijski fond - predfinanciranje iz izvora 11 Opći prihodi i primici","663","66"]
[66322,"Kapitalne donacije od neprofitnih organizacija",567,"Socijalni fond za klimatsku politiku - predfinanciranje iz izvora 11 Opći prihodi i primici","663","66"]
[66322,"Kapitalne donacije od neprofitnih organizacija",575,"Fond za azil, migracije i integraciju - predfinanciranje iz izvora 11 Opći prihodi i primici","663","66"]
[66322,"Kapitalne donacije od neprofitnih organizacija",577,"Fond za pravednu tranziciju - predfinanciranje iz izvora 11 Opći prihodi i primici","663","66"]
[66322,"Kapitalne donacije od neprofitnih organizacija",578,"Fond za unutarnju sigurnost - predfinanciranje iz izvora 11 Opći prihodi i primici","663","66"]
[66322,"Kapitalne donacije od neprofitnih organizacija",579,"Fond za integrirano upravljanje granicama - predfinanciranje iz izvora 11 Opći prihodi i primici","663","66"]
[66322,"Kapitalne donacije od neprofitnih organizacija",581,"Mehanizam za oporavak i otpornost – bespovratna sredstva – raspoloživ predujam ili unaprijed naplaćen prihod","663","66"]
[66322,"Kapitalne donacije od neprofitnih organizacija",61,"Donacije","663","66"]
[66323,"Kapitalne donacije od trgovačkih društava",561,"Europski socijalni fond plus – predfinanciranje iz izvora 11 Opći prihodi i primici","663","66"]
[66323,"Kapitalne donacije od trgovačkih društava",562,"Kohezijski fond - predfinanciranje iz izvora 11 Opći prihodi i primici","663","66"]
[66323,"Kapitalne donacije od trgovačkih društava",563,"Europski fond za regionalni razvoj - predfinanciranje iz izvora 11 Opći prihodi i      primici","663","66"]
[66323,"Kapitalne donacije od trgovačkih društava",564,"Fond za pomorstvo, ribarstvo i akvakulturu - predfinanciranje iz izvora 11 Opći prihodi i primici","663","66"]
[66323,"Kapitalne donacije od trgovačkih društava",565,"Europski poljoprivredni fond za ruralni razvoj - predfinanciranje iz izvora 11 Opći prihodi i primici","663","66"]
[66323,"Kapitalne donacije od trgovačkih društava",566,"Modernizacijski fond - predfinanciranje iz izvora 11 Opći prihodi i primici","663","66"]
[66323,"Kapitalne donacije od trgovačkih društava",567,"Socijalni fond za klimatsku politiku - predfinanciranje iz izvora 11 Opći prihodi i primici","663","66"]
[66323,"Kapitalne donacije od trgovačkih društava",575,"Fond za azil, migracije i integraciju - predfinanciranje iz izvora 11 Opći prihodi i primici","663","66"]
[66323,"Kapitalne donacije od trgovačkih društava",577,"Fond za pravednu tranziciju - predfinanciranje iz izvora 11 Opći prihodi i primici","663","66"]
[66323,"Kapitalne donacije od trgovačkih društava",578,"Fond za unutarnju sigurnost - predfinanciranje iz izvora 11 Opći prihodi i primici","663","66"]
[66323,"Kapitalne donacije od trgovačkih društava",579,"Fond za integrirano upravljanje granicama - predfinanciranje iz izvora 11 Opći prihodi i primici","663","66"]
[66323,"Kapitalne donacije od trgovačkih društava",581,"Mehanizam za oporavak i otpornost – bespovratna sredstva – raspoloživ predujam ili unaprijed naplaćen prihod","663","66"]
[66323,"Kapitalne donacije od trgovačkih društava",61,"Donacije","663","66"]
[66324,"Kapitalne donacije od ostalih subjekata izvan općeg proračuna",561,"Europski socijalni fond plus – predfinanciranje iz izvora 11 Opći prihodi i primici","663","66"]
[66324,"Kapitalne donacije od ostalih subjekata izvan općeg proračuna",562,"Kohezijski fond - predfinanciranje iz izvora 11 Opći prihodi i primici",{"$f":"LEFT(A111,3)","v":"663"},{"$f":"LEFT(A111,2)","v":"66"}]
[66324,"Kapitalne donacije od ostalih subjekata izvan općeg proračuna",563,"Europski fond za regionalni razvoj - predfinanciranje iz izvora 11 Opći prihodi i      primici","663","66"]
[66324,"Kapitalne donacije od ostalih subjekata izvan općeg proračuna",564,"Fond za pomorstvo, ribarstvo i akvakulturu - predfinanciranje iz izvora 11 Opći prihodi i primici","663","66"]
[66324,"Kapitalne donacije od ostalih subjekata izvan općeg proračuna",565,"Europski poljoprivredni fond za ruralni razvoj - predfinanciranje iz izvora 11 Opći prihodi i primici","663","66"]
[66324,"Kapitalne donacije od ostalih subjekata izvan općeg proračuna",566,"Modernizacijski fond - predfinanciranje iz izvora 11 Opći prihodi i primici","663","66"]
[66324,"Kapitalne donacije od ostalih subjekata izvan općeg proračuna",567,"Socijalni fond za klimatsku politiku - predfinanciranje iz izvora 11 Opći prihodi i primici","663","66"]
[66324,"Kapitalne donacije od ostalih subjekata izvan općeg proračuna",575,"Fond za azil, migracije i integraciju - predfinanciranje iz izvora 11 Opći prihodi i primici","663","66"]
[66324,"Kapitalne donacije od ostalih subjekata izvan općeg proračuna",577,"Fond za pravednu tranziciju - predfinanciranje iz izvora 11 Opći prihodi i primici","663","66"]
[66324,"Kapitalne donacije od ostalih subjekata izvan općeg proračuna",578,"Fond za unutarnju sigurnost - predfinanciranje iz izvora 11 Opći prihodi i primici","663","66"]
[66324,"Kapitalne donacije od ostalih subjekata izvan općeg proračuna",579,"Fond za integrirano upravljanje granicama - predfinanciranje iz izvora 11 Opći prihodi i primici","663","66"]
[66324,"Kapitalne donacije od ostalih subjekata izvan općeg proračuna",581,"Mehanizam za oporavak i otpornost – bespovratna sredstva – raspoloživ predujam ili unaprijed naplaćen prihod","663","66"]
[66324,"Kapitalne donacije od ostalih subjekata izvan općeg proračuna",61,"Donacije","663","66"]
[65148,"Ostale naknade i pristojbe za posebne namjene",43,"Ostali prihodi za posebne namjene","651","65"]
[65218,"Ostali prihodi državne uprave za posebne namjene",43,"Ostali prihodi za posebne namjene","652","65"]
[65264,"Sufinanciranje cijene usluge, participacije i slično",43,"Ostali prihodi za posebne namjene","652","65"]
[65267,"Prihodi s naslova osiguranja, refundacije štete i totalne štete ",71,"Prihodi od nefin. imovine i nadoknade štete s osnova osig.","652","65"]
[65267,"Prihodi s naslova osiguranja, refundacije štete i totalne štete",11,"Opći prihodi i primici","652","65"]
[65268,"Ostali prihodi za posebne namjene",43,"Ostali prihodi za posebne namjene","652","65"]
[65411,"Naknada za priređivanje lutrijskih igara",41,"Prihodi od igara na sreću","654","65"]
[65412,"Naknade za priređivanje igara na sreću u casinima",41,"Prihodi od igara na sreću","654","65"]
[65413,"Naknade za priređivanje klađenja",41,"Prihodi od igara na sreću","654","65"]
[65414,"Naknade za priređivanje igara na sreću na automatima",41,"Prihodi od igara na sreću","654","65"]
[64129,"Kamate za ostale vrijednosne papire",31,"Vlastiti prihodi","641","64"]
[64131,"Kamate na oročena sredstva",31,"Vlastiti prihodi","641","64"]
[64132,"Kamate na depozite po viđenju",31,"Vlastiti prihodi",{"$f":"LEFT(A135,3)","v":"641"},{"$f":"LEFT(A135,2)","v":"64"}]
[64132,"Kamate na depozite po viđenju",43,"Ostali prihodi za posebne namjene","641","64"]
[64143,"Zatezne kamate iz obveznih odnosa i drugo ",31,"Vlastiti prihodi","641","64"]
[64143,"Zatezne kamate iz obveznih odnosa i drugo ",43,"Ostali prihodi za posebne namjene","641","64"]
[64151,"Prihodi od pozitivnih tečajnih razlika",31,"Vlastiti prihodi","641","64"]
[64151,"Prihodi od pozitivnih tečajnih razlika",43,"Ostali prihodi za posebne namjene","641","64"]
[64163,"Prihod od dividendi na dionice u kreditnim i ostalim financijskim institucijama izvan javnog sektora",31,"Vlastiti prihodi","641","64"]
[64164,"Prihodi od dividendi na dionice u trgovačkim društvima izvan javnog sektora",31,"Vlastiti prihodi","641","64"]
[64172,"Prihodi iz dobiti trgovačkih društava u javnom sektoru",43,"Ostali prihodi za posebne namjene","641","64"]
[64177,"Prihodi iz dobiti Hrvatske lutrije",41,"Prihodi od igara na sreću","641","64"]
[64199,"Ostali prihodi od financijske imovine",43,"Ostali prihodi za posebne namjene","641","64"]
[64251,"Prihodi od prodaje kratkotrajne nefinancijske imovine, sitnog inventara i autoguma",31,"Vlastiti prihodi","642","64"]
[64299,"Ostali prihodi od nefinancijske imovine",31,"Vlastiti prihodi","642","64"]
[64341,"Prihodi od kamata na dane zajmove trgovačkim društvima u javnom sektoru",31,"Vlastiti prihodi","643","64"]
["63111","Tekuće pomoći od inozemnih vlada u EU",533,"Ostale darovnice","631","63"]
["63111","Tekuće pomoći od inozemnih vlada u EU",51000,"51000 Programi Unije – raspoloživ predujam","631","63"]
["63111","Tekuće pomoći od inozemnih vlada u EU",51011,"51011 Programi Unije – predfinanciranje iz izvora 11 Opći prihodi i primici","631","63"]
["63111","Tekuće pomoći od inozemnih vlada u EU",563,"Europski fond za regionalni razvoj – predfinanciranje iz izvora 11 Opći prihodi i primici","631","63"]
["63112","Tekuće pomoći od inozemnih vlada izvan EU",533,"Ostale darovnice","631","63"]
["63112","Tekuće pomoći od inozemnih vlada izvan EU",563,"Europski fond za regionalni razvoj – predfinanciranje iz izvora 11 Opći prihodi i primici","631","63"]
[63121,"Kapitalne pomoći od inozemnih vlada u EU",533,"Ostale darovnice","631","63"]
[63121,"Kapitalne pomoći od inozemnih vlada u EU",51000,"51000 Programi Unije – raspoloživ predujam","631","63"]
[63121,"Kapitalne pomoći od inozemnih vlada u EU",51011,"51011 Programi Unije – predfinanciranje iz izvora 11 Opći prihodi i primici","631","63"]
[63121,"Kapitalne pomoći od inozemnih vlada u EU",563,"Europski fond za regionalni razvoj – predfinanciranje iz izvora 11 Opći prihodi i primici","631","63"]
[63122,"Kapitalne pomoći od inozemnih vlada izvan EU",563,"Europski fond za regionalni razvoj – predfinanciranje iz izvora 11 Opći prihodi i primici","631","63"]
[63122,"Kapitalne pomoći od inozemnih vlada izvan EU",533,"Ostale darovnice","631","63"]
[63211,"Tekuće pomoći od međunarodnih organizacija",533,"Ostale darovnice","632","63"]
[63221,"Kapitalne pomoći od međunarodnih organizacija",533,"Ostale darovnice","632","63"]
[63231,"Tekuće pomoći od institucija i tijela EU   ",51000,"51000 Programi Unije – raspoloživ predujam","632","63"]
[63231,"Tekuće pomoći od institucija i tijela EU   ",51011,"51011 Programi Unije – predfinanciranje iz izvora 11 Opći prihodi i primici","632","63"]
[63231,"Tekuće pomoći od institucija i tijela EU   ",51031,"51031 Programi Unije – predfinanciranje iz izvora 31 Vlastiti prihodi","632","63"]
[63231,"Tekuće pomoći od institucija i tijela EU   ",51043,"51043 Programi Unije – predfinanciranje iz izvora 43 Ostali prihodi za posebne namjene","632","63"]
[63231,"Tekuće pomoći od institucija i tijela EU   ",51081,"51081 Programi Unije – predfinanciranje iz izvora 81 Namjenski primici od zaduživanja","632","63"]
[63241,"Kapitalne pomoći od institucija i tijela EU  ",51000,"51000 Programi Unije – raspoloživ predujam","632","63"]
[63241,"Kapitalne pomoći od institucija i tijela EU  ",51011,"51011 Programi Unije – predfinanciranje iz izvora 11 Opći prihodi i primici","632","63"]
[63241,"Kapitalne pomoći od institucija i tijela EU  ",51031,"51031 Programi Unije – predfinanciranje iz izvora 31 Vlastiti prihodi","632","63"]
[63241,"Kapitalne pomoći od institucija i tijela EU  ",51043,"51043 Programi Unije – predfinanciranje iz izvora 43 Ostali prihodi za posebne namjene","632","63"]
[63241,"Kapitalne pomoći od institucija i tijela EU  ",51081,"51081 Programi Unije – predfinanciranje iz izvora 81 Namjenski primici od zaduživanja","632","63"]
[63414,"Tekuće pomoći od HZMO-a, HZZ-a i HZZO-a",52,"Ostale pomoći","634","63"]
[63415,"Tekuće pomoći od ostalih izvanproračunskih korisnika državnog proračuna",52,"Ostale pomoći","634","63"]
[63424,"Kapitalne pomoći od HZMO-a, HZZ-a i HZZO-a",52,"Ostale pomoći","634","63"]
[63425,"Kapitalne pomoći od ostalih izvanproračunskih korisnika državnog proračuna",52,"Ostale pomoći","634","63"]
[63613,"Tekuće pomoći proračunskim korisnicima iz proračuna JLP(R)S koji im nije nadležan",52,"Ostale pomoći","636","63"]
[63623,"Kapitalne pomoći proračunskim korisnicima iz proračuna JLP(R)S koji im nije nadležan",52,"Ostale pomoći","636","63"]
[63812,"Tekuće pomoći iz proračuna JLP(R)S temeljem prijenosa EU sredstava",561,"Europski socijalni fond plus – predfinanciranje iz izvora 11 Opći prihodi i primici","638","63"]
[63812,"Tekuće pomoći iz proračuna JLP(R)S temeljem prijenosa EU sredstava",562,"Kohezijski fond - predfinanciranje iz izvora 11 Opći prihodi i primici",{"$f":"LEFT(A180,3)","v":"638"},{"$f":"LEFT(A180,2)","v":"63"}]
[63812,"Tekuće pomoći iz proračuna JLP(R)S temeljem prijenosa EU sredstava",563,"Europski fond za regionalni razvoj - predfinanciranje iz izvora 11 Opći prihodi i      primici","638","63"]
[63812,"Tekuće pomoći iz proračuna JLP(R)S temeljem prijenosa EU sredstava",564,"Fond za pomorstvo, ribarstvo i akvakulturu - predfinanciranje iz izvora 11 Opći prihodi i primici","638","63"]
[63812,"Tekuće pomoći iz proračuna JLP(R)S temeljem prijenosa EU sredstava",565,"Europski poljoprivredni fond za ruralni razvoj - predfinanciranje iz izvora 11 Opći prihodi i primici","638","63"]
[63812,"Tekuće pomoći iz proračuna JLP(R)S temeljem prijenosa EU sredstava",566,"Modernizacijski fond - predfinanciranje iz izvora 11 Opći prihodi i primici","638","63"]
[63812,"Tekuće pomoći iz proračuna JLP(R)S temeljem prijenosa EU sredstava",567,"Socijalni fond za klimatsku politiku - predfinanciranje iz izvora 11 Opći prihodi i primici","638","63"]
[63812,"Tekuće pomoći iz proračuna JLP(R)S temeljem prijenosa EU sredstava",575,"Fond za azil, migracije i integraciju - predfinanciranje iz izvora 11 Opći prihodi i primici","638","63"]
[63812,"Tekuće pomoći iz proračuna JLP(R)S temeljem prijenosa EU sredstava",577,"Fond za pravednu tranziciju - predfinanciranje iz izvora 11 Opći prihodi i primici","638","63"]
[63812,"Tekuće pomoći iz proračuna JLP(R)S temeljem prijenosa EU sredstava",578,"Fond za unutarnju sigurnost - predfinanciranje iz izvora 11 Opći prihodi i primici","638","63"]
[63812,"Tekuće pomoći iz proračuna JLP(R)S temeljem prijenosa EU sredstava",579,"Fond za integrirano upravljanje granicama - predfinanciranje iz izvora 11 Opći prihodi i primici","638","63"]
[63812,"Tekuće pomoći iz proračuna JLP(R)S temeljem prijenosa EU sredstava",581,"Mehanizam za oporavak i otpornost – bespovratna sredstva – raspoloživ predujam ili unaprijed naplaćen prihod","638","63"]
[63813,"Tekuće pomoći od proračunskog korisnika drugog proračuna temeljem prijenosa EU sredstava",561,"Europski socijalni fond plus – predfinanciranje iz izvora 11 Opći prihodi i primici","638","63"]
[63813,"Tekuće pomoći od proračunskog korisnika drugog proračuna temeljem prijenosa EU sredstava",562,"Kohezijski fond - predfinanciranje iz izvora 11 Opći prihodi i primici",{"$f":"LEFT(A192,3)","v":"638"},{"$f":"LEFT(A192,2)","v":"63"}]
[63813,"Tekuće pomoći od proračunskog korisnika drugog proračuna temeljem prijenosa EU sredstava",563,"Europski fond za regionalni razvoj - predfinanciranje iz izvora 11 Opći prihodi i      primici","638","63"]
[63813,"Tekuće pomoći od proračunskog korisnika drugog proračuna temeljem prijenosa EU sredstava",564,"Fond za pomorstvo, ribarstvo i akvakulturu - predfinanciranje iz izvora 11 Opći prihodi i primici","638","63"]
[63813,"Tekuće pomoći od proračunskog korisnika drugog proračuna temeljem prijenosa EU sredstava",565,"Europski poljoprivredni fond za ruralni razvoj - predfinanciranje iz izvora 11 Opći prihodi i primici","638","63"]
[63813,"Tekuće pomoći od proračunskog korisnika drugog proračuna temeljem prijenosa EU sredstava",566,"Modernizacijski fond - predfinanciranje iz izvora 11 Opći prihodi i primici","638","63"]
[63813,"Tekuće pomoći od proračunskog korisnika drugog proračuna temeljem prijenosa EU sredstava",567,"Socijalni fond za klimatsku politiku - predfinanciranje iz izvora 11 Opći prihodi i primici","638","63"]
[63813,"Tekuće pomoći od proračunskog korisnika drugog proračuna temeljem prijenosa EU sredstava",575,"Fond za azil, migracije i integraciju - predfinanciranje iz izvora 11 Opći prihodi i primici","638","63"]
[63813,"Tekuće pomoći od proračunskog korisnika drugog proračuna temeljem prijenosa EU sredstava",577,"Fond za pravednu tranziciju - predfinanciranje iz izvora 11 Opći prihodi i primici","638","63"]
[63813,"Tekuće pomoći od proračunskog korisnika drugog proračuna temeljem prijenosa EU sredstava",578,"Fond za unutarnju sigurnost - predfinanciranje iz izvora 11 Opći prihodi i primici","638","63"]
[63813,"Tekuće pomoći od proračunskog korisnika drugog proračuna temeljem prijenosa EU sredstava",579,"Fond za integrirano upravljanje granicama - predfinanciranje iz izvora 11 Opći prihodi i primici","638","63"]
[63813,"Tekuće pomoći od proračunskog korisnika drugog proračuna temeljem prijenosa EU sredstava",581,"Mehanizam za oporavak i otpornost – bespovratna sredstva – raspoloživ predujam ili unaprijed naplaćen prihod","638","63"]
[63814,"Tekuće pomoći od izvanproračunskog korisnika temeljem prijenosa EU sredstava",561,"Europski socijalni fond plus – predfinanciranje iz izvora 11 Opći prihodi i primici","638","63"]
[63814,"Tekuće pomoći od izvanproračunskog korisnika temeljem prijenosa EU sredstava",562,"Kohezijski fond - predfinanciranje iz izvora 11 Opći prihodi i primici",{"$f":"LEFT(A204,3)","v":"638"},{"$f":"LEFT(A204,2)","v":"63"}]
[63814,"Tekuće pomoći od izvanproračunskog korisnika temeljem prijenosa EU sredstava",563,"Europski fond za regionalni razvoj - predfinanciranje iz izvora 11 Opći prihodi i      primici","638","63"]
[63814,"Tekuće pomoći od izvanproračunskog korisnika temeljem prijenosa EU sredstava",564,"Fond za pomorstvo, ribarstvo i akvakulturu - predfinanciranje iz izvora 11 Opći prihodi i primici","638","63"]
[63814,"Tekuće pomoći od izvanproračunskog korisnika temeljem prijenosa EU sredstava",565,"Europski poljoprivredni fond za ruralni razvoj - predfinanciranje iz izvora 11 Opći prihodi i primici","638","63"]
[63814,"Tekuće pomoći od izvanproračunskog korisnika temeljem prijenosa EU sredstava",566,"Modernizacijski fond - predfinanciranje iz izvora 11 Opći prihodi i primici","638","63"]
[63814,"Tekuće pomoći od izvanproračunskog korisnika temeljem prijenosa EU sredstava",567,"Socijalni fond za klimatsku politiku - predfinanciranje iz izvora 11 Opći prihodi i primici","638","63"]
[63814,"Tekuće pomoći od izvanproračunskog korisnika temeljem prijenosa EU sredstava",575,"Fond za azil, migracije i integraciju - predfinanciranje iz izvora 11 Opći prihodi i primici","638","63"]
[63814,"Tekuće pomoći od izvanproračunskog korisnika temeljem prijenosa EU sredstava",577,"Fond za pravednu tranziciju - predfinanciranje iz izvora 11 Opći prihodi i primici","638","63"]
[63814,"Tekuće pomoći od izvanproračunskog korisnika temeljem prijenosa EU sredstava",578,"Fond za unutarnju sigurnost - predfinanciranje iz izvora 11 Opći prihodi i primici","638","63"]
[63814,"Tekuće pomoći od izvanproračunskog korisnika temeljem prijenosa EU sredstava",579,"Fond za integrirano upravljanje granicama - predfinanciranje iz izvora 11 Opći prihodi i primici","638","63"]
[63814,"Tekuće pomoći od izvanproračunskog korisnika temeljem prijenosa EU sredstava",581,"Mehanizam za oporavak i otpornost – bespovratna sredstva – raspoloživ predujam ili unaprijed naplaćen prihod","638","63"]
[63822,"Kapitalne pomoći iz proračuna JLP(R)S temeljem prijenosa EU sredstava",561,"Europski socijalni fond plus – predfinanciranje iz izvora 11 Opći prihodi i primici","638","63"]
[63822,"Kapitalne pomoći iz proračuna JLP(R)S temeljem prijenosa EU sredstava",562,"Kohezijski fond - predfinanciranje iz izvora 11 Opći prihodi i primici","638","63"]
[63822,"Kapitalne pomoći iz proračuna JLP(R)S temeljem prijenosa EU sredstava",563,"Europski fond za regionalni razvoj - predfinanciranje iz izvora 11 Opći prihodi i      primici","638","63"]
[63822,"Kapitalne pomoći iz proračuna JLP(R)S temeljem prijenosa EU sredstava",564,"Fond za pomorstvo, ribarstvo i akvakulturu - predfinanciranje iz izvora 11 Opći prihodi i primici","638","63"]
[63822,"Kapitalne pomoći iz proračuna JLP(R)S temeljem prijenosa EU sredstava",565,"Europski poljoprivredni fond za ruralni razvoj - predfinanciranje iz izvora 11 Opći prihodi i primici","638","63"]
[63822,"Kapitalne pomoći iz proračuna JLP(R)S temeljem prijenosa EU sredstava",566,"Modernizacijski fond - predfinanciranje iz izvora 11 Opći prihodi i primici","638","63"]
[63822,"Kapitalne pomoći iz proračuna JLP(R)S temeljem prijenosa EU sredstava",567,"Socijalni fond za klimatsku politiku - predfinanciranje iz izvora 11 Opći prihodi i primici","638","63"]
[63822,"Kapitalne pomoći iz proračuna JLP(R)S temeljem prijenosa EU sredstava",575,"Fond za azil, migracije i integraciju - predfinanciranje iz izvora 11 Opći prihodi i primici","638","63"]
[63822,"Kapitalne pomoći iz proračuna JLP(R)S temeljem prijenosa EU sredstava",577,"Fond za pravednu tranziciju - predfinanciranje iz izvora 11 Opći prihodi i primici","638","63"]
[63822,"Kapitalne pomoći iz proračuna JLP(R)S temeljem prijenosa EU sredstava",578,"Fond za unutarnju sigurnost - predfinanciranje iz izvora 11 Opći prihodi i primici","638","63"]
[63822,"Kapitalne pomoći iz proračuna JLP(R)S temeljem prijenosa EU sredstava",579,"Fond za integrirano upravljanje granicama - predfinanciranje iz izvora 11 Opći prihodi i primici","638","63"]
[63822,"Kapitalne pomoći iz proračuna JLP(R)S temeljem prijenosa EU sredstava",581,"Mehanizam za oporavak i otpornost – bespovratna sredstva – raspoloživ predujam ili unaprijed naplaćen prihod","638","63"]
[63823,"Kapitalne pomoći od proračunskog korisnika drugog proračuna temeljem prijenosa EU sredstava",561,"Europski socijalni fond plus – predfinanciranje iz izvora 11 Opći prihodi i primici","638","63"]
[63823,"Kapitalne pomoći od proračunskog korisnika drugog proračuna temeljem prijenosa EU sredstava",562,"Kohezijski fond - predfinanciranje iz izvora 11 Opći prihodi i primici",{"$f":"LEFT(A228,3)","v":"638"},{"$f":"LEFT(A228,2)","v":"63"}]
[63823,"Kapitalne pomoći od proračunskog korisnika drugog proračuna temeljem prijenosa EU sredstava",563,"Europski fond za regionalni razvoj - predfinanciranje iz izvora 11 Opći prihodi i      primici","638","63"]
[63823,"Kapitalne pomoći od proračunskog korisnika drugog proračuna temeljem prijenosa EU sredstava",564,"Fond za pomorstvo, ribarstvo i akvakulturu - predfinanciranje iz izvora 11 Opći prihodi i primici","638","63"]
[63823,"Kapitalne pomoći od proračunskog korisnika drugog proračuna temeljem prijenosa EU sredstava",565,"Europski poljoprivredni fond za ruralni razvoj - predfinanciranje iz izvora 11 Opći prihodi i primici","638","63"]
[63823,"Kapitalne pomoći od proračunskog korisnika drugog proračuna temeljem prijenosa EU sredstava",566,"Modernizacijski fond - predfinanciranje iz izvora 11 Opći prihodi i primici","638","63"]
[63823,"Kapitalne pomoći od proračunskog korisnika drugog proračuna temeljem prijenosa EU sredstava",567,"Socijalni fond za klimatsku politiku - predfinanciranje iz izvora 11 Opći prihodi i primici","638","63"]
[63823,"Kapitalne pomoći od proračunskog korisnika drugog proračuna temeljem prijenosa EU sredstava",575,"Fond za azil, migracije i integraciju - predfinanciranje iz izvora 11 Opći prihodi i primici","638","63"]
[63823,"Kapitalne pomoći od proračunskog korisnika drugog proračuna temeljem prijenosa EU sredstava",577,"Fond za pravednu tranziciju - predfinanciranje iz izvora 11 Opći prihodi i primici","638","63"]
[63823,"Kapitalne pomoći od proračunskog korisnika drugog proračuna temeljem prijenosa EU sredstava",578,"Fond za unutarnju sigurnost - predfinanciranje iz izvora 11 Opći prihodi i primici","638","63"]
[63823,"Kapitalne pomoći od proračunskog korisnika drugog proračuna temeljem prijenosa EU sredstava",579,"Fond za integrirano upravljanje granicama - predfinanciranje iz izvora 11 Opći prihodi i primici","638","63"]
[63823,"Kapitalne pomoći od proračunskog korisnika drugog proračuna temeljem prijenosa EU sredstava",581,"Mehanizam za oporavak i otpornost – bespovratna sredstva – raspoloživ predujam ili unaprijed naplaćen prihod","638","63"]
[63824,"Kapitalne pomoći od izvanproračunskog korisnika temeljem prijenosa EU sredstava",561,"Europski socijalni fond plus – predfinanciranje iz izvora 11 Opći prihodi i primici","638","63"]
[63824,"Kapitalne pomoći od izvanproračunskog korisnika temeljem prijenosa EU sredstava",562,"Kohezijski fond - predfinanciranje iz izvora 11 Opći prihodi i primici",{"$f":"LEFT(A240,3)","v":"638"},{"$f":"LEFT(A240,2)","v":"63"}]
[63824,"Kapitalne pomoći od izvanproračunskog korisnika temeljem prijenosa EU sredstava",563,"Europski fond za regionalni razvoj - predfinanciranje iz izvora 11 Opći prihodi i      primici","638","63"]
[63824,"Kapitalne pomoći od izvanproračunskog korisnika temeljem prijenosa EU sredstava",564,"Fond za pomorstvo, ribarstvo i akvakulturu - predfinanciranje iz izvora 11 Opći prihodi i primici","638","63"]
[63824,"Kapitalne pomoći od izvanproračunskog korisnika temeljem prijenosa EU sredstava",565,"Europski poljoprivredni fond za ruralni razvoj - predfinanciranje iz izvora 11 Opći prihodi i primici","638","63"]
[63824,"Kapitalne pomoći od izvanproračunskog korisnika temeljem prijenosa EU sredstava",566,"Modernizacijski fond - predfinanciranje iz izvora 11 Opći prihodi i primici","638","63"]
[63824,"Kapitalne pomoći od izvanproračunskog korisnika temeljem prijenosa EU sredstava",567,"Socijalni fond za klimatsku politiku - predfinanciranje iz izvora 11 Opći prihodi i primici","638","63"]
[63824,"Kapitalne pomoći od izvanproračunskog korisnika temeljem prijenosa EU sredstava",575,"Fond za azil, migracije i integraciju - predfinanciranje iz izvora 11 Opći prihodi i primici","638","63"]
[63824,"Kapitalne pomoći od izvanproračunskog korisnika temeljem prijenosa EU sredstava",577,"Fond za pravednu tranziciju - predfinanciranje iz izvora 11 Opći prihodi i primici","638","63"]
[63824,"Kapitalne pomoći od izvanproračunskog korisnika temeljem prijenosa EU sredstava",578,"Fond za unutarnju sigurnost - predfinanciranje iz izvora 11 Opći prihodi i primici","638","63"]
[63824,"Kapitalne pomoći od izvanproračunskog korisnika temeljem prijenosa EU sredstava",579,"Fond za integrirano upravljanje granicama - predfinanciranje iz izvora 11 Opći prihodi i primici","638","63"]
[63824,"Kapitalne pomoći od izvanproračunskog korisnika temeljem prijenosa EU sredstava",581,"Mehanizam za oporavak i otpornost – bespovratna sredstva – raspoloživ predujam ili unaprijed naplaćen prihod","638","63"]
[63911,"Tekući prijenosi između proračunskih korisnika istog proračuna",5011,"5011 Pomoći iz državnog proračuna kroz opće prihode i primitke","639","63"]
[63911,"Tekući prijenosi između proračunskih korisnika istog proračuna",5041,"5041 Pomoći iz državnog proračuna kroz prihode od igara na sreću","639","63"]
[63911,"Tekući prijenosi između proračunskih korisnika istog proračuna",5043,"5043 Pomoći iz državnog proračuna kroz ostale prihode za posebne namjene",{"$f":"LEFT(A253,3)","v":"639"},{"$f":"LEFT(A253,2)","v":"63"}]
[63911,"Tekući prijenosi između proračunskih korisnika istog proračuna",5052,"5052 Pomoći iz državnog proračuna kroz ostale pomoći","639","63"]
[63911,"Tekući prijenosi između proračunskih korisnika istog proračuna",50810,"50810 Pomoći iz državnog proračuna kroz namjenske primitke od zaduživanja – ostali","639","63"]
[63921,"Kapitalni prijenosi između proračunskih korisnika istog proračuna",5011,"5011 Pomoći iz državnog proračuna kroz opće prihode i primitke","639","63"]
[63921,"Kapitalni prijenosi između proračunskih korisnika istog proračuna",5041,"5041 Pomoći iz državnog proračuna kroz prihode od igara na sreću","639","63"]
[63921,"Kapitalni prijenosi između proračunskih korisnika istog proračuna",5043,"5043 Pomoći iz državnog proračuna kroz ostale prihode za posebne namjene","639","63"]
[63921,"Kapitalni prijenosi između proračunskih korisnika istog proračuna",5052,"5052 Pomoći iz državnog proračuna kroz ostale pomoći","639","63"]
[63921,"Kapitalni prijenosi između proračunskih korisnika istog proračuna",50810,"50810 Pomoći iz državnog proračuna kroz namjenske primitke od zaduživanja – ostali","639","63"]
[63931,"Tekući prijenosi između proračunskih korisnika istog proračuna temeljem prijenosa EU sredstava",5012,"5012 Pomoći iz državnog proračuna kroz nacionalno sufinanciranje EU projekata","639","63"]
[63931,"Tekući prijenosi između proračunskih korisnika istog proračuna temeljem prijenosa EU sredstava",50815,"50815 Pomoći iz državnog proračuna kroz namjenske primitke od zaduživanja – NPOO","639","63"]
[63931,"Tekući prijenosi između proračunskih korisnika istog proračuna temeljem prijenosa EU sredstava",51000,"51000 Programi Unije – raspoloživ predujam","639","63"]
[63931,"Tekući prijenosi između proračunskih korisnika istog proračuna temeljem prijenosa EU sredstava",51011,"51011 Programi Unije – predfinanciranje iz izvora 11 Opći prihodi i primici","639","63"]
[63931,"Tekući prijenosi između proračunskih korisnika istog proračuna temeljem prijenosa EU sredstava",561,"Europski socijalni fond plus – predfinanciranje iz izvora 11 Opći prihodi i primici","639","63"]
[63931,"Tekući prijenosi između proračunskih korisnika istog proračuna temeljem prijenosa EU sredstava",562,"Kohezijski fond - predfinanciranje iz izvora 11 Opći prihodi i primici",{"$f":"LEFT(A266,3)","v":"639"},{"$f":"LEFT(A266,2)","v":"63"}]
[63931,"Tekući prijenosi između proračunskih korisnika istog proračuna temeljem prijenosa EU sredstava",563,"Europski fond za regionalni razvoj - predfinanciranje iz izvora 11 Opći prihodi i      primici","639","63"]
[63931,"Tekući prijenosi između proračunskih korisnika istog proračuna temeljem prijenosa EU sredstava",564,"Fond za pomorstvo, ribarstvo i akvakulturu - predfinanciranje iz izvora 11 Opći prihodi i primici","639","63"]
[63931,"Tekući prijenosi između proračunskih korisnika istog proračuna temeljem prijenosa EU sredstava",565,"Europski poljoprivredni fond za ruralni razvoj - predfinanciranje iz izvora 11 Opći prihodi i primici","639","63"]
[63931,"Tekući prijenosi između proračunskih korisnika istog proračuna temeljem prijenosa EU sredstava",566,"Modernizacijski fond - predfinanciranje iz izvora 11 Opći prihodi i primici","639","63"]
[63931,"Tekući prijenosi između proračunskih korisnika istog proračuna temeljem prijenosa EU sredstava",567,"Socijalni fond za klimatsku politiku - predfinanciranje iz izvora 11 Opći prihodi i primici","639","63"]
[63931,"Tekući prijenosi između proračunskih korisnika istog proračuna temeljem prijenosa EU sredstava",575,"Fond za azil, migracije i integraciju - predfinanciranje iz izvora 11 Opći prihodi i primici","639","63"]
[63931,"Tekući prijenosi između proračunskih korisnika istog proračuna temeljem prijenosa EU sredstava",577,"Fond za pravednu tranziciju - predfinanciranje iz izvora 11 Opći prihodi i primici","639","63"]
[63931,"Tekući prijenosi između proračunskih korisnika istog proračuna temeljem prijenosa EU sredstava",578,"Fond za unutarnju sigurnost - predfinanciranje iz izvora 11 Opći prihodi i primici","639","63"]
[63931,"Tekući prijenosi između proračunskih korisnika istog proračuna temeljem prijenosa EU sredstava",579,"Fond za integrirano upravljanje granicama - predfinanciranje iz izvora 11 Opći prihodi i primici","639","63"]
[63931,"Tekući prijenosi između proračunskih korisnika istog proračuna temeljem prijenosa EU sredstava",581,"Mehanizam za oporavak i otpornost – bespovratna sredstva – raspoloživ predujam ili unaprijed naplaćen prihod","639","63"]
[63941,"Kapitalni prijenosi između proračunskih korisnika istog proračuna temeljem prijenosa EU sredstava",5012,"5012 Pomoći iz državnog proračuna kroz nacionalno sufinanciranje EU projekata","639","63"]
[63941,"Kapitalni prijenosi između proračunskih korisnika istog proračuna",50815,"50815 Pomoći iz državnog proračuna kroz namjenske primitke od zaduživanja – NPOO","639","63"]
[63941,"Kapitalni prijenosi između proračunskih korisnika istog proračuna temeljem prijenosa EU sredstava",51000,"51000 Programi Unije – raspoloživ predujam","639","63"]
[63941,"Kapitalni prijenosi između proračunskih korisnika istog proračuna temeljem prijenosa EU sredstava",51011,"51011 Programi Unije – predfinanciranje iz izvora 11 Opći prihodi i primici","639","63"]
[63941,"Kapitalni prijenosi između proračunskih korisnika istog proračuna temeljem prijenosa EU sredstava",561,"Europski socijalni fond plus – predfinanciranje iz izvora 11 Opći prihodi i primici","639","63"]
[63941,"Kapitalni prijenosi između proračunskih korisnika istog proračuna temeljem prijenosa EU sredstava",562,"Kohezijski fond - predfinanciranje iz izvora 11 Opći prihodi i primici",{"$f":"LEFT(A282,3)","v":"639"},{"$f":"LEFT(A282,2)","v":"63"}]
[63941,"Kapitalni prijenosi između proračunskih korisnika istog proračuna temeljem prijenosa EU sredstava",563,"Europski fond za regionalni razvoj - predfinanciranje iz izvora 11 Opći prihodi i      primici","639","63"]
[63941,"Kapitalni prijenosi između proračunskih korisnika istog proračuna temeljem prijenosa EU sredstava",564,"Fond za pomorstvo, ribarstvo i akvakulturu - predfinanciranje iz izvora 11 Opći prihodi i primici","639","63"]
[63941,"Kapitalni prijenosi između proračunskih korisnika istog proračuna temeljem prijenosa EU sredstava",565,"Europski poljoprivredni fond za ruralni razvoj - predfinanciranje iz izvora 11 Opći prihodi i primici","639","63"]
[63941,"Kapitalni prijenosi između proračunskih korisnika istog proračuna temeljem prijenosa EU sredstava",566,"Modernizacijski fond - predfinanciranje iz izvora 11 Opći prihodi i primici","639","63"]
[63941,"Kapitalni prijenosi između proračunskih korisnika istog proračuna temeljem prijenosa EU sredstava",567,"Socijalni fond za klimatsku politiku - predfinanciranje iz izvora 11 Opći prihodi i primici","639","63"]
[63941,"Kapitalni prijenosi između proračunskih korisnika istog proračuna temeljem prijenosa EU sredstava",575,"Fond za azil, migracije i integraciju - predfinanciranje iz izvora 11 Opći prihodi i primici","639","63"]
[63941,"Kapitalni prijenosi između proračunskih korisnika istog proračuna temeljem prijenosa EU sredstava",577,"Fond za pravednu tranziciju - predfinanciranje iz izvora 11 Opći prihodi i primici","639","63"]
[63941,"Kapitalni prijenosi između proračunskih korisnika istog proračuna temeljem prijenosa EU sredstava",578,"Fond za unutarnju sigurnost - predfinanciranje iz izvora 11 Opći prihodi i primici","639","63"]
[63941,"Kapitalni prijenosi između proračunskih korisnika istog proračuna temeljem prijenosa EU sredstava",579,"Fond za integrirano upravljanje granicama - predfinanciranje iz izvora 11 Opći prihodi i primici","639","63"]
[63941,"Kapitalni prijenosi između proračunskih korisnika istog proračuna temeljem prijenosa EU sredstava",581,"Mehanizam za oporavak i otpornost – bespovratna sredstva – raspoloživ predujam ili unaprijed naplaćen prihod","639","63"]
[68191,"Ostale nespomenute kazne",43,"Ostali prihodi za posebne namjene","681","68"]
[68311,"Ostali prihodi",31,"Vlastiti prihodi","683","68"]
[68311,"Ostali prihodi",43,"Ostali prihodi za posebne namjene","683","68"]
[71111,"Poljoprivredno zemljište",71,"Prihodi od nefin. imovine i nadoknade štete s osnova osig.","711","71"]
[71112,"Građevinsko zemljište",71,"Prihodi od nefin. imovine i nadoknade štete s osnova osig.","711","71"]
[72111,"Stambeni objekti za zaposlene",71,"Prihodi od nefin. imovine i nadoknade štete s osnova osig.","721","72"]
[72119,"Ostali stambeni objekti",71,"Prihodi od nefin. imovine i nadoknade štete s osnova osig.","721","72"]
[72121,"Uredski objekti",71,"Prihodi od nefin. imovine i nadoknade štete s osnova osig.","721","72"]
[72123,"Zgrade znanstvenih i obrazovnih institucija (fakulteti, škole, vrtići i slično)",71,"Prihodi od nefin. imovine i nadoknade štete s osnova osig.","721","72"]
[72129,"Ostali poslovni građevinski objekti",71,"Prihodi od nefin. imovine i nadoknade štete s osnova osig.","721","72"]
[72211,"Računala i računalna oprema",71,"Prihodi od nefin. imovine i nadoknade štete s osnova osig.","722","72"]
[72212,"Uredski namještaj",71,"Prihodi od nefin. imovine i nadoknade štete s osnova osig.","722","72"]
[72219,"Ostala uredska oprema",71,"Prihodi od nefin. imovine i nadoknade štete s osnova osig.","722","72"]
[72221,"Radio i TV prijemnici",71,"Prihodi od nefin. imovine i nadoknade štete s osnova osig.","722","72"]
[72241,"Medicinska oprema",71,"Prihodi od nefin. imovine i nadoknade štete s osnova osig.","722","72"]
[72262,"Glazbeni instrumenti i oprema",71,"Prihodi od nefin. imovine i nadoknade štete s osnova osig.","722","72"]
[72272,"Strojevi",71,"Prihodi od nefin. imovine i nadoknade štete s osnova osig.","722","72"]
[72273,"Oprema",71,"Prihodi od nefin. imovine i nadoknade štete s osnova osig.","722","72"]
[72311,"Osobni automobili",71,"Prihodi od nefin. imovine i nadoknade štete s osnova osig.","723","72"]
[72313,"Kombi vozila",71,"Prihodi od nefin. imovine i nadoknade štete s osnova osig.","723","72"]
[72314,"Kamioni",71,"Prihodi od nefin. imovine i nadoknade štete s osnova osig.","723","72"]
[72315,"Traktori",71,"Prihodi od nefin. imovine i nadoknade štete s osnova osig.","723","72"]
[72316,"Terenska vozila (protupožarna, vojna i slično)",71,"Prihodi od nefin. imovine i nadoknade štete s osnova osig.","723","72"]
[72319,"Ostala prijevozna sredstva u cestovnom prometu",71,"Prihodi od nefin. imovine i nadoknade štete s osnova osig.","723","72"]
[72331,"Plovila",71,"Prihodi od nefin. imovine i nadoknade štete s osnova osig.","723","72"]
[72521,"Osnovno stado",71,"Prihodi od nefin. imovine i nadoknade štete s osnova osig.","725","72"]
[84222,"Primljeni krediti od kreditnih institucija u javnom sektoru - dugoročni",810,"Namjenski primici od zaduživanja – ostali","842","84"]
[84432,"Primljeni krediti od tuzemnih kreditnih institucija izvan javnog sektora - dugoročni",810,"Namjenski primici od zaduživanja – ostali","844","84"]
[84132,"Primljeni zajmovi od međunarodnih organizacija - dugoročni",810,"Namjenski primici od zaduživanja – ostali","841","84"]
[{"$nulls":4},"",""]

{"sheet":"p4","index":12,"n_rows":128,"n_cols":3,"rows_kept":128}
["PODPROJEKTI (P4)"]
["NOVI PODPROJEKT"]
["080","MINISTARSTVO ZNANOSTI, OBRAZOVANJA I MLADIH","ss"]
["08005","Ministarstvo znanosti i obrazovanja",{"$f":"LEN(A4)","v":5}]
["A676072","ERASMUS PLUS - PROJEKTI",{"$f":"LEN(A5)","v":7}]
["A676072.001","ERASMUS PLUS-PROFFORMANCE-RAZVOJ SUSTAVA OCJENJIVANJA RADA I NAGRAĐIVANJA PROFESORA NA VISOKIM UČILIŠTIMA",{"$f":"LEN(A6)","v":11}]
["A676072.002","ERASMUS PLUS-AKTIVNOSTI SURADNIČKOG UČENJA I RESURSI ZA POTPORU NAČELA I SMJERNICA ZA SOCIJALNU DIMENZIJU",11]
["A676072.003","ERASMUS PLUS-EUROPSKO ISTRAŽIVANJE PRAĆENJA OSOBA S DIPLOMOM (GT-HRVATSKA)",11]
["A676072.004","ERASMUS PLUS-HAND IN HAND-OSNAŽIVANJE NASTAVNIKA DILJEM EUROPE",11]
["A676072.005","ERASMUS PLUS-BAQUAL-BOLJE AKADEMSKE KVALIFIKACIJE KROZ OSIGURAVANJE KVALITETE",11]
["A676072.006","Erasmus+ projekt ContinueUP – Co-constructing the continuum between initial teacher education and continuous professional development (Grant Agreement Nr 101103641).",11]
["K578051","OP KONKURENTNOST I KOHEZIJA 2014.-2020., PRIORITET 1, 9 i 10",7]
["K578051.001","Znanstveno i tehnologijsko predviđanje",11]
["K578051.002","Ulaganje u znanost i inovacije (SIIF)",11]
["K578051.003","Jačanje kapaciteta za istraživanje, razvoj i inovacije (STRIP)",11]
["K578051.004","Ulaganje u organizacijsku reformu i infrastrukturu sektora istraživanja, razvoja i inovacija",11]
["K578051.005","Veliki projekt: ˝Dječji centar za translacijsku medicinu˝ Dječje bolnice Srebrnjak",11]
["K578051.008","Poziv Centri kompetencija",11]
["K578051.009","Tehnička pomoć za MZO",11]
["K676068","OP KONKURENTNOST I KOHEZIJA 2021.-2027., PRIORITET 1",7]
["K676068.001","MZO-Vrhunska istraživanja Znanstvenih centara izvrsnosti",11]
["K676068.002","MZO-HORIZON EUROPE",11]
["K676068.004","MZO-Tehnička pomoć OP ULJP 2021.-2027.",11]
["K676068.005","Modernizacija ustanova za provedbu CDŠ u osnovnoškolskom obrazovanju",11]
["K676068.006","Osiguravanje infrastrukturnih uvjeta za  povećanje dostupnost RPOO",11]
["K733067","OP UČINKOVITI LJUDSKI POTENCIJALI 2021.-2027., PRIORITET 2",7]
["K733067.016","Dodjela stipendija  studentima u socio-ekonomski nepovoljnom položaju",11]
["K733067.017","Daljnja provedba CKR - izrada predmetnih kurikuluma posebnih programa za učenike s teškoćama u razvoju i studijskih programa iz sektora odgoja i obrazovanja",11]
["K733067.019","Potpora tijelima za unaprjeđenje HKO-a i promicanje jednakog pristupa kvalitetnom i uključivom obrazovanju i osposobljavanju",11]
["K733067.021","Osiguravanje pomoćnika u nastavi i stručnih komunikacijskih posrednika učenicima s teškoćama u razvoju u osnovnoškolskim i srednjoškolskim odgojno-obrazovnim ustanovama",11]
["K733067.022","Osiguravanje povećanog sudjelvoanja u RPOO",11]
["K733067.023","Podrška ustanvama strukovnog obrazovanja za uvođenje novih kurikuluma",11]
["K733067.024","Potpora obrazovanju djece i učenika romske nacionalne manjine",11]
["K733067.029","Podrška školama u provedbi CDŠ",11]
["K733067.032","Podrška visokim učilištima za rad sa studentima s teškoćama i ranjivim skupinama studenata",11]
["K733067.033","MZO Tehnička pomoć ESF plus 2021. - 2027.",11]
["K733067.042","Cjelovita informatizacija sustava odgoja i obrazovanja - CISO",11]
["K818050","OP UČINKOVITI LJUDSKI POTENCIJALI 2014.-2020., PRIORITET 3 i 4",7]
["K818050.008","Razvoj, unapređenje i provedba stručne prakse u visokom obrazovanju",11]
["K818050.009","Sufinanciranje troškova uključivanja djece  u socio-ekonomski nepovoljnoj situaciji u predškolske ustanove",11]
["K818050.011","Uspostava regionalnih centara kompetencija u strukovnom obrazovanju u odabranim sektorima",11]
["K818050.023","MZO Tehnička pomoć OP ULJP faza I",11]
["K818050.024","Informatizacija procesa i uspostava cjelovite elektroničke usluge upisa u odgojne i obrazovne ustanove",11]
["K818050.026","Osiguravanje pomoćnika u nastavi i stručnih komunikacijskih posrednika učenicima s teškoćama u razvoju u osnovnoškolskim i srednjoškolskim odgojno-obrazovnim ustanovama - faza IV",11]
["08006","Sveučilišta i veleučilišta u Republici Hrvatskoj",5]
["K679126","PROGRAM KONKURENTNOST I KOHEZIJA 2021.-2027., PRIORITET 1",7]
["K679126.001","Vrhunska istraživanja Znanstvenih centara izvrsnosti",11]
["K679126.002","'Modernizacija, unaprjeđenje i proširenje infrastrukture studentskog smještaja",11]
["K679128","POBOLJŠANJE UČINKOVITOSTI JAVNIH ULAGANJA NA PODRUČJU ISTRAŽIVANJA, RAZVOJA I INOVACIJA - NPOO (C3.2.R3)",7]
["K679128.001","Dokazivanje koncepta",11]
["K679128.002","Ciljana znanstvena istraživanja",11]
["K679128.001","Program transfera tehnologije",11]
["K679129","STVARANJE OKVIRA ZA PRIVLAČENJE STUDENATA I ISTRAŽIVAČA NA STEM I ICT PODRUČJIMA - NPOO (C3.2.R2)",7]
["K679129.001","Razvojne istraživačke potpore",11]
["K679129.002","Znanstveno-istraživački centar elektrotehnike i računarstva",11]
["K679129.003","Infrastruktura",11]
["08008","Javni instituti u Republici Hrvatskoj",5]
["A622152","PROGRAMSKO FINANCIRANJE JAVNIH INSTITUTA  - IZ STRUKTURNIH I INVESTICIJSKIH FONDOVA EU",7]
["A622152.001","Vrhunska istraživanja Znanstvenih centara izvrsnosti",11]
["A622152.002","Otvorene znanstvene infrastrukturne platforme za inovativne primjene u gospodarstvu i društvu O-ZIP FAZA II",11]
["A622152.003","'Razvojne istraživačke potpore",11]
["A622152.004","Dokazivanje koncepta ",11]
["A622152.005","Ciljana znanstvena istraživanja",11]
["A622152.006","Program transfera tehnologije",11]
["A622152.007","Programski ugovori instituti",11]
["A622152.008","Osuvremenjivanje infrastrukture Instituta za jadranske kulture i melioraciju krša kao preduvjet izvrsnosti u istraživanjima mediteranske poljoprivrede",11]
["08091","Agencije i ostale javne ustanove u znanosti i obrazovanju",5]
["21852","Hrvatska akademska i istraživačka mreža Carnet",5]
["K628100","PROGRAM UČINKOVITI LJUDSKI POTENCIJALI 2021.-2027., PRIORITET 2",7]
["K628100.001","PROGRAM UNAPRJEĐENJA PRIMJENE DIGITALNE TEHNOLOGIJE U OBRAZOVNOM SUSTAVU (BRALN)",{"$f":"LEN(A70)","v":11}]
["K628100.002","CJELOVITA INFORMATIZACIJA SUSTAVA ODGOJA I OBRAZOVANJA (CISOO)",11]
["23665","Sveučilišni računski centar SRCE",5]
["K628087","OP KONKURENTNOST I KOHEZIJA 2014.-2020., PRIORITETI 1 i 10",7]
["K628087.001","Znanstveno i tehnologijsko predviđanje - sustav CroRIS",11]
["K628087.002","Hrvatski znanstveni i obrazovni oblak (HR ZOO)",11]
["23962","Agencija za odgoj i obrazovanje",5]
["A579073","UČIMO PODUZETNIŠTVO 5.0",7]
["A579073.001","UČIMO PODUZETNIŠTVO 5.0",11]
["A580072","ERASMUS PLUS - PROJEKTI",7]
["A580072.001","Erasmus+ KA121",11]
["K767054","OP UČINKOVITI LJUDSKI POTENCIJALI 2014.-2020., PRIORITET 3",7]
["K767054.001","AZOO-E-ŠKOLE-RAZVOJ SUSTAVA DIGITALNO ZRELIH ŠKOLA",11]
["38487","Agencija za znanost i visoko obrazovanje",5]
["A867021","ERASMUS PLUS - PROJEKTI",7]
["A867021.001","ERASMUS PLUS-KEEP IN PACT-JAČANJE MULTIPARTNERSKE SURADNJE U PRUŽANJU USLUGA CJELOŽIVOTNOG PROFESIONALNOG USMJERAVANJA",11]
["A867021.002","ERASMUS PLUS-OCTRA-KATALOG ONLINE PROGRAMA I BAZA PODATAKA ZA VIDLJIVOST I PRIZNAVANJE KVALIFIKACIJA",11]
["A867021.003","ERASMUS PLUS-ADREN MREŽA-SURADNJA DIONIKA (JADRANSKO PODRUČJE, ZAPADNI BALKAN I EU) U OBVEZAMA IZ PODRUČJA VISOKOG OBRAZOVANJA",11]
["A867021.004","MEDITERANSKA MREŽA ZA AUTOMATSKO PRIZNAVANJE – MAReN",11]
["A867021.005","AUTOMATSKO PRIZNAVANJE U EUROPSKOM GOSPODARSKOM PROSTORU, 2025 - AR25",11]
["A867021.008","SMEQA Jačanje kapaciteta i mehanizama za unapređenje sustava osiguravanja kvalitete visokog obrazovanja u Bosni i Hercegovini",11]
["K867020","OP UČINKOVITI LJUDSKI POTENCIJALI 2021.-2027., PRIORITET 2 - OSIGURAVANJE KVALITETE U VISOKOM OBRAZOVANJU",7]
["K867020.001","AZVO-OSIGURAVANJE KVALITETE U VISOKOM OBRAZOVANJU",11]
["40883","Nacionalni centar za vanjsko vrednovanje obrazovanja",5]
["K814011","OP UČINKOVITI LJUDSKI POTENCIJALI 2014.-2020., PRIORITET 10",7]
["K814011.001","E-ŠKOLE-Istraživanje učinka primjene digitalnih tehnologija u nastavi",11]
["K814013","OP UČINKOVITI LJUDSKI POTENCIJALI 2021.-2027., PRIORITET 2 - OBRAZOVANJE I CJELOŽIVOTNO UČENJE",7]
["K814013.001","NCVVO-Vanjsko vrednovanje učeničkih postignuća u osnovnoj školi-nacionalni ispiti",11]
["K814013.002","PROVEDBA NACIONALNIH ISPITA",11]
["46173","Agencija za strukovno obrazovanje i obrazovanje odraslih",5]
["A848051","ERASMUS PLUS - PROJEKTI",7]
["A848051.001","ERASMUS PLUS-PIAAC HRVATSKA-PROVEDBA ISTRAŽIVANJA KOMPETENCIJA ODRASLIH OSOBA U RH",11]
["A848051.002","ERASMUS PLUS-EQAVET NRP RH-NACIONALNA REFERENTNA TOČKA ZA EUROPSKI SUSTAV OSIGURANJA KVALITETE U STRUKOVNOM OBRAZOVANJU I OSPOSOBLJAVANJU",11]
["A848051.003","ERASMUS PLUS-VET AT HOME-PILOTIRANJE VIRTUALNOG PRAKTIČNOG TEČAJA ZA KUHARSTVO U STRUKOVNOM OBRAZOVANJU",11]
["A848051.004","ERASMUS PLUS-2BDIGITAL-INKLUZIVNO DIGITALNO UČENJE U SVRHU SPREČAVANJA NAPUŠTANJA ŠKOLOVANJA U STRUKOVNOM OBRAZOVANJU I OSPOSOBLJAVANJU",11]
["A848051.005","ERASMUS PLUS-EPALE V-NACIONALNA SLUŽBA ZA PODRŠKU ZA RH 2022.-2024.",11]
["A848051.006","ERASMUS PLUS-EPALE IV-NACIONALNA SLUŽBA ZA PODRŠKU ZA RH 2019.-2020.",11]
["A848051.007","ERASMUS PLUS-KA2-TRENING ZA VJEŠTINE U VIRTUALNOM OKRUŽENJU",11]
["A848051.008","PARTNER UP",11]
["A848051.009","NOVI EQAVET",11]
["A848051.015","PLASS-COMP (puni naziv: Platform for Strengthening Skills Competitions)",11]
["K848038","OP UČINKOVITI LJUDSKI POTENCIJALI 2014.-2020., PRIORITET 3",7]
["K848038.002","Modernizacija sustava strukovnog obrazovanja i osposobljavanja",11]
["K848038.003","Osiguravanje kvalitete u sustavu obrazovanja odraslih",11]
["K848038.004","Promocija učeničkih kompetencija i strukovnog obrazovanja kroz strukovna natjecanja i smotre",11]
["K848038.005","Promocija cjeloživotnog učenja – faza II",11]
["K848038.006","E škole",11]
["K848050","OP UČINKOVITI LJUDSKI POTENCIJALI 2021.-2027., PRIORITET 3",7]
["K848050.001","ASOO-Daljnja provedba kurikularne reforme u strukovnome obrazovanju i jačanje kapaciteta nastavnika strukovnih predmeta i mentora kod poslodavaca",11]
["K848050.002","ASOO-Podrška izvrsnosti, inovativnosti i vidljivosti strukovnog obrazovanja i osposobljavanja i obrazovanja odraslih",11]
["K848050.004","PODRŠKA IZVRSNOSTI, INOVATIVNOSTI I VIDLJIVOSTI STRUKOVNOG OBRAZOVANJA",11]
["K848050.005","DALJNJI RAZVOJ SUSTAVA OSIGURAVANJA KVALITETE U OBRAZOVANJU ODRASLIH I PODIZANJE SVIJESTI O VAŽNOSTI CJELOŽIVOTNOG UČENJA",11]
["K848050.006","BRAIN: PODRŠA PRIMJENI DIGITALNIH TEHNOLOGIJA U OBRAZOVANJU",11]
["T848027","OP UČINKOVITI LJUDSKI POTENCIJALI 2014. - 2020., PRIORITET 5",7]
["T848027.001","ASOO-Tehnička pomoć OP ULJP",11]
["52209","Hrvatska zaklada za znanost",5]
["K733069","OP UČINKOVITI LJUDSKI POTENCIJALI 2014.-2020., PRIORITET 3",7]
["K733069.001","Projekt razvoja karijera mladih istraživača - izobrazba novih doktora znanosti",11]
["K733069.002","Program suradnje s hrvatskim znanstvenicima u dijaspori ''ZNANSTVENA SURADNJA''",11]

{"sheet":"KORISNICI DP","index":13,"n_rows":560,"n_cols":7,"rows_kept":560}
["RKP","Naziv subjekta","Nadležni korisnik","Matični broj","Osobni identifikacijski broj","Razina"]
[19,{"$f":"A2&\" \"&G2","v":"19 HRVATSKI SABOR"}," - ","03205860","38597506234","11","HRVATSKI SABOR"]
[35,{"$f":"A3&\" \"&G3","v":"35 URED PREDSJEDNIKA REPUBLIKE HRVATSKE"}," - ","03220346","10162055275","11","URED PREDSJEDNIKA REPUBLIKE HRVATSKE"]
[51,"51 VLADA REPUBLIKE HRVATSKE"," - ","03205924","64434885131","11","VLADA REPUBLIKE HRVATSKE"]
[115,"115 URED ZA ZAKONODAVSTVO","020 - VLADA REPUBLIKE HRVATSKE","03205959","62409285700","11","URED ZA ZAKONODAVSTVO"]
[123,"123 URED ZA OPĆE POSLOVE HRVATSKOG  SABORA I VLADE REPUBLIKE HRVATSKE","020 - VLADA REPUBLIKE HRVATSKE","03205916","03055728877","11","URED ZA OPĆE POSLOVE HRVATSKOG  SABORA I VLADE REPUBLIKE HRVATSKE"]
[174,"174 MINISTARSTVO OBRANE"," - ","03207595","66486182714","11","MINISTARSTVO OBRANE"]
[713,"713 MINISTARSTVO UNUTARNJIH POSLOVA"," - ","03281418","36162371878","11","MINISTARSTVO UNUTARNJIH POSLOVA"]
[721,"721 MINISTARSTVO VANJSKIH I EUROPSKIH POSLOVA REPUBLIKE HRVATSKE"," - ","03230040","43541122224","11","MINISTARSTVO VANJSKIH I EUROPSKIH POSLOVA REPUBLIKE HRVATSKE"]
[756,"756 MINISTARSTVO KULTURE I MEDIJA"," - ","00931608","37836302645","11","MINISTARSTVO KULTURE I MEDIJA"]
[764,"764 HRVATSKI DRŽAVNI ARHIV","055 - MINISTARSTVO KULTURE I MEDIJA","03205380","46144176176","11","HRVATSKI DRŽAVNI ARHIV"]
[789,"789 DRŽAVNI ARHIV U BJELOVARU","055 - MINISTARSTVO KULTURE I MEDIJA","03316734","80099091562","11","DRŽAVNI ARHIV U BJELOVARU"]
[797,"797 DRŽAVNI ARHIV U DUBROVNIKU","055 - MINISTARSTVO KULTURE I MEDIJA","03303870","01076882554","11","DRŽAVNI ARHIV U DUBROVNIKU"]
[801,"801 DRŽAVNI ARHIV U KARLOVCU","055 - MINISTARSTVO KULTURE I MEDIJA","03123367","99575902022","11","DRŽAVNI ARHIV U KARLOVCU"]
[810,"810 DRŽAVNI ARHIV U OSIJEKU","055 - MINISTARSTVO KULTURE I MEDIJA","03014223","61338774671","11","DRŽAVNI ARHIV U OSIJEKU"]
[828,"828 DRŽAVNI ARHIV U PAZINU","055 - MINISTARSTVO KULTURE I MEDIJA","03089240","55059300119","11","DRŽAVNI ARHIV U PAZINU"]
[836,"836 DRŽAVNI ARHIV U RIJECI","055 - MINISTARSTVO KULTURE I MEDIJA","03321088","16391096016","11","DRŽAVNI ARHIV U RIJECI"]
[844,"844 DRŽAVNI ARHIV U SISKU","055 - MINISTARSTVO KULTURE I MEDIJA","03313824","35994268014","11","DRŽAVNI ARHIV U SISKU"]
[852,"852 DRŽAVNI ARHIV U SLAVONSKOM BRODU","055 - MINISTARSTVO KULTURE I MEDIJA","03071162","11265594372","11","DRŽAVNI ARHIV U SLAVONSKOM BRODU"]
[869,"869 DRŽAVNI ARHIV U SPLITU","055 - MINISTARSTVO KULTURE I MEDIJA","03118452","61469620638","11","DRŽAVNI ARHIV U SPLITU"]
[877,"877 DRŽAVNI ARHIV U VARAŽDINU","055 - MINISTARSTVO KULTURE I MEDIJA","03006166","72801109643","11","DRŽAVNI ARHIV U VARAŽDINU"]
[885,"885 DRŽAVNI ARHIV U ZADRU","055 - MINISTARSTVO KULTURE I MEDIJA","03142019","46156591639","11","DRŽAVNI ARHIV U ZADRU"]
[893,"893 DRŽAVNI ARHIV U ZAGREBU","055 - MINISTARSTVO KULTURE I MEDIJA","03224953","37363837470","11","DRŽAVNI ARHIV U ZAGREBU"]
[908,"908 ARHEOLOŠKI MUZEJ U SPLITU","055 - MINISTARSTVO KULTURE I MEDIJA","03118380","57340203536","11","ARHEOLOŠKI MUZEJ U SPLITU"]
[916,"916 ARHEOLOŠKI MUZEJ ZADAR","055 - MINISTARSTVO KULTURE I MEDIJA","03132170","88252913683","11","ARHEOLOŠKI MUZEJ ZADAR"]
[924,"924 ARHEOLOŠKI MUZEJ ISTRE","055 - MINISTARSTVO KULTURE I MEDIJA","03203727","76185043859","11","ARHEOLOŠKI MUZEJ ISTRE"]
[932,"932 DVOR TRAKOŠĆAN","055 - MINISTARSTVO KULTURE I MEDIJA","03125483","24929691978","11","DVOR TRAKOŠĆAN"]
[949,"949 MUZEJI IVANA MEŠTROVIĆA","055 - MINISTARSTVO KULTURE I MEDIJA","03751783","49483564012","11","MUZEJI IVANA MEŠTROVIĆA"]
[965,"965 HRVATSKI POVIJESNI MUZEJ","055 - MINISTARSTVO KULTURE I MEDIJA","03212084","10624495854","11","HRVATSKI POVIJESNI MUZEJ"]
[973,"973 NACIONALNI MUZEJ MODERNE UMJETNOSTI","055 - MINISTARSTVO KULTURE I MEDIJA","03205240","94391499491","11","NACIONALNI MUZEJ MODERNE UMJETNOSTI"]
[990,"990 MUZEJ HRVATSKIH ARHEOLOŠKIH SPOMENIKA SPLIT","055 - MINISTARSTVO KULTURE I MEDIJA","03119904","88269740410","11","MUZEJ HRVATSKIH ARHEOLOŠKIH SPOMENIKA SPLIT"]
[1003,"1003 MUZEJ SLAVONIJE","055 - MINISTARSTVO KULTURE I MEDIJA","03014207","45589739612","11","MUZEJ SLAVONIJE"]
[1011,"1011 MUZEJI HRVATSKOG ZAGORJA","055 - MINISTARSTVO KULTURE I MEDIJA","00207349","11298572202","11","MUZEJI HRVATSKOG ZAGORJA"]
[1020,"1020 MUZEJSKI DOKUMENTACIJSKI CENTAR","055 - MINISTARSTVO KULTURE I MEDIJA","03205258","28048960411","11","MUZEJSKI DOKUMENTACIJSKI CENTAR"]
[1038,"1038 TIFLOLOŠKI MUZEJ","055 - MINISTARSTVO KULTURE I MEDIJA","03270564","04200585015","11","TIFLOLOŠKI MUZEJ"]
[1046,"1046 ANSAMBL NARODNIH PLESOVA I PJESAMA HRVATSKE LADO","055 - MINISTARSTVO KULTURE I MEDIJA","03213862","28251263363","11","ANSAMBL NARODNIH PLESOVA I PJESAMA HRVATSKE LADO"]
[1079,"1079 MINISTARSTVO POLJOPRIVREDE, ŠUMARSTVA I RIBARSTVA"," - ","03271005","76767369197","11","MINISTARSTVO POLJOPRIVREDE, ŠUMARSTVA I RIBARSTVA"]
[1087,"1087 MINISTARSTVO MORA, PROMETA I INFRASTRUKTURE"," - ","03277097","22874515170","11","MINISTARSTVO MORA, PROMETA I INFRASTRUKTURE"]
[1222,"1222 MINISTARSTVO ZNANOSTI, OBRAZOVANJA I MLADIH"," - ","03271030","49508397045","11","MINISTARSTVO ZNANOSTI, OBRAZOVANJA I MLADIH"]
[1757,"1757 SVEUČILIŠTE U ZAGREBU FAKULTET ELEKTROTEHNIKE I RAČUNARSTVA","080 - MINISTARSTVO ZNANOSTI, OBRAZOVANJA I MLADIH","03276643","57029260362","11","SVEUČILIŠTE U ZAGREBU FAKULTET ELEKTROTEHNIKE I RAČUNARSTVA"]
[1781,"1781 SVEUČILIŠTE U ZAGREBU - PRIRODOSLOVNO-MATEMATIČKI FAKULTET","080 - MINISTARSTVO ZNANOSTI, OBRAZOVANJA I MLADIH","03270149","28163265527","11","SVEUČILIŠTE U ZAGREBU - PRIRODOSLOVNO-MATEMATIČKI FAKULTET"]
[1790,"1790 SVEUČILIŠTE U ZAGREBU FAKULTET KEMIJSKOG INŽENJERSTVA I TEHNOLOGIJE","080 - MINISTARSTVO ZNANOSTI, OBRAZOVANJA I MLADIH","03250270","71259740533","11","SVEUČILIŠTE U ZAGREBU FAKULTET KEMIJSKOG INŽENJERSTVA I TEHNOLOGIJE"]
[1804,"1804 SVEUČILIŠTE U ZAGREBU - TEKSTILNO-TEHNOLOŠKI FAKULTET","080 - MINISTARSTVO ZNANOSTI, OBRAZOVANJA I MLADIH","03207064","43097527965","11","SVEUČILIŠTE U ZAGREBU - TEKSTILNO-TEHNOLOŠKI FAKULTET"]
[1812,"1812 Sveučilište u Zagrebu FAKULTET PROMETNIH ZNANOSTI","080 - MINISTARSTVO ZNANOSTI, OBRAZOVANJA I MLADIH","03260771","25410051374","11","Sveučilište u Zagrebu FAKULTET PROMETNIH ZNANOSTI"]
[1829,"1829 SVEUČILIŠTE U ZAGREBU, FAKULTET STROJARSTVA I BRODOGRADNJE","080 - MINISTARSTVO ZNANOSTI, OBRAZOVANJA I MLADIH","03276546","22910368449","11","SVEUČILIŠTE U ZAGREBU, FAKULTET STROJARSTVA I BRODOGRADNJE"]
[1837,"1837 SVEUČILIŠTE U ZAGREBU  GRAĐEVINSKI FAKULTET","080 - MINISTARSTVO ZNANOSTI, OBRAZOVANJA I MLADIH","03227120","62924153420","11","SVEUČILIŠTE U ZAGREBU  GRAĐEVINSKI FAKULTET"]
[1845,"1845 SVEUČILIŠTE U ZAGREBU PREHRAMBENO-BIOTEHNOLOŠKI FAKULTET","080 - MINISTARSTVO ZNANOSTI, OBRAZOVANJA I MLADIH","03207102","47824453867","11","SVEUČILIŠTE U ZAGREBU PREHRAMBENO-BIOTEHNOLOŠKI FAKULTET"]
[1853,"1853 SVEUČILIŠTE U ZAGREBU - GEODETSKI FAKULTET","080 - MINISTARSTVO ZNANOSTI, OBRAZOVANJA I MLADIH","03204987","43594593297","11","SVEUČILIŠTE U ZAGREBU - GEODETSKI FAKULTET"]
[1861,"1861 SVEUČILIŠTE U ZAGREBU - ARHITEKTONSKI FAKULTET","080 - MINISTARSTVO ZNANOSTI, OBRAZOVANJA I MLADIH","03204952","42061107444","11","SVEUČILIŠTE U ZAGREBU - ARHITEKTONSKI FAKULTET"]
[1870,"1870 SVEUČILIŠTE U ZAGREBU STOMATOLOŠKI FAKULTET","080 - MINISTARSTVO ZNANOSTI, OBRAZOVANJA I MLADIH","03204995","70221464726","11","SVEUČILIŠTE U ZAGREBU STOMATOLOŠKI FAKULTET"]
[1888,"1888 SVEUČILIŠTE U ZAGREBU, MEDICINSKI FAKULTET","080 - MINISTARSTVO ZNANOSTI, OBRAZOVANJA I MLADIH","03270211","45001686598","11","SVEUČILIŠTE U ZAGREBU, MEDICINSKI FAKULTET"]
[1896,"1896 SVEUČILIŠTE U ZAGREBU FAKULTET ŠUMARSTVA I DRVNE TEHNOLOGIJE","080 - MINISTARSTVO ZNANOSTI, OBRAZOVANJA I MLADIH","03281485","07699719217","11","SVEUČILIŠTE U ZAGREBU FAKULTET ŠUMARSTVA I DRVNE TEHNOLOGIJE"]
[1907,"1907 SVEUČILIŠTE U ZAGREBU - FAKULTET POLITIČKIH ZNANOSTI","080 - MINISTARSTVO ZNANOSTI, OBRAZOVANJA I MLADIH","03270262","28011548575","11","SVEUČILIŠTE U ZAGREBU - FAKULTET POLITIČKIH ZNANOSTI"]
[1915,"1915 SVEUČILIŠTE U ZAGREBU - PRAVNI FAKULTET","080 - MINISTARSTVO ZNANOSTI, OBRAZOVANJA I MLADIH","03225909","38583303160","11","SVEUČILIŠTE U ZAGREBU - PRAVNI FAKULTET"]
[1923,"1923  SVEUČILIŠTE U ZAGREBU AGRONOMSKI FAKULTET","080 - MINISTARSTVO ZNANOSTI, OBRAZOVANJA I MLADIH","03283097","76023745044","11"," SVEUČILIŠTE U ZAGREBU AGRONOMSKI FAKULTET"]
[1931,"1931 SVEUČILIŠTE U ZAGREBU - EKONOMSKI FAKULTET","080 - MINISTARSTVO ZNANOSTI, OBRAZOVANJA I MLADIH","03272079","27208467122","11","SVEUČILIŠTE U ZAGREBU - EKONOMSKI FAKULTET"]
[1940,"1940 SVEUČILIŠTE U ZAGREBU,  UČITELJSKI FAKULTET","080 - MINISTARSTVO ZNANOSTI, OBRAZOVANJA I MLADIH","01422545","72226488129","11","SVEUČILIŠTE U ZAGREBU,  UČITELJSKI FAKULTET"]
[1958,"1958 SVEUČILIŠTE U ZAGREBU - FILOZOFSKI FAKULTET","080 - MINISTARSTVO ZNANOSTI, OBRAZOVANJA I MLADIH","03254852","90633715804","11","SVEUČILIŠTE U ZAGREBU - FILOZOFSKI FAKULTET"]
[1966,"1966 SVEUČILIŠTE U ZAGREBU - EDUKCIJSKO-REHABILITACIJSKI FAKULTET","080 - MINISTARSTVO ZNANOSTI, OBRAZOVANJA I MLADIH","03219780","34967762426","11","SVEUČILIŠTE U ZAGREBU - EDUKCIJSKO-REHABILITACIJSKI FAKULTET"]
[1974,"1974 SVEUČILIŠTE U ZAGREBU - AKADEMIJA DRAMSKE UMJETNOSTI ","080 - MINISTARSTVO ZNANOSTI, OBRAZOVANJA I MLADIH","03205029","52097842295","11","SVEUČILIŠTE U ZAGREBU - AKADEMIJA DRAMSKE UMJETNOSTI "]
[1982,"1982 SVEUČILIŠTE U ZAGREBU AKADEMIJA LIKOVNIH UMJETNOSTI","080 - MINISTARSTVO ZNANOSTI, OBRAZOVANJA I MLADIH","03207919","95847257607","11","SVEUČILIŠTE U ZAGREBU AKADEMIJA LIKOVNIH UMJETNOSTI"]
[1999,"1999 SVEUČILIŠTE U ZAGREBU - MUZIČKA AKADEMIJA","080 - MINISTARSTVO ZNANOSTI, OBRAZOVANJA I MLADIH","03205002","18422925218","11","SVEUČILIŠTE U ZAGREBU - MUZIČKA AKADEMIJA"]
[2006,"2006 SVEUČILIŠTE U ZAGREBU KINEZIOLOŠKI FAKULTET","080 - MINISTARSTVO ZNANOSTI, OBRAZOVANJA I MLADIH","03274080","25329931628","11","SVEUČILIŠTE U ZAGREBU KINEZIOLOŠKI FAKULTET"]
[2014,"2014 SVEUČILIŠTE U ZAGREBU FARMACEUTSKO-BIOKEMIJSKI FAKULTET","080 - MINISTARSTVO ZNANOSTI, OBRAZOVANJA I MLADIH","03205037","14509285435","11","SVEUČILIŠTE U ZAGREBU FARMACEUTSKO-BIOKEMIJSKI FAKULTET"]
[2022,"2022 SVEUČILIŠTE U ZAGREBU VETERINARSKI FAKULTET","080 - MINISTARSTVO ZNANOSTI, OBRAZOVANJA I MLADIH","03225755","36389528408","11","SVEUČILIŠTE U ZAGREBU VETERINARSKI FAKULTET"]
[2047,"2047 SVEUČILIŠTE U ZAGREBU RUDARSKO-GEOLOŠKO-NAFTNI FAKULTET","080 - MINISTARSTVO ZNANOSTI, OBRAZOVANJA I MLADIH","03207005","99534693762","11","SVEUČILIŠTE U ZAGREBU RUDARSKO-GEOLOŠKO-NAFTNI FAKULTET"]
[2063,{"$f":"A67&\" \"&G67","v":"2063 SVEUČILIŠTE U ZAGREBU FAKULTET ORGANIZACIJE I INFORMATIKE"},"080 - MINISTARSTVO ZNANOSTI, OBRAZOVANJA I MLADIH","03006107","02024882310","11","SVEUČILIŠTE U ZAGREBU FAKULTET ORGANIZACIJE I INFORMATIKE"]
[2071,"2071 SVEUČILIŠTE U ZAGREBU - METALURŠKI FAKULTET SISAK","080 - MINISTARSTVO ZNANOSTI, OBRAZOVANJA I MLADIH","03313786","48006703414","11","SVEUČILIŠTE U ZAGREBU - METALURŠKI FAKULTET SISAK"]
[2080,"2080 SVEUČILIŠTE U ZAGREBU - GRAFIČKI FAKULTET","080 - MINISTARSTVO ZNANOSTI, OBRAZOVANJA I MLADIH","03219763","25564990903","11","SVEUČILIŠTE U ZAGREBU - GRAFIČKI FAKULTET"]
[2102,"2102 Sveučilište u Zagrebu Geotehnički fakultet","080 - MINISTARSTVO ZNANOSTI, OBRAZOVANJA I MLADIH","03042316","16146181375","11","Sveučilište u Zagrebu Geotehnički fakultet"]
[2135,"2135  SVEUČILIŠTE U ZAGREBU, KATOLIČKI BOGOSLOVNI FAKULTET ","080 - MINISTARSTVO ZNANOSTI, OBRAZOVANJA I MLADIH","03703088","48987767944","11"," SVEUČILIŠTE U ZAGREBU, KATOLIČKI BOGOSLOVNI FAKULTET "]
[2151,"2151 SVEUČILIŠTE U RIJECI - TEHNIČKI FAKULTET","080 - MINISTARSTVO ZNANOSTI, OBRAZOVANJA I MLADIH","03334317","46319717480","11","SVEUČILIŠTE U RIJECI - TEHNIČKI FAKULTET"]
[2160,"2160 SVEUČILIŠTE U RIJECI - GRAĐEVINSKI FAKULTET","080 - MINISTARSTVO ZNANOSTI, OBRAZOVANJA I MLADIH","03395855","92037849504","11","SVEUČILIŠTE U RIJECI - GRAĐEVINSKI FAKULTET"]
[2186,"2186 SVEUČILIŠTE U RIJECI, EKONOMSKI FAKULTET","080 - MINISTARSTVO ZNANOSTI, OBRAZOVANJA I MLADIH","03328627","26093119930","11","SVEUČILIŠTE U RIJECI, EKONOMSKI FAKULTET"]
[2194,"2194 Sveučilište u Rijeci,  Fakultet za menadžment u turizmu i ugostiteljstvu","080 - MINISTARSTVO ZNANOSTI, OBRAZOVANJA I MLADIH","03091732","85799845149","11","Sveučilište u Rijeci,  Fakultet za menadžment u turizmu i ugostiteljstvu"]
[2217,"2217 SVEUČILIŠTE U RIJECI, PRAVNI FAKULTET","080 - MINISTARSTVO ZNANOSTI, OBRAZOVANJA I MLADIH","03328562","43767699965","11","SVEUČILIŠTE U RIJECI, PRAVNI FAKULTET"]
[2225,"2225 SVEUČILIŠTE U RIJECI - MEDICINSKI FAKULTET","080 - MINISTARSTVO ZNANOSTI, OBRAZOVANJA I MLADIH","03328554","98164324541","11","SVEUČILIŠTE U RIJECI - MEDICINSKI FAKULTET"]
[2250,"2250 SVEUČILIŠTE JOSIPA JURJA  STROSSMAYERA U OSIJEKU, GRAĐEVINSKI I ARHITEKTONSKI FAKULTET OSIJEK","080 - MINISTARSTVO ZNANOSTI, OBRAZOVANJA I MLADIH","03397335","04150850819","11","SVEUČILIŠTE JOSIPA JURJA  STROSSMAYERA U OSIJEKU, GRAĐEVINSKI I ARHITEKTONSKI FAKULTET OSIJEK"]
[2268,"2268 SVEUČILIŠTE J.J. STROSSMAYERA U OSIJEKU - FAKULTET AGROBIOTEHNIČKIH ZNANOSTI OSIJEK","080 - MINISTARSTVO ZNANOSTI, OBRAZOVANJA I MLADIH","03058212","98816779821","11","SVEUČILIŠTE J.J. STROSSMAYERA U OSIJEKU - FAKULTET AGROBIOTEHNIČKIH ZNANOSTI OSIJEK"]
[2276,"2276 SVEUČILIŠTE J.J. STROSSMAYERA U OSIJEKU - PREHRAMBENO-TEHNOLOŠKI FAKULTET","080 - MINISTARSTVO ZNANOSTI, OBRAZOVANJA I MLADIH","03058204","96371000697","11","SVEUČILIŠTE J.J. STROSSMAYERA U OSIJEKU - PREHRAMBENO-TEHNOLOŠKI FAKULTET"]
[2284,"2284 SVEUČILIŠTE J.J. STROSSMAYERA U OSIJEKU - EKONOMSKI FAKULTET","080 - MINISTARSTVO ZNANOSTI, OBRAZOVANJA I MLADIH","03021645","52778515544","11","SVEUČILIŠTE J.J. STROSSMAYERA U OSIJEKU - EKONOMSKI FAKULTET"]
[2292,"2292 SVEUČILIŠTE JOSIPA JURJA STROSSMAYERA U OSIJEKU - PRAVNI FAKULTET","080 - MINISTARSTVO ZNANOSTI, OBRAZOVANJA I MLADIH","03014193","26416570803","11","SVEUČILIŠTE JOSIPA JURJA STROSSMAYERA U OSIJEKU - PRAVNI FAKULTET"]
[2313,"2313 SVEUČILIŠTE J.J. STROSSMAYERA  U OSIJEKU - FAKULTET ELEKTROTEHNIKE, RAČUNARSTVA I INFORMACIJSKIH TEHNOLOGIJA OSIJEK","080 - MINISTARSTVO ZNANOSTI, OBRAZOVANJA I MLADIH","03392589","95494259952","11","SVEUČILIŠTE J.J. STROSSMAYERA  U OSIJEKU - FAKULTET ELEKTROTEHNIKE, RAČUNARSTVA I INFORMACIJSKIH TEHNOLOGIJA OSIJEK"]
[2321,"2321 SVEUČILIŠTE J.J. STROSSMAYERA U OSIJEKU - FILOZOFSKI FAKULTET","080 - MINISTARSTVO ZNANOSTI, OBRAZOVANJA I MLADIH","03014185","58868871646","11","SVEUČILIŠTE J.J. STROSSMAYERA U OSIJEKU - FILOZOFSKI FAKULTET"]
[2330,"2330 SVEUČILIŠTE U SPLITU, FAKULTET ELEKTROTEHNIKE, STROJARSTVA I BRODOGRADNJE","080 - MINISTARSTVO ZNANOSTI, OBRAZOVANJA I MLADIH","03118339","00857144221","11","SVEUČILIŠTE U SPLITU, FAKULTET ELEKTROTEHNIKE, STROJARSTVA I BRODOGRADNJE"]
[2348,"2348 SVEUČILIŠTE U SPLITU - FAKULTET GRAĐEVINARSTVA, ARHITEKTURE I GEODEZIJE","080 - MINISTARSTVO ZNANOSTI, OBRAZOVANJA I MLADIH","03149463","83615500218","11","SVEUČILIŠTE U SPLITU - FAKULTET GRAĐEVINARSTVA, ARHITEKTURE I GEODEZIJE"]
[2356,"2356 SVEUČILIŠTE U SPLITU - KEMIJSKO-TEHNOLOŠKI FAKULTET","080 - MINISTARSTVO ZNANOSTI, OBRAZOVANJA I MLADIH","03119068","99401575594","11","SVEUČILIŠTE U SPLITU - KEMIJSKO-TEHNOLOŠKI FAKULTET"]
[2372,"2372 SVEUČILIŠTE U SPLITU - EKONOMSKI FAKULTET","080 - MINISTARSTVO ZNANOSTI, OBRAZOVANJA I MLADIH","03119076","84477684422","11","SVEUČILIŠTE U SPLITU - EKONOMSKI FAKULTET"]
[2397,"2397 SVEUČILIŠTE U SPLITU -  PRAVNI FAKULTET","080 - MINISTARSTVO ZNANOSTI, OBRAZOVANJA I MLADIH","03118347","03541568700","11","SVEUČILIŠTE U SPLITU -  PRAVNI FAKULTET"]
[2410,"2410 SVEUČILIŠTE U SPLITU, PRIRODOSLOVNO-MATEMATIČKI FAKULTET","080 - MINISTARSTVO ZNANOSTI, OBRAZOVANJA I MLADIH","03199622","20858497843","11","SVEUČILIŠTE U SPLITU, PRIRODOSLOVNO-MATEMATIČKI FAKULTET"]
[2436,"2436 SVEUČILIŠTE U ZAGREBU","080 - MINISTARSTVO ZNANOSTI, OBRAZOVANJA I MLADIH","03211592","36612267447","11","SVEUČILIŠTE U ZAGREBU"]
[2444,"2444 SVEUČILIŠTE U RIJECI","080 - MINISTARSTVO ZNANOSTI, OBRAZOVANJA I MLADIH","03337413","64218323816","11","SVEUČILIŠTE U RIJECI"]
[2452,"2452 SVEUČILIŠTE J.J. STROSSMAYERA U OSIJEKU","080 - MINISTARSTVO ZNANOSTI, OBRAZOVANJA I MLADIH","03049779","78808975734","11","SVEUČILIŠTE J.J. STROSSMAYERA U OSIJEKU"]
[2469,"2469 SVEUČILIŠTE U SPLITU","080 - MINISTARSTVO ZNANOSTI, OBRAZOVANJA I MLADIH","03129306","29845096215","11","SVEUČILIŠTE U SPLITU"]
[2493,"2493 SVEUČILIŠTE U RIJECI - SVEUČILIŠNA KNJIŽNICA","080 - MINISTARSTVO ZNANOSTI, OBRAZOVANJA I MLADIH","03328686","84122581314","11","SVEUČILIŠTE U RIJECI - SVEUČILIŠNA KNJIŽNICA"]
[2508,"2508 SVEUČILIŠTE JOSIPA JURJA STROSSMAYERA U OSIJEKU GRADSKA I SVEUČILIŠNA KNJIŽNICA OSIJEK","080 - MINISTARSTVO ZNANOSTI, OBRAZOVANJA I MLADIH","03014347","46627536930","11","SVEUČILIŠTE JOSIPA JURJA STROSSMAYERA U OSIJEKU GRADSKA I SVEUČILIŠNA KNJIŽNICA OSIJEK"]
[2524,"2524 SVEUČILIŠTE U SPLITU - SVEUČILIŠNA KNJIŽNICA","080 - MINISTARSTVO ZNANOSTI, OBRAZOVANJA I MLADIH","03118436","40099344720","11","SVEUČILIŠTE U SPLITU - SVEUČILIŠNA KNJIŽNICA"]
[2532,"2532 SVEUČILIŠTE U ZADRU, ZNANSTVENA KNJIŽNICA ","080 - MINISTARSTVO ZNANOSTI, OBRAZOVANJA I MLADIH","03141993","94403503942","11","SVEUČILIŠTE U ZADRU, ZNANSTVENA KNJIŽNICA "]
[2900,"2900 INSTITUT ZA OCEANOGRAFIJU I RIBARSTVO","080 - MINISTARSTVO ZNANOSTI, OBRAZOVANJA I MLADIH","03118355","86235185568","11","INSTITUT ZA OCEANOGRAFIJU I RIBARSTVO"]
[2918,"2918 EKONOMSKI INSTITUT, ZAGREB","080 - MINISTARSTVO ZNANOSTI, OBRAZOVANJA I MLADIH","03219925","70925432731","11","EKONOMSKI INSTITUT, ZAGREB"]
[2934,"2934 HRVATSKI INSTITUT ZA POVIJEST","080 - MINISTARSTVO ZNANOSTI, OBRAZOVANJA I MLADIH","03207153","23296176633","11","HRVATSKI INSTITUT ZA POVIJEST"]
[2942,"2942 INSTITUT ZA POVIJEST UMJETNOSTI","080 - MINISTARSTVO ZNANOSTI, OBRAZOVANJA I MLADIH","01339958","59451980348","11","INSTITUT ZA POVIJEST UMJETNOSTI"]
[2959,"2959 INSTITUT ZA MEDICINSKA ISTRAŽIVANJA I MEDICINU RADA","080 - MINISTARSTVO ZNANOSTI, OBRAZOVANJA I MLADIH","03270475","30285469659","11","INSTITUT ZA MEDICINSKA ISTRAŽIVANJA I MEDICINU RADA"]
[2967,"2967 HRVATSKI ŠUMARSKI INSTITUT","080 - MINISTARSTVO ZNANOSTI, OBRAZOVANJA I MLADIH","03115879","13579392023","11","HRVATSKI ŠUMARSKI INSTITUT"]
[2975,"2975 INSTITUT ZA FIZIKU","080 - MINISTARSTVO ZNANOSTI, OBRAZOVANJA I MLADIH","03270424","77627408491","11","INSTITUT ZA FIZIKU"]
[2983,"2983 HRVATSKI VETERINARSKI INSTITUT","060 - MINISTARSTVO POLJOPRIVREDE, ŠUMARSTVA I RIBARSTVA","03274098","29059177553","11","HRVATSKI VETERINARSKI INSTITUT"]
[2991,"2991 POLJOPRIVREDNI INSTITUT OSIJEK","080 - MINISTARSTVO ZNANOSTI, OBRAZOVANJA I MLADIH","03058239","03665720049","11","POLJOPRIVREDNI INSTITUT OSIJEK"]
[3009,"3009 INSTITUT ZA ISTRAŽIVANJE MIGRACIJA ","080 - MINISTARSTVO ZNANOSTI, OBRAZOVANJA I MLADIH","03287572","80265403319","11","INSTITUT ZA ISTRAŽIVANJE MIGRACIJA "]
[3025,"3025 INSTITUT ZA JADRANSKE KULTURE I MELIORACIJU KRŠA","080 - MINISTARSTVO ZNANOSTI, OBRAZOVANJA I MLADIH","03140792","90884993104","11","INSTITUT ZA JADRANSKE KULTURE I MELIORACIJU KRŠA"]
[3041,"3041 INSTITUT RUĐER BOŠKOVIĆ","080 - MINISTARSTVO ZNANOSTI, OBRAZOVANJA I MLADIH","03270289","69715301002","11","INSTITUT RUĐER BOŠKOVIĆ"]
[3050,"3050 INSTITUT ZA DRUŠTVENA ISTRAŽIVANJA U ZAGREBU","080 - MINISTARSTVO ZNANOSTI, OBRAZOVANJA I MLADIH","03205118","11986338639","11","INSTITUT ZA DRUŠTVENA ISTRAŽIVANJA U ZAGREBU"]
[3068,"3068 INSTITUT ZA TURIZAM","080 - MINISTARSTVO ZNANOSTI, OBRAZOVANJA I MLADIH","03208001","10264179101","11","INSTITUT ZA TURIZAM"]
[3076,"3076 INSTITUT ZA POLJOPRIVREDU I TURIZAM","080 - MINISTARSTVO ZNANOSTI, OBRAZOVANJA I MLADIH","03421031","03850982961","11","INSTITUT ZA POLJOPRIVREDU I TURIZAM"]
[3084,"3084 INSTITUT ZA ETNOLOGIJU I FOLKLORISTIKU","080 - MINISTARSTVO ZNANOSTI, OBRAZOVANJA I MLADIH","03724042","37781872772","11","INSTITUT ZA ETNOLOGIJU I FOLKLORISTIKU"]
[3092,"3092 INSTITUT ZA FILOZOFIJU","080 - MINISTARSTVO ZNANOSTI, OBRAZOVANJA I MLADIH","03772047","43667021597","11","INSTITUT ZA FILOZOFIJU"]
[3105,"3105 INSTITUT DRUŠTVENIH ZNANOSTI  IVO PILAR","080 - MINISTARSTVO ZNANOSTI, OBRAZOVANJA I MLADIH","03793028","32840574937","11","INSTITUT DRUŠTVENIH ZNANOSTI  IVO PILAR"]
[3113,"3113 INSTITUT ZA ANTROPOLOGIJU","080 - MINISTARSTVO ZNANOSTI, OBRAZOVANJA I MLADIH","03817121","93710699926","11","INSTITUT ZA ANTROPOLOGIJU"]
[3121,"3121 INSTITUT ZA ARHEOLOGIJU","080 - MINISTARSTVO ZNANOSTI, OBRAZOVANJA I MLADIH","03937658","59796264563","11","INSTITUT ZA ARHEOLOGIJU"]
[3148,"3148 ZATVORSKA BOLNICA U ZAGREBU","109 - MINISTARSTVO PRAVOSUĐA, UPRAVE I DIGITALNE TRANSFORMACIJE ","03283089","13812320938","11","ZATVORSKA BOLNICA U ZAGREBU"]
[3156,"3156 ODGOJNI ZAVOD TUROPOLJE","109 - MINISTARSTVO PRAVOSUĐA, UPRAVE I DIGITALNE TRANSFORMACIJE ","03126498","71207730103","11","ODGOJNI ZAVOD TUROPOLJE"]
[3164,"3164 KAZNIONICA U LEPOGLAVI","109 - MINISTARSTVO PRAVOSUĐA, UPRAVE I DIGITALNE TRANSFORMACIJE ","03125971","10236446484","11","KAZNIONICA U LEPOGLAVI"]
[3172,"3172 KAZNIONICA U LIPOVICI - POPOVAČA","109 - MINISTARSTVO PRAVOSUĐA, UPRAVE I DIGITALNE TRANSFORMACIJE ","03331482","22519877219","11","KAZNIONICA U LIPOVICI - POPOVAČA"]
[3197,"3197 KAZNIONICA U  TUROPOLJU","109 - MINISTARSTVO PRAVOSUĐA, UPRAVE I DIGITALNE TRANSFORMACIJE ","03230015","19085780732","11","KAZNIONICA U  TUROPOLJU"]
[3201,"3201 KAZNIONICA U VALTURI","109 - MINISTARSTVO PRAVOSUĐA, UPRAVE I DIGITALNE TRANSFORMACIJE ","03221784","17231519023","11","KAZNIONICA U VALTURI"]
[3210,"3210 ZATVOR U  BJELOVARU","109 - MINISTARSTVO PRAVOSUĐA, UPRAVE I DIGITALNE TRANSFORMACIJE ","03331369","81776072137","11","ZATVOR U  BJELOVARU"]
[3228,"3228 ZATVOR U DUBROVNIKU","109 - MINISTARSTVO PRAVOSUĐA, UPRAVE I DIGITALNE TRANSFORMACIJE ","03312062","67505868091","11","ZATVOR U DUBROVNIKU"]
[3236,"3236 ZATVOR U GOSPIĆU","109 - MINISTARSTVO PRAVOSUĐA, UPRAVE I DIGITALNE TRANSFORMACIJE ","03345971","22146074849","11","ZATVOR U GOSPIĆU"]
[3244,"3244 ZATVOR U KARLOVCU","109 - MINISTARSTVO PRAVOSUĐA, UPRAVE I DIGITALNE TRANSFORMACIJE ","03141667","95460314688","11","ZATVOR U KARLOVCU"]
[3252,"3252 ZATVOR U OSIJEKU","109 - MINISTARSTVO PRAVOSUĐA, UPRAVE I DIGITALNE TRANSFORMACIJE ","03055264","41454229611","11","ZATVOR U OSIJEKU"]
[3277,"3277 ZATVOR U PULI-POLA","109 - MINISTARSTVO PRAVOSUĐA, UPRAVE I DIGITALNE TRANSFORMACIJE ","03227693","17447075545","11","ZATVOR U PULI-POLA"]
[3285,{"$f":"A131&\" \"&G131","v":"3285 ZATVOR U RIJECI"},"109 - MINISTARSTVO PRAVOSUĐA, UPRAVE I DIGITALNE TRANSFORMACIJE ","03341640","33722890668","11","ZATVOR U RIJECI"]
[3293,"3293 ZATVOR U SISKU","109 - MINISTARSTVO PRAVOSUĐA, UPRAVE I DIGITALNE TRANSFORMACIJE ","03314707","02167221104","11","ZATVOR U SISKU"]
[3308,"3308 ZATVOR U SPLITU","109 - MINISTARSTVO PRAVOSUĐA, UPRAVE I DIGITALNE TRANSFORMACIJE ","03148262","76049012642","11","ZATVOR U SPLITU"]
[3316,"3316 ZATVOR U ŠIBENIKU","109 - MINISTARSTVO PRAVOSUĐA, UPRAVE I DIGITALNE TRANSFORMACIJE ","03060870","63458186326","11","ZATVOR U ŠIBENIKU"]
[3324,"3324 ZATVOR U VARAŽDINU","109 - MINISTARSTVO PRAVOSUĐA, UPRAVE I DIGITALNE TRANSFORMACIJE ","03048560","81202714807","11","ZATVOR U VARAŽDINU"]
[3332,"3332 ZATVOR U ZADRU","109 - MINISTARSTVO PRAVOSUĐA, UPRAVE I DIGITALNE TRANSFORMACIJE ","03159973","39019469578","11","ZATVOR U ZADRU"]
[3349,"3349 ZATVOR U  ZAGREBU","109 - MINISTARSTVO PRAVOSUĐA, UPRAVE I DIGITALNE TRANSFORMACIJE ","03226476","92668153620","11","ZATVOR U  ZAGREBU"]
[3357,"3357 VRHOVNI SUD REPUBLIKE HRVATSKE","109 - MINISTARSTVO PRAVOSUĐA, UPRAVE I DIGITALNE TRANSFORMACIJE ","03206050","20599635268","11","VRHOVNI SUD REPUBLIKE HRVATSKE"]
[3365,"3365 DRŽAVNO ODVJETNIŠTVO REPUBLIKE HRVATSKE","109 - MINISTARSTVO PRAVOSUĐA, UPRAVE I DIGITALNE TRANSFORMACIJE ","03277151","43539267895","11","DRŽAVNO ODVJETNIŠTVO REPUBLIKE HRVATSKE"]
[3381,"3381 VISOKI PREKRŠAJNI SUD REPUBLIKE HRVATSKE","109 - MINISTARSTVO PRAVOSUĐA, UPRAVE I DIGITALNE TRANSFORMACIJE ","03206068","02594920860","11","VISOKI PREKRŠAJNI SUD REPUBLIKE HRVATSKE"]
[3390,"3390 ŽUPANIJSKI SUD U DUBROVNIKU","109 - MINISTARSTVO PRAVOSUĐA, UPRAVE I DIGITALNE TRANSFORMACIJE ","03304680","89577096924","11","ŽUPANIJSKI SUD U DUBROVNIKU"]
[3412,"3412 ŽUPANIJSKI SUD U KARLOVCU","109 - MINISTARSTVO PRAVOSUĐA, UPRAVE I DIGITALNE TRANSFORMACIJE ","03123502","03592261620","11","ŽUPANIJSKI SUD U KARLOVCU"]
[3429,"3429 ŽUPANIJSKI SUD U OSIJEKU","109 - MINISTARSTVO PRAVOSUĐA, UPRAVE I DIGITALNE TRANSFORMACIJE ","03014819","84896920817","11","ŽUPANIJSKI SUD U OSIJEKU"]
[3445,"3445 ŽUPANIJSKI SUD U PULI - POLA","109 - MINISTARSTVO PRAVOSUĐA, UPRAVE I DIGITALNE TRANSFORMACIJE ","03204138","69281755283","11","ŽUPANIJSKI SUD U PULI - POLA"]
[3453,"3453 ŽUPANIJSKI SUD U RIJECI","109 - MINISTARSTVO PRAVOSUĐA, UPRAVE I DIGITALNE TRANSFORMACIJE ","03321401","22883124500","11","ŽUPANIJSKI SUD U RIJECI"]
[3461,"3461 ŽUPANIJSKI SUD U SISKU","109 - MINISTARSTVO PRAVOSUĐA, UPRAVE I DIGITALNE TRANSFORMACIJE ","03314731","27877699046","11","ŽUPANIJSKI SUD U SISKU"]
[3470,"3470 ŽUPANIJSKI SUD U SPLITU","109 - MINISTARSTVO PRAVOSUĐA, UPRAVE I DIGITALNE TRANSFORMACIJE ","03118673","11748694684","11","ŽUPANIJSKI SUD U SPLITU"]
[3488,"3488 ŽUPANIJSKI SUD U VARAŽDINU","109 - MINISTARSTVO PRAVOSUĐA, UPRAVE I DIGITALNE TRANSFORMACIJE ","03006719","03344665749","11","ŽUPANIJSKI SUD U VARAŽDINU"]
[3496,"3496 ŽUPANIJSKI SUD U ZADRU","109 - MINISTARSTVO PRAVOSUĐA, UPRAVE I DIGITALNE TRANSFORMACIJE ","03142434","97465301721","11","ŽUPANIJSKI SUD U ZADRU"]
[3507,"3507 ŽUPANIJSKI SUD U  ZAGREBU","109 - MINISTARSTVO PRAVOSUĐA, UPRAVE I DIGITALNE TRANSFORMACIJE ","03206076","87134069158","11","ŽUPANIJSKI SUD U  ZAGREBU"]
[3515,"3515 TRGOVAČKI SUD U BJELOVARU","109 - MINISTARSTVO PRAVOSUĐA, UPRAVE I DIGITALNE TRANSFORMACIJE ","03333299","07942269267","11","TRGOVAČKI SUD U BJELOVARU"]
[3531,"3531 TRGOVAČKI SUD U OSIJEKU","109 - MINISTARSTVO PRAVOSUĐA, UPRAVE I DIGITALNE TRANSFORMACIJE ","03014797","37588811552","11","TRGOVAČKI SUD U OSIJEKU"]
[3540,"3540 TRGOVAČKI SUD U RIJECI","109 - MINISTARSTVO PRAVOSUĐA, UPRAVE I DIGITALNE TRANSFORMACIJE ","03321410","88785964957","11","TRGOVAČKI SUD U RIJECI"]
[3566,"3566 TRGOVAČKI SUD U SPLITU","109 - MINISTARSTVO PRAVOSUĐA, UPRAVE I DIGITALNE TRANSFORMACIJE ","03119505","30842297926","11","TRGOVAČKI SUD U SPLITU"]
[3574,"3574 TRGOVAČKI SUD U VARAŽDINU","109 - MINISTARSTVO PRAVOSUĐA, UPRAVE I DIGITALNE TRANSFORMACIJE ","03365042","07397915111","11","TRGOVAČKI SUD U VARAŽDINU"]
[3582,"3582 VISOKI TRGOVAČKI SUD REPUBLIKE HRVATSKE","109 - MINISTARSTVO PRAVOSUĐA, UPRAVE I DIGITALNE TRANSFORMACIJE ","03271064","97349366519","11","VISOKI TRGOVAČKI SUD REPUBLIKE HRVATSKE"]
[3599,"3599 ŽUPANIJSKO DRŽAVNO ODVJETNIŠTVO U DUBROVNIKU","109 - MINISTARSTVO PRAVOSUĐA, UPRAVE I DIGITALNE TRANSFORMACIJE ","03304698","44737751634","11","ŽUPANIJSKO DRŽAVNO ODVJETNIŠTVO U DUBROVNIKU"]
[3611,"3611 ŽUPANIJSKO DRŽAVNO ODVJETNIŠTVO U KARLOVCU","109 - MINISTARSTVO PRAVOSUĐA, UPRAVE I DIGITALNE TRANSFORMACIJE ","03123545","96351974803","11","ŽUPANIJSKO DRŽAVNO ODVJETNIŠTVO U KARLOVCU"]
[3620,"3620 ŽUPANIJSKO DRŽAVNO ODVJETNIŠTVO U OSIJEKU","109 - MINISTARSTVO PRAVOSUĐA, UPRAVE I DIGITALNE TRANSFORMACIJE ","03014835","61379160880","11","ŽUPANIJSKO DRŽAVNO ODVJETNIŠTVO U OSIJEKU"]
[3646,"3646 ŽUPANIJSKO DRŽAVNO ODVJETNIŠTVO U PULI - POLA","109 - MINISTARSTVO PRAVOSUĐA, UPRAVE I DIGITALNE TRANSFORMACIJE ","03204154","93993757343","11","ŽUPANIJSKO DRŽAVNO ODVJETNIŠTVO U PULI - POLA"]
[3654,"3654 ŽUPANIJSKO DRŽAVNO ODVJETNIŠTVO U RIJECI","109 - MINISTARSTVO PRAVOSUĐA, UPRAVE I DIGITALNE TRANSFORMACIJE ","03332101","03377753055","11","ŽUPANIJSKO DRŽAVNO ODVJETNIŠTVO U RIJECI"]
[3662,"3662 ŽUPANIJSKO DRŽAVNO ODVJETNIŠTVO U SISKU","109 - MINISTARSTVO PRAVOSUĐA, UPRAVE I DIGITALNE TRANSFORMACIJE ","03314758","05526850490","11","ŽUPANIJSKO DRŽAVNO ODVJETNIŠTVO U SISKU"]
[3679,"3679 ŽUPANIJSKO DRŽAVNO ODVJETNIŠTVO U SPLITU","109 - MINISTARSTVO PRAVOSUĐA, UPRAVE I DIGITALNE TRANSFORMACIJE ","03118681","70793241859","11","ŽUPANIJSKO DRŽAVNO ODVJETNIŠTVO U SPLITU"]
[3687,"3687 ŽUPANIJSKO DRŽAVNO ODVJETNIŠTVO U ŠIBENIKU","109 - MINISTARSTVO PRAVOSUĐA, UPRAVE I DIGITALNE TRANSFORMACIJE ","03023508","62915793914","11","ŽUPANIJSKO DRŽAVNO ODVJETNIŠTVO U ŠIBENIKU"]
[3695,"3695 ŽUPANIJSKO DRŽAVNO ODVJETNIŠTVO U VARAŽDINU","109 - MINISTARSTVO PRAVOSUĐA, UPRAVE I DIGITALNE TRANSFORMACIJE ","03006743","23987413075","11","ŽUPANIJSKO DRŽAVNO ODVJETNIŠTVO U VARAŽDINU"]
[3700,"3700 ŽUPANIJSKO DRŽAVNO ODVJETNIŠTVO U ZADRU","109 - MINISTARSTVO PRAVOSUĐA, UPRAVE I DIGITALNE TRANSFORMACIJE ","03142469","17132768561","11","ŽUPANIJSKO DRŽAVNO ODVJETNIŠTVO U ZADRU"]
[3718,"3718 ŽUPANIJSKO DRŽAVNO ODVJETNIŠTVO U ZAGREBU","109 - MINISTARSTVO PRAVOSUĐA, UPRAVE I DIGITALNE TRANSFORMACIJE ","03277143","16488001145","11","ŽUPANIJSKO DRŽAVNO ODVJETNIŠTVO U ZAGREBU"]
[3742,"3742 OPĆINSKI SUD U BJELOVARU","109 - MINISTARSTVO PRAVOSUĐA, UPRAVE I DIGITALNE TRANSFORMACIJE ","03317072","57362618039","11","OPĆINSKI SUD U BJELOVARU"]
[3783,"3783 OPĆINSKI SUD U ČAKOVCU","109 - MINISTARSTVO PRAVOSUĐA, UPRAVE I DIGITALNE TRANSFORMACIJE ","03110761","55277272395","11","OPĆINSKI SUD U ČAKOVCU"]
[3847,"3847 OPĆINSKI SUD U DUBROVNIKU","109 - MINISTARSTVO PRAVOSUĐA, UPRAVE I DIGITALNE TRANSFORMACIJE ","03304671","48074464528","11","OPĆINSKI SUD U DUBROVNIKU"]
[3919,"3919 OPĆINSKI SUD U GOSPIĆU","109 - MINISTARSTVO PRAVOSUĐA, UPRAVE I DIGITALNE TRANSFORMACIJE ","03315886","29608777564","11","OPĆINSKI SUD U GOSPIĆU"]
[3994,"3994 OPĆINSKI SUD U KOPRIVNICI","109 - MINISTARSTVO PRAVOSUĐA, UPRAVE I DIGITALNE TRANSFORMACIJE ","03010805","68516938975","11","OPĆINSKI SUD U KOPRIVNICI"]
[4132,"4132 OPĆINSKI SUD U OSIJEKU","109 - MINISTARSTVO PRAVOSUĐA, UPRAVE I DIGITALNE TRANSFORMACIJE ","03014789","38625793303","11","OPĆINSKI SUD U OSIJEKU"]
[4212,"4212 OPĆINSKI SUD  U POŽEGI","109 - MINISTARSTVO PRAVOSUĐA, UPRAVE I DIGITALNE TRANSFORMACIJE ","03310302","49328464172","11","OPĆINSKI SUD  U POŽEGI"]
[4237,"4237 OPĆINSKI SUD U PULI - POLA","109 - MINISTARSTVO PRAVOSUĐA, UPRAVE I DIGITALNE TRANSFORMACIJE ","03204120","38304616284","11","OPĆINSKI SUD U PULI - POLA"]
[4253,"4253 OPĆINSKI SUD U RIJECI","109 - MINISTARSTVO PRAVOSUĐA, UPRAVE I DIGITALNE TRANSFORMACIJE ","03321428","54566384631","11","OPĆINSKI SUD U RIJECI"]
[4307,"4307 OPĆINSKI SUD U SISKU","109 - MINISTARSTVO PRAVOSUĐA, UPRAVE I DIGITALNE TRANSFORMACIJE ","03314723","74610670107","11","OPĆINSKI SUD U SISKU"]
[4323,"4323 OPĆINSKI SUD U SLAVONSKOM BRODU","109 - MINISTARSTVO PRAVOSUĐA, UPRAVE I DIGITALNE TRANSFORMACIJE ","03071456","28673386029","11","OPĆINSKI SUD U SLAVONSKOM BRODU"]
[4340,"4340 OPĆINSKI SUD U ŠIBENIKU","109 - MINISTARSTVO PRAVOSUĐA, UPRAVE I DIGITALNE TRANSFORMACIJE ","03019772","29399232217","11","OPĆINSKI SUD U ŠIBENIKU"]
[4366,"4366 OPĆINSKI SUD U VARAŽDINU","109 - MINISTARSTVO PRAVOSUĐA, UPRAVE I DIGITALNE TRANSFORMACIJE ","03006697","14828046348","11","OPĆINSKI SUD U VARAŽDINU"]
[4374,"4374 OPĆINSKI SUD U VELIKOJ GORICI","109 - MINISTARSTVO PRAVOSUĐA, UPRAVE I DIGITALNE TRANSFORMACIJE ","03216365","32284739479","11","OPĆINSKI SUD U VELIKOJ GORICI"]
[4399,"4399 OPĆINSKI SUD U VIROVITICI","109 - MINISTARSTVO PRAVOSUĐA, UPRAVE I DIGITALNE TRANSFORMACIJE ","03106071","47974453918","11","OPĆINSKI SUD U VIROVITICI"]
[4420,"4420 OPĆINSKI SUD U VUKOVARU","109 - MINISTARSTVO PRAVOSUĐA, UPRAVE I DIGITALNE TRANSFORMACIJE ","03008886","69370038985","11","OPĆINSKI SUD U VUKOVARU"]
[4446,"4446 OPĆINSKI SUD U ZADRU","109 - MINISTARSTVO PRAVOSUĐA, UPRAVE I DIGITALNE TRANSFORMACIJE ","03142442","78866932443","11","OPĆINSKI SUD U ZADRU"]
[4462,"4462 OPĆINSKI SUD U ZLATARU","109 - MINISTARSTVO PRAVOSUĐA, UPRAVE I DIGITALNE TRANSFORMACIJE ","03100952","26566866925","11","OPĆINSKI SUD U ZLATARU"]
[4500,"4500 OPĆINSKO DRŽAVNO ODVJETNIŠTVO U BJELOVARU","109 - MINISTARSTVO PRAVOSUĐA, UPRAVE I DIGITALNE TRANSFORMACIJE ","03308693","57370630720","11","OPĆINSKO DRŽAVNO ODVJETNIŠTVO U BJELOVARU"]
[4526,"4526 OPĆINSKO DRŽAVNO ODVJETNIŠTVO U ČAKOVCU","109 - MINISTARSTVO PRAVOSUĐA, UPRAVE I DIGITALNE TRANSFORMACIJE ","03110770","35997508988","11","OPĆINSKO DRŽAVNO ODVJETNIŠTVO U ČAKOVCU"]
[4567,"4567 OPĆINSKO DRŽAVNO ODVJETNIŠTVO U DUBROVNIKU","109 - MINISTARSTVO PRAVOSUĐA, UPRAVE I DIGITALNE TRANSFORMACIJE ","03364968","29897835912","11","OPĆINSKO DRŽAVNO ODVJETNIŠTVO U DUBROVNIKU"]
[4606,"4606 OPĆINSKO DRŽAVNO ODVJETNIŠTVO U GOSPIĆU","109 - MINISTARSTVO PRAVOSUĐA, UPRAVE I DIGITALNE TRANSFORMACIJE ","03315908","72336759011","11","OPĆINSKO DRŽAVNO ODVJETNIŠTVO U GOSPIĆU"]
[4655,"4655 OPĆINSKO DRŽAVNO ODVJETNIŠTVO U KOPRIVNICI","109 - MINISTARSTVO PRAVOSUĐA, UPRAVE I DIGITALNE TRANSFORMACIJE ","03010813","32308927283","11","OPĆINSKO DRŽAVNO ODVJETNIŠTVO U KOPRIVNICI"]
[4760,"4760 OPĆINSKO DRŽAVNO ODVJETNIŠTVO U OSIJEKU","109 - MINISTARSTVO PRAVOSUĐA, UPRAVE I DIGITALNE TRANSFORMACIJE ","03014827","23673736199","11","OPĆINSKO DRŽAVNO ODVJETNIŠTVO U OSIJEKU"]
[4809,"4809 OPĆINSKO DRŽAVNO ODVJETNIŠTVO U POŽEGI","109 - MINISTARSTVO PRAVOSUĐA, UPRAVE I DIGITALNE TRANSFORMACIJE ","03310744","25760780719","11","OPĆINSKO DRŽAVNO ODVJETNIŠTVO U POŽEGI"]
[4817,"4817 OPĆINSKO DRŽAVNO ODVJETNIŠTVO U PULI - POLA","109 - MINISTARSTVO PRAVOSUĐA, UPRAVE I DIGITALNE TRANSFORMACIJE ","03204146","76040308062","11","OPĆINSKO DRŽAVNO ODVJETNIŠTVO U PULI - POLA"]
[4825,"4825 OPĆINSKO DRŽAVNO ODVJETNIŠTVO U RIJECI","109 - MINISTARSTVO PRAVOSUĐA, UPRAVE I DIGITALNE TRANSFORMACIJE ","03321436","79067711474","11","OPĆINSKO DRŽAVNO ODVJETNIŠTVO U RIJECI"]
[4868,{"$f":"A195&\" \"&G195","v":"4868 OPĆINSKO DRŽAVNO ODVJETNIŠTVO U SISKU"},"109 - MINISTARSTVO PRAVOSUĐA, UPRAVE I DIGITALNE TRANSFORMACIJE ","03314740","85077656753","11","OPĆINSKO DRŽAVNO ODVJETNIŠTVO U SISKU"]
[4876,"4876 OPĆINSKO DRŽAVNO ODVJETNIŠTVO U SLAVONSKOM BRODU","109 - MINISTARSTVO PRAVOSUĐA, UPRAVE I DIGITALNE TRANSFORMACIJE ","03071472","86687204743","11","OPĆINSKO DRŽAVNO ODVJETNIŠTVO U SLAVONSKOM BRODU"]
[4884,"4884 OPĆINSKO DRŽAVNO ODVJETNIŠTVO U SPLITU","109 - MINISTARSTVO PRAVOSUĐA, UPRAVE I DIGITALNE TRANSFORMACIJE ","03161242","88116062296","11","OPĆINSKO DRŽAVNO ODVJETNIŠTVO U SPLITU"]
[4892,"4892 OPĆINSKO DRŽAVNO ODVJETNIŠTVO U ŠIBENIKU","109 - MINISTARSTVO PRAVOSUĐA, UPRAVE I DIGITALNE TRANSFORMACIJE ","03019829","83225778075","11","OPĆINSKO DRŽAVNO ODVJETNIŠTVO U ŠIBENIKU"]
[4913,"4913 OPĆINSKO DRŽAVNO ODVJETNIŠTVO U VARAŽDINU","109 - MINISTARSTVO PRAVOSUĐA, UPRAVE I DIGITALNE TRANSFORMACIJE ","03006735","95993665997","11","OPĆINSKO DRŽAVNO ODVJETNIŠTVO U VARAŽDINU"]
[4921,"4921 OPĆINSKO DRŽAVNO ODVJETNIŠTVO U VELIKOJ GORICI","109 - MINISTARSTVO PRAVOSUĐA, UPRAVE I DIGITALNE TRANSFORMACIJE ","03216373","85707330778","11","OPĆINSKO DRŽAVNO ODVJETNIŠTVO U VELIKOJ GORICI"]
[4948,"4948 OPĆINSKO DRŽAVNO ODVJETNIŠTVO U VIROVITICI","109 - MINISTARSTVO PRAVOSUĐA, UPRAVE I DIGITALNE TRANSFORMACIJE ","03149625","62300321754","11","OPĆINSKO DRŽAVNO ODVJETNIŠTVO U VIROVITICI"]
[4956,"4956 OPĆINSKO DRŽAVNO ODVJETNIŠTVO U VUKOVARU","109 - MINISTARSTVO PRAVOSUĐA, UPRAVE I DIGITALNE TRANSFORMACIJE ","03008894","41070350826","11","OPĆINSKO DRŽAVNO ODVJETNIŠTVO U VUKOVARU"]
[4972,"4972 OPĆINSKO DRŽAVNO ODVJETNIŠTVO U ZADRU","109 - MINISTARSTVO PRAVOSUĐA, UPRAVE I DIGITALNE TRANSFORMACIJE ","03174786","72580451114","11","OPĆINSKO DRŽAVNO ODVJETNIŠTVO U ZADRU"]
[4989,"4989 OPĆINSKO KAZNENO DRŽAVNO ODVJETNIŠTVO U ZAGREBU","109 - MINISTARSTVO PRAVOSUĐA, UPRAVE I DIGITALNE TRANSFORMACIJE ","03277135","96423371665","11","OPĆINSKO KAZNENO DRŽAVNO ODVJETNIŠTVO U ZAGREBU"]
[4997,"4997 OPĆINSKO DRŽAVNO ODVJETNIŠTVO U ZLATARU","109 - MINISTARSTVO PRAVOSUĐA, UPRAVE I DIGITALNE TRANSFORMACIJE ","03433811","11393950527","11","OPĆINSKO DRŽAVNO ODVJETNIŠTVO U ZLATARU"]
[6031,"6031 USTAVNI SUD RH"," - ","03206084","43530726662","11","USTAVNI SUD RH"]
[6040,"6040 PUČKI PRAVOBRANITELJ"," - ","00515655","08026537914","11","PUČKI PRAVOBRANITELJ"]
[6066,"6066 HRVATSKI HIDROGRAFSKI INSTITUT","065 - MINISTARSTVO MORA, PROMETA I INFRASTRUKTURE","03878724","51867618130","11","HRVATSKI HIDROGRAFSKI INSTITUT"]
[6082,"6082 DRŽAVNI ZAVOD ZA  MJERITELJSTVO","077 - MINISTARSTVO GOSPODARSTVA","03799166","99875008081","11","DRŽAVNI ZAVOD ZA  MJERITELJSTVO"]
[6099,"6099 DRŽAVNI ZAVOD ZA STATISTIKU"," - ","03220338","49337502853","11","DRŽAVNI ZAVOD ZA STATISTIKU"]
[6120,"6120 DRŽAVNA GEODETSKA UPRAVA","076 - MINISTARSTVO PROSTORNOGA UREĐENJA, GRADITELJSTVA I DRŽAVNE IMOVINE","00936693","84891127540","11","DRŽAVNA GEODETSKA UPRAVA"]
[6138,"6138 DRŽAVNI URED ZA REVIZIJU"," - ","00687979","55448281176","11","DRŽAVNI URED ZA REVIZIJU"]
[6146,"6146 HRVATSKI MUZEJ NAIVNE UMJETNOSTI","055 - MINISTARSTVO KULTURE I MEDIJA","00738751","57897955082","11","HRVATSKI MUZEJ NAIVNE UMJETNOSTI"]
[6154,"6154 SVEUČILIŠTE U ZAGREBU - FAKULTET FILOZOFIJE I RELIGIJSKIH ZNANOSTI","080 - MINISTARSTVO ZNANOSTI, OBRAZOVANJA I MLADIH","01235664","26975482530","11","SVEUČILIŠTE U ZAGREBU - FAKULTET FILOZOFIJE I RELIGIJSKIH ZNANOSTI"]
[6179,"6179 DRŽAVNI ZAVOD ZA INTELEKTUALNO VLASNIŠTVO","080 - MINISTARSTVO ZNANOSTI, OBRAZOVANJA I MLADIH","03899772","89755384389","11","DRŽAVNI ZAVOD ZA INTELEKTUALNO VLASNIŠTVO"]
[7083,"7083 CENTAR ZA PRUŽANJE USLUGA U ZAJEDNICI MASLINA","086 - MINISTARSTVO RADA, MIROVINSKOGA SUSTAVA, OBITELJI I SOCIJALNE POLITIKE","03304167","53238046672","11","CENTAR ZA PRUŽANJE USLUGA U ZAJEDNICI MASLINA"]
[7091,"7091 CENTAR ZA PRUŽANJE USLUGA U ZAJEDNICI VLADIMIR NAZOR","086 - MINISTARSTVO RADA, MIROVINSKOGA SUSTAVA, OBITELJI I SOCIJALNE POLITIKE","03123464","85866981630","11","CENTAR ZA PRUŽANJE USLUGA U ZAJEDNICI VLADIMIR NAZOR"]
[7106,"7106 CENTAR ZA PRUŽANJE USLUGA U ZAJEDNICI SVITANJE","086 - MINISTARSTVO RADA, MIROVINSKOGA SUSTAVA, OBITELJI I SOCIJALNE POLITIKE","03009971","75430947376","11","CENTAR ZA PRUŽANJE USLUGA U ZAJEDNICI SVITANJE"]
[7114,"7114 CENTAR ZA PRUŽANJE USLUGA U ZAJEDNICI LIPIK","086 - MINISTARSTVO RADA, MIROVINSKOGA SUSTAVA, OBITELJI I SOCIJALNE POLITIKE","03084981","57285376027","11","CENTAR ZA PRUŽANJE USLUGA U ZAJEDNICI LIPIK"]
[7122,"7122 Centar za pružanje usluga u zajednici Ivana Brlić Mažuranić","086 - MINISTARSTVO RADA, MIROVINSKOGA SUSTAVA, OBITELJI I SOCIJALNE POLITIKE","03090353","74578677561","11","Centar za pružanje usluga u zajednici Ivana Brlić Mažuranić"]
[7147,"7147 CENTAR ZA PRUŽANJE USLUGA U ZAJEDNICI KLASJE OSIJEK","086 - MINISTARSTVO RADA, MIROVINSKOGA SUSTAVA, OBITELJI I SOCIJALNE POLITIKE","03014410","13771936999","11","CENTAR ZA PRUŽANJE USLUGA U ZAJEDNICI KLASJE OSIJEK"]
[7155,"7155 CENTAR ZA PRUŽANJE USLUGA U ZAJEDNICI RUŽA PETROVIĆ","086 - MINISTARSTVO RADA, MIROVINSKOGA SUSTAVA, OBITELJI I SOCIJALNE POLITIKE","03203824","27209159252","11","CENTAR ZA PRUŽANJE USLUGA U ZAJEDNICI RUŽA PETROVIĆ"]
[7163,"7163 CENTAR ZA PRUŽANJE USLUGA U ZAJEDNICI IZVOR, SELCE","086 - MINISTARSTVO RADA, MIROVINSKOGA SUSTAVA, OBITELJI I SOCIJALNE POLITIKE","03148637","75733262824","11","CENTAR ZA PRUŽANJE USLUGA U ZAJEDNICI IZVOR, SELCE"]
[7171,"7171 CENTAR ZA PRUŽANJE USLUGA U ZAJEDNICI VRBINA SISAK","086 - MINISTARSTVO RADA, MIROVINSKOGA SUSTAVA, OBITELJI I SOCIJALNE POLITIKE","03313964","43355278379","11","CENTAR ZA PRUŽANJE USLUGA U ZAJEDNICI VRBINA SISAK"]
[7180,"7180 CENTAR ZA PRUŽANJE USLUGA U ZAJEDNICI KUĆA SRETNIH CIGLICA","086 - MINISTARSTVO RADA, MIROVINSKOGA SUSTAVA, OBITELJI I SOCIJALNE POLITIKE","03071332","81369633612","11","CENTAR ZA PRUŽANJE USLUGA U ZAJEDNICI KUĆA SRETNIH CIGLICA"]
[7198,"7198 Centar za pružanje usluga u zajednici Maestral","086 - MINISTARSTVO RADA, MIROVINSKOGA SUSTAVA, OBITELJI I SOCIJALNE POLITIKE","03118606","97141575055","11","Centar za pružanje usluga u zajednici Maestral"]
[7202,"7202 CENTAR ZA PRUŽANJE USLUGA U ZAJEDNICI SV. ANA VINKOVCI","086 - MINISTARSTVO RADA, MIROVINSKOGA SUSTAVA, OBITELJI I SOCIJALNE POLITIKE","03367819","57830965536","11","CENTAR ZA PRUŽANJE USLUGA U ZAJEDNICI SV. ANA VINKOVCI"]
[7219,"7219 CENTAR ZA PRUŽANJE USLUGA U ZAJEDNICI ZAGREB","086 - MINISTARSTVO RADA, MIROVINSKOGA SUSTAVA, OBITELJI I SOCIJALNE POLITIKE","03289745","04517778727","11","CENTAR ZA PRUŽANJE USLUGA U ZAJEDNICI ZAGREB"]
[7227,"7227 CENTAR ZA PRUŽANJE USLUGA U ZAJEDNICI ZAGORJE","086 - MINISTARSTVO RADA, MIROVINSKOGA SUSTAVA, OBITELJI I SOCIJALNE POLITIKE","03016692","71367732581","11","CENTAR ZA PRUŽANJE USLUGA U ZAJEDNICI ZAGORJE"]
[7243,"7243 CENTAR ZA PRUŽANJE USLUGA U ZAJEDNICI IVANEC","086 - MINISTARSTVO RADA, MIROVINSKOGA SUSTAVA, OBITELJI I SOCIJALNE POLITIKE","03126013","03530904023","11","CENTAR ZA PRUŽANJE USLUGA U ZAJEDNICI IVANEC"]
[7251,"7251 CENTAR ZA PRUŽANJE USLUGA U ZAJEDNICI BANIJA- KARLOVAC","086 - MINISTARSTVO RADA, MIROVINSKOGA SUSTAVA, OBITELJI I SOCIJALNE POLITIKE","03130576","18126711159","11","CENTAR ZA PRUŽANJE USLUGA U ZAJEDNICI BANIJA- KARLOVAC"]
[7260,"7260 ODGOJNI DOM MALI LOŠINJ","086 - MINISTARSTVO RADA, MIROVINSKOGA SUSTAVA, OBITELJI I SOCIJALNE POLITIKE","03040216","31173278276","11","ODGOJNI DOM MALI LOŠINJ"]
[7278,"7278 CENTAR ZA PRUŽANJE USLUGA U ZAJEDNICI OSIJEK","086 - MINISTARSTVO RADA, MIROVINSKOGA SUSTAVA, OBITELJI I SOCIJALNE POLITIKE","03014428","61997429886","11","CENTAR ZA PRUŽANJE USLUGA U ZAJEDNICI OSIJEK"]
[7286,"7286 CENTAR ZA PRUŽANJE USLUGA U ZAJEDNICI PULA-POLA","086 - MINISTARSTVO RADA, MIROVINSKOGA SUSTAVA, OBITELJI I SOCIJALNE POLITIKE","03203832","61688478244","11","CENTAR ZA PRUŽANJE USLUGA U ZAJEDNICI PULA-POLA"]
[7294,"7294 CENTAR ZA PRUŽANJE USLUGA U ZAJEDNICI RIJEKA","086 - MINISTARSTVO RADA, MIROVINSKOGA SUSTAVA, OBITELJI I SOCIJALNE POLITIKE","03321282","94000861535","11","CENTAR ZA PRUŽANJE USLUGA U ZAJEDNICI RIJEKA"]
[7309,"7309 CENTAR ZA PRUŽANJE USLUGA U ZAJEDNICI SPLIT","086 - MINISTARSTVO RADA, MIROVINSKOGA SUSTAVA, OBITELJI I SOCIJALNE POLITIKE","03133745","55330565464","11","CENTAR ZA PRUŽANJE USLUGA U ZAJEDNICI SPLIT"]
[7317,"7317 CENTAR ZA PRUŽANJE USLUGA U ZAJEDNICI ZADAR","086 - MINISTARSTVO RADA, MIROVINSKOGA SUSTAVA, OBITELJI I SOCIJALNE POLITIKE","03153037","67719867859","11","CENTAR ZA PRUŽANJE USLUGA U ZAJEDNICI ZADAR"]
[7325,"7325 CENTAR ZA PRUŽANJE USLUGA U ZAJEDNICI ZAGREB-DUGAVE","086 - MINISTARSTVO RADA, MIROVINSKOGA SUSTAVA, OBITELJI I SOCIJALNE POLITIKE","03207536","88189190821","11","CENTAR ZA PRUŽANJE USLUGA U ZAJEDNICI ZAGREB-DUGAVE"]
[7333,"7333 CENTAR RUDOLF STEINER DARUVAR","086 - MINISTARSTVO RADA, MIROVINSKOGA SUSTAVA, OBITELJI I SOCIJALNE POLITIKE","03099598","26028963136","11","CENTAR RUDOLF STEINER DARUVAR"]
[7341,"7341 Centar za rehabilitaciju Sveti Filip i Jakov","086 - MINISTARSTVO RADA, MIROVINSKOGA SUSTAVA, OBITELJI I SOCIJALNE POLITIKE","03334392","84459154077","11","Centar za rehabilitaciju Sveti Filip i Jakov"]
[7350,"7350 CENTAR ZA PRUŽANJE USLUGA U ZAJEDNICI OZALJ","086 - MINISTARSTVO RADA, MIROVINSKOGA SUSTAVA, OBITELJI I SOCIJALNE POLITIKE","03187381","87620790803","11","CENTAR ZA PRUŽANJE USLUGA U ZAJEDNICI OZALJ"]
[7376,"7376 CENTAR ZA REHABILITACIJU SLAVA RAŠKAJ RIJEKA","086 - MINISTARSTVO RADA, MIROVINSKOGA SUSTAVA, OBITELJI I SOCIJALNE POLITIKE","03321266","90729071839","11","CENTAR ZA REHABILITACIJU SLAVA RAŠKAJ RIJEKA"]
[7384,"7384 CENTAR ZA REHABILITACIJU RIJEKA","086 - MINISTARSTVO RADA, MIROVINSKOGA SUSTAVA, OBITELJI I SOCIJALNE POLITIKE","03417778","53418402939","11","CENTAR ZA REHABILITACIJU RIJEKA"]
[7392,"7392 CENTAR ZA ODGOJ I OBRAZOVANJE SLAVA RAŠKAJ SPLIT","086 - MINISTARSTVO RADA, MIROVINSKOGA SUSTAVA, OBITELJI I SOCIJALNE POLITIKE","03120104","22392556339","11","CENTAR ZA ODGOJ I OBRAZOVANJE SLAVA RAŠKAJ SPLIT"]
[7405,"7405 CENTAR ZA ODGOJ I OBRAZOVANJE JURAJ BONAČI","086 - MINISTARSTVO RADA, MIROVINSKOGA SUSTAVA, OBITELJI I SOCIJALNE POLITIKE","03133737","00475993244","11","CENTAR ZA ODGOJ I OBRAZOVANJE JURAJ BONAČI"]
[7413,"7413 CENTAR ZA  REHABILITACIJU STANČIĆ","086 - MINISTARSTVO RADA, MIROVINSKOGA SUSTAVA, OBITELJI I SOCIJALNE POLITIKE","03348431","82103973646","11","CENTAR ZA  REHABILITACIJU STANČIĆ"]
[7421,"7421 CENTAR ZA ODGOJ I OBRAZOVANJE ŠUBIĆEVAC","086 - MINISTARSTVO RADA, MIROVINSKOGA SUSTAVA, OBITELJI I SOCIJALNE POLITIKE","03019683","34291257605","11","CENTAR ZA ODGOJ I OBRAZOVANJE ŠUBIĆEVAC"]
[7430,"7430 CENTAR ZA REHABILITACIJU PULA","086 - MINISTARSTVO RADA, MIROVINSKOGA SUSTAVA, OBITELJI I SOCIJALNE POLITIKE","03549496","97096220014","11","CENTAR ZA REHABILITACIJU PULA"]
[7456,"7456 CENTAR ZA ODGOJ I OBRAZOVANJE LUG","086 - MINISTARSTVO RADA, MIROVINSKOGA SUSTAVA, OBITELJI I SOCIJALNE POLITIKE","03102947","33776947373","11","CENTAR ZA ODGOJ I OBRAZOVANJE LUG"]
[7464,"7464 CENTAR ZA REHABILITACIJU ZAGREB","086 - MINISTARSTVO RADA, MIROVINSKOGA SUSTAVA, OBITELJI I SOCIJALNE POLITIKE","03256251","32686631843","11","CENTAR ZA REHABILITACIJU ZAGREB"]
[7472,"7472 CENTAR ZA ODGOJ I OBRAZOVANJE DUBRAVA","086 - MINISTARSTVO RADA, MIROVINSKOGA SUSTAVA, OBITELJI I SOCIJALNE POLITIKE","03217191","31982620821","11","CENTAR ZA ODGOJ I OBRAZOVANJE DUBRAVA"]
[7489,"7489 CENTAR ZA ODGOJ I OBRAZOVANJE SLAVA RAŠKAJ ZAGREB","086 - MINISTARSTVO RADA, MIROVINSKOGA SUSTAVA, OBITELJI I SOCIJALNE POLITIKE","03205835","16745501648","11","CENTAR ZA ODGOJ I OBRAZOVANJE SLAVA RAŠKAJ ZAGREB"]
[7497,"7497 CENTAR ZA ODGOJ I OBRAZOVANJE VINKO BEK","086 - MINISTARSTVO RADA, MIROVINSKOGA SUSTAVA, OBITELJI I SOCIJALNE POLITIKE","03205819","16898882733","11","CENTAR ZA ODGOJ I OBRAZOVANJE VINKO BEK"]
[7501,"7501 CENTAR ZA ODGOJ I OBRAZOVANJE VELIKA GORICA","086 - MINISTARSTVO RADA, MIROVINSKOGA SUSTAVA, OBITELJI I SOCIJALNE POLITIKE","03216284","28129388615","11","CENTAR ZA ODGOJ I OBRAZOVANJE VELIKA GORICA"]
[7528,"7528 CENTAR ZA ODGOJ I OBRAZOVANJE TUŠKANAC","086 - MINISTARSTVO RADA, MIROVINSKOGA SUSTAVA, OBITELJI I SOCIJALNE POLITIKE","03205827","34634200382","11","CENTAR ZA ODGOJ I OBRAZOVANJE TUŠKANAC"]
[7536,"7536 CENTAR ZA ODGOJ I OBRAZOVANJE ZAJEZDA","086 - MINISTARSTVO RADA, MIROVINSKOGA SUSTAVA, OBITELJI I SOCIJALNE POLITIKE","03126862","03599152506","11","CENTAR ZA ODGOJ I OBRAZOVANJE ZAJEZDA"]
[7544,"7544 DOM ZA  ODRASLE OSOBE BJELOVAR","086 - MINISTARSTVO RADA, MIROVINSKOGA SUSTAVA, OBITELJI I SOCIJALNE POLITIKE","03316998","62693385109","11","DOM ZA  ODRASLE OSOBE BJELOVAR"]
[7569,"7569 DOM ZA ODRASLE OSOBE BLATO","086 - MINISTARSTVO RADA, MIROVINSKOGA SUSTAVA, OBITELJI I SOCIJALNE POLITIKE","03081192","99467043079","11","DOM ZA ODRASLE OSOBE BLATO"]
[7624,{"$f":"A259&\" \"&G259","v":"7624 DOM ZA  ODRASLE OSOBE JALŽABET"},"086 - MINISTARSTVO RADA, MIROVINSKOGA SUSTAVA, OBITELJI I SOCIJALNE POLITIKE","03006441","40551161324","11","DOM ZA  ODRASLE OSOBE JALŽABET"]
[7665,"7665 DOM ZA ODRASLE OSOBE LOBOR-GRAD","086 - MINISTARSTVO RADA, MIROVINSKOGA SUSTAVA, OBITELJI I SOCIJALNE POLITIKE","03126889","45761692556","11","DOM ZA ODRASLE OSOBE LOBOR-GRAD"]
[7673,"7673 DOM ZA ODRASLE OSOBE LJESKOVICA","086 - MINISTARSTVO RADA, MIROVINSKOGA SUSTAVA, OBITELJI I SOCIJALNE POLITIKE","03346366","66458920794","11","DOM ZA ODRASLE OSOBE LJESKOVICA"]
[7690,"7690 DOM ZA PSIHIČKI BOLESNE ODRASLE OSOBE MOTOVUN","086 - MINISTARSTVO RADA, MIROVINSKOGA SUSTAVA, OBITELJI I SOCIJALNE POLITIKE","03089304","06458028548","11","DOM ZA PSIHIČKI BOLESNE ODRASLE OSOBE MOTOVUN"]
[7704,"7704 DOM ZA ODRASLE OSOBE NEDEŠĆINA","086 - MINISTARSTVO RADA, MIROVINSKOGA SUSTAVA, OBITELJI I SOCIJALNE POLITIKE","03075184","52406673119","11","DOM ZA ODRASLE OSOBE NEDEŠĆINA"]
[7729,"7729 DOM ZA ODRASLE OSOBE NUŠTAR","086 - MINISTARSTVO RADA, MIROVINSKOGA SUSTAVA, OBITELJI I SOCIJALNE POLITIKE","03301451","12399538329","11","DOM ZA ODRASLE OSOBE NUŠTAR"]
[7745,"7745 DOM ZA ODRASLE OSOBE OREHOVICA","086 - MINISTARSTVO RADA, MIROVINSKOGA SUSTAVA, OBITELJI I SOCIJALNE POLITIKE","03110150","67610036162","11","DOM ZA ODRASLE OSOBE OREHOVICA"]
[7761,"7761 CENTAR ZA PRUŽANJE USLUGA U ZAJEDNICI OSIJEK - JA KAO I TI","086 - MINISTARSTVO RADA, MIROVINSKOGA SUSTAVA, OBITELJI I SOCIJALNE POLITIKE","03014452","81122081473","11","CENTAR ZA PRUŽANJE USLUGA U ZAJEDNICI OSIJEK - JA KAO I TI"]
[7840,"7840 DOM ZA ODRASLE OSOBE BOROVA","086 - MINISTARSTVO RADA, MIROVINSKOGA SUSTAVA, OBITELJI I SOCIJALNE POLITIKE","03105407","75988025471","11","DOM ZA ODRASLE OSOBE BOROVA"]
[7866,"7866 DOM ZA ODRASLE OSOBE TROGIR","086 - MINISTARSTVO RADA, MIROVINSKOGA SUSTAVA, OBITELJI I SOCIJALNE POLITIKE","03039200","50259535567","11","DOM ZA ODRASLE OSOBE TROGIR"]
[7938,"7938 DOM ZA ODRASLE OSOBE SVETI FRANE ZADAR","086 - MINISTARSTVO RADA, MIROVINSKOGA SUSTAVA, OBITELJI I SOCIJALNE POLITIKE","03132226","65698739290","11","DOM ZA ODRASLE OSOBE SVETI FRANE ZADAR"]
[8051,"8051 DOM ZA  ODRASLE OSOBE ZAGREB","086 - MINISTARSTVO RADA, MIROVINSKOGA SUSTAVA, OBITELJI I SOCIJALNE POLITIKE","01354256","70271854148","11","DOM ZA  ODRASLE OSOBE ZAGREB"]
[20157,"20157 MINISTARSTVO FINANCIJA"," - ","03205991","18683136487","11","MINISTARSTVO FINANCIJA"]
[20165,"20165 CARINSKA UPRAVA, SREDIŠNJI URED","025 - MINISTARSTVO FINANCIJA","03205991","18683136487","11","CARINSKA UPRAVA, SREDIŠNJI URED"]
[20181,"20181 POREZNA UPRAVA","025 - MINISTARSTVO FINANCIJA","03205991","18683136487","11","POREZNA UPRAVA"]
[20270,"20270 OPĆINSKO DRŽAVNO ODVJETNIŠTVO U KARLOVCU","109 - MINISTARSTVO PRAVOSUĐA, UPRAVE I DIGITALNE TRANSFORMACIJE ","03123537","69488952897","11","OPĆINSKO DRŽAVNO ODVJETNIŠTVO U KARLOVCU"]
[20454,"20454 OPĆINSKI PREKRŠAJNI SUD U ZAGREBU","109 - MINISTARSTVO PRAVOSUĐA, UPRAVE I DIGITALNE TRANSFORMACIJE ","03206041","95308842799","11","OPĆINSKI PREKRŠAJNI SUD U ZAGREBU"]
[20622,"20622 OPĆINSKI PREKRŠAJNI SUD U SPLITU","109 - MINISTARSTVO PRAVOSUĐA, UPRAVE I DIGITALNE TRANSFORMACIJE ","03133800","38198969688","11","OPĆINSKI PREKRŠAJNI SUD U SPLITU"]
[20639,"20639 VISOKI UPRAVNI SUD REPUBLIKE HRVATSKE","109 - MINISTARSTVO PRAVOSUĐA, UPRAVE I DIGITALNE TRANSFORMACIJE ","03232719","13613360068","11","VISOKI UPRAVNI SUD REPUBLIKE HRVATSKE"]
[20647,"20647 ŽUPANIJSKO DRŽAVNO ODVJETNIŠTVO U BJELOVARU","109 - MINISTARSTVO PRAVOSUĐA, UPRAVE I DIGITALNE TRANSFORMACIJE ","03308685","86821435474","11","ŽUPANIJSKO DRŽAVNO ODVJETNIŠTVO U BJELOVARU"]
[20727,"20727 KAZNIONICA U GLINI","109 - MINISTARSTVO PRAVOSUĐA, UPRAVE I DIGITALNE TRANSFORMACIJE ","01149695","19601823684","11","KAZNIONICA U GLINI"]
[20735,"20735 TRGOVAČKI SUD U ZAGREBU","109 - MINISTARSTVO PRAVOSUĐA, UPRAVE I DIGITALNE TRANSFORMACIJE ","03206092","37388188772","11","TRGOVAČKI SUD U ZAGREBU"]
[20743,"20743 ŽUPANIJSKI SUD U BJELOVARU","109 - MINISTARSTVO PRAVOSUĐA, UPRAVE I DIGITALNE TRANSFORMACIJE ","03308677","26346076385","11","ŽUPANIJSKI SUD U BJELOVARU"]
[20778,"20778 ŽUPANIJSKI SUD U SLAVONSKOM BRODU","109 - MINISTARSTVO PRAVOSUĐA, UPRAVE I DIGITALNE TRANSFORMACIJE ","01228226","88717538459","11","ŽUPANIJSKI SUD U SLAVONSKOM BRODU"]
[20786,"20786 ŽUPANIJSKI SUD U ŠIBENIKU","109 - MINISTARSTVO PRAVOSUĐA, UPRAVE I DIGITALNE TRANSFORMACIJE ","03019799","88341107822","11","ŽUPANIJSKI SUD U ŠIBENIKU"]
[20809,"20809 ŽUPANIJSKI SUD U VUKOVARU","109 - MINISTARSTVO PRAVOSUĐA, UPRAVE I DIGITALNE TRANSFORMACIJE ","01210696","92599990351","11","ŽUPANIJSKI SUD U VUKOVARU"]
[20833,"20833 AGENCIJA ZA ZAŠTITU TRŽIŠNOG NATJECANJA"," - ","01253433","54882480048","11","AGENCIJA ZA ZAŠTITU TRŽIŠNOG NATJECANJA"]
[20892,"20892 OPĆINSKI SUD U KARLOVCU","109 - MINISTARSTVO PRAVOSUĐA, UPRAVE I DIGITALNE TRANSFORMACIJE ","03123499","05541256968","11","OPĆINSKI SUD U KARLOVCU"]
[21004,"21004 OPĆINSKI SUD U SPLITU","109 - MINISTARSTVO PRAVOSUĐA, UPRAVE I DIGITALNE TRANSFORMACIJE ","03118665","61980608934","11","OPĆINSKI SUD U SPLITU"]
[21053,"21053 VELEUČILIŠTE U KARLOVCU","080 - MINISTARSTVO ZNANOSTI, OBRAZOVANJA I MLADIH","01286030","62820859976","11","VELEUČILIŠTE U KARLOVCU"]
[21061,"21061 INSTITUT ZA HRVATSKI JEZIK I JEZIKOSLOVLJE","080 - MINISTARSTVO ZNANOSTI, OBRAZOVANJA I MLADIH","01259571","12268324202","11","INSTITUT ZA HRVATSKI JEZIK I JEZIKOSLOVLJE"]
[21070,"21070 STAROSLAVENSKI INSTITUT","080 - MINISTARSTVO ZNANOSTI, OBRAZOVANJA I MLADIH","01259563","15291942541","11","STAROSLAVENSKI INSTITUT"]
[21609,"21609 DRŽAVNI HIDROMETEOROLOŠKI ZAVOD","078 - MINISTARSTVO ZAŠTITE OKOLIŠA I ZELENE TRANZICIJE","03206017","74660437164","11","DRŽAVNI HIDROMETEOROLOŠKI ZAVOD"]
[21789,"21789 CENTAR ZA REHABILITACIJU SAMARITANAC SPLIT","086 - MINISTARSTVO RADA, MIROVINSKOGA SUSTAVA, OBITELJI I SOCIJALNE POLITIKE","01140370","60945415147","11","CENTAR ZA REHABILITACIJU SAMARITANAC SPLIT"]
[21797,"21797 CENTAR ZA REHABILITACIJU JOSIPOVAC","086 - MINISTARSTVO RADA, MIROVINSKOGA SUSTAVA, OBITELJI I SOCIJALNE POLITIKE","01151703","62252145399","11","CENTAR ZA REHABILITACIJU JOSIPOVAC"]
[21801,"21801 CENTAR ZA REHABILITACIJU FRA ANTE SEKELEZ","086 - MINISTARSTVO RADA, MIROVINSKOGA SUSTAVA, OBITELJI I SOCIJALNE POLITIKE","01284797","51139896464","11","CENTAR ZA REHABILITACIJU FRA ANTE SEKELEZ"]
[21810,"21810 CENTAR ZA REHABILITACIJU MIR","086 - MINISTARSTVO RADA, MIROVINSKOGA SUSTAVA, OBITELJI I SOCIJALNE POLITIKE","01284789","20663023892","11","CENTAR ZA REHABILITACIJU MIR"]
[21828,"21828 HRVATSKA AKADEMIJA ZNANOSTI I UMJETNOSTI"," - ","03205207","61989185242","11","HRVATSKA AKADEMIJA ZNANOSTI I UMJETNOSTI"]
[21836,"21836 NACIONALNA I SVEUČILIŠNA KNJIŽNICA U ZAGREBU","080 - MINISTARSTVO ZNANOSTI, OBRAZOVANJA I MLADIH","03205363","84838770814","11","NACIONALNA I SVEUČILIŠNA KNJIŽNICA U ZAGREBU"]
[21852,"21852 HRVATSKA AKADEMSKA ISTRAŽIVAČKA MREŽA - CARNET","080 - MINISTARSTVO ZNANOSTI, OBRAZOVANJA I MLADIH","01147820","58101996540","11","HRVATSKA AKADEMSKA ISTRAŽIVAČKA MREŽA - CARNET"]
[21869,"21869 LEKSIKOGRAFSKI ZAVOD MIROSLAV KRLEŽA","080 - MINISTARSTVO ZNANOSTI, OBRAZOVANJA I MLADIH","03211622","49894241709","11","LEKSIKOGRAFSKI ZAVOD MIROSLAV KRLEŽA"]
[21949,"21949 ŽUPANIJSKO DRŽAVNO ODVJETNIŠTVO U VUKOVARU","109 - MINISTARSTVO PRAVOSUĐA, UPRAVE I DIGITALNE TRANSFORMACIJE ","01312278","81618487055","11","ŽUPANIJSKO DRŽAVNO ODVJETNIŠTVO U VUKOVARU"]
[22058,"22058 AGENCIJA ZA PRAVNI PROMET I POSREDOVANJE NEKRETNINAMA","076 - MINISTARSTVO PROSTORNOGA UREĐENJA, GRADITELJSTVA I DRŽAVNE IMOVINE","01294164","69331375926","11","AGENCIJA ZA PRAVNI PROMET I POSREDOVANJE NEKRETNINAMA"]
[22138,"22138 JAVNA USTANOVA NACIONALNI PARK  KORNATI","078 - MINISTARSTVO ZAŠTITE OKOLIŠA I ZELENE TRANZICIJE","03957772","63763133364","11","JAVNA USTANOVA NACIONALNI PARK  KORNATI"]
[22154,"22154 J. U.  PARK PRIRODE KOPAČKI RIT","078 - MINISTARSTVO ZAŠTITE OKOLIŠA I ZELENE TRANZICIJE","01334239","98988824554","11","J. U.  PARK PRIRODE KOPAČKI RIT"]
[22162,"22162 JAVNA USTANOVA NACIONALNI PARK BRIJUNI","078 - MINISTARSTVO ZAŠTITE OKOLIŠA I ZELENE TRANZICIJE","03286436","79193158584","11","JAVNA USTANOVA NACIONALNI PARK BRIJUNI"]
[22179,"22179 Javna ustanova \"Nacionalni park Mljet\"","078 - MINISTARSTVO ZAŠTITE OKOLIŠA I ZELENE TRANZICIJE","03324974","41720834491","11","Javna ustanova \"Nacionalni park Mljet\""]
[22187,"22187 JAVNA USTANOVA NACIONALNI PARK RISNJAK","078 - MINISTARSTVO ZAŠTITE OKOLIŠA I ZELENE TRANZICIJE","03033619","09269345925","11","JAVNA USTANOVA NACIONALNI PARK RISNJAK"]
[22195,"22195 Park prirode TELAŠĆICA, javna ustanova","078 - MINISTARSTVO ZAŠTITE OKOLIŠA I ZELENE TRANZICIJE","03439780","39112943608","11","Park prirode TELAŠĆICA, javna ustanova"]
[22200,"22200 NACIONALNI PARK PAKLENICA","078 - MINISTARSTVO ZAŠTITE OKOLIŠA I ZELENE TRANZICIJE","03142027","24913665146","11","NACIONALNI PARK PAKLENICA"]
[22218,"22218 Javna ustanova Nacionalni park Plitvička jezera","078 - MINISTARSTVO ZAŠTITE OKOLIŠA I ZELENE TRANZICIJE","03310850","91109303119","11","Javna ustanova Nacionalni park Plitvička jezera"]
[22226,"22226 JAVNA USTANOVA  PARK PRIRODE LONJSKO POLJE","078 - MINISTARSTVO ZAŠTITE OKOLIŠA I ZELENE TRANZICIJE","01300997","13092477849","11","JAVNA USTANOVA  PARK PRIRODE LONJSKO POLJE"]
[22234,"22234 J. U.  N. P.  KRKA","078 - MINISTARSTVO ZAŠTITE OKOLIŠA I ZELENE TRANZICIJE","03418103","67969498372","11","J. U.  N. P.  KRKA"]
[22242,"22242 GALERIJA KLOVIĆEVI DVORI ZAGREB","055 - MINISTARSTVO KULTURE I MEDIJA","01426672","78027759648","11","GALERIJA KLOVIĆEVI DVORI ZAGREB"]
[22275,"22275 URED ZA UDRUGE","020 - VLADA REPUBLIKE HRVATSKE","01404113","51456675076","11","URED ZA UDRUGE"]
[22283,"22283 DOM ZA ODRASLE OSOBE BIDRUŽICA","086 - MINISTARSTVO RADA, MIROVINSKOGA SUSTAVA, OBITELJI I SOCIJALNE POLITIKE","01354248","47145266223","11","DOM ZA ODRASLE OSOBE BIDRUŽICA"]
[22322,"22322 CENTAR ZA PRUŽANJE USLUGA U ZAJEDNICI ZEMUNIK","086 - MINISTARSTVO RADA, MIROVINSKOGA SUSTAVA, OBITELJI I SOCIJALNE POLITIKE","01364464","26462059731","11","CENTAR ZA PRUŽANJE USLUGA U ZAJEDNICI ZEMUNIK"]
[22339,"22339 HRVATSKI RESTAURATORSKI ZAVOD","055 - MINISTARSTVO KULTURE I MEDIJA","01250795","08647229584","11","HRVATSKI RESTAURATORSKI ZAVOD"]
[22347,"22347 Javna ustanova Zbirka umjetnina Ante i Wiltrude Topić Mimara-Muzej Mimara","055 - MINISTARSTVO KULTURE I MEDIJA","01425684","78141312758","11","Javna ustanova Zbirka umjetnina Ante i Wiltrude Topić Mimara-Muzej Mimara"]
[22371,"22371 VELEUČILIŠTE U KRIŽEVCIMA","080 - MINISTARSTVO ZNANOSTI, OBRAZOVANJA I MLADIH","01411942","75480885018","11","VELEUČILIŠTE U KRIŽEVCIMA"]
[22427,"22427 TEHNIČKO VELEUČILIŠTE U ZAGREBU","080 - MINISTARSTVO ZNANOSTI, OBRAZOVANJA I MLADIH","01398270","08814003451","11","TEHNIČKO VELEUČILIŠTE U ZAGREBU"]
[22435,"22435 SVEUČILIŠTE U SPLITU, FILOZOFSKI FAKULTET","080 - MINISTARSTVO ZNANOSTI, OBRAZOVANJA I MLADIH","01413236","98004523293","11","SVEUČILIŠTE U SPLITU, FILOZOFSKI FAKULTET"]
[22451,"22451 SVEUČILIŠTE U SPLITU - MEDICINSKI FAKULTET","080 - MINISTARSTVO ZNANOSTI, OBRAZOVANJA I MLADIH","01315366","02879747067","11","SVEUČILIŠTE U SPLITU - MEDICINSKI FAKULTET"]
[22460,"22460 SVEUČILIŠTE U SPLITU - POMORSKI FAKULTET","080 - MINISTARSTVO ZNANOSTI, OBRAZOVANJA I MLADIH","01406043","24624257529","11","SVEUČILIŠTE U SPLITU - POMORSKI FAKULTET"]
[22478,{"$f":"A323&\" \"&G323","v":"22478 Sveučilište u Splitu, Umjetnička akademija "},"080 - MINISTARSTVO ZNANOSTI, OBRAZOVANJA I MLADIH","01321358","38960125358","11","Sveučilište u Splitu, Umjetnička akademija "]
[22486,"22486 Sveučilište Josipa Jurja Strossmayera u Osijeku, Fakultet za odgojne i obrazovne znanosti","080 - MINISTARSTVO ZNANOSTI, OBRAZOVANJA I MLADIH","01404881","28082679513","11","Sveučilište Josipa Jurja Strossmayera u Osijeku, Fakultet za odgojne i obrazovne znanosti"]
[22494,"22494 VELEUČILIŠTE U RIJECI","080 - MINISTARSTVO ZNANOSTI, OBRAZOVANJA I MLADIH","01387332","29573709870","11","VELEUČILIŠTE U RIJECI"]
[22525,"22525 HRVATSKI GEOLOŠKI INSTITUT","080 - MINISTARSTVO ZNANOSTI, OBRAZOVANJA I MLADIH","03219518","43733878539","11","HRVATSKI GEOLOŠKI INSTITUT"]
[22568,"22568 SVEUČILIŠTE U RIJECI, POMORSKI FAKULTET","080 - MINISTARSTVO ZNANOSTI, OBRAZOVANJA I MLADIH","01580485","76722145702","11","SVEUČILIŠTE U RIJECI, POMORSKI FAKULTET"]
[22621,"22621 INSTITUT ZA RAZVOJ I MEĐUNARODNE ODNOSE","080 - MINISTARSTVO ZNANOSTI, OBRAZOVANJA I MLADIH","03205177","31120185175","11","INSTITUT ZA RAZVOJ I MEĐUNARODNE ODNOSE"]
[22824,"22824 VELEUČILIŠTE U ŠIBENIKU","080 - MINISTARSTVO ZNANOSTI, OBRAZOVANJA I MLADIH","02100673","61727512157","11","VELEUČILIŠTE U ŠIBENIKU"]
[22832,"22832 ZDRAVSTVENO VELEUČILIŠTE","080 - MINISTARSTVO ZNANOSTI, OBRAZOVANJA I MLADIH","01274597","50952646228","11","ZDRAVSTVENO VELEUČILIŠTE"]
[22849,"22849 SVEUČILIŠTE J.J. STROSSMAYERA U OSIJEKU - MEDICINSKI FAKULTET","080 - MINISTARSTVO ZNANOSTI, OBRAZOVANJA I MLADIH","01388142","16214165873","11","SVEUČILIŠTE J.J. STROSSMAYERA U OSIJEKU - MEDICINSKI FAKULTET"]
[22857,"22857 SVEUČILIŠTE U RIJECI - FILOZOFSKI FAKULTET","080 - MINISTARSTVO ZNANOSTI, OBRAZOVANJA I MLADIH","03368491","70505505759","11","SVEUČILIŠTE U RIJECI - FILOZOFSKI FAKULTET"]
[23243,"23243 J. U. PARK PRIRODE BIOKOVO","078 - MINISTARSTVO ZAŠTITE OKOLIŠA I ZELENE TRANZICIJE","01408232","63685777958","11","J. U. PARK PRIRODE BIOKOVO"]
[23286,"23286 INSTITUT ZA JAVNE FINANCIJE","080 - MINISTARSTVO ZNANOSTI, OBRAZOVANJA I MLADIH","03226344","41683226810","11","INSTITUT ZA JAVNE FINANCIJE"]
[23368,"23368 SVEUČILIŠTE U SPLITU , KATOLIČKI BOGOSLOVNI FAKULTET","080 - MINISTARSTVO ZNANOSTI, OBRAZOVANJA I MLADIH","01465643","36149548625","11","SVEUČILIŠTE U SPLITU , KATOLIČKI BOGOSLOVNI FAKULTET"]
[23405,"23405 TRGOVAČKI SUD U ZADRU","109 - MINISTARSTVO PRAVOSUĐA, UPRAVE I DIGITALNE TRANSFORMACIJE ","01476793","39670464653","11","TRGOVAČKI SUD U ZADRU"]
[23421,"23421 ŽUPANIJSKI SUD U VELIKOJ GORICI","109 - MINISTARSTVO PRAVOSUĐA, UPRAVE I DIGITALNE TRANSFORMACIJE ","01476351","18580057518","11","ŽUPANIJSKI SUD U VELIKOJ GORICI"]
[23456,"23456 ŽUPANIJSKO DRŽAVNO ODVJETNIŠTVO U SLAVONSKOM BRODU","109 - MINISTARSTVO PRAVOSUĐA, UPRAVE I DIGITALNE TRANSFORMACIJE ","01490141","12144806706","11","ŽUPANIJSKO DRŽAVNO ODVJETNIŠTVO U SLAVONSKOM BRODU"]
[23497,"23497 JAVNA USTANOVA  PARK PRIRODE MEDVEDNICA","078 - MINISTARSTVO ZAŠTITE OKOLIŠA I ZELENE TRANZICIJE","01463080","59832224817","11","JAVNA USTANOVA  PARK PRIRODE MEDVEDNICA"]
[23569,"23569 DOM ZA ODRASLE OSOBE TURNIĆ","086 - MINISTARSTVO RADA, MIROVINSKOGA SUSTAVA, OBITELJI I SOCIJALNE POLITIKE","02848317","27939942401","11","DOM ZA ODRASLE OSOBE TURNIĆ"]
[23577,"23577 DRŽAVNI ARHIV U GOSPIĆU","055 - MINISTARSTVO KULTURE I MEDIJA","01475444","34694889661","11","DRŽAVNI ARHIV U GOSPIĆU"]
[23585,"23585 HRVATSKA KNJIŽNICA ZA SLIJEPE","055 - MINISTARSTVO KULTURE I MEDIJA","01494449","12091168733","11","HRVATSKA KNJIŽNICA ZA SLIJEPE"]
[23593,"23593 J. U. SPOMEN PODRUČJE JASENOVAC","055 - MINISTARSTVO KULTURE I MEDIJA","03201678","37280079200","11","J. U. SPOMEN PODRUČJE JASENOVAC"]
[23616,"23616 IMUNOLOŠKI ZAVOD","096 - MINISTARSTVO ZDRAVSTVA","04440153","51786203438","11","IMUNOLOŠKI ZAVOD"]
[23649,"23649 DRŽAVNO ODVJETNIŠTVO URED ZA SUZBIJANJE KORUPCIJE I ORGANIZIRANOG KRIMINALITETA","109 - MINISTARSTVO PRAVOSUĐA, UPRAVE I DIGITALNE TRANSFORMACIJE ","01597965","32807825145","11","DRŽAVNO ODVJETNIŠTVO URED ZA SUZBIJANJE KORUPCIJE I ORGANIZIRANOG KRIMINALITETA"]
[23657,"23657 DOM ZA ODRASLE OSOBE VILA MARIA ","086 - MINISTARSTVO RADA, MIROVINSKOGA SUSTAVA, OBITELJI I SOCIJALNE POLITIKE","01599585","71297971198","11","DOM ZA ODRASLE OSOBE VILA MARIA "]
[23665,"23665 SVEUČILIŠTE U ZAGREBU  SVEUČILIŠNI RAČUNSKI CENTAR","080 - MINISTARSTVO ZNANOSTI, OBRAZOVANJA I MLADIH","03283020","34016189309","11","SVEUČILIŠTE U ZAGREBU  SVEUČILIŠNI RAČUNSKI CENTAR"]
[23673,"23673 URED ZA PROTOKOL","020 - VLADA REPUBLIKE HRVATSKE","01594478","71103687780","11","URED ZA PROTOKOL"]
[23690,"23690 DIREKCIJA ZA KORIŠTENJE SLUŽBENIH ZRAKOPLOVA","020 - VLADA REPUBLIKE HRVATSKE","01604686","34718613532","11","DIREKCIJA ZA KORIŠTENJE SLUŽBENIH ZRAKOPLOVA"]
[23745,"23745 URED  VLADE RH ZA UNUTARNJU REVIZIJU","020 - VLADA REPUBLIKE HRVATSKE","01654098","58889799307","11","URED  VLADE RH ZA UNUTARNJU REVIZIJU"]
[23753,"23753 URED PREDSJEDNIKA VLADE RH","020 - VLADA REPUBLIKE HRVATSKE","01676504","76193608922","11","URED PREDSJEDNIKA VLADE RH"]
[23807,"23807 ŽUPANIJSKO DRŽAVNO ODVJETNIŠTVO U VELIKOJ GORICI","109 - MINISTARSTVO PRAVOSUĐA, UPRAVE I DIGITALNE TRANSFORMACIJE ","01693646","96292040276","11","ŽUPANIJSKO DRŽAVNO ODVJETNIŠTVO U VELIKOJ GORICI"]
[23815,"23815 SVEUČILIŠTE U ZADRU","080 - MINISTARSTVO ZNANOSTI, OBRAZOVANJA I MLADIH","01695525","10839679016","11","SVEUČILIŠTE U ZADRU"]
[23962,"23962 AGENCIJA ZA ODGOJ I OBRAZOVANJE","080 - MINISTARSTVO ZNANOSTI, OBRAZOVANJA I MLADIH","01778129","72193628411","11","AGENCIJA ZA ODGOJ I OBRAZOVANJE"]
[23979,"23979 STRUČNA SLUŽBA SAVJETA ZA NACIONALNE MANJINE","020 - VLADA REPUBLIKE HRVATSKE","01730118","35036123402","11","STRUČNA SLUŽBA SAVJETA ZA NACIONALNE MANJINE"]
[24027,"24027 PRAVOBRANITELJ ZA DJECU"," - ","01748068","71628985886","11","PRAVOBRANITELJ ZA DJECU"]
[24051,"24051 URED ZA RAVNOPRAVNOST SPOLOVA","020 - VLADA REPUBLIKE HRVATSKE","01815342","66558259304","11","URED ZA RAVNOPRAVNOST SPOLOVA"]
[24060,"24060 PRAVOBRANITELJ/ICA ZA RAVNOPRAVNOST SPOLOVA"," - ","01768832","18164416576","11","PRAVOBRANITELJ/ICA ZA RAVNOPRAVNOST SPOLOVA"]
[24086,"24086 CENTAR ZA IZOBRAZBU","109 - MINISTARSTVO PRAVOSUĐA, UPRAVE I DIGITALNE TRANSFORMACIJE ","01740024","22515399253","11","CENTAR ZA IZOBRAZBU"]
[24094,"24094 DRŽAVNA KOMISIJA ZA KONTROLU POSTUPAKA JAVNE NABAVE"," - ","01777831","95857869241","11","DRŽAVNA KOMISIJA ZA KONTROLU POSTUPAKA JAVNE NABAVE"]
[24141,"24141 SVEUČILIŠTE U DUBROVNIKU","080 - MINISTARSTVO ZNANOSTI, OBRAZOVANJA I MLADIH","01787578","01338491514","11","SVEUČILIŠTE U DUBROVNIKU"]
[24168,"24168 SREDIŠNJI REGISTAR OSIGURANIKA","086 - MINISTARSTVO RADA, MIROVINSKOGA SUSTAVA, OBITELJI I SOCIJALNE POLITIKE","01469819","93161265507","11","SREDIŠNJI REGISTAR OSIGURANIKA"]
[25860,"25860 AGENCIJA ZA ZAŠTITU OSOBNIH PODATAKA"," - ","01837907","28454963989","11","AGENCIJA ZA ZAŠTITU OSOBNIH PODATAKA"]
[25878,"25878 HRVATSKO NARODNO KAZALIŠTE U ZAGREBU","055 - MINISTARSTVO KULTURE I MEDIJA","03205479","10852199405","11","HRVATSKO NARODNO KAZALIŠTE U ZAGREBU"]
[25917,"25917 HRVATSKA MATICA ISELJENIKA","032 - SREDIŠNJI DRŽAVNI URED ZA HRVATE IZVAN REPUBLIKE HRVATSKE","03277348","28639480902","11","HRVATSKA MATICA ISELJENIKA"]
[25925,"25925 Javna ustanova Park prirode Učka","078 - MINISTARSTVO ZAŠTITE OKOLIŠA I ZELENE TRANZICIJE","01508342","64113345521","11","Javna ustanova Park prirode Učka"]
[25933,"25933 Javna ustanova PARK PRIRODE VELEBIT","078 - MINISTARSTVO ZAŠTITE OKOLIŠA I ZELENE TRANZICIJE","01439863","65211368646","11","Javna ustanova PARK PRIRODE VELEBIT"]
[25968,"25968 KLINIČKA BOLNICA SVETI DUH","096 - MINISTARSTVO ZDRAVSTVA","03214770","65119154523","11","KLINIČKA BOLNICA SVETI DUH"]
[26346,"26346 HRVATSKI ZAVOD ZA JAVNO ZDRAVSTVO","096 - MINISTARSTVO ZDRAVSTVA","03270963","75297532041","11","HRVATSKI ZAVOD ZA JAVNO ZDRAVSTVO"]
[26354,"26354 HRVATSKI ZAVOD ZA TRANSFUZIJSKU MEDICINU","096 - MINISTARSTVO ZDRAVSTVA","03281973","61248075289","11","HRVATSKI ZAVOD ZA TRANSFUZIJSKU MEDICINU"]
[26379,"26379 KLINIČKI BOLNIČKI CENTAR RIJEKA","096 - MINISTARSTVO ZDRAVSTVA","03368041","40237608715","11","KLINIČKI BOLNIČKI CENTAR RIJEKA"]
[26387,"26387 KLINIČKA BOLNICA MERKUR","096 - MINISTARSTVO ZDRAVSTVA","03279057","25883882856","11","KLINIČKA BOLNICA MERKUR"]
[26395,"26395 KLINIČKI BOLNIČKI CENTAR SESTRE MILOSRDNICE","096 - MINISTARSTVO ZDRAVSTVA","03208036","84924656517","11","KLINIČKI BOLNIČKI CENTAR SESTRE MILOSRDNICE"]
[26400,"26400 KLINIČKI BOLNIČKI CENTAR OSIJEK","096 - MINISTARSTVO ZDRAVSTVA","03018822","89819375646","11","KLINIČKI BOLNIČKI CENTAR OSIJEK"]
[26418,"26418 KLINIČKI BOLNIČKI CENTAR SPLIT","096 - MINISTARSTVO ZDRAVSTVA","00242870","51401063283","11","KLINIČKI BOLNIČKI CENTAR SPLIT"]
[26426,"26426 KLINIKA ZA ORTOPEDIJU LOVRAN","096 - MINISTARSTVO ZDRAVSTVA","03090302","09777091543","11","KLINIKA ZA ORTOPEDIJU LOVRAN"]
[26459,"26459 KLINIKA ZA INFEKTIVNE BOLESTI DR. FRAN MIHALJEVIĆ","096 - MINISTARSTVO ZDRAVSTVA","03270793","47767714195","11","KLINIKA ZA INFEKTIVNE BOLESTI DR. FRAN MIHALJEVIĆ"]
[26506,"26506 JAVNA USTANOVA  NACIONALNI PARK  SJEVERNI VELEBIT","078 - MINISTARSTVO ZAŠTITE OKOLIŠA I ZELENE TRANZICIJE","01486993","24661445515","11","JAVNA USTANOVA  NACIONALNI PARK  SJEVERNI VELEBIT"]
[26514,"26514 JAVNA USTANOVA PARK PRIRODE PAPUK","078 - MINISTARSTVO ZAŠTITE OKOLIŠA I ZELENE TRANZICIJE","01503847","09100391705","11","JAVNA USTANOVA PARK PRIRODE PAPUK"]
[26522,"26522  Javna ustanova Park prirode Vransko jezero","078 - MINISTARSTVO ZAŠTITE OKOLIŠA I ZELENE TRANZICIJE","01504495","62106126299","11"," Javna ustanova Park prirode Vransko jezero"]
[26539,"26539 Javna ustanova  \"Park prirode Žumberak - Samoborsko gorje\"","078 - MINISTARSTVO ZAŠTITE OKOLIŠA I ZELENE TRANZICIJE","01481517","11528798664","11","Javna ustanova  \"Park prirode Žumberak - Samoborsko gorje\""]
[26547,"26547 CENTAR ZA PRUŽANJE USLUGA U ZAJEDNICI METKOVIĆ","086 - MINISTARSTVO RADA, MIROVINSKOGA SUSTAVA, OBITELJI I SOCIJALNE POLITIKE","01831976","61844359091","11","CENTAR ZA PRUŽANJE USLUGA U ZAJEDNICI METKOVIĆ"]
[26555,"26555 CENTAR ZA REHABILITACIJU MALA TEREZIJA","086 - MINISTARSTVO RADA, MIROVINSKOGA SUSTAVA, OBITELJI I SOCIJALNE POLITIKE","01738925","54117433109","11","CENTAR ZA REHABILITACIJU MALA TEREZIJA"]
[26571,"26571 KLINIČKA BOLNICA DUBRAVA","096 - MINISTARSTVO ZDRAVSTVA","03799913","32206148371","11","KLINIČKA BOLNICA DUBRAVA"]
[26635,"26635 OPĆA BOLNICA GOSPIĆ","096 - MINISTARSTVO ZDRAVSTVA","00734985","75672221336","11","OPĆA BOLNICA GOSPIĆ"]
[27280,"27280 OPĆA BOLNICA I BOLNICA BRANITELJA DOMOVINSKG RATA OGULIN","096 - MINISTARSTVO ZDRAVSTVA","00814415","88206161418","11","OPĆA BOLNICA I BOLNICA BRANITELJA DOMOVINSKG RATA OGULIN"]
[27298,{"$f":"A387&\" \"&G387","v":"27298 OPĆA BOLNICA KARLOVAC"},"096 - MINISTARSTVO ZDRAVSTVA","00728730","95156346215","11","OPĆA BOLNICA KARLOVAC"]
[27773,"27773 OPĆA BOLNICA DR. TOMISLAV BARDEK KOPRIVNICA","096 - MINISTARSTVO ZDRAVSTVA","00659916","44899993850","11","OPĆA BOLNICA DR. TOMISLAV BARDEK KOPRIVNICA"]
[29244,"29244 OPĆA BOLNICA DR. IVO PEDIŠIĆ SISAK","096 - MINISTARSTVO ZDRAVSTVA","00687561","01066571771","11","OPĆA BOLNICA DR. IVO PEDIŠIĆ SISAK"]
[31528,"31528 OPĆA BOLNICA DUBROVNIK","096 - MINISTARSTVO ZDRAVSTVA","00976741","75970517069","11","OPĆA BOLNICA DUBROVNIK"]
[32328,"32328 OPĆA BOLNICA VARAŽDIN","096 - MINISTARSTVO ZDRAVSTVA","03376982","59638828302","11","OPĆA BOLNICA VARAŽDIN"]
[32336,"32336 OPĆA BOLNICA DR. JOSIP BENČEVIĆ, SLAVONSKI BROD","096 - MINISTARSTVO ZDRAVSTVA","00623849","91554844265","11","OPĆA BOLNICA DR. JOSIP BENČEVIĆ, SLAVONSKI BROD"]
[32352,"32352 OPĆA BOLNICA NOVA GRADIŠKA","096 - MINISTARSTVO ZDRAVSTVA","04762037","71630358814","11","OPĆA BOLNICA NOVA GRADIŠKA"]
[32432,"32432 ŽUPANIJSKA BOLNICA ČAKOVEC","096 - MINISTARSTVO ZDRAVSTVA","00695238","83506206752","11","ŽUPANIJSKA BOLNICA ČAKOVEC"]
[32457,"32457 OPĆA ŽUPANIJSKA BOLNICA POŽEGA","096 - MINISTARSTVO ZDRAVSTVA","00541109","40589450667","11","OPĆA ŽUPANIJSKA BOLNICA POŽEGA"]
[32481,"32481 OPĆA ŽUPANIJSKA BOLNICA PAKRAC I BOLNICA HRVATSKIH VETERANA","096 - MINISTARSTVO ZDRAVSTVA","04833163","18103492590","11","OPĆA ŽUPANIJSKA BOLNICA PAKRAC I BOLNICA HRVATSKIH VETERANA"]
[33185,"33185 OPĆA BOLNICA VIROVITICA","096 - MINISTARSTVO ZDRAVSTVA","00648191","82844035780","11","OPĆA BOLNICA VIROVITICA"]
[33634,"33634 CENTAR ZA PROFESIONALNU REHABILITACIJU OSIJEK","086 - MINISTARSTVO RADA, MIROVINSKOGA SUSTAVA, OBITELJI I SOCIJALNE POLITIKE","03021866","57200304958","11","CENTAR ZA PROFESIONALNU REHABILITACIJU OSIJEK"]
[33739,"33739 OPĆA ŽUPANIJSKA BOLNICA NAŠICE","096 - MINISTARSTVO ZDRAVSTVA","00627291","93759115921","11","OPĆA ŽUPANIJSKA BOLNICA NAŠICE"]
[33933,"33933 Opća bolnica \"Dr Anđelko Višić\" Bjelovar","096 - MINISTARSTVO ZDRAVSTVA","00647039","34506547848","11","Opća bolnica \"Dr Anđelko Višić\" Bjelovar"]
[34024,"34024 OPĆA BOLNICA ZADAR","096 - MINISTARSTVO ZDRAVSTVA","00712990","11854878552","11","OPĆA BOLNICA ZADAR"]
[34717,"34717 OPĆA ŽUPANIJSKA BOLNICA VINKOVCI","096 - MINISTARSTVO ZDRAVSTVA","00724955","10731502631","11","OPĆA ŽUPANIJSKA BOLNICA VINKOVCI"]
[37068,"37068 Opća bolnica Pula - Ospedale Generale di Pola ","096 - MINISTARSTVO ZDRAVSTVA","00714178","16089706543","11","Opća bolnica Pula - Ospedale Generale di Pola "]
[37839,"37839 OPĆA BOLNICA ZABOK I BOLNICA HRVATSKIH VETERANA","096 - MINISTARSTVO ZDRAVSTVA","00859621","34938158599","11","OPĆA BOLNICA ZABOK I BOLNICA HRVATSKIH VETERANA"]
[37847,"37847 OPĆA BOLNICA ŠIBENSKO-KNINSKE ŽUPANIJE","096 - MINISTARSTVO ZDRAVSTVA","00759031","03861060066","11","OPĆA BOLNICA ŠIBENSKO-KNINSKE ŽUPANIJE"]
[38028,"38028 Nacionalna memorijalna bolnica \"Dr. Juraj Njavro\" Vukovar","096 - MINISTARSTVO ZDRAVSTVA","00772208","54896856295","11","Nacionalna memorijalna bolnica \"Dr. Juraj Njavro\" Vukovar"]
[38069,"38069 KLINIČKI BOLNIČKI CENTAR ZAGREB","096 - MINISTARSTVO ZDRAVSTVA","03270777","46377257342","11","KLINIČKI BOLNIČKI CENTAR ZAGREB"]
[38438,"38438 VELEUČILIŠTE MARKO MARULIĆ","080 - MINISTARSTVO ZNANOSTI, OBRAZOVANJA I MLADIH","01963813","13664089430","11","VELEUČILIŠTE MARKO MARULIĆ"]
[38446,"38446 VELEUČILIŠTE LAVOSLAV RUŽIČKA U VUKOVARU","080 - MINISTARSTVO ZNANOSTI, OBRAZOVANJA I MLADIH","01970828","21720825730","11","VELEUČILIŠTE LAVOSLAV RUŽIČKA U VUKOVARU"]
[38454,"38454 SVEUČILIŠTE U RIJECI, AKADEMIJA PRIMIJENJENIH UMJETNOSTI","080 - MINISTARSTVO ZNANOSTI, OBRAZOVANJA I MLADIH","01954253","55704161999","11","SVEUČILIŠTE U RIJECI, AKADEMIJA PRIMIJENJENIH UMJETNOSTI"]
[38479,"38479 SVEUČILIŠTE JOSIPA JURJA STROSSMAYERA U OSIJEKU, KATOLIČKI BOGOSLOVNI FAKULTET U ĐAKOVU","080 - MINISTARSTVO ZNANOSTI, OBRAZOVANJA I MLADIH","01986490","05384220316","11","SVEUČILIŠTE JOSIPA JURJA STROSSMAYERA U OSIJEKU, KATOLIČKI BOGOSLOVNI FAKULTET U ĐAKOVU"]
[38487,"38487 AGENCIJA ZA ZNANOST I VISOKO OBRAZOVANJE","080 - MINISTARSTVO ZNANOSTI, OBRAZOVANJA I MLADIH","01922548","83358955356","11","AGENCIJA ZA ZNANOST I VISOKO OBRAZOVANJE"]
[38495,"38495 HRVATSKI ZAVOD ZA NORME","077 - MINISTARSTVO GOSPODARSTVA","01957406","76844168802","11","HRVATSKI ZAVOD ZA NORME"]
[38500,"38500 HRVATSKA AKREDITACIJSKA AGENCIJA","077 - MINISTARSTVO GOSPODARSTVA","01956868","98834727195","11","HRVATSKA AKREDITACIJSKA AGENCIJA"]
[38655,"38655 DOM ZDRAVLJA MINISTARSTVA UNUTARNJIH POSLOVA REPUBLIKE HRVATSKE","096 - MINISTARSTVO ZDRAVSTVA","03274314","10561585601","11","DOM ZDRAVLJA MINISTARSTVA UNUTARNJIH POSLOVA REPUBLIKE HRVATSKE"]
[40623,"40623 HRVATSKI MEMORIJALNO-DOKUMENTACIJSKI CENTAR DOMOVINSKOGA RATA","055 - MINISTARSTVO KULTURE I MEDIJA","01909592","57527861125","11","HRVATSKI MEMORIJALNO-DOKUMENTACIJSKI CENTAR DOMOVINSKOGA RATA"]
[40631,"40631 ARHEOLOŠKI MUZEJ NARONA","055 - MINISTARSTVO KULTURE I MEDIJA","02071061","85570198172","11","ARHEOLOŠKI MUZEJ NARONA"]
[40682,"40682 HRVATSKI ŠPORTSKI MUZEJ","055 - MINISTARSTVO KULTURE I MEDIJA","01783815","61689362030","11","HRVATSKI ŠPORTSKI MUZEJ"]
[40883,"40883 NACIONALNI CENTAR ZA VANJSKO VREDNOVANJE OBRAZOVANJA","080 - MINISTARSTVO ZNANOSTI, OBRAZOVANJA I MLADIH","01943430","94833993984","11","NACIONALNI CENTAR ZA VANJSKO VREDNOVANJE OBRAZOVANJA"]
[40947,"40947 SVEUČILIŠTE U RIJECI, UČITELJSKI FAKULTET","080 - MINISTARSTVO ZNANOSTI, OBRAZOVANJA I MLADIH","02116073","96996385705","11","SVEUČILIŠTE U RIJECI, UČITELJSKI FAKULTET"]
[41185,"41185 VELEUČILIŠTE NIKOLA TESLA U GOSPIĆU","080 - MINISTARSTVO ZNANOSTI, OBRAZOVANJA I MLADIH","02103133","42552392522","11","VELEUČILIŠTE NIKOLA TESLA U GOSPIĆU"]
[41546,"41546 AGENCIJA ZA OBALNI LINIJSKI POMORSKI PROMET","065 - MINISTARSTVO MORA, PROMETA I INFRASTRUKTURE","02097958","27735395987","11","AGENCIJA ZA OBALNI LINIJSKI POMORSKI PROMET"]
[42024,"42024 SVEUČILIŠTE JURJA DOBRILE U PULI","080 - MINISTARSTVO ZNANOSTI, OBRAZOVANJA I MLADIH","02161753","61738073226","11","SVEUČILIŠTE JURJA DOBRILE U PULI"]
[42112,"42112 MUZEJ ANTIČKOG STAKLA U ZADRU","055 - MINISTARSTVO KULTURE I MEDIJA","02106698","74294482659","11","MUZEJ ANTIČKOG STAKLA U ZADRU"]
[42434,"42434 DRŽAVNO IZBORNO POVJERENSTVO REPUBLIKE HRVATSKE"," - ","02197278","79269920246","11","DRŽAVNO IZBORNO POVJERENSTVO REPUBLIKE HRVATSKE"]
[42598,"42598 Javna ustanova  \"Park prirode Lastovsko otočje\"","078 - MINISTARSTVO ZAŠTITE OKOLIŠA I ZELENE TRANZICIJE","02175843","15186719674","11","Javna ustanova  \"Park prirode Lastovsko otočje\""]
[42910,"42910 OPĆINSKI GRAĐANSKI SUD U ZAGREBU","109 - MINISTARSTVO PRAVOSUĐA, UPRAVE I DIGITALNE TRANSFORMACIJE ","02279215","01252163117","11","OPĆINSKI GRAĐANSKI SUD U ZAGREBU"]
[42928,"42928 OPĆINSKI KAZNENI SUD U ZAGREBU","109 - MINISTARSTVO PRAVOSUĐA, UPRAVE I DIGITALNE TRANSFORMACIJE ","02279223","64719361972","11","OPĆINSKI KAZNENI SUD U ZAGREBU"]
[42993,"42993 VELEUČILIŠTE U VIROVITICI","080 - MINISTARSTVO ZNANOSTI, OBRAZOVANJA I MLADIH","02282208","46576407858","11","VELEUČILIŠTE U VIROVITICI"]
[43214,"43214 MINISTARSTVO TURIZMA I SPORTA"," - ","02323427","87892589782","11","MINISTARSTVO TURIZMA I SPORTA"]
[43255,"43255 SREDIŠNJA AGENCIJA ZA FINANCIRANJE I UGOVARANJE PROGRAMA I PROJEKATA EUROPSKE UNIJE","061 - MINISTARSTVO REGIONALNOGA RAZVOJA I FONDOVA EUROPSKE UNIJE","02288028","11548277852","11","SREDIŠNJA AGENCIJA ZA FINANCIRANJE I UGOVARANJE PROGRAMA I PROJEKATA EUROPSKE UNIJE"]
[43327,"43327 DOM ZA STARIJE   OSOBE \"MAJKA MARIJA PETKOVIĆ\"","086 - MINISTARSTVO RADA, MIROVINSKOGA SUSTAVA, OBITELJI I SOCIJALNE POLITIKE","02263696","03115808250","11","DOM ZA STARIJE   OSOBE \"MAJKA MARIJA PETKOVIĆ\""]
[43335,"43335 AGENCIJA ZA MOBILNOST I PROGRAME EUROPSKE UNIJE","080 - MINISTARSTVO ZNANOSTI, OBRAZOVANJA I MLADIH","02298007","25385906011","11","AGENCIJA ZA MOBILNOST I PROGRAME EUROPSKE UNIJE"]
[43564,"43564 PRAVOBRANITELJ ZA OSOBE S INVALIDITETOM"," - ","02397161","39572892750","11","PRAVOBRANITELJ ZA OSOBE S INVALIDITETOM"]
[43636,"43636 DRžAVNI ARHIV U VUKOVARU","055 - MINISTARSTVO KULTURE I MEDIJA","02334712","05275803945","11","DRžAVNI ARHIV U VUKOVARU"]
[43644,"43644 DRŽAVNI ARHIV ZA MEĐIMURJE","055 - MINISTARSTVO KULTURE I MEDIJA","02326086","13768042762","11","DRŽAVNI ARHIV ZA MEĐIMURJE"]
[43732,"43732 AGENCIJA ZA REVIZIJU SUSTAVA PROVEDBE PROGRAMA EUROPSKE UNIJE","025 - MINISTARSTVO FINANCIJA","02400774","94432282335","11","AGENCIJA ZA REVIZIJU SUSTAVA PROVEDBE PROGRAMA EUROPSKE UNIJE"]
[43749,"43749 MEĐIMURSKO VELEUČILIŠTE U ČAKOVCU","080 - MINISTARSTVO ZNANOSTI, OBRAZOVANJA I MLADIH","02382512","31444990605","11","MEĐIMURSKO VELEUČILIŠTE U ČAKOVCU"]
[43773,"43773 SVEUČILIŠTE U SPLITU, KINEZIOLOŠKI FAKULTET","080 - MINISTARSTVO ZNANOSTI, OBRAZOVANJA I MLADIH","02393255","57848936921","11","SVEUČILIŠTE U SPLITU, KINEZIOLOŠKI FAKULTET"]
[43804,"43804 OPĆA I VETERANSKA BOLNICA HRVATSKI PONOS KNIN","096 - MINISTARSTVO ZDRAVSTVA","02410737","70948165237","11","OPĆA I VETERANSKA BOLNICA HRVATSKI PONOS KNIN"]
[43907,"43907 HRVATSKI MUZEJ TURIZMA","055 - MINISTARSTVO KULTURE I MEDIJA","02298651","47076735780","11","HRVATSKI MUZEJ TURIZMA"]
[43915,"43915 DRŽAVNI ARHIV U ŠIBENIKU","055 - MINISTARSTVO KULTURE I MEDIJA","02435411","97880836355","11","DRŽAVNI ARHIV U ŠIBENIKU"]
[44493,"44493 DRŽAVNI ARHIV U VIROVITICI","055 - MINISTARSTVO KULTURE I MEDIJA","02494841","37777848565","11","DRŽAVNI ARHIV U VIROVITICI"]
[44508,"44508 AGENCIJA ZA OSIGURANJE RADNIČKIH TRAŽBINA","086 - MINISTARSTVO RADA, MIROVINSKOGA SUSTAVA, OBITELJI I SOCIJALNE POLITIKE","02456257","04323472109","11","AGENCIJA ZA OSIGURANJE RADNIČKIH TRAŽBINA"]
[44565,"44565 HRVATSKA AGENCIJA ZA POLJOPRIVREDU I HRANU","060 - MINISTARSTVO POLJOPRIVREDE, ŠUMARSTVA I RIBARSTVA","02528614","35506269186","11","HRVATSKA AGENCIJA ZA POLJOPRIVREDU I HRANU"]
[44573,"44573 HRVATSKI ZAVOD ZA HITNU MEDICINU","096 - MINISTARSTVO ZDRAVSTVA","02536145","45218167072","11","HRVATSKI ZAVOD ZA HITNU MEDICINU"]
[44926,"44926 HRVATSKI AUDIOVIZUALNI CENTAR","055 - MINISTARSTVO KULTURE I MEDIJA","02275341","27103918402","11","HRVATSKI AUDIOVIZUALNI CENTAR"]
[45189,"45189 MEĐUNARODNI CENTAR ZA PODVODNU ARHEOLOGIJU","055 - MINISTARSTVO KULTURE I MEDIJA","02479184","42850342757","11","MEĐUNARODNI CENTAR ZA PODVODNU ARHEOLOGIJU"]
[45228,"45228 AGENCIJA ZA SIGURNOST ŽELJEZNIČKOG PROMETA","065 - MINISTARSTVO MORA, PROMETA I INFRASTRUKTURE","02559633","99256282044","11","AGENCIJA ZA SIGURNOST ŽELJEZNIČKOG PROMETA"]
[45902,"45902 HRVATSKA REGULATORNA AGENCIJA ZA MREŽNE DJELATNOSTI","065 - MINISTARSTVO MORA, PROMETA I INFRASTRUKTURE","01865862","87950783661","11","HRVATSKA REGULATORNA AGENCIJA ZA MREŽNE DJELATNOSTI"]
[45927,{"$f":"A451&\" \"&G451","v":"45927 AGENCIJA ZA PLAĆANJA U POLJOPRIVREDI, RIBARSTVU I RURALNOM RAZVOJU"},"060 - MINISTARSTVO POLJOPRIVREDE, ŠUMARSTVA I RIBARSTVA","02593262","99122235709","11","AGENCIJA ZA PLAĆANJA U POLJOPRIVREDI, RIBARSTVU I RURALNOM RAZVOJU"]
[45978,"45978 PRAVOSUDNA AKADEMIJA","109 - MINISTARSTVO PRAVOSUĐA, UPRAVE I DIGITALNE TRANSFORMACIJE ","02601168","45836640931","11","PRAVOSUDNA AKADEMIJA"]
[45986,"45986 CENTAR ZA REHABILITACIJU KOMAREVO","086 - MINISTARSTVO RADA, MIROVINSKOGA SUSTAVA, OBITELJI I SOCIJALNE POLITIKE","02506327","07830685349","11","CENTAR ZA REHABILITACIJU KOMAREVO"]
[46028,"46028 URED PREDSJEDNICE REPUBLIKE HRVATSKE PO PRESTANKU OBNAŠANJA DUŽNOSTI"," - ","02611660","90648505547","11","URED PREDSJEDNICE REPUBLIKE HRVATSKE PO PRESTANKU OBNAŠANJA DUŽNOSTI"]
[46052,"46052 DOM ZA STARIJE OSOBE OKLAJ","086 - MINISTARSTVO RADA, MIROVINSKOGA SUSTAVA, OBITELJI I SOCIJALNE POLITIKE","01917790","66528573284","11","DOM ZA STARIJE OSOBE OKLAJ"]
[46173,"46173 AGENCIJA ZA STRUKOVNO OBRAZOVANJE I OBRAZOVANJE ODRASLIH","080 - MINISTARSTVO ZNANOSTI, OBRAZOVANJA I MLADIH","02650029","40719411729","11","AGENCIJA ZA STRUKOVNO OBRAZOVANJE I OBRAZOVANJE ODRASLIH"]
[46237,"46237 HRVATSKA AGENCIJA ZA MALO GOSPODARSTVO, INOVACIJE I INVESTICIJE","077 - MINISTARSTVO GOSPODARSTVA","00767875","25609559342","11","HRVATSKA AGENCIJA ZA MALO GOSPODARSTVO, INOVACIJE I INVESTICIJE"]
[46366,"46366 FOND ZA OBNOVU I RAZVOJ GRADA VUKOVARA","061 - MINISTARSTVO REGIONALNOGA RAZVOJA I FONDOVA EUROPSKE UNIJE","01606492","32997192616","11","FOND ZA OBNOVU I RAZVOJ GRADA VUKOVARA"]
[46420,"46420 DRŽAVNA ŠKOLA ZA JAVNU UPRAVU","109 - MINISTARSTVO PRAVOSUĐA, UPRAVE I DIGITALNE TRANSFORMACIJE ","02720736","01681646554","11","DRŽAVNA ŠKOLA ZA JAVNU UPRAVU"]
[46614,"46614 ODGOJNI ZAVOD U POŽEGI","109 - MINISTARSTVO PRAVOSUĐA, UPRAVE I DIGITALNE TRANSFORMACIJE ","03342719","63220735836","11","ODGOJNI ZAVOD U POŽEGI"]
[46841,"46841 OPĆINSKI RADNI SUD U ZAGREBU","109 - MINISTARSTVO PRAVOSUĐA, UPRAVE I DIGITALNE TRANSFORMACIJE ","02808285","04755372979","11","OPĆINSKI RADNI SUD U ZAGREBU"]
[47037,"47037 MINISTARSTVO HRVATSKIH BRANITELJA"," - ","02829541","95131524528","11","MINISTARSTVO HRVATSKIH BRANITELJA"]
[47053,"47053 MINISTARSTVO GOSPODARSTVA"," - ","02831309","19370100881","11","MINISTARSTVO GOSPODARSTVA"]
[47061,"47061 MINISTARSTVO PROSTORNOGA UREĐENJA, GRADITELJSTVA I DRŽAVNE IMOVINE"," - ","02831317","95093210687","11","MINISTARSTVO PROSTORNOGA UREĐENJA, GRADITELJSTVA I DRŽAVNE IMOVINE"]
[47096,"47096 MINISTARSTVO RADA, MIROVINSKOGA SUSTAVA, OBITELJI I SOCIJALNE POLITIKE"," - ","02830949","53969486500","11","MINISTARSTVO RADA, MIROVINSKOGA SUSTAVA, OBITELJI I SOCIJALNE POLITIKE"]
[47107,"47107 MINISTARSTVO ZDRAVSTVA"," - ","02830396","88362248492","11","MINISTARSTVO ZDRAVSTVA"]
[47123,"47123 MINISTARSTVO REGIONALNOGA RAZVOJA I FONDOVA EUROPSKE UNIJE"," - ","02830442","69608914212","11","MINISTARSTVO REGIONALNOGA RAZVOJA I FONDOVA EUROPSKE UNIJE"]
[47131,"47131 MINISTARSTVO GOSPODARSTVA  - RAVNATELJSTVO ZA ROBNE ZALIHE","077 - MINISTARSTVO GOSPODARSTVA","02831309","19370100881","11","MINISTARSTVO GOSPODARSTVA  - RAVNATELJSTVO ZA ROBNE ZALIHE"]
[47140,"47140 UPRAVNI SUD U OSIJEKU","109 - MINISTARSTVO PRAVOSUĐA, UPRAVE I DIGITALNE TRANSFORMACIJE ","02790416","03091658132","11","UPRAVNI SUD U OSIJEKU"]
[47158,"47158 UPRAVNI SUD U RIJECI","109 - MINISTARSTVO PRAVOSUĐA, UPRAVE I DIGITALNE TRANSFORMACIJE ","02790424","46227608101","11","UPRAVNI SUD U RIJECI"]
[47199,"47199 UPRAVNI SUD U ZAGREBU","109 - MINISTARSTVO PRAVOSUĐA, UPRAVE I DIGITALNE TRANSFORMACIJE ","02790467","65338495447","11","UPRAVNI SUD U ZAGREBU"]
[47203,"47203 UPRAVNI SUD U SPLITU","109 - MINISTARSTVO PRAVOSUĐA, UPRAVE I DIGITALNE TRANSFORMACIJE ","02790432","45765887838","11","UPRAVNI SUD U SPLITU"]
[47287,"47287 DRŽAVNO ODVJETNIČKO VIJEĆE","109 - MINISTARSTVO PRAVOSUĐA, UPRAVE I DIGITALNE TRANSFORMACIJE ","02797712","45840051274","11","DRŽAVNO ODVJETNIČKO VIJEĆE"]
[47295,"47295 DRŽAVNO SUDBENO VIJEĆE","109 - MINISTARSTVO PRAVOSUĐA, UPRAVE I DIGITALNE TRANSFORMACIJE ","02747987","66951444283","11","DRŽAVNO SUDBENO VIJEĆE"]
[47334,"47334 SREDIŠNJI DRŽAVNI URED ZA SREDIŠNJU JAVNU NABAVU"," - ","02840731","17683204722","11","SREDIŠNJI DRŽAVNI URED ZA SREDIŠNJU JAVNU NABAVU"]
[47406,"47406 URED ZASTUPNIKA REPUBLIKE HRVATSKE PRED EUROPSKIM SUDOM ZA LJUDSKA PRAVA","020 - VLADA REPUBLIKE HRVATSKE","02864851","98898752468","11","URED ZASTUPNIKA REPUBLIKE HRVATSKE PRED EUROPSKIM SUDOM ZA LJUDSKA PRAVA"]
[47422,"47422 URED ZA LJUDSKA PRAVA I PRAVA NACIONALNIH MANJINA","020 - VLADA REPUBLIKE HRVATSKE","02872781","83342260912","11","URED ZA LJUDSKA PRAVA I PRAVA NACIONALNIH MANJINA"]
[47439,"47439 SREDIŠNJI DRŽAVNI URED ZA HRVATE IZVAN REPUBLIKE HRVATSKE"," - ","02875004","03416985458","11","SREDIŠNJI DRŽAVNI URED ZA HRVATE IZVAN REPUBLIKE HRVATSKE"]
[47668,"47668 CENTAR ZA DIJAGNOSTIKU U ZAGREBU","109 - MINISTARSTVO PRAVOSUĐA, UPRAVE I DIGITALNE TRANSFORMACIJE ","02903989","95770301332","11","CENTAR ZA DIJAGNOSTIKU U ZAGREBU"]
[47852,"47852 POVJERENSTVO ZA ODLUČIVANJE O SUKOBU INTERESA"," - ","01850113","60383416394","11","POVJERENSTVO ZA ODLUČIVANJE O SUKOBU INTERESA"]
[47893,"47893 KLINIKA ZA DJEČJE BOLESTI ZAGREB","096 - MINISTARSTVO ZDRAVSTVA","02874989","70641763756","11","KLINIKA ZA DJEČJE BOLESTI ZAGREB"]
[47908,"47908 MUZEJ VUČEDOLSKE KULTURE","055 - MINISTARSTVO KULTURE I MEDIJA","04016408","05703458858","11","MUZEJ VUČEDOLSKE KULTURE"]
[48023,"48023 SVEUČILIŠTE U RIJECI, FAKULTET ZDRAVSTVENIH STUDIJA ","080 - MINISTARSTVO ZNANOSTI, OBRAZOVANJA I MLADIH","04052510","19213484918","11","SVEUČILIŠTE U RIJECI, FAKULTET ZDRAVSTVENIH STUDIJA "]
[48031,"48031 AGENCIJA ZA ISTRAŽIVANJE NESREĆA U ZRAČNOM, POMORSKOM I ŽELJEZNIČKOM PROMETU","065 - MINISTARSTVO MORA, PROMETA I INFRASTRUKTURE","04077199","40956403978","11","AGENCIJA ZA ISTRAŽIVANJE NESREĆA U ZRAČNOM, POMORSKOM I ŽELJEZNIČKOM PROMETU"]
[48066,"48066 URED KOMISIJE ZA ODNOSE S VJERSKIM ZAJEDNICAMA","020 - VLADA REPUBLIKE HRVATSKE","04131754","49974392262","11","URED KOMISIJE ZA ODNOSE S VJERSKIM ZAJEDNICAMA"]
[48103,"48103 DRŽAVNA ERGELA ĐAKOVO I LIPIK","060 - MINISTARSTVO POLJOPRIVREDE, ŠUMARSTVA I RIBARSTVA","02725029","59493690843","11","DRŽAVNA ERGELA ĐAKOVO I LIPIK"]
[48226,"48226 POVJERENIK ZA INFORMIRANJE"," - ","04126904","68011638990","11","POVJERENIK ZA INFORMIRANJE"]
[48242,"48242 ZAVOD ZA VJEŠTAČENJE, PROFESIONALNU REHABILITACIJU I ZAPOŠLJAVANJE OSOBA S INVALIDITETOM","086 - MINISTARSTVO RADA, MIROVINSKOGA SUSTAVA, OBITELJI I SOCIJALNE POLITIKE","04166159","20502470829","11","ZAVOD ZA VJEŠTAČENJE, PROFESIONALNU REHABILITACIJU I ZAPOŠLJAVANJE OSOBA S INVALIDITETOM"]
[48267,"48267 SVEUČILIŠTE SJEVER","080 - MINISTARSTVO ZNANOSTI, OBRAZOVANJA I MLADIH","02752298","59624928052","11","SVEUČILIŠTE SJEVER"]
[48314,"48314 JAVNA USTANOVA MEMORIJALNI CENTAR DOMOVINSKOG RATA VUKOVAR","041 - MINISTARSTVO HRVATSKIH BRANITELJA","04140966","18534327031","11","JAVNA USTANOVA MEMORIJALNI CENTAR DOMOVINSKOG RATA VUKOVAR"]
[48402,"48402 CENTAR ZA POSEBNO SKRBNIŠTVO","086 - MINISTARSTVO RADA, MIROVINSKOGA SUSTAVA, OBITELJI I SOCIJALNE POLITIKE","04250257","15916354928","11","CENTAR ZA POSEBNO SKRBNIŠTVO"]
[48710,"48710 DOM HRVATSKIH VETERANA","041 - MINISTARSTVO HRVATSKIH BRANITELJA","04335635","08099901687","11","DOM HRVATSKIH VETERANA"]
[48752,"48752 TRGOVAČKI SUD U PAZINU","109 - MINISTARSTVO PRAVOSUĐA, UPRAVE I DIGITALNE TRANSFORMACIJE ","04344677","46543732715","11","TRGOVAČKI SUD U PAZINU"]
[48769,"48769 OPĆINSKI SUD U NOVOM ZAGREBU","109 - MINISTARSTVO PRAVOSUĐA, UPRAVE I DIGITALNE TRANSFORMACIJE ","04341872","87297014856","11","OPĆINSKI SUD U NOVOM ZAGREBU"]
[48785,"48785 OPĆINSKO DRŽAVNO ODVJETNIŠTVO U NOVOM ZAGREBU","109 - MINISTARSTVO PRAVOSUĐA, UPRAVE I DIGITALNE TRANSFORMACIJE ","04355784","22739488071","11","OPĆINSKO DRŽAVNO ODVJETNIŠTVO U NOVOM ZAGREBU"]
[48865,"48865 CENTAR ZA PROFESIONALNU REHABILITACIJU ZAGREB","086 - MINISTARSTVO RADA, MIROVINSKOGA SUSTAVA, OBITELJI I SOCIJALNE POLITIKE","04370503","69410598395","11","CENTAR ZA PROFESIONALNU REHABILITACIJU ZAGREB"]
[49059,"49059 CENTAR ZA PROFESIONALNU REHABILITACIJU RIJEKA","086 - MINISTARSTVO RADA, MIROVINSKOGA SUSTAVA, OBITELJI I SOCIJALNE POLITIKE","04453433","99737296287","11","CENTAR ZA PROFESIONALNU REHABILITACIJU RIJEKA"]
[49075,"49075 AGENCIJA ZA ELEKTRONIČKE MEDIJE","055 - MINISTARSTVO KULTURE I MEDIJA","02307014","35237547014","11","AGENCIJA ZA ELEKTRONIČKE MEDIJE"]
[49083,"49083 HRVATSKA AGENCIJA ZA CIVILNO ZRAKOPLOVSTVO","065 - MINISTARSTVO MORA, PROMETA I INFRASTRUKTURE","02371219","76108805525","11","HRVATSKA AGENCIJA ZA CIVILNO ZRAKOPLOVSTVO"]
[49091,"49091 HRVATSKA ENERGETSKA REGULATORNA AGENCIJA","077 - MINISTARSTVO GOSPODARSTVA","01624482","83764654530","11","HRVATSKA ENERGETSKA REGULATORNA AGENCIJA"]
[49286,"49286 ODBOR ZA STANDARDE FINANCIJSKOG IZVJEŠTAVANJA","025 - MINISTARSTVO FINANCIJA","02052644","58499994900","11","ODBOR ZA STANDARDE FINANCIJSKOG IZVJEŠTAVANJA"]
[49649,"49649 AGENCIJA ZA UGLJIKOVODIKE","077 - MINISTARSTVO GOSPODARSTVA","04171667","72156517632","11","AGENCIJA ZA UGLJIKOVODIKE"]
[49729,"49729 CENTAR ZA PROFESIONALNU REHABILITACIJU SPLIT","086 - MINISTARSTVO RADA, MIROVINSKOGA SUSTAVA, OBITELJI I SOCIJALNE POLITIKE","04451660","60142045282","11","CENTAR ZA PROFESIONALNU REHABILITACIJU SPLIT"]
[49796,"49796 SVEUČILIŠTE J.J. STROSMAYERA U OSIJEKU - FAKULTET ZA DENTALNU MEDICINU I ZDRAVSTVO","080 - MINISTARSTVO ZNANOSTI, OBRAZOVANJA I MLADIH","04748875","83830458507","11","SVEUČILIŠTE J.J. STROSMAYERA U OSIJEKU - FAKULTET ZA DENTALNU MEDICINU I ZDRAVSTVO"]
[50090,"50090 ARHEOLOŠKI MUZEJ OSIJEK","055 - MINISTARSTVO KULTURE I MEDIJA","04857283","36551793962","11","ARHEOLOŠKI MUZEJ OSIJEK"]
[50215,"50215 SVEUČILIŠTE JOSIPA JURJA STROSSMAYERA U OSIJEKU - AKADEMIJA ZA UMJETNOST I KULTURU U OSIJEKU","080 - MINISTARSTVO ZNANOSTI, OBRAZOVANJA I MLADIH","04907361","60277424315","11","SVEUČILIŠTE JOSIPA JURJA STROSSMAYERA U OSIJEKU - AKADEMIJA ZA UMJETNOST I KULTURU U OSIJEKU"]
[50395,"50395 KAZNIONICA U POŽEGI","109 - MINISTARSTVO PRAVOSUĐA, UPRAVE I DIGITALNE TRANSFORMACIJE ","04982495","28324816977","11","KAZNIONICA U POŽEGI"]
[50400,"50400 ZATVOR U POŽEGI","109 - MINISTARSTVO PRAVOSUĐA, UPRAVE I DIGITALNE TRANSFORMACIJE ","04982533","74353238879","11","ZATVOR U POŽEGI"]
[50483,"50483 OPĆINSKO DRŽAVNO ODVJETNIŠTVO U METKOVIĆU","109 - MINISTARSTVO PRAVOSUĐA, UPRAVE I DIGITALNE TRANSFORMACIJE ","03107965","09719135686","11","OPĆINSKO DRŽAVNO ODVJETNIŠTVO U METKOVIĆU"]
[50491,"50491 OPĆINSKO DRŽAVNO ODVJETNIŠTVO U PAZINU","109 - MINISTARSTVO PRAVOSUĐA, UPRAVE I DIGITALNE TRANSFORMACIJE ","03374572","44887120463","11","OPĆINSKO DRŽAVNO ODVJETNIŠTVO U PAZINU"]
[50506,"50506 OPĆINSKO DRŽAVNO ODVJETNIŠTVO U VINKOVCIMA","109 - MINISTARSTVO PRAVOSUĐA, UPRAVE I DIGITALNE TRANSFORMACIJE ","03301826","68615020157","11","OPĆINSKO DRŽAVNO ODVJETNIŠTVO U VINKOVCIMA"]
[50514,"50514 OPĆINSKI SUD U CRIKVENICI","109 - MINISTARSTVO PRAVOSUĐA, UPRAVE I DIGITALNE TRANSFORMACIJE ","03127320","74084245037","11","OPĆINSKI SUD U CRIKVENICI"]
[50522,"50522 OPĆINSKI SUD U ĐAKOVU","109 - MINISTARSTVO PRAVOSUĐA, UPRAVE I DIGITALNE TRANSFORMACIJE ","03012069","18244017371","11","OPĆINSKI SUD U ĐAKOVU"]
[50539,"50539 OPĆINSKI SUD U KUTINI","109 - MINISTARSTVO PRAVOSUĐA, UPRAVE I DIGITALNE TRANSFORMACIJE ","03319164","69359602385","11","OPĆINSKI SUD U KUTINI"]
[50547,{"$f":"A515&\" \"&G515","v":"50547 OPĆINSKI SUD U MAKARSKOJ"},"109 - MINISTARSTVO PRAVOSUĐA, UPRAVE I DIGITALNE TRANSFORMACIJE ","03309568","10188505675","11","OPĆINSKI SUD U MAKARSKOJ"]
[50555,"50555 OPĆINSKI SUD U METKOVIĆU","109 - MINISTARSTVO PRAVOSUĐA, UPRAVE I DIGITALNE TRANSFORMACIJE ","03107957","46522572970","11","OPĆINSKI SUD U METKOVIĆU"]
[50563,"50563 OPĆINSKI SUD U PAZINU","109 - MINISTARSTVO PRAVOSUĐA, UPRAVE I DIGITALNE TRANSFORMACIJE ","03089541","27672461276","11","OPĆINSKI SUD U PAZINU"]
[50571,"50571 OPĆINSKI SUD U SESVETAMA","109 - MINISTARSTVO PRAVOSUĐA, UPRAVE I DIGITALNE TRANSFORMACIJE ","03389014","72931567836","11","OPĆINSKI SUD U SESVETAMA"]
[50580,"50580 OPĆINSKI SUD U VINKOVCIMA","109 - MINISTARSTVO PRAVOSUĐA, UPRAVE I DIGITALNE TRANSFORMACIJE ","03301818","77561654785","11","OPĆINSKI SUD U VINKOVCIMA"]
[50598,"50598 TRGOVAČKI SUD U DUBROVNIKU","109 - MINISTARSTVO PRAVOSUĐA, UPRAVE I DIGITALNE TRANSFORMACIJE ","01422936","74081602357","11","TRGOVAČKI SUD U DUBROVNIKU"]
[50709,"50709 DRŽAVNI INSPEKTORAT"," - ","05068711","33706439962","11","DRŽAVNI INSPEKTORAT"]
[50848,"50848 VELEUČILIŠTE HRVATSKO ZAGORJE KRAPINA","080 - MINISTARSTVO ZNANOSTI, OBRAZOVANJA I MLADIH","02271354","16465214888","11","VELEUČILIŠTE HRVATSKO ZAGORJE KRAPINA"]
[50928,"50928 VISOKI KAZNENI SUD REPUBLIKE HRVATSKE","109 - MINISTARSTVO PRAVOSUĐA, UPRAVE I DIGITALNE TRANSFORMACIJE ","05090890","66513030326","11","VISOKI KAZNENI SUD REPUBLIKE HRVATSKE"]
[50985,"50985 HRVATSKA VATROGASNA ZAJEDNICA"," - ","05205689","08474627795","11","HRVATSKA VATROGASNA ZAJEDNICA"]
[51191,"51191 Sveučilište u Zagrebu Fakultet hrvatskih studija","080 - MINISTARSTVO ZNANOSTI, OBRAZOVANJA I MLADIH","05214068","99454315441","11","Sveučilište u Zagrebu Fakultet hrvatskih studija"]
[51255,"51255 JAVNA USTANOVA LUČKA UPRAVA SISAK","065 - MINISTARSTVO MORA, PROMETA I INFRASTRUKTURE","01534475","80303023744","11","JAVNA USTANOVA LUČKA UPRAVA SISAK"]
[51263,"51263 JAVNA USTANOVALUČKA UPRAVA SLAVONSKI BROD","065 - MINISTARSTVO MORA, PROMETA I INFRASTRUKTURE","01515845","14562482156","11","JAVNA USTANOVALUČKA UPRAVA SLAVONSKI BROD"]
[51271,"51271 LUČKA UPRAVA ZADAR","065 - MINISTARSTVO MORA, PROMETA I INFRASTRUKTURE","01284649","03457471323","11","LUČKA UPRAVA ZADAR"]
[51280,"51280 LUČKA UPRAVA VUKOVAR","065 - MINISTARSTVO MORA, PROMETA I INFRASTRUKTURE","01541455","43504091006","11","LUČKA UPRAVA VUKOVAR"]
[51298,"51298 LUČKA UPRAVA PLOČE","065 - MINISTARSTVO MORA, PROMETA I INFRASTRUKTURE","01283847","98749709951","11","LUČKA UPRAVA PLOČE"]
[51302,"51302 LUČKA UPRAVA RIJEKA","065 - MINISTARSTVO MORA, PROMETA I INFRASTRUKTURE","01212109","60521475400","11","LUČKA UPRAVA RIJEKA"]
[51319,"51319 LUČKA UPRAVA OSIJEK","065 - MINISTARSTVO MORA, PROMETA I INFRASTRUKTURE","01541838","78159614650","11","LUČKA UPRAVA OSIJEK"]
[51327,"51327 LUČKA UPRAVA SPLIT","065 - MINISTARSTVO MORA, PROMETA I INFRASTRUKTURE","01308106","06992092556","11","LUČKA UPRAVA SPLIT"]
[51335,"51335 LUČKA UPRAVA ŠIBENIK","065 - MINISTARSTVO MORA, PROMETA I INFRASTRUKTURE","01961063","98609040957","11","LUČKA UPRAVA ŠIBENIK"]
[51343,"51343 LUČKA UPRAVA DUBROVNIK","065 - MINISTARSTVO MORA, PROMETA I INFRASTRUKTURE","01317857","51303627909","11","LUČKA UPRAVA DUBROVNIK"]
[51360,"51360 SVEUČILIŠTE U SLAVONSKOM BRODU","080 - MINISTARSTVO ZNANOSTI, OBRAZOVANJA I MLADIH","05290538","33027834374","11","SVEUČILIŠTE U SLAVONSKOM BRODU"]
[51441,"51441 MINISTARSTVO PRAVOSUĐA, UPRAVE I DIGITALNE TRANSFORMACIJE "," - ","05287260","72910430276","11","MINISTARSTVO PRAVOSUĐA, UPRAVE I DIGITALNE TRANSFORMACIJE "]
[51450,"51450 SVEUČILIŠTE JOSIPA JURJA STROSSMAYERA U OSIJEKU - KINEZIOLOŠKI FAKULTET OSIJEK","080 - MINISTARSTVO ZNANOSTI, OBRAZOVANJA I MLADIH","05302099","70788591483","11","SVEUČILIŠTE JOSIPA JURJA STROSSMAYERA U OSIJEKU - KINEZIOLOŠKI FAKULTET OSIJEK"]
[51853,"51853 DRŽAVNA VATROGASNA ŠKOLA","039 - HRVATSKA VATROGASNA ZAJEDNICA","05379229","68850110329","11","DRŽAVNA VATROGASNA ŠKOLA"]
[52209,"52209 HRVATSKA ZAKLADA ZA ZNANOST","080 - MINISTARSTVO ZNANOSTI, OBRAZOVANJA I MLADIH","01626841","88776522763","11","HRVATSKA ZAKLADA ZA ZNANOST"]
[52305,"52305 CENTAR ZA PRUŽANJEUSLUGA U ZAJEDNICI MOCIRE","086 - MINISTARSTVO RADA, MIROVINSKOGA SUSTAVA, OBITELJI I SOCIJALNE POLITIKE","05343020","01092203507","11","CENTAR ZA PRUŽANJEUSLUGA U ZAJEDNICI MOCIRE"]
[52313,"52313 VETERANSKI CENTAR","041 - MINISTARSTVO HRVATSKIH BRANITELJA","05475139","38617796847","11","VETERANSKI CENTAR"]
[52321,"52321 POVJERENSTVO ZA FISKALNU POLITIKU"," - ","05513260","24871013494","11","POVJERENSTVO ZA FISKALNU POLITIKU"]
[52356,"52356 OPĆINSKO GRAĐANSKO DRŽAVNO ODVJETNIŠTVO U ZAGREBU","109 - MINISTARSTVO PRAVOSUĐA, UPRAVE I DIGITALNE TRANSFORMACIJE ","05545471","89381255328","11","OPĆINSKO GRAĐANSKO DRŽAVNO ODVJETNIŠTVO U ZAGREBU"]
[52469,"52469 Institut za vode Josip Juraj Strossmayer","078 - MINISTARSTVO ZAŠTITE OKOLIŠA I ZELENE TRANZICIJE","05552729","04716643151","11","Institut za vode Josip Juraj Strossmayer"]
[52565,"52565 SVEUČILIŠTE JOSIPA JURJA STROSSMAYERA U OSIJEKU, FAKULTET TURIZMA I RURALNOG RAZVOJA U POŽEGI","080 - MINISTARSTVO ZNANOSTI, OBRAZOVANJA I MLADIH","05619696","11614501047","11","SVEUČILIŠTE JOSIPA JURJA STROSSMAYERA U OSIJEKU, FAKULTET TURIZMA I RURALNOG RAZVOJA U POŽEGI"]
[52645,"52645 Hrvatski zavod za socijalni rad","086 - MINISTARSTVO RADA, MIROVINSKOGA SUSTAVA, OBITELJI I SOCIJALNE POLITIKE","05695007","52966791065","11","Hrvatski zavod za socijalni rad"]
[52653,"52653 Obiteljski centar","086 - MINISTARSTVO RADA, MIROVINSKOGA SUSTAVA, OBITELJI I SOCIJALNE POLITIKE","05695902","34989146384","11","Obiteljski centar"]
[53919,"53919 Sveučilište u Osijeku, Fakultet primijenjene matematike i informatike","080 - MINISTARSTVO ZNANOSTI, OBRAZOVANJA I MLADIH","05769159","56597320763","11","Sveučilište u Osijeku, Fakultet primijenjene matematike i informatike"]
[53951,"53951 SVEUČILIŠTE OBRANE I SIGURNOSTI Dr. FRANJO TUĐMAN","030 - MINISTARSTVO OBRANE","05790255","36752094474","11","SVEUČILIŠTE OBRANE I SIGURNOSTI Dr. FRANJO TUĐMAN"]
[53960,"53960 Centar za mirno rješavanje sporova","109 - MINISTARSTVO PRAVOSUĐA, UPRAVE I DIGITALNE TRANSFORMACIJE ","05800315","80113121575","11","Centar za mirno rješavanje sporova"]
[53978,"53978 Centar za pružanje usluga u zajednici Međimurje","086 - MINISTARSTVO RADA, MIROVINSKOGA SUSTAVA, OBITELJI I SOCIJALNE POLITIKE","05759064","60893945273","11","Centar za pružanje usluga u zajednici Međimurje"]
[54108,"54108 CENTAR ZA PRUŽANJE USLUGA U ZAJEDNICI DELNICE","086 - MINISTARSTVO RADA, MIROVINSKOGA SUSTAVA, OBITELJI I SOCIJALNE POLITIKE","02848325","89506438216","11","CENTAR ZA PRUŽANJE USLUGA U ZAJEDNICI DELNICE"]
[54149,"54149 Akademija socijalne skrbi","086 - MINISTARSTVO RADA, MIROVINSKOGA SUSTAVA, OBITELJI I SOCIJALNE POLITIKE","05862051","86317641207","11","Akademija socijalne skrbi"]
[54173,"54173 MINISTARSTVO ZAŠTITE OKOLIŠA I ZELENE TRANZICIJE"," - ","05953081","59951999361","11","MINISTARSTVO ZAŠTITE OKOLIŠA I ZELENE TRANZICIJE"]
[54181,"54181 MINISTARSTVO DEMOGRAFIJE I USELJENIŠTVA"," - ","05952026","43609566625","11","MINISTARSTVO DEMOGRAFIJE I USELJENIŠTVA"]
[54237,"54237 Državni arhiv u Požegi","055 - MINISTARSTVO KULTURE I MEDIJA","05987113","48755158135","11","Državni arhiv u Požegi"]
[54358,"54358 BRANITELJSKI CENTAR","041 - MINISTARSTVO HRVATSKIH BRANITELJA","06055010","10780599447","11","BRANITELJSKI CENTAR"]
[54399,"54399 URED ZA ODNOSE S JAVNOŠĆU","020 - VLADA REPUBLIKE HRVATSKE","05982782","88152459702","11","URED ZA ODNOSE S JAVNOŠĆU"]
[54411,"54411  Centar za pružanje usluga u zajednici Dubrovnik","086 - MINISTARSTVO RADA, MIROVINSKOGA SUSTAVA, OBITELJI I SOCIJALNE POLITIKE","05930251","77963050481","11"," Centar za pružanje usluga u zajednici Dubrovnik"]